{"text_format":"1","workbook":"xlsx","n_sheets":10,"sheets":["Instructions","Select Concerns","Select Practices","Results","Result Negatives","Alternatives","CPPE","LandUse","Problems","Practices"],"not_rendered":{"charts":0,"images":0,"macros":1,"external_links":3,"defined_names":50,"comments":4,"pivot_tables":0},"unopened":[],"bounds":{"document_bytes":16777216,"sheet_cells":100000,"rows_first":2000,"rows_last":500,"rows_between":2000,"halvings":0,"cell_chars":16384,"cell_head_chars":4096},"cells_cut":0,"cells_raw":0,"read":"whole","date_system":"1900"}

{"sheet":"Instructions","index":0,"n_rows":70,"n_cols":3,"rows_kept":70,"cut":false,"hidden":false,"merged":[[56,1,56,3],[50,1,50,3],[48,1,48,3]]}
[]
[null,"Conservation Practice Recommendations & Effects"]
[]
[null,"This program assists the planner by identifying conservation practices that have a substantial positive effect on decreasing resource problems and lists potential negative effects of those practices.  The program has several \"worksheets\", begin with the \"Select Concerns\" tab."]
[]
[null,"To use the program identify the planner, location and add comments is needed.  Place an \"x\" in the row next to the land use and press ENTER key."]
[]
[null,"Place an \"x\" in the row next to one or more Resource Problems and press the ENTER KEY.  Use the Arrow Key or Mouse to move around in the spreadsheet."]
[]
[null,"After entering the last \"x\", press the ENTER KEY, then press the \"Select Practices\" button.  The program will recommend all the practices that will \"solve\" the identified resource problems.  Place an \"x\" next  to the practices to be included in planning, press the ENTER key and then press the \"Sort Practices\" button.  The practices you selected will appear at the top of the list along with their potential negative effects.  See the \"Results\" tab for the matrix of conservation effects."]
[]
[null,"The input and results may be printed for future reference or the program re-run by pressing the \"Clear Program\" button."]
[]
[null,"All the data in this program came from the CPPE Matrix developed by a state or national headquarters.  For further information, contact Lakeitha Ruffin, WNTSC Regional Economist, USDA-Natural Resources Conservation Service, Portland, Oregon, 971.666.1471"]
[null,"."]
[null,"Effects Quantification"]
[null,"Substantial Improvement",5]
[null,"Mod to Substantial Improvement",4]
[null,"Moderate Improvement",3]
[null,"Slight to Mod Improvement",2]
[null,"Slight Improvement",1]
[null,"Not Applicable  ",0]
[null,"Neutral ",0]
[null,"Slight Worsening",-1]
[null,"Slight to Mod Worsening",-2]
[null,"Moderate Worsening",-3]
[null,"Mod to Substantial Worsening",-4]
[null,"Substantial Worsening",-5]
[]
[null,"Programmer's Notes:"]
[null,"To update the program using your state's CPPE:"]
[null,"1) Copy/paste your state's CPPE matrix into the \"CPPE\" tab"]
[null,"   Make sure the \"Resource Concern\" list is in Row 1 and the \"Conservationist Practices\" are in column A"]
[null,"   Copy  CPPE Resource Concern row to the \"Select Concerns\" column (use copy transpose function)"]
[null,"2) Delete any Resource Problem, Practice name and effect cells that were on the original CPPE that are not on your updated CPPE."]
[null,"    These cells will be towards the bottom of the practices column and near the end of the resource problems row. "]
[null,"    Do not delete whole rows or columns, just delete the cell contents (deleting whole rows and/or columns will cause errors in the program). "]
[null,"3) Edit the approved landuses for each practice (see \"LandUse\" tab)"]
[]
[null,"To download your state's CPPE Matrix from SmarTech:"]
[null,"1) Log into MyNRCS"]
[null,"2) Go to: Technology, SmarTech, Conservation Practice Physical Effects"]
[null,"3) Select: \"your state\" and Resource Concern Category (All), Go, Export (to EXCEL)"]
[null,"4)  Don't forget to press the \"Update CPPE\" button."]
[]
[]
[]
[null,"Summary:"]
[null,"The Conservation Practice Physical Effects (CPPE) matrix was developed as a way of summarizing the relative effectiveness of conservation practices in solving natural resource problems.  It has been regularly updated at the national and state level since it’s inception in 1992.  The CPPE is currently used by all states in the EQIP ranking tool and should be used as a first level diagnostic when considering environmental effects."]
[]
[null,"The RMS Planning Tool has used the CPPE as a basis for recommending practices that solve resource problems on various land uses.  It is also used  to cross-check CPPE data between practices and resource concerns by technical specialists.  However, the tool was difficult to update and modify with each state’s specific CPPE.  This problem has been remedied with the updated version of the RMS Planning Tool.  This tool allows for each state’s CPPE to be copied from the EQIP ranking tool (in SmarTech) and pasted into the RMS Planning Tool, and the tool is immediately fully functional with that state’s unique CPPE matrix.  Conservation planners also have the option of using the national CPPE matrix in the tool."]
[]
[null,"Please note the difference between SWAPAE \"physical\" resource CONCERNS and the Human resource CONSIDERATIONS."]
[null,"The planner should focus on addressing the physical concerns and make decisions while considering the human resources."]
[]
[null,"The RMS Planning Tool is available on the NRCS Economic Tools website:"]
[null,"Look under the “General resource Planning” section.  If you have questions about the tool or would like a demonstration please contact Lakeitha Ruffin, Agricultural Economist at the WNTSC in Portland, Oregon 971.666.1471."]
[]
[]
[]
[]
[]
[]
[]
[]
[]
[null,{"$f":"- \"OK\"","v":0}]
[]
[]
[null," "]

{"sheet":"Select Concerns","index":1,"n_rows":242,"n_cols":9,"rows_kept":242,"cut":false,"hidden":false,"merged":[]}
[]
[null,"             CONSERVATION  PRACTICE  RECOMMENDATIONS"]
[null,null,null,null,"National CPPE - 2024"]
[]
[null,null,"  Planner:",null,null,"Help","Landuse"]
[null,null,null,null,null,"Crop"]
[null,null,"  Client:",null,null,"Forest"]
[null,null,"  Location:",null,null,"Range"]
[null,null,null,null,null,"Pasture"]
[null,null,null,null,null,"Protected"]
[null,null,"  Date:",null,null,"Farmstead"]
[null,null,null,null,null,"Developed Land"]
[null,null,null,null,null,"Water"]
[null,null,null,null,null,"Other"]
[null,null,"Help",null,null,"Associated Ag. Land"]
[null,null," Identify Resource Concerns(s):"]
[null,null,null,null,null,"Help","Project"]
[null,null,null,null,null,null,"Concern"]
[null,null,null,{"$f":"CPPE!B$1","v":"Sheet and Rill Erosion"},null," ",null,1]
[null,null,null,{"$f":"CPPE!C$1","v":"Wind Erosion"},null," ",null,{"$f":"H19+1","v":2}]
[null,null,null,{"$f":"CPPE!D$1","v":"Ephemeral Gully Erosion"},null," ",null,{"$f":"H20+1","v":3}]
[null,null,null,{"$f":"CPPE!E$1","v":"Classic Gully Erosion"},null," ",null,4]
[null,null,null,{"$f":"CPPE!F$1","v":"Bank Erosion from Streams, Shorelines or Water Conveyance Channels"},null," ",null,5]
[null,null,null,{"$f":"CPPE!G$1","v":"Subsidence "},null," ",null,6]
[null,null,null,{"$f":"CPPE!H$1","v":"Compaction "},null," ",null,7]
[null,null,null,{"$f":"CPPE!I$1","v":"Organic Matter Depletion"},null," ",null,8]
[null,null,null,{"$f":"CPPE!J$1","v":"Concentration of Salts or other Chemicals"},null," ",null,9]
[null,null,null,{"$f":"CPPE!K$1","v":"Soil Organism Habitat Loss or Degradation"},null," ",null,10]
[null,null,null,{"$f":"CPPE!L$1","v":"Aggregate Instability"},null," ",null,11]
[null,null,null,{"$f":"CPPE!M$1","v":"Ponding and Flooding "},null," ",null,12]
[null,null,null,{"$f":"CPPE!N$1","v":"Seasonal High Water Table "},null," ",null,13]
[null,null,null,{"$f":"CPPE!O$1","v":"Seeps"},null," ",null,14]
[null,null,null,{"$f":"CPPE!P$1","v":"Drifted Snow"},null," ",null,15]
[null,null,null,{"$f":"CPPE!Q$1","v":"Naturally Available Moisture Use "},null," ",null,16]
[null,null,null,{"$f":"CPPE!R$1","v":"Surface Water Depletion"},null," ",null,17]
[null,null,null,{"$f":"CPPE!S$1","v":"Groundwater Depletion"},null," ",null,18]
[null,null,null,{"$f":"CPPE!T$1","v":"Inefficient Irrigation Water Use"},null," ",null,19]
[null,null,null,{"$f":"CPPE!U$1","v":"Nutrients Transported to Surface Water "},null," ",null,20]
[null,null,null,{"$f":"CPPE!V$1","v":"Nutrients Transported to Groundwater "},null," ",null,21]
[null,null,null,{"$f":"CPPE!W$1","v":"Pathogens and Chemicals from Manure, Bio-solids or Compost Applications Tranported to Surface Water "},null," ",null,22]
[null,null,null,{"$f":"CPPE!X$1","v":"Pathogens and Chemicals from Manure, Bio-solids or Compost Applications Tranported to Groundwater "},null," ",null,23]
[null,null,null,{"$f":"CPPE!Y$1","v":"Sediment Transported to Surface Water"},null," ",null,24]
[null,null,null,{"$f":"CPPE!Z$1","v":"Pesticides Transported to Surface Water"},null," ",null,25]
[null,null,null,{"$f":"CPPE!AA$1","v":"Pesticides Transported to Groundwater"},null," ",null,26]
[null,null,null,{"$f":"CPPE!AB$1","v":"Petroleum, Heavy Metals and Other Pollutants Transported to Surface Water"},null," ",null,27]
[null,null,null,{"$f":"CPPE!AC$1","v":"Petroleum, Heavy Metals and Other Pollutants Transported to Groundwater"},null," ",null,28]
[null,null,null,{"$f":"CPPE!AD$1","v":"Salts Transported to Surface Water"},null," ",null,29]
[null,null,null,{"$f":"CPPE!AE$1","v":"Salts Transported to Groundwater"},null," ",null,30]
[null,null,null,{"$f":"CPPE!AF$1","v":"Elevated water temperature"},null," ",null,31]
[null,null,null,{"$f":"CPPE!AG$1","v":"Emissions of Particulate Matter (PM) and PM Precursors"},null," ",null,32]
[null,null,null,{"$f":"CPPE!AH$1","v":"Emissions of Greenhouse Gasses - GHGs "},null," ",null,33]
[null,null,null,{"$f":"CPPE!AI$1","v":"Emissions of Ozone Precursors"},null," ",null,34]
[null,null,null,{"$f":"CPPE!AJ$1","v":"Objectionable Odor"},null," ",null,35]
[null,null,null,{"$f":"CPPE!AK$1","v":"Emissions of Airborne Reactive Nitrogen"},null," ",null,36]
[null,null,null,{"$f":"CPPE!AL$1","v":"Plant Pest Pressure "},null," ",null,37]
[null,null,null,{"$f":"CPPE!AM$1","v":"Plant Productivity and Health"},null," ",null,38]
[null,null,null,{"$f":"CPPE!AN$1","v":"Plant Structure and Composition"},null," ",null,39]
[null,null,null,{"$f":"CPPE!AO$1","v":"Wildfire Hazard from Biomass Accumulation"},null," ",null,40]
[null,null,null,{"$f":"CPPE!AP$1","v":"Feed and Forage Imbalance"},null," ",null,41]
[null,null,null,{"$f":"CPPE!AQ$1","v":"Inadequate Livestock Shelter"},null," ",null,42]
[null,null,null,{"$f":"CPPE!AR$1","v":"Inadequate Livestock Water Quantity, Quality and Distribution"},null," ",null,43]
[null,null,null,{"$f":"CPPE!AS$1","v":"Terrestrial Habitat for Wildlife and Invertebrates"},null," ",null,44]
[null,null,null,{"$f":"CPPE!AT$1","v":"Aquatic Habitat for Fish and other Organisms"},null," ",null,45]
[null,null,null,{"$f":"CPPE!AU$1","v":"Energy Efficiency of Equipment and Facilities"},null," ",null,46]
[null,null,null,{"$f":"CPPE!AV$1","v":"Energy Efficiency of Farming/Ranching Practices and Field Operations"},null," ",null,47]
[null,null,null,null,null," ",null,48]
[null,null,null,null,null," ",null,49]
[null,null,null,null,null," ",null,50]
[null,null,null,null,null," ",null,51]
[null,null,null,null,null," ",null,52]
[null,null,null,null,null," ",null,53]
[null,null,null,null,null,null,null,54]
[null,null,null,null,null,null,null,55]
[null,null,null,null,null,null,null,56]
[null,null,null,null,null,null,null,57,"  Press ENTER KEY"]
[null,null,null,null,null,null,null,58,"  Before Proceeding"]
[null,null,null,null,null,null,null,59,"  Before Proceeding"]
[null,null,null,null,null,null,null,60,"  Before Proceeding"]
[null,null,null,null,null,null,null,61,"  Before Proceeding"]
[null,null,null,null,null,null,null,62,"  Before Proceeding"]
[null,null,null,null,null,null,null,63,"  Before Proceeding"]
[null,null,null,null,null,null,null,64,"  Before Proceeding"]
[null,null,null,null,null,null,null,65,"  Before Proceeding"]
[null,null,null,null,null,null,null,66,"  Before Proceeding"]
[null,null,null,null,null,null,null,{"$f":"H84+1","v":67},"  Before Proceeding"]
[null,null,null,null,null,null,null,68,"  Before Proceeding"]
[null,null,null,null,null,null,null,69,"  Before Proceeding"]
[null,null,null,null,null,null,null,70,"  Before Proceeding"]
[null,null,null,null,null,null,null,71,"  Before Proceeding"]
[null,null,null,null,null,null,null,72,"  Before Proceeding"]
[null,null,null,null,null,null,null,73,"  Before Proceeding"]
[null,null,null,null,null,null,null,74,"  Before Proceeding"]
[null,null,null,null,null,null,null,75,"  Before Proceeding"]
[null,null,null,null,null,null,null,76,"  Before Proceeding"]
[null,null,null,null,null,null,null,77,"  Before Proceeding"]
[null,null,null,null,null,null,null,78,"  Before Proceeding"]
[null,null,null,null,null,null,null,79,"  Before Proceeding"]
[null,null,null,null,null,null,null,80,"  Before Proceeding"]
[null,null,null,null,null,null,null,81,"  Before Proceeding"]
[null,null,null,null,null,null,null,82,"  Before Proceeding"]
[null,null,null,null,null,null,null,83,"  Before Proceeding"]
[null,null,null,null,null,null,null,84,"  Before Proceeding"]
[null,null,null,null,null,null,null,85,"  Before Proceeding"]
[null,null,null,null,null,null,null,86,"  Before Proceeding"]
[null,null,null,null,null,null,null,87,"  Before Proceeding"]
[null,null,null,null,null,null,null,88,"  Before Proceeding"]
[null,null,null,null,null,null,null,89,"  Before Proceeding"]
[null,null,null,null,null,null,null,90,"  Before Proceeding"]
[null,null,null,null,null,null,null,91,"  Before Proceeding"]
[null,null,null,null,null,null,null,92,"  Before Proceeding"]
[null,null,null,null,null,null,null,93,"  Before Proceeding"]
[null,null,null,null,null,null,null,94,"  Before Proceeding"]
[null,null,null,null,null,null,null,95,"  Before Proceeding"]
[null,null,null,null,null,null,null,96,"  Before Proceeding"]
[null,null,null,null,null,null,null,97,"  Before Proceeding"]
[null,null,null,null,null,null,null,98,"  Before Proceeding"]
[null,null,null,null,null,null,null,99,"  Before Proceeding"]
[null,null,null,null,null,null,null,100,"  Before Proceeding"]
[null,null,null,null,null,null,null,101,"  Before Proceeding"]
[null,null,null,null,null,null,null,102,"  Before Proceeding"]
[null,null,null,null,null,null,null,103,"  Before Proceeding"]
[null,null,null,null,null,null,null,104,"  Before Proceeding"]
[null,"",null," ",null,null,null,105]
[null,"",null," ",null,null,null,106]
[null,""]
[]
[]
[]
[]
[null,null,"Do not Erase!"]
[null,null,{"$f":"IF($G19=\"\",\"\",$D19)","v":""},{"$f":"IF($G19=\"\",\"\",$H19)","v":""},"Sheet and Rill Erosion",1]
[null,null,{"$f":"IF($G20=\"\",\"\",$D20)","v":""},{"$f":"IF($G20=\"\",\"\",$H20)","v":""},"Compaction ",7]
[null,null,"","","Organic Matter Depletion",8]
[null,null,"","","Aggregate Instability",11]
[null,null,"","","",""]
[null,null,"","","",""]
[null,null,"","","",""]
[null,null,"","","",""]
[null,null,"","","",""]
[null,null,"","","",""]
[null,null,"","","",""]
[null,null,"","","",""]
[null,null,"","","",""]
[null,null,"","","",""]
[null,null,"","","",""]
[null,null,"","","",""]
[null,null,"","","",""]
[null,null,"","","",""]
[null,null,"","","",""]
[null,null,"","","",""]
[null,null,"","","",""]
[null,null,"","","",""]
[null,null,"","","",""]
[null,null,"","","",""]
[null,null,"","","",""]
[null,null,"","","",""]
[null,null,"","","",""]
[null,null,"","","",""]
[null,null,"","","",""]
[null,null,"","","",""]
[null,null,"","","",""]
[null,null,"","","",""]
[null,null,"","","",""]
[null,null,"","","",""]
[null,null,"","","",""]
[null,null,"","","",""]
[null,null,"","","",""]
[null,null,"","","",""]
[null,null,"","","",""]
[null,null,"","","",""]
[null,null,"","","",""]
[null,null,"","","",""]
[null,null,"","","",""]
[null,null,"","","",""]
[null,null,"","","",""]
[null,null,"","","",""]
[null,null,"","","",""]
[null,null,"","","",""]
[null,null,"","","",""]
[null,null,"","","",""]
[null,null,"","","",""]
[null,null,"","","",""]
[null,null,"","","",""]
[null,null,"","","",""]
[null,null,"","","",""]
[null,null,"","","",""]
[null,null,"","","",""]
[null,null,"","","",""]
[null,null,"","","",""]
[null,null,"","","",""]
[null,null,"","","",""]
[null,null,"","","",""]
[null,null,"","","",""]
[null,null,"","","",""]
[null,null,"","","",""]
[null,null,{"$f":"IF($G84=\"\",\"\",$D84)","v":""},{"$f":"IF($G84=\"\",\"\",$H84)","v":""},"",""]
[null,null,"","","",""]
[null,null,"","","",""]
[null,null,"","","",""]
[null,null,"","","",""]
[null,null,"","","",""]
[null,null,"","","",""]
[null,null,"","","",""]
[null,null,"","","",""]
[null,null,"","","",""]
[null,null,"","","",""]
[null,null,"","","",""]
[null,null,"","","",""]
[null,null,"","","",""]
[null,null,"","","",""]
[null,null,"","","",""]
[null,null,"","","",""]
[null,null,"","","",""]
[null,null,"","","",""]
[null,null,"","","",""]
[null,null,"","","",""]
[null,null,"","","",""]
[null,null,"","","",""]
[null,null,"","","",""]
[null,null,"","","",""]
[null,null,"","","",""]
[null,null,"","","",""]
[null,null,"","","",""]
[null,null,"","","",""]
[null,null,"","","",""]
[null,null,"","","",""]
[null,null,"","","",""]
[null,null,"","","",""]
[null,null,"","","",""]
[null,null,"","","",""]
[null,null,"","","",""]
[null,null,"","","",""]
[null,null,"","","",""]
[null,null,"","","",""]
[null,null,"","","",""]
[null,null,"","","",""]
[]
[]
[]
[null,null,null," "]
[null,null,null," "]
[null,null,null," "]

{"sheet":"Select Practices","index":2,"n_rows":1916,"n_cols":76,"rows_kept":1125,"cut":true,"hidden":false,"merged":[[8,24,8,26],[8,28,8,30],[8,32,8,34],[8,56,8,58],[8,60,8,62],[8,36,8,38],[8,40,8,42],[8,44,8,46],[8,48,8,50],[8,52,8,54]],"bounds":{"rows_first":500,"rows_last":125,"rows_between":500,"halvings":2}}
[]
[null,"Conservation Practice Selection Tool"]
[]
[null,"Use the CPPE to recommend practices that address the resource concerns:"]
[null,"Enter the CPPE minimum acceptable \"effect\" value (1-5): ",null,null,3]
[null,"Select the \"Run\" button to view recommended practices for each resource concern (equal to or greater than the minimum acceptable value)",null,null,null,null,null,null,{"$f":"IF($N$2=1,\"Crop\",IF($N$2=2,\"Forest\",IF($N$2=3,\"Range\",IF($N$2=4,\"Pasture\",IF($N$2=5,\"Protected\",IF($N$2=6,\"Farmstead\",IF($N$2=7,\"Dev. Land\",IF($N$2=8,\"Water\",IF($N$2=9,\"Other\",IF($N$2=10,\"Ass.Ag.Land\",\"\"))))))))))","v":""},null,null,null,null,null,null,null,null,null,null,null,null,null,"HIDE THIS SECTION",{"$f":"+LandUse!O2","v":0}]
[null,"Place an \"x\" to the left of the practice that may be included in the conservation plan.",null,null,null,null,null,null,null,null,null,null,null,null,null,null,null,null,null,null,null,null,null,null,null,null,null,null,null,null,null,null,null,null,null,null,null,null,null,null,null,null,null,null,null,null,null,null,null,null,null,null,null,null,null,null,null,null,null,null,null,null,null,null,"Sort, eliminate duplicates"]
[null,"Select the \"Sort\" button to list selected practices at top of column, and \"Results\" for final report."]
[null,null,{"$f":"+'Select Concerns'!$E131","v":"Sheet and Rill Erosion"},null,{"$f":"+'Select Concerns'!$E132","v":"Compaction "},null,{"$f":"+'Select Concerns'!$E133","v":"Organic Matter Depletion"},null,{"$f":"+'Select Concerns'!$E134","v":"Aggregate Instability"},null,{"$f":"+'Select Concerns'!$E135","v":""},null,{"$f":"+'Select Concerns'!$E136","v":""},null,{"$f":"+'Select Concerns'!$E137","v":""},null,{"$f":"+'Select Concerns'!$E138","v":""},null,{"$f":"+'Select Concerns'!$E139","v":""},null,{"$f":"+'Select Concerns'!$E140","v":""},null,"Practices","First Resource Concern",{"$f":"IF(C9=\"\",\"\",C9)","v":"Sheet and Rill Erosion"},null,null,"Second Resource Concern",{"$f":"IF(E9=\"\",\"\",E9)","v":"Compaction "},null,null,"Third Resource Concern",{"$f":"IF(G9=\"\",\"\",G9)","v":"Organic Matter Depletion"},null,null,"Fourth Resource Concern",{"$f":"IF(I9=\"\",\"\",I9)","v":"Aggregate Instability"},null,null,"Fifth Resource Concern",{"$f":"IF(K9=\"\",\"\",K9)","v":""},null,null,"Sixth Resource Concern",{"$f":"IF(M9=\"\",\"\",M9)","v":""},null,null,"Seventh Resource Concern",{"$f":"IF(O9=\"\",\"\",O9)","v":""},null,null,"Eigth Resource Concern",{"$f":"IF(Q9=\"\",\"\",Q9)","v":""},null,null,"Nineth Resource Concern",{"$f":"IF(S9=\"\",\"\",S9)","v":""},null,null,"Tenth Resource Concern",{"$f":"IF(U9=\"\",\"\",U9)","v":""}]
[null,null,null,null,null,null,null,null,null,null,null,null,null,null,null,null,null,null,null,null,null,null,{"$f":"+CPPE!$A2","v":"Access Control "},2,{"$f":"+CPPE!$A2","v":"Access Control "},{"$f":"IF(Y$9=\"\",\"\",IF(Y10=0,0,HLOOKUP(Y$9,CPPE!$A$1:$DB$177,X10,FALSE)))","v":3},{"$f":"IF(Z10=\"\",\"\",IF(Z10=0,\"\",IF(LandUse!$N3=2,\"\",IF(Z10>=$E$5,Y10,\"\"))))","v":""},2,{"$f":"+CPPE!$A2","v":"Access Control "},{"$f":"IF(AC$9=\"\",\"\",IF(AC10=0,0,HLOOKUP(AC$9,CPPE!$A$1:$DB$177,AB10,FALSE)))","v":4},{"$f":"IF(AD10=\"\",\"\",IF(AD10=0,\"\",IF(LandUse!$N3=2,\"\",IF(AD10>=$E$5,AC10,\"\"))))","v":""},2,{"$f":"+CPPE!$A2","v":"Access Control "},{"$f":"IF(AG$9=\"\",\"\",IF(AG10=0,0,HLOOKUP(AG$9,CPPE!$A$1:$DB$177,AF10,FALSE)))","v":1},{"$f":"IF(AH10=\"\",\"\",IF(AH10=0,\"\",IF(LandUse!$N3=2,\"\",IF(AH10>=$E$5,AG10,\"\"))))","v":""},2,{"$f":"+CPPE!$A2","v":"Access Control "},{"$f":"IF(AK$9=\"\",\"\",IF(AK10=0,0,HLOOKUP(AK$9,CPPE!$A$1:$DB$177,AJ10,FALSE)))","v":1},{"$f":"IF(AL10=\"\",\"\",IF(AL10=0,\"\",IF(LandUse!$N3=2,\"\",IF(AL10>=$E$5,AK10,\"\"))))","v":""},2,{"$f":"+CPPE!$A2","v":"Access Control "},{"$f":"IF(AO$9=\"\",\"\",IF(AO10=0,0,HLOOKUP(AO$9,CPPE!$A$1:$DB$177,AN10,FALSE)))","v":""},{"$f":"IF(AP10=\"\",\"\",IF(AP10=0,\"\",IF(LandUse!$N3=2,\"\",IF(AP10>=$E$5,AO10,\"\"))))","v":""},2,{"$f":"+CPPE!$A2","v":"Access Control "},{"$f":"IF(AS$9=\"\",\"\",IF(AS10=0,0,HLOOKUP(AS$9,CPPE!$A$1:$DB$177,AR10,FALSE)))","v":""},{"$f":"IF(AT10=\"\",\"\",IF(AT10=0,\"\",IF(LandUse!$N3=2,\"\",IF(AT10>=$E$5,AS10,\"\"))))","v":""},2,{"$f":"+CPPE!$A2","v":"Access Control "},{"$f":"IF(AW$9=\"\",\"\",IF(AW10=0,0,HLOOKUP(AW$9,CPPE!$A$1:$DB$177,AV10,FALSE)))","v":""},{"$f":"IF(AX10=\"\",\"\",IF(AX10=0,\"\",IF(LandUse!$N3=2,\"\",IF(AX10>=$E$5,AW10,\"\"))))","v":""},2,{"$f":"+CPPE!$A2","v":"Access Control "},{"$f":"IF(BA$9=\"\",\"\",IF(BA10=0,0,HLOOKUP(BA$9,CPPE!$A$1:$DB$177,AZ10,FALSE)))","v":""},{"$f":"IF(BB10=\"\",\"\",IF(BB10=0,\"\",IF(LandUse!$N3=2,\"\",IF(BB10>=$E$5,BA10,\"\"))))","v":""},2,{"$f":"+CPPE!$A2","v":"Access Control "},{"$f":"IF(BE$9=\"\",\"\",IF(BE10=0,0,HLOOKUP(BE$9,CPPE!$A$1:$DB$177,BD10,FALSE)))","v":""},{"$f":"IF(BF10=\"\",\"\",IF(BF10=0,\"\",IF(LandUse!$N3=2,\"\",IF(BF10>=$E$5,BE10,\"\"))))","v":""},2,{"$f":"+CPPE!$A2","v":"Access Control "},{"$f":"IF(BI$9=\"\",\"\",IF(BI10=0,0,HLOOKUP(BI$9,CPPE!$A$1:$DB$177,BH10,FALSE)))","v":""},{"$f":"IF(BJ10=\"\",\"\",IF(BJ10=0,\"\",IF(LandUse!$N3=2,\"\",IF(BJ10>=$E$5,BI10,\"\"))))","v":""},null,{"$f":"IF(B10=\"\",\"\",C10)","v":""},{"$f":"IF(D10=\"\",\"\",E10)","v":""},{"$f":"IF(F10=\"\",\"\",G10)","v":""},{"$f":"IF(H10=\"\",\"\",I10)","v":""},{"$f":"IF(J10=\"\",\"\",K10)","v":""},{"$f":"IF(L10=\"\",\"\",M10)","v":""},{"$f":"IF(N10=\"\",\"\",O10)","v":""},{"$f":"IF(P10=\"\",\"\",Q10)","v":""},{"$f":"IF(R10=\"\",\"\",S10)","v":""},{"$f":"IF(T10=\"\",\"\",U10)","v":""},1,"Vegetated Treatment Area "]
[null,null,null,null,null,null,null,null,null,null,null,null,null,null,null,null,null,null,null,null,null,null,{"$f":"+CPPE!$A3","v":"Access Road "},3,{"$f":"+CPPE!$A3","v":"Access Road "},{"$f":"IF(Y$9=\"\",\"\",IF(Y11=0,0,HLOOKUP(Y$9,CPPE!$A$1:$DB$177,X11,FALSE)))","v":1},{"$f":"IF(Z11=\"\",\"\",IF(Z11=0,\"\",IF(LandUse!$N4=2,\"\",IF(Z11>=$E$5,Y11,\"\"))))","v":""},3,{"$f":"+CPPE!$A3","v":"Access Road "},{"$f":"IF(AC$9=\"\",\"\",IF(AC11=0,0,HLOOKUP(AC$9,CPPE!$A$1:$DB$177,AB11,FALSE)))","v":2},{"$f":"IF(AD11=\"\",\"\",IF(AD11=0,\"\",IF(LandUse!$N4=2,\"\",IF(AD11>=$E$5,AC11,\"\"))))","v":""},3,{"$f":"+CPPE!$A3","v":"Access Road "},{"$f":"IF(AG$9=\"\",\"\",IF(AG11=0,0,HLOOKUP(AG$9,CPPE!$A$1:$DB$177,AF11,FALSE)))","v":0},{"$f":"IF(AH11=\"\",\"\",IF(AH11=0,\"\",IF(LandUse!$N4=2,\"\",IF(AH11>=$E$5,AG11,\"\"))))","v":""},3,{"$f":"+CPPE!$A3","v":"Access Road "},{"$f":"IF(AK$9=\"\",\"\",IF(AK11=0,0,HLOOKUP(AK$9,CPPE!$A$1:$DB$177,AJ11,FALSE)))","v":0},{"$f":"IF(AL11=\"\",\"\",IF(AL11=0,\"\",IF(LandUse!$N4=2,\"\",IF(AL11>=$E$5,AK11,\"\"))))","v":""},3,{"$f":"+CPPE!$A3","v":"Access Road "},{"$f":"IF(AO$9=\"\",\"\",IF(AO11=0,0,HLOOKUP(AO$9,CPPE!$A$1:$DB$177,AN11,FALSE)))","v":""},{"$f":"IF(AP11=\"\",\"\",IF(AP11=0,\"\",IF(LandUse!$N4=2,\"\",IF(AP11>=$E$5,AO11,\"\"))))","v":""},3,{"$f":"+CPPE!$A3","v":"Access Road "},{"$f":"IF(AS$9=\"\",\"\",IF(AS11=0,0,HLOOKUP(AS$9,CPPE!$A$1:$DB$177,AR11,FALSE)))","v":""},{"$f":"IF(AT11=\"\",\"\",IF(AT11=0,\"\",IF(LandUse!$N4=2,\"\",IF(AT11>=$E$5,AS11,\"\"))))","v":""},3,{"$f":"+CPPE!$A3","v":"Access Road "},{"$f":"IF(AW$9=\"\",\"\",IF(AW11=0,0,HLOOKUP(AW$9,CPPE!$A$1:$DB$177,AV11,FALSE)))","v":""},{"$f":"IF(AX11=\"\",\"\",IF(AX11=0,\"\",IF(LandUse!$N4=2,\"\",IF(AX11>=$E$5,AW11,\"\"))))","v":""},3,{"$f":"+CPPE!$A3","v":"Access Road "},{"$f":"IF(BA$9=\"\",\"\",IF(BA11=0,0,HLOOKUP(BA$9,CPPE!$A$1:$DB$177,AZ11,FALSE)))","v":""},{"$f":"IF(BB11=\"\",\"\",IF(BB11=0,\"\",IF(LandUse!$N4=2,\"\",IF(BB11>=$E$5,BA11,\"\"))))","v":""},3,{"$f":"+CPPE!$A3","v":"Access Road "},{"$f":"IF(BE$9=\"\",\"\",IF(BE11=0,0,HLOOKUP(BE$9,CPPE!$A$1:$DB$177,BD11,FALSE)))","v":""},{"$f":"IF(BF11=\"\",\"\",IF(BF11=0,\"\",IF(LandUse!$N4=2,\"\",IF(BF11>=$E$5,BE11,\"\"))))","v":""},3,{"$f":"+CPPE!$A3","v":"Access Road "},{"$f":"IF(BI$9=\"\",\"\",IF(BI11=0,0,HLOOKUP(BI$9,CPPE!$A$1:$DB$177,BH11,FALSE)))","v":""},{"$f":"IF(BJ11=\"\",\"\",IF(BJ11=0,\"\",IF(LandUse!$N4=2,\"\",IF(BJ11>=$E$5,BI11,\"\"))))","v":""},null,{"$f":"IF(B11=\"\",\"\",C11)","v":""},{"$f":"IF(D11=\"\",\"\",E11)","v":""},{"$f":"IF(F11=\"\",\"\",G11)","v":""},{"$f":"IF(H11=\"\",\"\",I11)","v":""},{"$f":"IF(J11=\"\",\"\",K11)","v":""},{"$f":"IF(L11=\"\",\"\",M11)","v":""},{"$f":"IF(N11=\"\",\"\",O11)","v":""},{"$f":"IF(P11=\"\",\"\",Q11)","v":""},{"$f":"IF(R11=\"\",\"\",S11)","v":""},{"$f":"IF(T11=\"\",\"\",U11)","v":""},null,"Tree/Shrub Establishment"]
[null,null,null,null,null,null,null,null,null,null,null,null,null,null,null,null,null,null,null,null,null,null,{"$f":"+CPPE!$A4","v":"Agrichemical Handling Facility"},4,{"$f":"+CPPE!$A4","v":"Agrichemical Handling Facility"},{"$f":"IF(Y$9=\"\",\"\",IF(Y12=0,0,HLOOKUP(Y$9,CPPE!$A$1:$DB$177,X12,FALSE)))","v":0},{"$f":"IF(Z12=\"\",\"\",IF(Z12=0,\"\",IF(LandUse!$N5=2,\"\",IF(Z12>=$E$5,Y12,\"\"))))","v":""},4,{"$f":"+CPPE!$A4","v":"Agrichemical Handling Facility"},{"$f":"IF(AC$9=\"\",\"\",IF(AC12=0,0,HLOOKUP(AC$9,CPPE!$A$1:$DB$177,AB12,FALSE)))","v":0},{"$f":"IF(AD12=\"\",\"\",IF(AD12=0,\"\",IF(LandUse!$N5=2,\"\",IF(AD12>=$E$5,AC12,\"\"))))","v":""},4,{"$f":"+CPPE!$A4","v":"Agrichemical Handling Facility"},{"$f":"IF(AG$9=\"\",\"\",IF(AG12=0,0,HLOOKUP(AG$9,CPPE!$A$1:$DB$177,AF12,FALSE)))","v":0},{"$f":"IF(AH12=\"\",\"\",IF(AH12=0,\"\",IF(LandUse!$N5=2,\"\",IF(AH12>=$E$5,AG12,\"\"))))","v":""},4,{"$f":"+CPPE!$A4","v":"Agrichemical Handling Facility"},{"$f":"IF(AK$9=\"\",\"\",IF(AK12=0,0,HLOOKUP(AK$9,CPPE!$A$1:$DB$177,AJ12,FALSE)))","v":0},{"$f":"IF(AL12=\"\",\"\",IF(AL12=0,\"\",IF(LandUse!$N5=2,\"\",IF(AL12>=$E$5,AK12,\"\"))))","v":""},4,{"$f":"+CPPE!$A4","v":"Agrichemical Handling Facility"},{"$f":"IF(AO$9=\"\",\"\",IF(AO12=0,0,HLOOKUP(AO$9,CPPE!$A$1:$DB$177,AN12,FALSE)))","v":""},{"$f":"IF(AP12=\"\",\"\",IF(AP12=0,\"\",IF(LandUse!$N5=2,\"\",IF(AP12>=$E$5,AO12,\"\"))))","v":""},4,{"$f":"+CPPE!$A4","v":"Agrichemical Handling Facility"},{"$f":"IF(AS$9=\"\",\"\",IF(AS12=0,0,HLOOKUP(AS$9,CPPE!$A$1:$DB$177,AR12,FALSE)))","v":""},{"$f":"IF(AT12=\"\",\"\",IF(AT12=0,\"\",IF(LandUse!$N5=2,\"\",IF(AT12>=$E$5,AS12,\"\"))))","v":""},4,{"$f":"+CPPE!$A4","v":"Agrichemical Handling Facility"},{"$f":"IF(AW$9=\"\",\"\",IF(AW12=0,0,HLOOKUP(AW$9,CPPE!$A$1:$DB$177,AV12,FALSE)))","v":""},{"$f":"IF(AX12=\"\",\"\",IF(AX12=0,\"\",IF(LandUse!$N5=2,\"\",IF(AX12>=$E$5,AW12,\"\"))))","v":""},4,{"$f":"+CPPE!$A4","v":"Agrichemical Handling Facility"},{"$f":"IF(BA$9=\"\",\"\",IF(BA12=0,0,HLOOKUP(BA$9,CPPE!$A$1:$DB$177,AZ12,FALSE)))","v":""},{"$f":"IF(BB12=\"\",\"\",IF(BB12=0,\"\",IF(LandUse!$N5=2,\"\",IF(BB12>=$E$5,BA12,\"\"))))","v":""},4,{"$f":"+CPPE!$A4","v":"Agrichemical Handling Facility"},{"$f":"IF(BE$9=\"\",\"\",IF(BE12=0,0,HLOOKUP(BE$9,CPPE!$A$1:$DB$177,BD12,FALSE)))","v":""},{"$f":"IF(BF12=\"\",\"\",IF(BF12=0,\"\",IF(LandUse!$N5=2,\"\",IF(BF12>=$E$5,BE12,\"\"))))","v":""},4,{"$f":"+CPPE!$A4","v":"Agrichemical Handling Facility"},{"$f":"IF(BI$9=\"\",\"\",IF(BI12=0,0,HLOOKUP(BI$9,CPPE!$A$1:$DB$177,BH12,FALSE)))","v":""},{"$f":"IF(BJ12=\"\",\"\",IF(BJ12=0,\"\",IF(LandUse!$N5=2,\"\",IF(BJ12>=$E$5,BI12,\"\"))))","v":""},null,"","","","","","","","","","",null,"Terrace"]
[null,null,null,null,null,null,null,null,null,null,null,null,null,null,null,null,null,null,null,null,null,null,{"$f":"+CPPE!$A5","v":"Air Filtration and Scrubbing"},5,{"$f":"+CPPE!$A5","v":"Air Filtration and Scrubbing"},{"$f":"IF(Y$9=\"\",\"\",IF(Y13=0,0,HLOOKUP(Y$9,CPPE!$A$1:$DB$177,X13,FALSE)))","v":0},{"$f":"IF(Z13=\"\",\"\",IF(Z13=0,\"\",IF(LandUse!$N6=2,\"\",IF(Z13>=$E$5,Y13,\"\"))))","v":""},5,{"$f":"+CPPE!$A5","v":"Air Filtration and Scrubbing"},{"$f":"IF(AC$9=\"\",\"\",IF(AC13=0,0,HLOOKUP(AC$9,CPPE!$A$1:$DB$177,AB13,FALSE)))","v":0},{"$f":"IF(AD13=\"\",\"\",IF(AD13=0,\"\",IF(LandUse!$N6=2,\"\",IF(AD13>=$E$5,AC13,\"\"))))","v":""},5,{"$f":"+CPPE!$A5","v":"Air Filtration and Scrubbing"},{"$f":"IF(AG$9=\"\",\"\",IF(AG13=0,0,HLOOKUP(AG$9,CPPE!$A$1:$DB$177,AF13,FALSE)))","v":0},{"$f":"IF(AH13=\"\",\"\",IF(AH13=0,\"\",IF(LandUse!$N6=2,\"\",IF(AH13>=$E$5,AG13,\"\"))))","v":""},5,{"$f":"+CPPE!$A5","v":"Air Filtration and Scrubbing"},{"$f":"IF(AK$9=\"\",\"\",IF(AK13=0,0,HLOOKUP(AK$9,CPPE!$A$1:$DB$177,AJ13,FALSE)))","v":0},{"$f":"IF(AL13=\"\",\"\",IF(AL13=0,\"\",IF(LandUse!$N6=2,\"\",IF(AL13>=$E$5,AK13,\"\"))))","v":""},5,{"$f":"+CPPE!$A5","v":"Air Filtration and Scrubbing"},{"$f":"IF(AO$9=\"\",\"\",IF(AO13=0,0,HLOOKUP(AO$9,CPPE!$A$1:$DB$177,AN13,FALSE)))","v":""},{"$f":"IF(AP13=\"\",\"\",IF(AP13=0,\"\",IF(LandUse!$N6=2,\"\",IF(AP13>=$E$5,AO13,\"\"))))","v":""},5,{"$f":"+CPPE!$A5","v":"Air Filtration and Scrubbing"},{"$f":"IF(AS$9=\"\",\"\",IF(AS13=0,0,HLOOKUP(AS$9,CPPE!$A$1:$DB$177,AR13,FALSE)))","v":""},{"$f":"IF(AT13=\"\",\"\",IF(AT13=0,\"\",IF(LandUse!$N6=2,\"\",IF(AT13>=$E$5,AS13,\"\"))))","v":""},5,{"$f":"+CPPE!$A5","v":"Air Filtration and Scrubbing"},{"$f":"IF(AW$9=\"\",\"\",IF(AW13=0,0,HLOOKUP(AW$9,CPPE!$A$1:$DB$177,AV13,FALSE)))","v":""},{"$f":"IF(AX13=\"\",\"\",IF(AX13=0,\"\",IF(LandUse!$N6=2,\"\",IF(AX13>=$E$5,AW13,\"\"))))","v":""},5,{"$f":"+CPPE!$A5","v":"Air Filtration and Scrubbing"},{"$f":"IF(BA$9=\"\",\"\",IF(BA13=0,0,HLOOKUP(BA$9,CPPE!$A$1:$DB$177,AZ13,FALSE)))","v":""},{"$f":"IF(BB13=\"\",\"\",IF(BB13=0,\"\",IF(LandUse!$N6=2,\"\",IF(BB13>=$E$5,BA13,\"\"))))","v":""},5,{"$f":"+CPPE!$A5","v":"Air Filtration and Scrubbing"},{"$f":"IF(BE$9=\"\",\"\",IF(BE13=0,0,HLOOKUP(BE$9,CPPE!$A$1:$DB$177,BD13,FALSE)))","v":""},{"$f":"IF(BF13=\"\",\"\",IF(BF13=0,\"\",IF(LandUse!$N6=2,\"\",IF(BF13>=$E$5,BE13,\"\"))))","v":""},5,{"$f":"+CPPE!$A5","v":"Air Filtration and Scrubbing"},{"$f":"IF(BI$9=\"\",\"\",IF(BI13=0,0,HLOOKUP(BI$9,CPPE!$A$1:$DB$177,BH13,FALSE)))","v":""},{"$f":"IF(BJ13=\"\",\"\",IF(BJ13=0,\"\",IF(LandUse!$N6=2,\"\",IF(BJ13>=$E$5,BI13,\"\"))))","v":""},null,"","","","","","","","","","",null,"Riparian Herbaceous Cover"]
[null,null,null,null,null,null,null,null,null,null,null,null,null,null,null,null,null,null,null,null,null,null,{"$f":"+CPPE!$A6","v":"Alley Cropping"},6,{"$f":"+CPPE!$A6","v":"Alley Cropping"},{"$f":"IF(Y$9=\"\",\"\",IF(Y14=0,0,HLOOKUP(Y$9,CPPE!$A$1:$DB$177,X14,FALSE)))","v":5},{"$f":"IF(Z14=\"\",\"\",IF(Z14=0,\"\",IF(LandUse!$N7=2,\"\",IF(Z14>=$E$5,Y14,\"\"))))","v":""},6,{"$f":"+CPPE!$A6","v":"Alley Cropping"},{"$f":"IF(AC$9=\"\",\"\",IF(AC14=0,0,HLOOKUP(AC$9,CPPE!$A$1:$DB$177,AB14,FALSE)))","v":2},{"$f":"IF(AD14=\"\",\"\",IF(AD14=0,\"\",IF(LandUse!$N7=2,\"\",IF(AD14>=$E$5,AC14,\"\"))))","v":""},6,{"$f":"+CPPE!$A6","v":"Alley Cropping"},{"$f":"IF(AG$9=\"\",\"\",IF(AG14=0,0,HLOOKUP(AG$9,CPPE!$A$1:$DB$177,AF14,FALSE)))","v":5},{"$f":"IF(AH14=\"\",\"\",IF(AH14=0,\"\",IF(LandUse!$N7=2,\"\",IF(AH14>=$E$5,AG14,\"\"))))","v":""},6,{"$f":"+CPPE!$A6","v":"Alley Cropping"},{"$f":"IF(AK$9=\"\",\"\",IF(AK14=0,0,HLOOKUP(AK$9,CPPE!$A$1:$DB$177,AJ14,FALSE)))","v":4},{"$f":"IF(AL14=\"\",\"\",IF(AL14=0,\"\",IF(LandUse!$N7=2,\"\",IF(AL14>=$E$5,AK14,\"\"))))","v":""},6,{"$f":"+CPPE!$A6","v":"Alley Cropping"},{"$f":"IF(AO$9=\"\",\"\",IF(AO14=0,0,HLOOKUP(AO$9,CPPE!$A$1:$DB$177,AN14,FALSE)))","v":""},{"$f":"IF(AP14=\"\",\"\",IF(AP14=0,\"\",IF(LandUse!$N7=2,\"\",IF(AP14>=$E$5,AO14,\"\"))))","v":""},6,{"$f":"+CPPE!$A6","v":"Alley Cropping"},{"$f":"IF(AS$9=\"\",\"\",IF(AS14=0,0,HLOOKUP(AS$9,CPPE!$A$1:$DB$177,AR14,FALSE)))","v":""},{"$f":"IF(AT14=\"\",\"\",IF(AT14=0,\"\",IF(LandUse!$N7=2,\"\",IF(AT14>=$E$5,AS14,\"\"))))","v":""},6,{"$f":"+CPPE!$A6","v":"Alley Cropping"},{"$f":"IF(AW$9=\"\",\"\",IF(AW14=0,0,HLOOKUP(AW$9,CPPE!$A$1:$DB$177,AV14,FALSE)))","v":""},{"$f":"IF(AX14=\"\",\"\",IF(AX14=0,\"\",IF(LandUse!$N7=2,\"\",IF(AX14>=$E$5,AW14,\"\"))))","v":""},6,{"$f":"+CPPE!$A6","v":"Alley Cropping"},{"$f":"IF(BA$9=\"\",\"\",IF(BA14=0,0,HLOOKUP(BA$9,CPPE!$A$1:$DB$177,AZ14,FALSE)))","v":""},{"$f":"IF(BB14=\"\",\"\",IF(BB14=0,\"\",IF(LandUse!$N7=2,\"\",IF(BB14>=$E$5,BA14,\"\"))))","v":""},6,{"$f":"+CPPE!$A6","v":"Alley Cropping"},{"$f":"IF(BE$9=\"\",\"\",IF(BE14=0,0,HLOOKUP(BE$9,CPPE!$A$1:$DB$177,BD14,FALSE)))","v":""},{"$f":"IF(BF14=\"\",\"\",IF(BF14=0,\"\",IF(LandUse!$N7=2,\"\",IF(BF14>=$E$5,BE14,\"\"))))","v":""},6,{"$f":"+CPPE!$A6","v":"Alley Cropping"},{"$f":"IF(BI$9=\"\",\"\",IF(BI14=0,0,HLOOKUP(BI$9,CPPE!$A$1:$DB$177,BH14,FALSE)))","v":""},{"$f":"IF(BJ14=\"\",\"\",IF(BJ14=0,\"\",IF(LandUse!$N7=2,\"\",IF(BJ14>=$E$5,BI14,\"\"))))","v":""},null,"","","","","","","","","","",null,"Riparian Forest Buffer"]
[null,null,null,null,null,null,null,null,null,null,null,null,null,null,null,null,null,null,null,null,null,null,{"$f":"+CPPE!$A7","v":"Amending Soil Properties with Gypsum Products"},7,{"$f":"+CPPE!$A7","v":"Amending Soil Properties with Gypsum Products"},{"$f":"IF(Y$9=\"\",\"\",IF(Y15=0,0,HLOOKUP(Y$9,CPPE!$A$1:$DB$177,X15,FALSE)))","v":1},{"$f":"IF(Z15=\"\",\"\",IF(Z15=0,\"\",IF(LandUse!$N8=2,\"\",IF(Z15>=$E$5,Y15,\"\"))))","v":""},7,{"$f":"+CPPE!$A7","v":"Amending Soil Properties with Gypsum Products"},{"$f":"IF(AC$9=\"\",\"\",IF(AC15=0,0,HLOOKUP(AC$9,CPPE!$A$1:$DB$177,AB15,FALSE)))","v":0},{"$f":"IF(AD15=\"\",\"\",IF(AD15=0,\"\",IF(LandUse!$N8=2,\"\",IF(AD15>=$E$5,AC15,\"\"))))","v":""},7,{"$f":"+CPPE!$A7","v":"Amending Soil Properties with Gypsum Products"},{"$f":"IF(AG$9=\"\",\"\",IF(AG15=0,0,HLOOKUP(AG$9,CPPE!$A$1:$DB$177,AF15,FALSE)))","v":0},{"$f":"IF(AH15=\"\",\"\",IF(AH15=0,\"\",IF(LandUse!$N8=2,\"\",IF(AH15>=$E$5,AG15,\"\"))))","v":""},7,{"$f":"+CPPE!$A7","v":"Amending Soil Properties with Gypsum Products"},{"$f":"IF(AK$9=\"\",\"\",IF(AK15=0,0,HLOOKUP(AK$9,CPPE!$A$1:$DB$177,AJ15,FALSE)))","v":1},{"$f":"IF(AL15=\"\",\"\",IF(AL15=0,\"\",IF(LandUse!$N8=2,\"\",IF(AL15>=$E$5,AK15,\"\"))))","v":""},7,{"$f":"+CPPE!$A7","v":"Amending Soil Properties with Gypsum Products"},{"$f":"IF(AO$9=\"\",\"\",IF(AO15=0,0,HLOOKUP(AO$9,CPPE!$A$1:$DB$177,AN15,FALSE)))","v":""},{"$f":"IF(AP15=\"\",\"\",IF(AP15=0,\"\",IF(LandUse!$N8=2,\"\",IF(AP15>=$E$5,AO15,\"\"))))","v":""},7,{"$f":"+CPPE!$A7","v":"Amending Soil Properties with Gypsum Products"},{"$f":"IF(AS$9=\"\",\"\",IF(AS15=0,0,HLOOKUP(AS$9,CPPE!$A$1:$DB$177,AR15,FALSE)))","v":""},{"$f":"IF(AT15=\"\",\"\",IF(AT15=0,\"\",IF(LandUse!$N8=2,\"\",IF(AT15>=$E$5,AS15,\"\"))))","v":""},7,{"$f":"+CPPE!$A7","v":"Amending Soil Properties with Gypsum Products"},{"$f":"IF(AW$9=\"\",\"\",IF(AW15=0,0,HLOOKUP(AW$9,CPPE!$A$1:$DB$177,AV15,FALSE)))","v":""},{"$f":"IF(AX15=\"\",\"\",IF(AX15=0,\"\",IF(LandUse!$N8=2,\"\",IF(AX15>=$E$5,AW15,\"\"))))","v":""},7,{"$f":"+CPPE!$A7","v":"Amending Soil Properties with Gypsum Products"},{"$f":"IF(BA$9=\"\",\"\",IF(BA15=0,0,HLOOKUP(BA$9,CPPE!$A$1:$DB$177,AZ15,FALSE)))","v":""},{"$f":"IF(BB15=\"\",\"\",IF(BB15=0,\"\",IF(LandUse!$N8=2,\"\",IF(BB15>=$E$5,BA15,\"\"))))","v":""},7,{"$f":"+CPPE!$A7","v":"Amending Soil Properties with Gypsum Products"},{"$f":"IF(BE$9=\"\",\"\",IF(BE15=0,0,HLOOKUP(BE$9,CPPE!$A$1:$DB$177,BD15,FALSE)))","v":""},{"$f":"IF(BF15=\"\",\"\",IF(BF15=0,\"\",IF(LandUse!$N8=2,\"\",IF(BF15>=$E$5,BE15,\"\"))))","v":""},7,{"$f":"+CPPE!$A7","v":"Amending Soil Properties with Gypsum Products"},{"$f":"IF(BI$9=\"\",\"\",IF(BI15=0,0,HLOOKUP(BI$9,CPPE!$A$1:$DB$177,BH15,FALSE)))","v":""},{"$f":"IF(BJ15=\"\",\"\",IF(BJ15=0,\"\",IF(LandUse!$N8=2,\"\",IF(BJ15>=$E$5,BI15,\"\"))))","v":""},null,"","","","","","","","","","",null,"Residue and Tillage Management, No Till"]
[null,null,null,null,null,null,null,null,null,null,null,null,null,null,null,null,null,null,null,null,null,null,{"$f":"+CPPE!$A8","v":"Amendments for Treatment of Agricultural Waste"},8,{"$f":"+CPPE!$A8","v":"Amendments for Treatment of Agricultural Waste"},{"$f":"IF(Y$9=\"\",\"\",IF(Y16=0,0,HLOOKUP(Y$9,CPPE!$A$1:$DB$177,X16,FALSE)))","v":0},{"$f":"IF(Z16=\"\",\"\",IF(Z16=0,\"\",IF(LandUse!$N9=2,\"\",IF(Z16>=$E$5,Y16,\"\"))))","v":""},8,{"$f":"+CPPE!$A8","v":"Amendments for Treatment of Agricultural Waste"},{"$f":"IF(AC$9=\"\",\"\",IF(AC16=0,0,HLOOKUP(AC$9,CPPE!$A$1:$DB$177,AB16,FALSE)))","v":0},{"$f":"IF(AD16=\"\",\"\",IF(AD16=0,\"\",IF(LandUse!$N9=2,\"\",IF(AD16>=$E$5,AC16,\"\"))))","v":""},8,{"$f":"+CPPE!$A8","v":"Amendments for Treatment of Agricultural Waste"},{"$f":"IF(AG$9=\"\",\"\",IF(AG16=0,0,HLOOKUP(AG$9,CPPE!$A$1:$DB$177,AF16,FALSE)))","v":1},{"$f":"IF(AH16=\"\",\"\",IF(AH16=0,\"\",IF(LandUse!$N9=2,\"\",IF(AH16>=$E$5,AG16,\"\"))))","v":""},8,{"$f":"+CPPE!$A8","v":"Amendments for Treatment of Agricultural Waste"},{"$f":"IF(AK$9=\"\",\"\",IF(AK16=0,0,HLOOKUP(AK$9,CPPE!$A$1:$DB$177,AJ16,FALSE)))","v":0},{"$f":"IF(AL16=\"\",\"\",IF(AL16=0,\"\",IF(LandUse!$N9=2,\"\",IF(AL16>=$E$5,AK16,\"\"))))","v":""},8,{"$f":"+CPPE!$A8","v":"Amendments for Treatment of Agricultural Waste"},{"$f":"IF(AO$9=\"\",\"\",IF(AO16=0,0,HLOOKUP(AO$9,CPPE!$A$1:$DB$177,AN16,FALSE)))","v":""},{"$f":"IF(AP16=\"\",\"\",IF(AP16=0,\"\",IF(LandUse!$N9=2,\"\",IF(AP16>=$E$5,AO16,\"\"))))","v":""},8,{"$f":"+CPPE!$A8","v":"Amendments for Treatment of Agricultural Waste"},{"$f":"IF(AS$9=\"\",\"\",IF(AS16=0,0,HLOOKUP(AS$9,CPPE!$A$1:$DB$177,AR16,FALSE)))","v":""},{"$f":"IF(AT16=\"\",\"\",IF(AT16=0,\"\",IF(LandUse!$N9=2,\"\",IF(AT16>=$E$5,AS16,\"\"))))","v":""},8,{"$f":"+CPPE!$A8","v":"Amendments for Treatment of Agricultural Waste"},{"$f":"IF(AW$9=\"\",\"\",IF(AW16=0,0,HLOOKUP(AW$9,CPPE!$A$1:$DB$177,AV16,FALSE)))","v":""},{"$f":"IF(AX16=\"\",\"\",IF(AX16=0,\"\",IF(LandUse!$N9=2,\"\",IF(AX16>=$E$5,AW16,\"\"))))","v":""},8,{"$f":"+CPPE!$A8","v":"Amendments for Treatment of Agricultural Waste"},{"$f":"IF(BA$9=\"\",\"\",IF(BA16=0,0,HLOOKUP(BA$9,CPPE!$A$1:$DB$177,AZ16,FALSE)))","v":""},{"$f":"IF(BB16=\"\",\"\",IF(BB16=0,\"\",IF(LandUse!$N9=2,\"\",IF(BB16>=$E$5,BA16,\"\"))))","v":""},8,{"$f":"+CPPE!$A8","v":"Amendments for Treatment of Agricultural Waste"},{"$f":"IF(BE$9=\"\",\"\",IF(BE16=0,0,HLOOKUP(BE$9,CPPE!$A$1:$DB$177,BD16,FALSE)))","v":""},{"$f":"IF(BF16=\"\",\"\",IF(BF16=0,\"\",IF(LandUse!$N9=2,\"\",IF(BF16>=$E$5,BE16,\"\"))))","v":""},8,{"$f":"+CPPE!$A8","v":"Amendments for Treatment of Agricultural Waste"},{"$f":"IF(BI$9=\"\",\"\",IF(BI16=0,0,HLOOKUP(BI$9,CPPE!$A$1:$DB$177,BH16,FALSE)))","v":""},{"$f":"IF(BJ16=\"\",\"\",IF(BJ16=0,\"\",IF(LandUse!$N9=2,\"\",IF(BJ16>=$E$5,BI16,\"\"))))","v":""},null,"","","","","","","","","","",null,"Controlled Traffic Farming"]
[null,null,null,null,null,null,null,null,null,null,null,null,null,null,null,null,null,null,null,null,null,null,{"$f":"+CPPE!$A9","v":"Anaerobic Digester"},9,{"$f":"+CPPE!$A9","v":"Anaerobic Digester"},{"$f":"IF(Y$9=\"\",\"\",IF(Y17=0,0,HLOOKUP(Y$9,CPPE!$A$1:$DB$177,X17,FALSE)))","v":0},{"$f":"IF(Z17=\"\",\"\",IF(Z17=0,\"\",IF(LandUse!$N10=2,\"\",IF(Z17>=$E$5,Y17,\"\"))))","v":""},9,{"$f":"+CPPE!$A9","v":"Anaerobic Digester"},{"$f":"IF(AC$9=\"\",\"\",IF(AC17=0,0,HLOOKUP(AC$9,CPPE!$A$1:$DB$177,AB17,FALSE)))","v":0},{"$f":"IF(AD17=\"\",\"\",IF(AD17=0,\"\",IF(LandUse!$N10=2,\"\",IF(AD17>=$E$5,AC17,\"\"))))","v":""},9,{"$f":"+CPPE!$A9","v":"Anaerobic Digester"},{"$f":"IF(AG$9=\"\",\"\",IF(AG17=0,0,HLOOKUP(AG$9,CPPE!$A$1:$DB$177,AF17,FALSE)))","v":0},{"$f":"IF(AH17=\"\",\"\",IF(AH17=0,\"\",IF(LandUse!$N10=2,\"\",IF(AH17>=$E$5,AG17,\"\"))))","v":""},9,{"$f":"+CPPE!$A9","v":"Anaerobic Digester"},{"$f":"IF(AK$9=\"\",\"\",IF(AK17=0,0,HLOOKUP(AK$9,CPPE!$A$1:$DB$177,AJ17,FALSE)))","v":0},{"$f":"IF(AL17=\"\",\"\",IF(AL17=0,\"\",IF(LandUse!$N10=2,\"\",IF(AL17>=$E$5,AK17,\"\"))))","v":""},9,{"$f":"+CPPE!$A9","v":"Anaerobic Digester"},{"$f":"IF(AO$9=\"\",\"\",IF(AO17=0,0,HLOOKUP(AO$9,CPPE!$A$1:$DB$177,AN17,FALSE)))","v":""},{"$f":"IF(AP17=\"\",\"\",IF(AP17=0,\"\",IF(LandUse!$N10=2,\"\",IF(AP17>=$E$5,AO17,\"\"))))","v":""},9,{"$f":"+CPPE!$A9","v":"Anaerobic Digester"},{"$f":"IF(AS$9=\"\",\"\",IF(AS17=0,0,HLOOKUP(AS$9,CPPE!$A$1:$DB$177,AR17,FALSE)))","v":""},{"$f":"IF(AT17=\"\",\"\",IF(AT17=0,\"\",IF(LandUse!$N10=2,\"\",IF(AT17>=$E$5,AS17,\"\"))))","v":""},9,{"$f":"+CPPE!$A9","v":"Anaerobic Digester"},{"$f":"IF(AW$9=\"\",\"\",IF(AW17=0,0,HLOOKUP(AW$9,CPPE!$A$1:$DB$177,AV17,FALSE)))","v":""},{"$f":"IF(AX17=\"\",\"\",IF(AX17=0,\"\",IF(LandUse!$N10=2,\"\",IF(AX17>=$E$5,AW17,\"\"))))","v":""},9,{"$f":"+CPPE!$A9","v":"Anaerobic Digester"},{"$f":"IF(BA$9=\"\",\"\",IF(BA17=0,0,HLOOKUP(BA$9,CPPE!$A$1:$DB$177,AZ17,FALSE)))","v":""},{"$f":"IF(BB17=\"\",\"\",IF(BB17=0,\"\",IF(LandUse!$N10=2,\"\",IF(BB17>=$E$5,BA17,\"\"))))","v":""},9,{"$f":"+CPPE!$A9","v":"Anaerobic Digester"},{"$f":"IF(BE$9=\"\",\"\",IF(BE17=0,0,HLOOKUP(BE$9,CPPE!$A$1:$DB$177,BD17,FALSE)))","v":""},{"$f":"IF(BF17=\"\",\"\",IF(BF17=0,\"\",IF(LandUse!$N10=2,\"\",IF(BF17>=$E$5,BE17,\"\"))))","v":""},9,{"$f":"+CPPE!$A9","v":"Anaerobic Digester"},{"$f":"IF(BI$9=\"\",\"\",IF(BI17=0,0,HLOOKUP(BI$9,CPPE!$A$1:$DB$177,BH17,FALSE)))","v":""},{"$f":"IF(BJ17=\"\",\"\",IF(BJ17=0,\"\",IF(LandUse!$N10=2,\"\",IF(BJ17>=$E$5,BI17,\"\"))))","v":""},null,"","","","","","","","","","",null,""]
[null,null,null,null,null,null,null,null,null,null,null,null,null,null,null,null,null,null,null,null,null,null,{"$f":"+CPPE!$A10","v":"Animal Mortality Facility"},10,{"$f":"+CPPE!$A10","v":"Animal Mortality Facility"},{"$f":"IF(Y$9=\"\",\"\",IF(Y18=0,0,HLOOKUP(Y$9,CPPE!$A$1:$DB$177,X18,FALSE)))","v":0},{"$f":"IF(Z18=\"\",\"\",IF(Z18=0,\"\",IF(LandUse!$N11=2,\"\",IF(Z18>=$E$5,Y18,\"\"))))","v":""},10,{"$f":"+CPPE!$A10","v":"Animal Mortality Facility"},{"$f":"IF(AC$9=\"\",\"\",IF(AC18=0,0,HLOOKUP(AC$9,CPPE!$A$1:$DB$177,AB18,FALSE)))","v":0},{"$f":"IF(AD18=\"\",\"\",IF(AD18=0,\"\",IF(LandUse!$N11=2,\"\",IF(AD18>=$E$5,AC18,\"\"))))","v":""},10,{"$f":"+CPPE!$A10","v":"Animal Mortality Facility"},{"$f":"IF(AG$9=\"\",\"\",IF(AG18=0,0,HLOOKUP(AG$9,CPPE!$A$1:$DB$177,AF18,FALSE)))","v":0},{"$f":"IF(AH18=\"\",\"\",IF(AH18=0,\"\",IF(LandUse!$N11=2,\"\",IF(AH18>=$E$5,AG18,\"\"))))","v":""},10,{"$f":"+CPPE!$A10","v":"Animal Mortality Facility"},{"$f":"IF(AK$9=\"\",\"\",IF(AK18=0,0,HLOOKUP(AK$9,CPPE!$A$1:$DB$177,AJ18,FALSE)))","v":0},{"$f":"IF(AL18=\"\",\"\",IF(AL18=0,\"\",IF(LandUse!$N11=2,\"\",IF(AL18>=$E$5,AK18,\"\"))))","v":""},10,{"$f":"+CPPE!$A10","v":"Animal Mortality Facility"},{"$f":"IF(AO$9=\"\",\"\",IF(AO18=0,0,HLOOKUP(AO$9,CPPE!$A$1:$DB$177,AN18,FALSE)))","v":""},{"$f":"IF(AP18=\"\",\"\",IF(AP18=0,\"\",IF(LandUse!$N11=2,\"\",IF(AP18>=$E$5,AO18,\"\"))))","v":""},10,{"$f":"+CPPE!$A10","v":"Animal Mortality Facility"},{"$f":"IF(AS$9=\"\",\"\",IF(AS18=0,0,HLOOKUP(AS$9,CPPE!$A$1:$DB$177,AR18,FALSE)))","v":""},{"$f":"IF(AT18=\"\",\"\",IF(AT18=0,\"\",IF(LandUse!$N11=2,\"\",IF(AT18>=$E$5,AS18,\"\"))))","v":""},10,{"$f":"+CPPE!$A10","v":"Animal Mortality Facility"},{"$f":"IF(AW$9=\"\",\"\",IF(AW18=0,0,HLOOKUP(AW$9,CPPE!$A$1:$DB$177,AV18,FALSE)))","v":""},{"$f":"IF(AX18=\"\",\"\",IF(AX18=0,\"\",IF(LandUse!$N11=2,\"\",IF(AX18>=$E$5,AW18,\"\"))))","v":""},10,{"$f":"+CPPE!$A10","v":"Animal Mortality Facility"},{"$f":"IF(BA$9=\"\",\"\",IF(BA18=0,0,HLOOKUP(BA$9,CPPE!$A$1:$DB$177,AZ18,FALSE)))","v":""},{"$f":"IF(BB18=\"\",\"\",IF(BB18=0,\"\",IF(LandUse!$N11=2,\"\",IF(BB18>=$E$5,BA18,\"\"))))","v":""},10,{"$f":"+CPPE!$A10","v":"Animal Mortality Facility"},{"$f":"IF(BE$9=\"\",\"\",IF(BE18=0,0,HLOOKUP(BE$9,CPPE!$A$1:$DB$177,BD18,FALSE)))","v":""},{"$f":"IF(BF18=\"\",\"\",IF(BF18=0,\"\",IF(LandUse!$N11=2,\"\",IF(BF18>=$E$5,BE18,\"\"))))","v":""},10,{"$f":"+CPPE!$A10","v":"Animal Mortality Facility"},{"$f":"IF(BI$9=\"\",\"\",IF(BI18=0,0,HLOOKUP(BI$9,CPPE!$A$1:$DB$177,BH18,FALSE)))","v":""},{"$f":"IF(BJ18=\"\",\"\",IF(BJ18=0,\"\",IF(LandUse!$N11=2,\"\",IF(BJ18>=$E$5,BI18,\"\"))))","v":""},null,"","","","","","","","","",""]
[null,null,null,null,null,null,null,null,null,null,null,null,null,null,null,null,null,null,null,null,null,null,{"$f":"+CPPE!$A11","v":"Anionic Polyacrylamide (PAM) Erosion Control"},11,{"$f":"+CPPE!$A11","v":"Anionic Polyacrylamide (PAM) Erosion Control"},{"$f":"IF(Y$9=\"\",\"\",IF(Y19=0,0,HLOOKUP(Y$9,CPPE!$A$1:$DB$177,X19,FALSE)))","v":2},{"$f":"IF(Z19=\"\",\"\",IF(Z19=0,\"\",IF(LandUse!$N12=2,\"\",IF(Z19>=$E$5,Y19,\"\"))))","v":""},11,{"$f":"+CPPE!$A11","v":"Anionic Polyacrylamide (PAM) Erosion Control"},{"$f":"IF(AC$9=\"\",\"\",IF(AC19=0,0,HLOOKUP(AC$9,CPPE!$A$1:$DB$177,AB19,FALSE)))","v":2},{"$f":"IF(AD19=\"\",\"\",IF(AD19=0,\"\",IF(LandUse!$N12=2,\"\",IF(AD19>=$E$5,AC19,\"\"))))","v":""},11,{"$f":"+CPPE!$A11","v":"Anionic Polyacrylamide (PAM) Erosion Control"},{"$f":"IF(AG$9=\"\",\"\",IF(AG19=0,0,HLOOKUP(AG$9,CPPE!$A$1:$DB$177,AF19,FALSE)))","v":0},{"$f":"IF(AH19=\"\",\"\",IF(AH19=0,\"\",IF(LandUse!$N12=2,\"\",IF(AH19>=$E$5,AG19,\"\"))))","v":""},11,{"$f":"+CPPE!$A11","v":"Anionic Polyacrylamide (PAM) Erosion Control"},{"$f":"IF(AK$9=\"\",\"\",IF(AK19=0,0,HLOOKUP(AK$9,CPPE!$A$1:$DB$177,AJ19,FALSE)))","v":0},{"$f":"IF(AL19=\"\",\"\",IF(AL19=0,\"\",IF(LandUse!$N12=2,\"\",IF(AL19>=$E$5,AK19,\"\"))))","v":""},11,{"$f":"+CPPE!$A11","v":"Anionic Polyacrylamide (PAM) Erosion Control"},{"$f":"IF(AO$9=\"\",\"\",IF(AO19=0,0,HLOOKUP(AO$9,CPPE!$A$1:$DB$177,AN19,FALSE)))","v":""},{"$f":"IF(AP19=\"\",\"\",IF(AP19=0,\"\",IF(LandUse!$N12=2,\"\",IF(AP19>=$E$5,AO19,\"\"))))","v":""},11,{"$f":"+CPPE!$A11","v":"Anionic Polyacrylamide (PAM) Erosion Control"},{"$f":"IF(AS$9=\"\",\"\",IF(AS19=0,0,HLOOKUP(AS$9,CPPE!$A$1:$DB$177,AR19,FALSE)))","v":""},{"$f":"IF(AT19=\"\",\"\",IF(AT19=0,\"\",IF(LandUse!$N12=2,\"\",IF(AT19>=$E$5,AS19,\"\"))))","v":""},11,{"$f":"+CPPE!$A11","v":"Anionic Polyacrylamide (PAM) Erosion Control"},{"$f":"IF(AW$9=\"\",\"\",IF(AW19=0,0,HLOOKUP(AW$9,CPPE!$A$1:$DB$177,AV19,FALSE)))","v":""},{"$f":"IF(AX19=\"\",\"\",IF(AX19=0,\"\",IF(LandUse!$N12=2,\"\",IF(AX19>=$E$5,AW19,\"\"))))","v":""},11,{"$f":"+CPPE!$A11","v":"Anionic Polyacrylamide (PAM) Erosion Control"},{"$f":"IF(BA$9=\"\",\"\",IF(BA19=0,0,HLOOKUP(BA$9,CPPE!$A$1:$DB$177,AZ19,FALSE)))","v":""},{"$f":"IF(BB19=\"\",\"\",IF(BB19=0,\"\",IF(LandUse!$N12=2,\"\",IF(BB19>=$E$5,BA19,\"\"))))","v":""},11,{"$f":"+CPPE!$A11","v":"Anionic Polyacrylamide (PAM) Erosion Control"},{"$f":"IF(BE$9=\"\",\"\",IF(BE19=0,0,HLOOKUP(BE$9,CPPE!$A$1:$DB$177,BD19,FALSE)))","v":""},{"$f":"IF(BF19=\"\",\"\",IF(BF19=0,\"\",IF(LandUse!$N12=2,\"\",IF(BF19>=$E$5,BE19,\"\"))))","v":""},11,{"$f":"+CPPE!$A11","v":"Anionic Polyacrylamide (PAM) Erosion Control"},{"$f":"IF(BI$9=\"\",\"\",IF(BI19=0,0,HLOOKUP(BI$9,CPPE!$A$1:$DB$177,BH19,FALSE)))","v":""},{"$f":"IF(BJ19=\"\",\"\",IF(BJ19=0,\"\",IF(LandUse!$N12=2,\"\",IF(BJ19>=$E$5,BI19,\"\"))))","v":""},null,"","","","","","","","","",""]
[null,null,null,null,null,null,null,null,null,null,null,null,null,null,null,null,null,null,null,null,null,null,{"$f":"+CPPE!$A12","v":"Aquaculture Ponds"},12,{"$f":"+CPPE!$A12","v":"Aquaculture Ponds"},{"$f":"IF(Y$9=\"\",\"\",IF(Y20=0,0,HLOOKUP(Y$9,CPPE!$A$1:$DB$177,X20,FALSE)))","v":0},{"$f":"IF(Z20=\"\",\"\",IF(Z20=0,\"\",IF(LandUse!$N13=2,\"\",IF(Z20>=$E$5,Y20,\"\"))))","v":""},12,{"$f":"+CPPE!$A12","v":"Aquaculture Ponds"},{"$f":"IF(AC$9=\"\",\"\",IF(AC20=0,0,HLOOKUP(AC$9,CPPE!$A$1:$DB$177,AB20,FALSE)))","v":0},{"$f":"IF(AD20=\"\",\"\",IF(AD20=0,\"\",IF(LandUse!$N13=2,\"\",IF(AD20>=$E$5,AC20,\"\"))))","v":""},12,{"$f":"+CPPE!$A12","v":"Aquaculture Ponds"},{"$f":"IF(AG$9=\"\",\"\",IF(AG20=0,0,HLOOKUP(AG$9,CPPE!$A$1:$DB$177,AF20,FALSE)))","v":0},{"$f":"IF(AH20=\"\",\"\",IF(AH20=0,\"\",IF(LandUse!$N13=2,\"\",IF(AH20>=$E$5,AG20,\"\"))))","v":""},12,{"$f":"+CPPE!$A12","v":"Aquaculture Ponds"},{"$f":"IF(AK$9=\"\",\"\",IF(AK20=0,0,HLOOKUP(AK$9,CPPE!$A$1:$DB$177,AJ20,FALSE)))","v":0},{"$f":"IF(AL20=\"\",\"\",IF(AL20=0,\"\",IF(LandUse!$N13=2,\"\",IF(AL20>=$E$5,AK20,\"\"))))","v":""},12,{"$f":"+CPPE!$A12","v":"Aquaculture Ponds"},{"$f":"IF(AO$9=\"\",\"\",IF(AO20=0,0,HLOOKUP(AO$9,CPPE!$A$1:$DB$177,AN20,FALSE)))","v":""},{"$f":"IF(AP20=\"\",\"\",IF(AP20=0,\"\",IF(LandUse!$N13=2,\"\",IF(AP20>=$E$5,AO20,\"\"))))","v":""},12,{"$f":"+CPPE!$A12","v":"Aquaculture Ponds"},{"$f":"IF(AS$9=\"\",\"\",IF(AS20=0,0,HLOOKUP(AS$9,CPPE!$A$1:$DB$177,AR20,FALSE)))","v":""},{"$f":"IF(AT20=\"\",\"\",IF(AT20=0,\"\",IF(LandUse!$N13=2,\"\",IF(AT20>=$E$5,AS20,\"\"))))","v":""},12,{"$f":"+CPPE!$A12","v":"Aquaculture Ponds"},{"$f":"IF(AW$9=\"\",\"\",IF(AW20=0,0,HLOOKUP(AW$9,CPPE!$A$1:$DB$177,AV20,FALSE)))","v":""},{"$f":"IF(AX20=\"\",\"\",IF(AX20=0,\"\",IF(LandUse!$N13=2,\"\",IF(AX20>=$E$5,AW20,\"\"))))","v":""},12,{"$f":"+CPPE!$A12","v":"Aquaculture Ponds"},{"$f":"IF(BA$9=\"\",\"\",IF(BA20=0,0,HLOOKUP(BA$9,CPPE!$A$1:$DB$177,AZ20,FALSE)))","v":""},{"$f":"IF(BB20=\"\",\"\",IF(BB20=0,\"\",IF(LandUse!$N13=2,\"\",IF(BB20>=$E$5,BA20,\"\"))))","v":""},12,{"$f":"+CPPE!$A12","v":"Aquaculture Ponds"},{"$f":"IF(BE$9=\"\",\"\",IF(BE20=0,0,HLOOKUP(BE$9,CPPE!$A$1:$DB$177,BD20,FALSE)))","v":""},{"$f":"IF(BF20=\"\",\"\",IF(BF20=0,\"\",IF(LandUse!$N13=2,\"\",IF(BF20>=$E$5,BE20,\"\"))))","v":""},12,{"$f":"+CPPE!$A12","v":"Aquaculture Ponds"},{"$f":"IF(BI$9=\"\",\"\",IF(BI20=0,0,HLOOKUP(BI$9,CPPE!$A$1:$DB$177,BH20,FALSE)))","v":""},{"$f":"IF(BJ20=\"\",\"\",IF(BJ20=0,\"\",IF(LandUse!$N13=2,\"\",IF(BJ20>=$E$5,BI20,\"\"))))","v":""},null,"","","","","","","","","",""]
[" ",null,null,null,null,null,null,null,null,null,null,null,null,null,null,null,null,null,null,null,null,null,{"$f":"+CPPE!$A13","v":"Aquatic Organism Passage "},13,{"$f":"+CPPE!$A13","v":"Aquatic Organism Passage "},{"$f":"IF(Y$9=\"\",\"\",IF(Y21=0,0,HLOOKUP(Y$9,CPPE!$A$1:$DB$177,X21,FALSE)))","v":0},{"$f":"IF(Z21=\"\",\"\",IF(Z21=0,\"\",IF(LandUse!$N14=2,\"\",IF(Z21>=$E$5,Y21,\"\"))))","v":""},13,{"$f":"+CPPE!$A13","v":"Aquatic Organism Passage "},{"$f":"IF(AC$9=\"\",\"\",IF(AC21=0,0,HLOOKUP(AC$9,CPPE!$A$1:$DB$177,AB21,FALSE)))","v":0},{"$f":"IF(AD21=\"\",\"\",IF(AD21=0,\"\",IF(LandUse!$N14=2,\"\",IF(AD21>=$E$5,AC21,\"\"))))","v":""},13,{"$f":"+CPPE!$A13","v":"Aquatic Organism Passage "},{"$f":"IF(AG$9=\"\",\"\",IF(AG21=0,0,HLOOKUP(AG$9,CPPE!$A$1:$DB$177,AF21,FALSE)))","v":0},{"$f":"IF(AH21=\"\",\"\",IF(AH21=0,\"\",IF(LandUse!$N14=2,\"\",IF(AH21>=$E$5,AG21,\"\"))))","v":""},13,{"$f":"+CPPE!$A13","v":"Aquatic Organism Passage "},{"$f":"IF(AK$9=\"\",\"\",IF(AK21=0,0,HLOOKUP(AK$9,CPPE!$A$1:$DB$177,AJ21,FALSE)))","v":0},{"$f":"IF(AL21=\"\",\"\",IF(AL21=0,\"\",IF(LandUse!$N14=2,\"\",IF(AL21>=$E$5,AK21,\"\"))))","v":""},13,{"$f":"+CPPE!$A13","v":"Aquatic Organism Passage "},{"$f":"IF(AO$9=\"\",\"\",IF(AO21=0,0,HLOOKUP(AO$9,CPPE!$A$1:$DB$177,AN21,FALSE)))","v":""},{"$f":"IF(AP21=\"\",\"\",IF(AP21=0,\"\",IF(LandUse!$N14=2,\"\",IF(AP21>=$E$5,AO21,\"\"))))","v":""},13,{"$f":"+CPPE!$A13","v":"Aquatic Organism Passage "},{"$f":"IF(AS$9=\"\",\"\",IF(AS21=0,0,HLOOKUP(AS$9,CPPE!$A$1:$DB$177,AR21,FALSE)))","v":""},{"$f":"IF(AT21=\"\",\"\",IF(AT21=0,\"\",IF(LandUse!$N14=2,\"\",IF(AT21>=$E$5,AS21,\"\"))))","v":""},13,{"$f":"+CPPE!$A13","v":"Aquatic Organism Passage "},{"$f":"IF(AW$9=\"\",\"\",IF(AW21=0,0,HLOOKUP(AW$9,CPPE!$A$1:$DB$177,AV21,FALSE)))","v":""},{"$f":"IF(AX21=\"\",\"\",IF(AX21=0,\"\",IF(LandUse!$N14=2,\"\",IF(AX21>=$E$5,AW21,\"\"))))","v":""},13,{"$f":"+CPPE!$A13","v":"Aquatic Organism Passage "},{"$f":"IF(BA$9=\"\",\"\",IF(BA21=0,0,HLOOKUP(BA$9,CPPE!$A$1:$DB$177,AZ21,FALSE)))","v":""},{"$f":"IF(BB21=\"\",\"\",IF(BB21=0,\"\",IF(LandUse!$N14=2,\"\",IF(BB21>=$E$5,BA21,\"\"))))","v":""},13,{"$f":"+CPPE!$A13","v":"Aquatic Organism Passage "},{"$f":"IF(BE$9=\"\",\"\",IF(BE21=0,0,HLOOKUP(BE$9,CPPE!$A$1:$DB$177,BD21,FALSE)))","v":""},{"$f":"IF(BF21=\"\",\"\",IF(BF21=0,\"\",IF(LandUse!$N14=2,\"\",IF(BF21>=$E$5,BE21,\"\"))))","v":""},13,{"$f":"+CPPE!$A13","v":"Aquatic Organism Passage "},{"$f":"IF(BI$9=\"\",\"\",IF(BI21=0,0,HLOOKUP(BI$9,CPPE!$A$1:$DB$177,BH21,FALSE)))","v":""},{"$f":"IF(BJ21=\"\",\"\",IF(BJ21=0,\"\",IF(LandUse!$N14=2,\"\",IF(BJ21>=$E$5,BI21,\"\"))))","v":""},null,"","","","","","","","","",""]
[null,null,null,null,null,null,null,null,null,null,null,null,null,null,null,null,null,null,null,null,null,null,{"$f":"+CPPE!$A14","v":"Bivalve Aquaculture Gear and Biofouling Control"},14,{"$f":"+CPPE!$A14","v":"Bivalve Aquaculture Gear and Biofouling Control"},{"$f":"IF(Y$9=\"\",\"\",IF(Y22=0,0,HLOOKUP(Y$9,CPPE!$A$1:$DB$177,X22,FALSE)))","v":0},{"$f":"IF(Z22=\"\",\"\",IF(Z22=0,\"\",IF(LandUse!$N15=2,\"\",IF(Z22>=$E$5,Y22,\"\"))))","v":""},14,{"$f":"+CPPE!$A14","v":"Bivalve Aquaculture Gear and Biofouling Control"},{"$f":"IF(AC$9=\"\",\"\",IF(AC22=0,0,HLOOKUP(AC$9,CPPE!$A$1:$DB$177,AB22,FALSE)))","v":0},{"$f":"IF(AD22=\"\",\"\",IF(AD22=0,\"\",IF(LandUse!$N15=2,\"\",IF(AD22>=$E$5,AC22,\"\"))))","v":""},14,{"$f":"+CPPE!$A14","v":"Bivalve Aquaculture Gear and Biofouling Control"},{"$f":"IF(AG$9=\"\",\"\",IF(AG22=0,0,HLOOKUP(AG$9,CPPE!$A$1:$DB$177,AF22,FALSE)))","v":0},{"$f":"IF(AH22=\"\",\"\",IF(AH22=0,\"\",IF(LandUse!$N15=2,\"\",IF(AH22>=$E$5,AG22,\"\"))))","v":""},14,{"$f":"+CPPE!$A14","v":"Bivalve Aquaculture Gear and Biofouling Control"},{"$f":"IF(AK$9=\"\",\"\",IF(AK22=0,0,HLOOKUP(AK$9,CPPE!$A$1:$DB$177,AJ22,FALSE)))","v":0},{"$f":"IF(AL22=\"\",\"\",IF(AL22=0,\"\",IF(LandUse!$N15=2,\"\",IF(AL22>=$E$5,AK22,\"\"))))","v":""},14,{"$f":"+CPPE!$A14","v":"Bivalve Aquaculture Gear and Biofouling Control"},{"$f":"IF(AO$9=\"\",\"\",IF(AO22=0,0,HLOOKUP(AO$9,CPPE!$A$1:$DB$177,AN22,FALSE)))","v":""},{"$f":"IF(AP22=\"\",\"\",IF(AP22=0,\"\",IF(LandUse!$N15=2,\"\",IF(AP22>=$E$5,AO22,\"\"))))","v":""},14,{"$f":"+CPPE!$A14","v":"Bivalve Aquaculture Gear and Biofouling Control"},{"$f":"IF(AS$9=\"\",\"\",IF(AS22=0,0,HLOOKUP(AS$9,CPPE!$A$1:$DB$177,AR22,FALSE)))","v":""},{"$f":"IF(AT22=\"\",\"\",IF(AT22=0,\"\",IF(LandUse!$N15=2,\"\",IF(AT22>=$E$5,AS22,\"\"))))","v":""},14,{"$f":"+CPPE!$A14","v":"Bivalve Aquaculture Gear and Biofouling Control"},{"$f":"IF(AW$9=\"\",\"\",IF(AW22=0,0,HLOOKUP(AW$9,CPPE!$A$1:$DB$177,AV22,FALSE)))","v":""},{"$f":"IF(AX22=\"\",\"\",IF(AX22=0,\"\",IF(LandUse!$N15=2,\"\",IF(AX22>=$E$5,AW22,\"\"))))","v":""},14,{"$f":"+CPPE!$A14","v":"Bivalve Aquaculture Gear and Biofouling Control"},{"$f":"IF(BA$9=\"\",\"\",IF(BA22=0,0,HLOOKUP(BA$9,CPPE!$A$1:$DB$177,AZ22,FALSE)))","v":""},{"$f":"IF(BB22=\"\",\"\",IF(BB22=0,\"\",IF(LandUse!$N15=2,\"\",IF(BB22>=$E$5,BA22,\"\"))))","v":""},14,{"$f":"+CPPE!$A14","v":"Bivalve Aquaculture Gear and Biofouling Control"},{"$f":"IF(BE$9=\"\",\"\",IF(BE22=0,0,HLOOKUP(BE$9,CPPE!$A$1:$DB$177,BD22,FALSE)))","v":""},{"$f":"IF(BF22=\"\",\"\",IF(BF22=0,\"\",IF(LandUse!$N15=2,\"\",IF(BF22>=$E$5,BE22,\"\"))))","v":""},14,{"$f":"+CPPE!$A14","v":"Bivalve Aquaculture Gear and Biofouling Control"},{"$f":"IF(BI$9=\"\",\"\",IF(BI22=0,0,HLOOKUP(BI$9,CPPE!$A$1:$DB$177,BH22,FALSE)))","v":""},{"$f":"IF(BJ22=\"\",\"\",IF(BJ22=0,\"\",IF(LandUse!$N15=2,\"\",IF(BJ22>=$E$5,BI22,\"\"))))","v":""},null,"","","","","","","","","",""]
[null,null,null,null,null,null,null,null,null,null,null,null,null,null,null,null,null,null,null,null,null,null,{"$f":"+CPPE!$A15","v":"Brush Management"},15,{"$f":"+CPPE!$A15","v":"Brush Management"},{"$f":"IF(Y$9=\"\",\"\",IF(Y23=0,0,HLOOKUP(Y$9,CPPE!$A$1:$DB$177,X23,FALSE)))","v":3},{"$f":"IF(Z23=\"\",\"\",IF(Z23=0,\"\",IF(LandUse!$N16=2,\"\",IF(Z23>=$E$5,Y23,\"\"))))","v":""},15,{"$f":"+CPPE!$A15","v":"Brush Management"},{"$f":"IF(AC$9=\"\",\"\",IF(AC23=0,0,HLOOKUP(AC$9,CPPE!$A$1:$DB$177,AB23,FALSE)))","v":0},{"$f":"IF(AD23=\"\",\"\",IF(AD23=0,\"\",IF(LandUse!$N16=2,\"\",IF(AD23>=$E$5,AC23,\"\"))))","v":""},15,{"$f":"+CPPE!$A15","v":"Brush Management"},{"$f":"IF(AG$9=\"\",\"\",IF(AG23=0,0,HLOOKUP(AG$9,CPPE!$A$1:$DB$177,AF23,FALSE)))","v":0},{"$f":"IF(AH23=\"\",\"\",IF(AH23=0,\"\",IF(LandUse!$N16=2,\"\",IF(AH23>=$E$5,AG23,\"\"))))","v":""},15,{"$f":"+CPPE!$A15","v":"Brush Management"},{"$f":"IF(AK$9=\"\",\"\",IF(AK23=0,0,HLOOKUP(AK$9,CPPE!$A$1:$DB$177,AJ23,FALSE)))","v":0},{"$f":"IF(AL23=\"\",\"\",IF(AL23=0,\"\",IF(LandUse!$N16=2,\"\",IF(AL23>=$E$5,AK23,\"\"))))","v":""},15,{"$f":"+CPPE!$A15","v":"Brush Management"},{"$f":"IF(AO$9=\"\",\"\",IF(AO23=0,0,HLOOKUP(AO$9,CPPE!$A$1:$DB$177,AN23,FALSE)))","v":""},{"$f":"IF(AP23=\"\",\"\",IF(AP23=0,\"\",IF(LandUse!$N16=2,\"\",IF(AP23>=$E$5,AO23,\"\"))))","v":""},15,{"$f":"+CPPE!$A15","v":"Brush Management"},{"$f":"IF(AS$9=\"\",\"\",IF(AS23=0,0,HLOOKUP(AS$9,CPPE!$A$1:$DB$177,AR23,FALSE)))","v":""},{"$f":"IF(AT23=\"\",\"\",IF(AT23=0,\"\",IF(LandUse!$N16=2,\"\",IF(AT23>=$E$5,AS23,\"\"))))","v":""},15,{"$f":"+CPPE!$A15","v":"Brush Management"},{"$f":"IF(AW$9=\"\",\"\",IF(AW23=0,0,HLOOKUP(AW$9,CPPE!$A$1:$DB$177,AV23,FALSE)))","v":""},{"$f":"IF(AX23=\"\",\"\",IF(AX23=0,\"\",IF(LandUse!$N16=2,\"\",IF(AX23>=$E$5,AW23,\"\"))))","v":""},15,{"$f":"+CPPE!$A15","v":"Brush Management"},{"$f":"IF(BA$9=\"\",\"\",IF(BA23=0,0,HLOOKUP(BA$9,CPPE!$A$1:$DB$177,AZ23,FALSE)))","v":""},{"$f":"IF(BB23=\"\",\"\",IF(BB23=0,\"\",IF(LandUse!$N16=2,\"\",IF(BB23>=$E$5,BA23,\"\"))))","v":""},15,{"$f":"+CPPE!$A15","v":"Brush Management"},{"$f":"IF(BE$9=\"\",\"\",IF(BE23=0,0,HLOOKUP(BE$9,CPPE!$A$1:$DB$177,BD23,FALSE)))","v":""},{"$f":"IF(BF23=\"\",\"\",IF(BF23=0,\"\",IF(LandUse!$N16=2,\"\",IF(BF23>=$E$5,BE23,\"\"))))","v":""},15,{"$f":"+CPPE!$A15","v":"Brush Management"},{"$f":"IF(BI$9=\"\",\"\",IF(BI23=0,0,HLOOKUP(BI$9,CPPE!$A$1:$DB$177,BH23,FALSE)))","v":""},{"$f":"IF(BJ23=\"\",\"\",IF(BJ23=0,\"\",IF(LandUse!$N16=2,\"\",IF(BJ23>=$E$5,BI23,\"\"))))","v":""},null,"","","","","","","","","",""]
[null,null,null,null,null,null,null,null,null,null,null,null,null,null,null,null,null,null,null,null,null,null,{"$f":"+CPPE!$A16","v":"Channel Bed Stabilization"},16,{"$f":"+CPPE!$A16","v":"Channel Bed Stabilization"},{"$f":"IF(Y$9=\"\",\"\",IF(Y24=0,0,HLOOKUP(Y$9,CPPE!$A$1:$DB$177,X24,FALSE)))","v":0},{"$f":"IF(Z24=\"\",\"\",IF(Z24=0,\"\",IF(LandUse!$N17=2,\"\",IF(Z24>=$E$5,Y24,\"\"))))","v":""},16,{"$f":"+CPPE!$A16","v":"Channel Bed Stabilization"},{"$f":"IF(AC$9=\"\",\"\",IF(AC24=0,0,HLOOKUP(AC$9,CPPE!$A$1:$DB$177,AB24,FALSE)))","v":0},{"$f":"IF(AD24=\"\",\"\",IF(AD24=0,\"\",IF(LandUse!$N17=2,\"\",IF(AD24>=$E$5,AC24,\"\"))))","v":""},16,{"$f":"+CPPE!$A16","v":"Channel Bed Stabilization"},{"$f":"IF(AG$9=\"\",\"\",IF(AG24=0,0,HLOOKUP(AG$9,CPPE!$A$1:$DB$177,AF24,FALSE)))","v":0},{"$f":"IF(AH24=\"\",\"\",IF(AH24=0,\"\",IF(LandUse!$N17=2,\"\",IF(AH24>=$E$5,AG24,\"\"))))","v":""},16,{"$f":"+CPPE!$A16","v":"Channel Bed Stabilization"},{"$f":"IF(AK$9=\"\",\"\",IF(AK24=0,0,HLOOKUP(AK$9,CPPE!$A$1:$DB$177,AJ24,FALSE)))","v":0},{"$f":"IF(AL24=\"\",\"\",IF(AL24=0,\"\",IF(LandUse!$N17=2,\"\",IF(AL24>=$E$5,AK24,\"\"))))","v":""},16,{"$f":"+CPPE!$A16","v":"Channel Bed Stabilization"},{"$f":"IF(AO$9=\"\",\"\",IF(AO24=0,0,HLOOKUP(AO$9,CPPE!$A$1:$DB$177,AN24,FALSE)))","v":""},{"$f":"IF(AP24=\"\",\"\",IF(AP24=0,\"\",IF(LandUse!$N17=2,\"\",IF(AP24>=$E$5,AO24,\"\"))))","v":""},16,{"$f":"+CPPE!$A16","v":"Channel Bed Stabilization"},{"$f":"IF(AS$9=\"\",\"\",IF(AS24=0,0,HLOOKUP(AS$9,CPPE!$A$1:$DB$177,AR24,FALSE)))","v":""},{"$f":"IF(AT24=\"\",\"\",IF(AT24=0,\"\",IF(LandUse!$N17=2,\"\",IF(AT24>=$E$5,AS24,\"\"))))","v":""},16,{"$f":"+CPPE!$A16","v":"Channel Bed Stabilization"},{"$f":"IF(AW$9=\"\",\"\",IF(AW24=0,0,HLOOKUP(AW$9,CPPE!$A$1:$DB$177,AV24,FALSE)))","v":""},{"$f":"IF(AX24=\"\",\"\",IF(AX24=0,\"\",IF(LandUse!$N17=2,\"\",IF(AX24>=$E$5,AW24,\"\"))))","v":""},16,{"$f":"+CPPE!$A16","v":"Channel Bed Stabilization"},{"$f":"IF(BA$9=\"\",\"\",IF(BA24=0,0,HLOOKUP(BA$9,CPPE!$A$1:$DB$177,AZ24,FALSE)))","v":""},{"$f":"IF(BB24=\"\",\"\",IF(BB24=0,\"\",IF(LandUse!$N17=2,\"\",IF(BB24>=$E$5,BA24,\"\"))))","v":""},16,{"$f":"+CPPE!$A16","v":"Channel Bed Stabilization"},{"$f":"IF(BE$9=\"\",\"\",IF(BE24=0,0,HLOOKUP(BE$9,CPPE!$A$1:$DB$177,BD24,FALSE)))","v":""},{"$f":"IF(BF24=\"\",\"\",IF(BF24=0,\"\",IF(LandUse!$N17=2,\"\",IF(BF24>=$E$5,BE24,\"\"))))","v":""},16,{"$f":"+CPPE!$A16","v":"Channel Bed Stabilization"},{"$f":"IF(BI$9=\"\",\"\",IF(BI24=0,0,HLOOKUP(BI$9,CPPE!$A$1:$DB$177,BH24,FALSE)))","v":""},{"$f":"IF(BJ24=\"\",\"\",IF(BJ24=0,\"\",IF(LandUse!$N17=2,\"\",IF(BJ24>=$E$5,BI24,\"\"))))","v":""},null,"","","","","","","","","",""]
[null,null,null,null,null,null,null,null,null,null,null,null,null,null,null,null,null,null,null,null,null,null,{"$f":"+CPPE!$A17","v":"Clearing & Snagging"},17,{"$f":"+CPPE!$A17","v":"Clearing & Snagging"},{"$f":"IF(Y$9=\"\",\"\",IF(Y25=0,0,HLOOKUP(Y$9,CPPE!$A$1:$DB$177,X25,FALSE)))","v":0},{"$f":"IF(Z25=\"\",\"\",IF(Z25=0,\"\",IF(LandUse!$N18=2,\"\",IF(Z25>=$E$5,Y25,\"\"))))","v":""},17,{"$f":"+CPPE!$A17","v":"Clearing & Snagging"},{"$f":"IF(AC$9=\"\",\"\",IF(AC25=0,0,HLOOKUP(AC$9,CPPE!$A$1:$DB$177,AB25,FALSE)))","v":0},{"$f":"IF(AD25=\"\",\"\",IF(AD25=0,\"\",IF(LandUse!$N18=2,\"\",IF(AD25>=$E$5,AC25,\"\"))))","v":""},17,{"$f":"+CPPE!$A17","v":"Clearing & Snagging"},{"$f":"IF(AG$9=\"\",\"\",IF(AG25=0,0,HLOOKUP(AG$9,CPPE!$A$1:$DB$177,AF25,FALSE)))","v":0},{"$f":"IF(AH25=\"\",\"\",IF(AH25=0,\"\",IF(LandUse!$N18=2,\"\",IF(AH25>=$E$5,AG25,\"\"))))","v":""},17,{"$f":"+CPPE!$A17","v":"Clearing & Snagging"},{"$f":"IF(AK$9=\"\",\"\",IF(AK25=0,0,HLOOKUP(AK$9,CPPE!$A$1:$DB$177,AJ25,FALSE)))","v":0},{"$f":"IF(AL25=\"\",\"\",IF(AL25=0,\"\",IF(LandUse!$N18=2,\"\",IF(AL25>=$E$5,AK25,\"\"))))","v":""},17,{"$f":"+CPPE!$A17","v":"Clearing & Snagging"},{"$f":"IF(AO$9=\"\",\"\",IF(AO25=0,0,HLOOKUP(AO$9,CPPE!$A$1:$DB$177,AN25,FALSE)))","v":""},{"$f":"IF(AP25=\"\",\"\",IF(AP25=0,\"\",IF(LandUse!$N18=2,\"\",IF(AP25>=$E$5,AO25,\"\"))))","v":""},17,{"$f":"+CPPE!$A17","v":"Clearing & Snagging"},{"$f":"IF(AS$9=\"\",\"\",IF(AS25=0,0,HLOOKUP(AS$9,CPPE!$A$1:$DB$177,AR25,FALSE)))","v":""},{"$f":"IF(AT25=\"\",\"\",IF(AT25=0,\"\",IF(LandUse!$N18=2,\"\",IF(AT25>=$E$5,AS25,\"\"))))","v":""},17,{"$f":"+CPPE!$A17","v":"Clearing & Snagging"},{"$f":"IF(AW$9=\"\",\"\",IF(AW25=0,0,HLOOKUP(AW$9,CPPE!$A$1:$DB$177,AV25,FALSE)))","v":""},{"$f":"IF(AX25=\"\",\"\",IF(AX25=0,\"\",IF(LandUse!$N18=2,\"\",IF(AX25>=$E$5,AW25,\"\"))))","v":""},17,{"$f":"+CPPE!$A17","v":"Clearing & Snagging"},{"$f":"IF(BA$9=\"\",\"\",IF(BA25=0,0,HLOOKUP(BA$9,CPPE!$A$1:$DB$177,AZ25,FALSE)))","v":""},{"$f":"IF(BB25=\"\",\"\",IF(BB25=0,\"\",IF(LandUse!$N18=2,\"\",IF(BB25>=$E$5,BA25,\"\"))))","v":""},17,{"$f":"+CPPE!$A17","v":"Clearing & Snagging"},{"$f":"IF(BE$9=\"\",\"\",IF(BE25=0,0,HLOOKUP(BE$9,CPPE!$A$1:$DB$177,BD25,FALSE)))","v":""},{"$f":"IF(BF25=\"\",\"\",IF(BF25=0,\"\",IF(LandUse!$N18=2,\"\",IF(BF25>=$E$5,BE25,\"\"))))","v":""},17,{"$f":"+CPPE!$A17","v":"Clearing & Snagging"},{"$f":"IF(BI$9=\"\",\"\",IF(BI25=0,0,HLOOKUP(BI$9,CPPE!$A$1:$DB$177,BH25,FALSE)))","v":""},{"$f":"IF(BJ25=\"\",\"\",IF(BJ25=0,\"\",IF(LandUse!$N18=2,\"\",IF(BJ25>=$E$5,BI25,\"\"))))","v":""},null,"","","","","","","","","",""]
[null,null,null,null,null,null,null,null,null,null,null,null,null,null,null,null,null,null,null,null,null,null,{"$f":"+CPPE!$A18","v":"Combustion System Improvement"},18,{"$f":"+CPPE!$A18","v":"Combustion System Improvement"},{"$f":"IF(Y$9=\"\",\"\",IF(Y26=0,0,HLOOKUP(Y$9,CPPE!$A$1:$DB$177,X26,FALSE)))","v":0},{"$f":"IF(Z26=\"\",\"\",IF(Z26=0,\"\",IF(LandUse!$N19=2,\"\",IF(Z26>=$E$5,Y26,\"\"))))","v":""},18,{"$f":"+CPPE!$A18","v":"Combustion System Improvement"},{"$f":"IF(AC$9=\"\",\"\",IF(AC26=0,0,HLOOKUP(AC$9,CPPE!$A$1:$DB$177,AB26,FALSE)))","v":0},{"$f":"IF(AD26=\"\",\"\",IF(AD26=0,\"\",IF(LandUse!$N19=2,\"\",IF(AD26>=$E$5,AC26,\"\"))))","v":""},18,{"$f":"+CPPE!$A18","v":"Combustion System Improvement"},{"$f":"IF(AG$9=\"\",\"\",IF(AG26=0,0,HLOOKUP(AG$9,CPPE!$A$1:$DB$177,AF26,FALSE)))","v":0},{"$f":"IF(AH26=\"\",\"\",IF(AH26=0,\"\",IF(LandUse!$N19=2,\"\",IF(AH26>=$E$5,AG26,\"\"))))","v":""},18,{"$f":"+CPPE!$A18","v":"Combustion System Improvement"},{"$f":"IF(AK$9=\"\",\"\",IF(AK26=0,0,HLOOKUP(AK$9,CPPE!$A$1:$DB$177,AJ26,FALSE)))","v":0},{"$f":"IF(AL26=\"\",\"\",IF(AL26=0,\"\",IF(LandUse!$N19=2,\"\",IF(AL26>=$E$5,AK26,\"\"))))","v":""},18,{"$f":"+CPPE!$A18","v":"Combustion System Improvement"},{"$f":"IF(AO$9=\"\",\"\",IF(AO26=0,0,HLOOKUP(AO$9,CPPE!$A$1:$DB$177,AN26,FALSE)))","v":""},{"$f":"IF(AP26=\"\",\"\",IF(AP26=0,\"\",IF(LandUse!$N19=2,\"\",IF(AP26>=$E$5,AO26,\"\"))))","v":""},18,{"$f":"+CPPE!$A18","v":"Combustion System Improvement"},{"$f":"IF(AS$9=\"\",\"\",IF(AS26=0,0,HLOOKUP(AS$9,CPPE!$A$1:$DB$177,AR26,FALSE)))","v":""},{"$f":"IF(AT26=\"\",\"\",IF(AT26=0,\"\",IF(LandUse!$N19=2,\"\",IF(AT26>=$E$5,AS26,\"\"))))","v":""},18,{"$f":"+CPPE!$A18","v":"Combustion System Improvement"},{"$f":"IF(AW$9=\"\",\"\",IF(AW26=0,0,HLOOKUP(AW$9,CPPE!$A$1:$DB$177,AV26,FALSE)))","v":""},{"$f":"IF(AX26=\"\",\"\",IF(AX26=0,\"\",IF(LandUse!$N19=2,\"\",IF(AX26>=$E$5,AW26,\"\"))))","v":""},18,{"$f":"+CPPE!$A18","v":"Combustion System Improvement"},{"$f":"IF(BA$9=\"\",\"\",IF(BA26=0,0,HLOOKUP(BA$9,CPPE!$A$1:$DB$177,AZ26,FALSE)))","v":""},{"$f":"IF(BB26=\"\",\"\",IF(BB26=0,\"\",IF(LandUse!$N19=2,\"\",IF(BB26>=$E$5,BA26,\"\"))))","v":""},18,{"$f":"+CPPE!$A18","v":"Combustion System Improvement"},{"$f":"IF(BE$9=\"\",\"\",IF(BE26=0,0,HLOOKUP(BE$9,CPPE!$A$1:$DB$177,BD26,FALSE)))","v":""},{"$f":"IF(BF26=\"\",\"\",IF(BF26=0,\"\",IF(LandUse!$N19=2,\"\",IF(BF26>=$E$5,BE26,\"\"))))","v":""},18,{"$f":"+CPPE!$A18","v":"Combustion System Improvement"},{"$f":"IF(BI$9=\"\",\"\",IF(BI26=0,0,HLOOKUP(BI$9,CPPE!$A$1:$DB$177,BH26,FALSE)))","v":""},{"$f":"IF(BJ26=\"\",\"\",IF(BJ26=0,\"\",IF(LandUse!$N19=2,\"\",IF(BJ26>=$E$5,BI26,\"\"))))","v":""},null,"","","","","","","","","",""]
[null,null,null,null,null,null,null,null,null,null,null,null,null,null,null,null,null,null,null,null,null,null,{"$f":"+CPPE!$A19","v":"Composting Facility"},19,{"$f":"+CPPE!$A19","v":"Composting Facility"},{"$f":"IF(Y$9=\"\",\"\",IF(Y27=0,0,HLOOKUP(Y$9,CPPE!$A$1:$DB$177,X27,FALSE)))","v":0},{"$f":"IF(Z27=\"\",\"\",IF(Z27=0,\"\",IF(LandUse!$N20=2,\"\",IF(Z27>=$E$5,Y27,\"\"))))","v":""},19,{"$f":"+CPPE!$A19","v":"Composting Facility"},{"$f":"IF(AC$9=\"\",\"\",IF(AC27=0,0,HLOOKUP(AC$9,CPPE!$A$1:$DB$177,AB27,FALSE)))","v":0},{"$f":"IF(AD27=\"\",\"\",IF(AD27=0,\"\",IF(LandUse!$N20=2,\"\",IF(AD27>=$E$5,AC27,\"\"))))","v":""},19,{"$f":"+CPPE!$A19","v":"Composting Facility"},{"$f":"IF(AG$9=\"\",\"\",IF(AG27=0,0,HLOOKUP(AG$9,CPPE!$A$1:$DB$177,AF27,FALSE)))","v":0},{"$f":"IF(AH27=\"\",\"\",IF(AH27=0,\"\",IF(LandUse!$N20=2,\"\",IF(AH27>=$E$5,AG27,\"\"))))","v":""},19,{"$f":"+CPPE!$A19","v":"Composting Facility"},{"$f":"IF(AK$9=\"\",\"\",IF(AK27=0,0,HLOOKUP(AK$9,CPPE!$A$1:$DB$177,AJ27,FALSE)))","v":0},{"$f":"IF(AL27=\"\",\"\",IF(AL27=0,\"\",IF(LandUse!$N20=2,\"\",IF(AL27>=$E$5,AK27,\"\"))))","v":""},19,{"$f":"+CPPE!$A19","v":"Composting Facility"},{"$f":"IF(AO$9=\"\",\"\",IF(AO27=0,0,HLOOKUP(AO$9,CPPE!$A$1:$DB$177,AN27,FALSE)))","v":""},{"$f":"IF(AP27=\"\",\"\",IF(AP27=0,\"\",IF(LandUse!$N20=2,\"\",IF(AP27>=$E$5,AO27,\"\"))))","v":""},19,{"$f":"+CPPE!$A19","v":"Composting Facility"},{"$f":"IF(AS$9=\"\",\"\",IF(AS27=0,0,HLOOKUP(AS$9,CPPE!$A$1:$DB$177,AR27,FALSE)))","v":""},{"$f":"IF(AT27=\"\",\"\",IF(AT27=0,\"\",IF(LandUse!$N20=2,\"\",IF(AT27>=$E$5,AS27,\"\"))))","v":""},19,{"$f":"+CPPE!$A19","v":"Composting Facility"},{"$f":"IF(AW$9=\"\",\"\",IF(AW27=0,0,HLOOKUP(AW$9,CPPE!$A$1:$DB$177,AV27,FALSE)))","v":""},{"$f":"IF(AX27=\"\",\"\",IF(AX27=0,\"\",IF(LandUse!$N20=2,\"\",IF(AX27>=$E$5,AW27,\"\"))))","v":""},19,{"$f":"+CPPE!$A19","v":"Composting Facility"},{"$f":"IF(BA$9=\"\",\"\",IF(BA27=0,0,HLOOKUP(BA$9,CPPE!$A$1:$DB$177,AZ27,FALSE)))","v":""},{"$f":"IF(BB27=\"\",\"\",IF(BB27=0,\"\",IF(LandUse!$N20=2,\"\",IF(BB27>=$E$5,BA27,\"\"))))","v":""},19,{"$f":"+CPPE!$A19","v":"Composting Facility"},{"$f":"IF(BE$9=\"\",\"\",IF(BE27=0,0,HLOOKUP(BE$9,CPPE!$A$1:$DB$177,BD27,FALSE)))","v":""},{"$f":"IF(BF27=\"\",\"\",IF(BF27=0,\"\",IF(LandUse!$N20=2,\"\",IF(BF27>=$E$5,BE27,\"\"))))","v":""},19,{"$f":"+CPPE!$A19","v":"Composting Facility"},{"$f":"IF(BI$9=\"\",\"\",IF(BI27=0,0,HLOOKUP(BI$9,CPPE!$A$1:$DB$177,BH27,FALSE)))","v":""},{"$f":"IF(BJ27=\"\",\"\",IF(BJ27=0,\"\",IF(LandUse!$N20=2,\"\",IF(BJ27>=$E$5,BI27,\"\"))))","v":""},null,"","","","","","","","","",""]
[null,null,null,null,null,null,null,null,null,null,null,null,null,null,null,null,null,null,null,null,null,null,{"$f":"+CPPE!$A20","v":"Conservation Cover"},20,{"$f":"+CPPE!$A20","v":"Conservation Cover"},{"$f":"IF(Y$9=\"\",\"\",IF(Y28=0,0,HLOOKUP(Y$9,CPPE!$A$1:$DB$177,X28,FALSE)))","v":4},{"$f":"IF(Z28=\"\",\"\",IF(Z28=0,\"\",IF(LandUse!$N21=2,\"\",IF(Z28>=$E$5,Y28,\"\"))))","v":""},20,{"$f":"+CPPE!$A20","v":"Conservation Cover"},{"$f":"IF(AC$9=\"\",\"\",IF(AC28=0,0,HLOOKUP(AC$9,CPPE!$A$1:$DB$177,AB28,FALSE)))","v":3},{"$f":"IF(AD28=\"\",\"\",IF(AD28=0,\"\",IF(LandUse!$N21=2,\"\",IF(AD28>=$E$5,AC28,\"\"))))","v":""},20,{"$f":"+CPPE!$A20","v":"Conservation Cover"},{"$f":"IF(AG$9=\"\",\"\",IF(AG28=0,0,HLOOKUP(AG$9,CPPE!$A$1:$DB$177,AF28,FALSE)))","v":5},{"$f":"IF(AH28=\"\",\"\",IF(AH28=0,\"\",IF(LandUse!$N21=2,\"\",IF(AH28>=$E$5,AG28,\"\"))))","v":""},20,{"$f":"+CPPE!$A20","v":"Conservation Cover"},{"$f":"IF(AK$9=\"\",\"\",IF(AK28=0,0,HLOOKUP(AK$9,CPPE!$A$1:$DB$177,AJ28,FALSE)))","v":4},{"$f":"IF(AL28=\"\",\"\",IF(AL28=0,\"\",IF(LandUse!$N21=2,\"\",IF(AL28>=$E$5,AK28,\"\"))))","v":""},20,{"$f":"+CPPE!$A20","v":"Conservation Cover"},{"$f":"IF(AO$9=\"\",\"\",IF(AO28=0,0,HLOOKUP(AO$9,CPPE!$A$1:$DB$177,AN28,FALSE)))","v":""},{"$f":"IF(AP28=\"\",\"\",IF(AP28=0,\"\",IF(LandUse!$N21=2,\"\",IF(AP28>=$E$5,AO28,\"\"))))","v":""},20,{"$f":"+CPPE!$A20","v":"Conservation Cover"},{"$f":"IF(AS$9=\"\",\"\",IF(AS28=0,0,HLOOKUP(AS$9,CPPE!$A$1:$DB$177,AR28,FALSE)))","v":""},{"$f":"IF(AT28=\"\",\"\",IF(AT28=0,\"\",IF(LandUse!$N21=2,\"\",IF(AT28>=$E$5,AS28,\"\"))))","v":""},20,{"$f":"+CPPE!$A20","v":"Conservation Cover"},{"$f":"IF(AW$9=\"\",\"\",IF(AW28=0,0,HLOOKUP(AW$9,CPPE!$A$1:$DB$177,AV28,FALSE)))","v":""},{"$f":"IF(AX28=\"\",\"\",IF(AX28=0,\"\",IF(LandUse!$N21=2,\"\",IF(AX28>=$E$5,AW28,\"\"))))","v":""},20,{"$f":"+CPPE!$A20","v":"Conservation Cover"},{"$f":"IF(BA$9=\"\",\"\",IF(BA28=0,0,HLOOKUP(BA$9,CPPE!$A$1:$DB$177,AZ28,FALSE)))","v":""},{"$f":"IF(BB28=\"\",\"\",IF(BB28=0,\"\",IF(LandUse!$N21=2,\"\",IF(BB28>=$E$5,BA28,\"\"))))","v":""},20,{"$f":"+CPPE!$A20","v":"Conservation Cover"},{"$f":"IF(BE$9=\"\",\"\",IF(BE28=0,0,HLOOKUP(BE$9,CPPE!$A$1:$DB$177,BD28,FALSE)))","v":""},{"$f":"IF(BF28=\"\",\"\",IF(BF28=0,\"\",IF(LandUse!$N21=2,\"\",IF(BF28>=$E$5,BE28,\"\"))))","v":""},20,{"$f":"+CPPE!$A20","v":"Conservation Cover"},{"$f":"IF(BI$9=\"\",\"\",IF(BI28=0,0,HLOOKUP(BI$9,CPPE!$A$1:$DB$177,BH28,FALSE)))","v":""},{"$f":"IF(BJ28=\"\",\"\",IF(BJ28=0,\"\",IF(LandUse!$N21=2,\"\",IF(BJ28>=$E$5,BI28,\"\"))))","v":""},null,"","","","","","","","","",""]
[null,null,null,null,null,null,null,null,null,null,null,null,null,null,null,null,null,null,null,null,null,null,{"$f":"+CPPE!$A21","v":"Conservation Crop Rotation"},21,{"$f":"+CPPE!$A21","v":"Conservation Crop Rotation"},{"$f":"IF(Y$9=\"\",\"\",IF(Y29=0,0,HLOOKUP(Y$9,CPPE!$A$1:$DB$177,X29,FALSE)))","v":4},{"$f":"IF(Z29=\"\",\"\",IF(Z29=0,\"\",IF(LandUse!$N22=2,\"\",IF(Z29>=$E$5,Y29,\"\"))))","v":""},21,{"$f":"+CPPE!$A21","v":"Conservation Crop Rotation"},{"$f":"IF(AC$9=\"\",\"\",IF(AC29=0,0,HLOOKUP(AC$9,CPPE!$A$1:$DB$177,AB29,FALSE)))","v":1},{"$f":"IF(AD29=\"\",\"\",IF(AD29=0,\"\",IF(LandUse!$N22=2,\"\",IF(AD29>=$E$5,AC29,\"\"))))","v":""},21,{"$f":"+CPPE!$A21","v":"Conservation Crop Rotation"},{"$f":"IF(AG$9=\"\",\"\",IF(AG29=0,0,HLOOKUP(AG$9,CPPE!$A$1:$DB$177,AF29,FALSE)))","v":4},{"$f":"IF(AH29=\"\",\"\",IF(AH29=0,\"\",IF(LandUse!$N22=2,\"\",IF(AH29>=$E$5,AG29,\"\"))))","v":""},21,{"$f":"+CPPE!$A21","v":"Conservation Crop Rotation"},{"$f":"IF(AK$9=\"\",\"\",IF(AK29=0,0,HLOOKUP(AK$9,CPPE!$A$1:$DB$177,AJ29,FALSE)))","v":3},{"$f":"IF(AL29=\"\",\"\",IF(AL29=0,\"\",IF(LandUse!$N22=2,\"\",IF(AL29>=$E$5,AK29,\"\"))))","v":""},21,{"$f":"+CPPE!$A21","v":"Conservation Crop Rotation"},{"$f":"IF(AO$9=\"\",\"\",IF(AO29=0,0,HLOOKUP(AO$9,CPPE!$A$1:$DB$177,AN29,FALSE)))","v":""},{"$f":"IF(AP29=\"\",\"\",IF(AP29=0,\"\",IF(LandUse!$N22=2,\"\",IF(AP29>=$E$5,AO29,\"\"))))","v":""},21,{"$f":"+CPPE!$A21","v":"Conservation Crop Rotation"},{"$f":"IF(AS$9=\"\",\"\",IF(AS29=0,0,HLOOKUP(AS$9,CPPE!$A$1:$DB$177,AR29,FALSE)))","v":""},{"$f":"IF(AT29=\"\",\"\",IF(AT29=0,\"\",IF(LandUse!$N22=2,\"\",IF(AT29>=$E$5,AS29,\"\"))))","v":""},21,{"$f":"+CPPE!$A21","v":"Conservation Crop Rotation"},{"$f":"IF(AW$9=\"\",\"\",IF(AW29=0,0,HLOOKUP(AW$9,CPPE!$A$1:$DB$177,AV29,FALSE)))","v":""},{"$f":"IF(AX29=\"\",\"\",IF(AX29=0,\"\",IF(LandUse!$N22=2,\"\",IF(AX29>=$E$5,AW29,\"\"))))","v":""},21,{"$f":"+CPPE!$A21","v":"Conservation Crop Rotation"},{"$f":"IF(BA$9=\"\",\"\",IF(BA29=0,0,HLOOKUP(BA$9,CPPE!$A$1:$DB$177,AZ29,FALSE)))","v":""},{"$f":"IF(BB29=\"\",\"\",IF(BB29=0,\"\",IF(LandUse!$N22=2,\"\",IF(BB29>=$E$5,BA29,\"\"))))","v":""},21,{"$f":"+CPPE!$A21","v":"Conservation Crop Rotation"},{"$f":"IF(BE$9=\"\",\"\",IF(BE29=0,0,HLOOKUP(BE$9,CPPE!$A$1:$DB$177,BD29,FALSE)))","v":""},{"$f":"IF(BF29=\"\",\"\",IF(BF29=0,\"\",IF(LandUse!$N22=2,\"\",IF(BF29>=$E$5,BE29,\"\"))))","v":""},21,{"$f":"+CPPE!$A21","v":"Conservation Crop Rotation"},{"$f":"IF(BI$9=\"\",\"\",IF(BI29=0,0,HLOOKUP(BI$9,CPPE!$A$1:$DB$177,BH29,FALSE)))","v":""},{"$f":"IF(BJ29=\"\",\"\",IF(BJ29=0,\"\",IF(LandUse!$N22=2,\"\",IF(BJ29>=$E$5,BI29,\"\"))))","v":""},null,"","","","","","","","","",""]
[null,null,null,null,null,null,null,null,null,null,null,null,null,null,null,null,null,null,null,null,null,null,{"$f":"+CPPE!$A22","v":"Constructed Wetland"},22,{"$f":"+CPPE!$A22","v":"Constructed Wetland"},{"$f":"IF(Y$9=\"\",\"\",IF(Y30=0,0,HLOOKUP(Y$9,CPPE!$A$1:$DB$177,X30,FALSE)))","v":0},{"$f":"IF(Z30=\"\",\"\",IF(Z30=0,\"\",IF(LandUse!$N23=2,\"\",IF(Z30>=$E$5,Y30,\"\"))))","v":""},22,{"$f":"+CPPE!$A22","v":"Constructed Wetland"},{"$f":"IF(AC$9=\"\",\"\",IF(AC30=0,0,HLOOKUP(AC$9,CPPE!$A$1:$DB$177,AB30,FALSE)))","v":0},{"$f":"IF(AD30=\"\",\"\",IF(AD30=0,\"\",IF(LandUse!$N23=2,\"\",IF(AD30>=$E$5,AC30,\"\"))))","v":""},22,{"$f":"+CPPE!$A22","v":"Constructed Wetland"},{"$f":"IF(AG$9=\"\",\"\",IF(AG30=0,0,HLOOKUP(AG$9,CPPE!$A$1:$DB$177,AF30,FALSE)))","v":0},{"$f":"IF(AH30=\"\",\"\",IF(AH30=0,\"\",IF(LandUse!$N23=2,\"\",IF(AH30>=$E$5,AG30,\"\"))))","v":""},22,{"$f":"+CPPE!$A22","v":"Constructed Wetland"},{"$f":"IF(AK$9=\"\",\"\",IF(AK30=0,0,HLOOKUP(AK$9,CPPE!$A$1:$DB$177,AJ30,FALSE)))","v":0},{"$f":"IF(AL30=\"\",\"\",IF(AL30=0,\"\",IF(LandUse!$N23=2,\"\",IF(AL30>=$E$5,AK30,\"\"))))","v":""},22,{"$f":"+CPPE!$A22","v":"Constructed Wetland"},{"$f":"IF(AO$9=\"\",\"\",IF(AO30=0,0,HLOOKUP(AO$9,CPPE!$A$1:$DB$177,AN30,FALSE)))","v":""},{"$f":"IF(AP30=\"\",\"\",IF(AP30=0,\"\",IF(LandUse!$N23=2,\"\",IF(AP30>=$E$5,AO30,\"\"))))","v":""},22,{"$f":"+CPPE!$A22","v":"Constructed Wetland"},{"$f":"IF(AS$9=\"\",\"\",IF(AS30=0,0,HLOOKUP(AS$9,CPPE!$A$1:$DB$177,AR30,FALSE)))","v":""},{"$f":"IF(AT30=\"\",\"\",IF(AT30=0,\"\",IF(LandUse!$N23=2,\"\",IF(AT30>=$E$5,AS30,\"\"))))","v":""},22,{"$f":"+CPPE!$A22","v":"Constructed Wetland"},{"$f":"IF(AW$9=\"\",\"\",IF(AW30=0,0,HLOOKUP(AW$9,CPPE!$A$1:$DB$177,AV30,FALSE)))","v":""},{"$f":"IF(AX30=\"\",\"\",IF(AX30=0,\"\",IF(LandUse!$N23=2,\"\",IF(AX30>=$E$5,AW30,\"\"))))","v":""},22,{"$f":"+CPPE!$A22","v":"Constructed Wetland"},{"$f":"IF(BA$9=\"\",\"\",IF(BA30=0,0,HLOOKUP(BA$9,CPPE!$A$1:$DB$177,AZ30,FALSE)))","v":""},{"$f":"IF(BB30=\"\",\"\",IF(BB30=0,\"\",IF(LandUse!$N23=2,\"\",IF(BB30>=$E$5,BA30,\"\"))))","v":""},22,{"$f":"+CPPE!$A22","v":"Constructed Wetland"},{"$f":"IF(BE$9=\"\",\"\",IF(BE30=0,0,HLOOKUP(BE$9,CPPE!$A$1:$DB$177,BD30,FALSE)))","v":""},{"$f":"IF(BF30=\"\",\"\",IF(BF30=0,\"\",IF(LandUse!$N23=2,\"\",IF(BF30>=$E$5,BE30,\"\"))))","v":""},22,{"$f":"+CPPE!$A22","v":"Constructed Wetland"},{"$f":"IF(BI$9=\"\",\"\",IF(BI30=0,0,HLOOKUP(BI$9,CPPE!$A$1:$DB$177,BH30,FALSE)))","v":""},{"$f":"IF(BJ30=\"\",\"\",IF(BJ30=0,\"\",IF(LandUse!$N23=2,\"\",IF(BJ30>=$E$5,BI30,\"\"))))","v":""},null,"","","","","","","","","",""]
[null,null,null,null,null,null,null,null,null,null,null,null,null,null,null,null,null,null,null,null,null,null,{"$f":"+CPPE!$A23","v":"Contour Buffer Strips"},23,{"$f":"+CPPE!$A23","v":"Contour Buffer Strips"},{"$f":"IF(Y$9=\"\",\"\",IF(Y31=0,0,HLOOKUP(Y$9,CPPE!$A$1:$DB$177,X31,FALSE)))","v":3},{"$f":"IF(Z31=\"\",\"\",IF(Z31=0,\"\",IF(LandUse!$N24=2,\"\",IF(Z31>=$E$5,Y31,\"\"))))","v":""},23,{"$f":"+CPPE!$A23","v":"Contour Buffer Strips"},{"$f":"IF(AC$9=\"\",\"\",IF(AC31=0,0,HLOOKUP(AC$9,CPPE!$A$1:$DB$177,AB31,FALSE)))","v":0},{"$f":"IF(AD31=\"\",\"\",IF(AD31=0,\"\",IF(LandUse!$N24=2,\"\",IF(AD31>=$E$5,AC31,\"\"))))","v":""},23,{"$f":"+CPPE!$A23","v":"Contour Buffer Strips"},{"$f":"IF(AG$9=\"\",\"\",IF(AG31=0,0,HLOOKUP(AG$9,CPPE!$A$1:$DB$177,AF31,FALSE)))","v":1},{"$f":"IF(AH31=\"\",\"\",IF(AH31=0,\"\",IF(LandUse!$N24=2,\"\",IF(AH31>=$E$5,AG31,\"\"))))","v":""},23,{"$f":"+CPPE!$A23","v":"Contour Buffer Strips"},{"$f":"IF(AK$9=\"\",\"\",IF(AK31=0,0,HLOOKUP(AK$9,CPPE!$A$1:$DB$177,AJ31,FALSE)))","v":0},{"$f":"IF(AL31=\"\",\"\",IF(AL31=0,\"\",IF(LandUse!$N24=2,\"\",IF(AL31>=$E$5,AK31,\"\"))))","v":""},23,{"$f":"+CPPE!$A23","v":"Contour Buffer Strips"},{"$f":"IF(AO$9=\"\",\"\",IF(AO31=0,0,HLOOKUP(AO$9,CPPE!$A$1:$DB$177,AN31,FALSE)))","v":""},{"$f":"IF(AP31=\"\",\"\",IF(AP31=0,\"\",IF(LandUse!$N24=2,\"\",IF(AP31>=$E$5,AO31,\"\"))))","v":""},23,{"$f":"+CPPE!$A23","v":"Contour Buffer Strips"},{"$f":"IF(AS$9=\"\",\"\",IF(AS31=0,0,HLOOKUP(AS$9,CPPE!$A$1:$DB$177,AR31,FALSE)))","v":""},{"$f":"IF(AT31=\"\",\"\",IF(AT31=0,\"\",IF(LandUse!$N24=2,\"\",IF(AT31>=$E$5,AS31,\"\"))))","v":""},23,{"$f":"+CPPE!$A23","v":"Contour Buffer Strips"},{"$f":"IF(AW$9=\"\",\"\",IF(AW31=0,0,HLOOKUP(AW$9,CPPE!$A$1:$DB$177,AV31,FALSE)))","v":""},{"$f":"IF(AX31=\"\",\"\",IF(AX31=0,\"\",IF(LandUse!$N24=2,\"\",IF(AX31>=$E$5,AW31,\"\"))))","v":""},23,{"$f":"+CPPE!$A23","v":"Contour Buffer Strips"},{"$f":"IF(BA$9=\"\",\"\",IF(BA31=0,0,HLOOKUP(BA$9,CPPE!$A$1:$DB$177,AZ31,FALSE)))","v":""},{"$f":"IF(BB31=\"\",\"\",IF(BB31=0,\"\",IF(LandUse!$N24=2,\"\",IF(BB31>=$E$5,BA31,\"\"))))","v":""},23,{"$f":"+CPPE!$A23","v":"Contour Buffer Strips"},{"$f":"IF(BE$9=\"\",\"\",IF(BE31=0,0,HLOOKUP(BE$9,CPPE!$A$1:$DB$177,BD31,FALSE)))","v":""},{"$f":"IF(BF31=\"\",\"\",IF(BF31=0,\"\",IF(LandUse!$N24=2,\"\",IF(BF31>=$E$5,BE31,\"\"))))","v":""},23,{"$f":"+CPPE!$A23","v":"Contour Buffer Strips"},{"$f":"IF(BI$9=\"\",\"\",IF(BI31=0,0,HLOOKUP(BI$9,CPPE!$A$1:$DB$177,BH31,FALSE)))","v":""},{"$f":"IF(BJ31=\"\",\"\",IF(BJ31=0,\"\",IF(LandUse!$N24=2,\"\",IF(BJ31>=$E$5,BI31,\"\"))))","v":""},null,"","","","","","","","","",""]
[null,null,null,null,null,null,null,null,null,null,null,null,null,null,null,null,null,null,null,null,null,null,{"$f":"+CPPE!$A24","v":"Contour Farming"},24,{"$f":"+CPPE!$A24","v":"Contour Farming"},{"$f":"IF(Y$9=\"\",\"\",IF(Y32=0,0,HLOOKUP(Y$9,CPPE!$A$1:$DB$177,X32,FALSE)))","v":2},{"$f":"IF(Z32=\"\",\"\",IF(Z32=0,\"\",IF(LandUse!$N25=2,\"\",IF(Z32>=$E$5,Y32,\"\"))))","v":""},24,{"$f":"+CPPE!$A24","v":"Contour Farming"},{"$f":"IF(AC$9=\"\",\"\",IF(AC32=0,0,HLOOKUP(AC$9,CPPE!$A$1:$DB$177,AB32,FALSE)))","v":0},{"$f":"IF(AD32=\"\",\"\",IF(AD32=0,\"\",IF(LandUse!$N25=2,\"\",IF(AD32>=$E$5,AC32,\"\"))))","v":""},24,{"$f":"+CPPE!$A24","v":"Contour Farming"},{"$f":"IF(AG$9=\"\",\"\",IF(AG32=0,0,HLOOKUP(AG$9,CPPE!$A$1:$DB$177,AF32,FALSE)))","v":1},{"$f":"IF(AH32=\"\",\"\",IF(AH32=0,\"\",IF(LandUse!$N25=2,\"\",IF(AH32>=$E$5,AG32,\"\"))))","v":""},24,{"$f":"+CPPE!$A24","v":"Contour Farming"},{"$f":"IF(AK$9=\"\",\"\",IF(AK32=0,0,HLOOKUP(AK$9,CPPE!$A$1:$DB$177,AJ32,FALSE)))","v":0},{"$f":"IF(AL32=\"\",\"\",IF(AL32=0,\"\",IF(LandUse!$N25=2,\"\",IF(AL32>=$E$5,AK32,\"\"))))","v":""},24,{"$f":"+CPPE!$A24","v":"Contour Farming"},{"$f":"IF(AO$9=\"\",\"\",IF(AO32=0,0,HLOOKUP(AO$9,CPPE!$A$1:$DB$177,AN32,FALSE)))","v":""},{"$f":"IF(AP32=\"\",\"\",IF(AP32=0,\"\",IF(LandUse!$N25=2,\"\",IF(AP32>=$E$5,AO32,\"\"))))","v":""},24,{"$f":"+CPPE!$A24","v":"Contour Farming"},{"$f":"IF(AS$9=\"\",\"\",IF(AS32=0,0,HLOOKUP(AS$9,CPPE!$A$1:$DB$177,AR32,FALSE)))","v":""},{"$f":"IF(AT32=\"\",\"\",IF(AT32=0,\"\",IF(LandUse!$N25=2,\"\",IF(AT32>=$E$5,AS32,\"\"))))","v":""},24,{"$f":"+CPPE!$A24","v":"Contour Farming"},{"$f":"IF(AW$9=\"\",\"\",IF(AW32=0,0,HLOOKUP(AW$9,CPPE!$A$1:$DB$177,AV32,FALSE)))","v":""},{"$f":"IF(AX32=\"\",\"\",IF(AX32=0,\"\",IF(LandUse!$N25=2,\"\",IF(AX32>=$E$5,AW32,\"\"))))","v":""},24,{"$f":"+CPPE!$A24","v":"Contour Farming"},{"$f":"IF(BA$9=\"\",\"\",IF(BA32=0,0,HLOOKUP(BA$9,CPPE!$A$1:$DB$177,AZ32,FALSE)))","v":""},{"$f":"IF(BB32=\"\",\"\",IF(BB32=0,\"\",IF(LandUse!$N25=2,\"\",IF(BB32>=$E$5,BA32,\"\"))))","v":""},24,{"$f":"+CPPE!$A24","v":"Contour Farming"},{"$f":"IF(BE$9=\"\",\"\",IF(BE32=0,0,HLOOKUP(BE$9,CPPE!$A$1:$DB$177,BD32,FALSE)))","v":""},{"$f":"IF(BF32=\"\",\"\",IF(BF32=0,\"\",IF(LandUse!$N25=2,\"\",IF(BF32>=$E$5,BE32,\"\"))))","v":""},24,{"$f":"+CPPE!$A24","v":"Contour Farming"},{"$f":"IF(BI$9=\"\",\"\",IF(BI32=0,0,HLOOKUP(BI$9,CPPE!$A$1:$DB$177,BH32,FALSE)))","v":""},{"$f":"IF(BJ32=\"\",\"\",IF(BJ32=0,\"\",IF(LandUse!$N25=2,\"\",IF(BJ32>=$E$5,BI32,\"\"))))","v":""},null,"","","","","","","","","",""]
[null,null,null,null,null,null,null,null,null,null,null,null,null,null,null,null,null,null,null,null,null,null,{"$f":"+CPPE!$A25","v":"Contour Orchard and Other Perennial Crops"},25,{"$f":"+CPPE!$A25","v":"Contour Orchard and Other Perennial Crops"},{"$f":"IF(Y$9=\"\",\"\",IF(Y33=0,0,HLOOKUP(Y$9,CPPE!$A$1:$DB$177,X33,FALSE)))","v":4},{"$f":"IF(Z33=\"\",\"\",IF(Z33=0,\"\",IF(LandUse!$N26=2,\"\",IF(Z33>=$E$5,Y33,\"\"))))","v":""},25,{"$f":"+CPPE!$A25","v":"Contour Orchard and Other Perennial Crops"},{"$f":"IF(AC$9=\"\",\"\",IF(AC33=0,0,HLOOKUP(AC$9,CPPE!$A$1:$DB$177,AB33,FALSE)))","v":0},{"$f":"IF(AD33=\"\",\"\",IF(AD33=0,\"\",IF(LandUse!$N26=2,\"\",IF(AD33>=$E$5,AC33,\"\"))))","v":""},25,{"$f":"+CPPE!$A25","v":"Contour Orchard and Other Perennial Crops"},{"$f":"IF(AG$9=\"\",\"\",IF(AG33=0,0,HLOOKUP(AG$9,CPPE!$A$1:$DB$177,AF33,FALSE)))","v":2},{"$f":"IF(AH33=\"\",\"\",IF(AH33=0,\"\",IF(LandUse!$N26=2,\"\",IF(AH33>=$E$5,AG33,\"\"))))","v":""},25,{"$f":"+CPPE!$A25","v":"Contour Orchard and Other Perennial Crops"},{"$f":"IF(AK$9=\"\",\"\",IF(AK33=0,0,HLOOKUP(AK$9,CPPE!$A$1:$DB$177,AJ33,FALSE)))","v":0},{"$f":"IF(AL33=\"\",\"\",IF(AL33=0,\"\",IF(LandUse!$N26=2,\"\",IF(AL33>=$E$5,AK33,\"\"))))","v":""},25,{"$f":"+CPPE!$A25","v":"Contour Orchard and Other Perennial Crops"},{"$f":"IF(AO$9=\"\",\"\",IF(AO33=0,0,HLOOKUP(AO$9,CPPE!$A$1:$DB$177,AN33,FALSE)))","v":""},{"$f":"IF(AP33=\"\",\"\",IF(AP33=0,\"\",IF(LandUse!$N26=2,\"\",IF(AP33>=$E$5,AO33,\"\"))))","v":""},25,{"$f":"+CPPE!$A25","v":"Contour Orchard and Other Perennial Crops"},{"$f":"IF(AS$9=\"\",\"\",IF(AS33=0,0,HLOOKUP(AS$9,CPPE!$A$1:$DB$177,AR33,FALSE)))","v":""},{"$f":"IF(AT33=\"\",\"\",IF(AT33=0,\"\",IF(LandUse!$N26=2,\"\",IF(AT33>=$E$5,AS33,\"\"))))","v":""},25,{"$f":"+CPPE!$A25","v":"Contour Orchard and Other Perennial Crops"},{"$f":"IF(AW$9=\"\",\"\",IF(AW33=0,0,HLOOKUP(AW$9,CPPE!$A$1:$DB$177,AV33,FALSE)))","v":""},{"$f":"IF(AX33=\"\",\"\",IF(AX33=0,\"\",IF(LandUse!$N26=2,\"\",IF(AX33>=$E$5,AW33,\"\"))))","v":""},25,{"$f":"+CPPE!$A25","v":"Contour Orchard and Other Perennial Crops"},{"$f":"IF(BA$9=\"\",\"\",IF(BA33=0,0,HLOOKUP(BA$9,CPPE!$A$1:$DB$177,AZ33,FALSE)))","v":""},{"$f":"IF(BB33=\"\",\"\",IF(BB33=0,\"\",IF(LandUse!$N26=2,\"\",IF(BB33>=$E$5,BA33,\"\"))))","v":""},25,{"$f":"+CPPE!$A25","v":"Contour Orchard and Other Perennial Crops"},{"$f":"IF(BE$9=\"\",\"\",IF(BE33=0,0,HLOOKUP(BE$9,CPPE!$A$1:$DB$177,BD33,FALSE)))","v":""},{"$f":"IF(BF33=\"\",\"\",IF(BF33=0,\"\",IF(LandUse!$N26=2,\"\",IF(BF33>=$E$5,BE33,\"\"))))","v":""},25,{"$f":"+CPPE!$A25","v":"Contour Orchard and Other Perennial Crops"},{"$f":"IF(BI$9=\"\",\"\",IF(BI33=0,0,HLOOKUP(BI$9,CPPE!$A$1:$DB$177,BH33,FALSE)))","v":""},{"$f":"IF(BJ33=\"\",\"\",IF(BJ33=0,\"\",IF(LandUse!$N26=2,\"\",IF(BJ33>=$E$5,BI33,\"\"))))","v":""},null,"","","","","","","","","",""]
[" ",null,null,null,null,null,null,null,null,null,null,null,null,null,null,null,null,null,null,null,null,null,{"$f":"+CPPE!$A26","v":"Controlled Traffic Farming"},26,{"$f":"+CPPE!$A26","v":"Controlled Traffic Farming"},{"$f":"IF(Y$9=\"\",\"\",IF(Y34=0,0,HLOOKUP(Y$9,CPPE!$A$1:$DB$177,X34,FALSE)))","v":0},{"$f":"IF(Z34=\"\",\"\",IF(Z34=0,\"\",IF(LandUse!$N27=2,\"\",IF(Z34>=$E$5,Y34,\"\"))))","v":""},26,{"$f":"+CPPE!$A26","v":"Controlled Traffic Farming"},{"$f":"IF(AC$9=\"\",\"\",IF(AC34=0,0,HLOOKUP(AC$9,CPPE!$A$1:$DB$177,AB34,FALSE)))","v":4},{"$f":"IF(AD34=\"\",\"\",IF(AD34=0,\"\",IF(LandUse!$N27=2,\"\",IF(AD34>=$E$5,AC34,\"\"))))","v":""},26,{"$f":"+CPPE!$A26","v":"Controlled Traffic Farming"},{"$f":"IF(AG$9=\"\",\"\",IF(AG34=0,0,HLOOKUP(AG$9,CPPE!$A$1:$DB$177,AF34,FALSE)))","v":0},{"$f":"IF(AH34=\"\",\"\",IF(AH34=0,\"\",IF(LandUse!$N27=2,\"\",IF(AH34>=$E$5,AG34,\"\"))))","v":""},26,{"$f":"+CPPE!$A26","v":"Controlled Traffic Farming"},{"$f":"IF(AK$9=\"\",\"\",IF(AK34=0,0,HLOOKUP(AK$9,CPPE!$A$1:$DB$177,AJ34,FALSE)))","v":1},{"$f":"IF(AL34=\"\",\"\",IF(AL34=0,\"\",IF(LandUse!$N27=2,\"\",IF(AL34>=$E$5,AK34,\"\"))))","v":""},26,{"$f":"+CPPE!$A26","v":"Controlled Traffic Farming"},{"$f":"IF(AO$9=\"\",\"\",IF(AO34=0,0,HLOOKUP(AO$9,CPPE!$A$1:$DB$177,AN34,FALSE)))","v":""},{"$f":"IF(AP34=\"\",\"\",IF(AP34=0,\"\",IF(LandUse!$N27=2,\"\",IF(AP34>=$E$5,AO34,\"\"))))","v":""},26,{"$f":"+CPPE!$A26","v":"Controlled Traffic Farming"},{"$f":"IF(AS$9=\"\",\"\",IF(AS34=0,0,HLOOKUP(AS$9,CPPE!$A$1:$DB$177,AR34,FALSE)))","v":""},{"$f":"IF(AT34=\"\",\"\",IF(AT34=0,\"\",IF(LandUse!$N27=2,\"\",IF(AT34>=$E$5,AS34,\"\"))))","v":""},26,{"$f":"+CPPE!$A26","v":"Controlled Traffic Farming"},{"$f":"IF(AW$9=\"\",\"\",IF(AW34=0,0,HLOOKUP(AW$9,CPPE!$A$1:$DB$177,AV34,FALSE)))","v":""},{"$f":"IF(AX34=\"\",\"\",IF(AX34=0,\"\",IF(LandUse!$N27=2,\"\",IF(AX34>=$E$5,AW34,\"\"))))","v":""},26,{"$f":"+CPPE!$A26","v":"Controlled Traffic Farming"},{"$f":"IF(BA$9=\"\",\"\",IF(BA34=0,0,HLOOKUP(BA$9,CPPE!$A$1:$DB$177,AZ34,FALSE)))","v":""},{"$f":"IF(BB34=\"\",\"\",IF(BB34=0,\"\",IF(LandUse!$N27=2,\"\",IF(BB34>=$E$5,BA34,\"\"))))","v":""},26,{"$f":"+CPPE!$A26","v":"Controlled Traffic Farming"},{"$f":"IF(BE$9=\"\",\"\",IF(BE34=0,0,HLOOKUP(BE$9,CPPE!$A$1:$DB$177,BD34,FALSE)))","v":""},{"$f":"IF(BF34=\"\",\"\",IF(BF34=0,\"\",IF(LandUse!$N27=2,\"\",IF(BF34>=$E$5,BE34,\"\"))))","v":""},26,{"$f":"+CPPE!$A26","v":"Controlled Traffic Farming"},{"$f":"IF(BI$9=\"\",\"\",IF(BI34=0,0,HLOOKUP(BI$9,CPPE!$A$1:$DB$177,BH34,FALSE)))","v":""},{"$f":"IF(BJ34=\"\",\"\",IF(BJ34=0,\"\",IF(LandUse!$N27=2,\"\",IF(BJ34>=$E$5,BI34,\"\"))))","v":""},null,"","","","","","","","","",""]
[null,null,null,null,null,null,null,null,null,null,null,null,null,null,null,null,null,null,null,null,null,null,{"$f":"+CPPE!$A27","v":"Cover Crop"},27,{"$f":"+CPPE!$A27","v":"Cover Crop"},{"$f":"IF(Y$9=\"\",\"\",IF(Y35=0,0,HLOOKUP(Y$9,CPPE!$A$1:$DB$177,X35,FALSE)))","v":4},{"$f":"IF(Z35=\"\",\"\",IF(Z35=0,\"\",IF(LandUse!$N28=2,\"\",IF(Z35>=$E$5,Y35,\"\"))))","v":""},27,{"$f":"+CPPE!$A27","v":"Cover Crop"},{"$f":"IF(AC$9=\"\",\"\",IF(AC35=0,0,HLOOKUP(AC$9,CPPE!$A$1:$DB$177,AB35,FALSE)))","v":2},{"$f":"IF(AD35=\"\",\"\",IF(AD35=0,\"\",IF(LandUse!$N28=2,\"\",IF(AD35>=$E$5,AC35,\"\"))))","v":""},27,{"$f":"+CPPE!$A27","v":"Cover Crop"},{"$f":"IF(AG$9=\"\",\"\",IF(AG35=0,0,HLOOKUP(AG$9,CPPE!$A$1:$DB$177,AF35,FALSE)))","v":2},{"$f":"IF(AH35=\"\",\"\",IF(AH35=0,\"\",IF(LandUse!$N28=2,\"\",IF(AH35>=$E$5,AG35,\"\"))))","v":""},27,{"$f":"+CPPE!$A27","v":"Cover Crop"},{"$f":"IF(AK$9=\"\",\"\",IF(AK35=0,0,HLOOKUP(AK$9,CPPE!$A$1:$DB$177,AJ35,FALSE)))","v":2},{"$f":"IF(AL35=\"\",\"\",IF(AL35=0,\"\",IF(LandUse!$N28=2,\"\",IF(AL35>=$E$5,AK35,\"\"))))","v":""},27,{"$f":"+CPPE!$A27","v":"Cover Crop"},{"$f":"IF(AO$9=\"\",\"\",IF(AO35=0,0,HLOOKUP(AO$9,CPPE!$A$1:$DB$177,AN35,FALSE)))","v":""},{"$f":"IF(AP35=\"\",\"\",IF(AP35=0,\"\",IF(LandUse!$N28=2,\"\",IF(AP35>=$E$5,AO35,\"\"))))","v":""},27,{"$f":"+CPPE!$A27","v":"Cover Crop"},{"$f":"IF(AS$9=\"\",\"\",IF(AS35=0,0,HLOOKUP(AS$9,CPPE!$A$1:$DB$177,AR35,FALSE)))","v":""},{"$f":"IF(AT35=\"\",\"\",IF(AT35=0,\"\",IF(LandUse!$N28=2,\"\",IF(AT35>=$E$5,AS35,\"\"))))","v":""},27,{"$f":"+CPPE!$A27","v":"Cover Crop"},{"$f":"IF(AW$9=\"\",\"\",IF(AW35=0,0,HLOOKUP(AW$9,CPPE!$A$1:$DB$177,AV35,FALSE)))","v":""},{"$f":"IF(AX35=\"\",\"\",IF(AX35=0,\"\",IF(LandUse!$N28=2,\"\",IF(AX35>=$E$5,AW35,\"\"))))","v":""},27,{"$f":"+CPPE!$A27","v":"Cover Crop"},{"$f":"IF(BA$9=\"\",\"\",IF(BA35=0,0,HLOOKUP(BA$9,CPPE!$A$1:$DB$177,AZ35,FALSE)))","v":""},{"$f":"IF(BB35=\"\",\"\",IF(BB35=0,\"\",IF(LandUse!$N28=2,\"\",IF(BB35>=$E$5,BA35,\"\"))))","v":""},27,{"$f":"+CPPE!$A27","v":"Cover Crop"},{"$f":"IF(BE$9=\"\",\"\",IF(BE35=0,0,HLOOKUP(BE$9,CPPE!$A$1:$DB$177,BD35,FALSE)))","v":""},{"$f":"IF(BF35=\"\",\"\",IF(BF35=0,\"\",IF(LandUse!$N28=2,\"\",IF(BF35>=$E$5,BE35,\"\"))))","v":""},27,{"$f":"+CPPE!$A27","v":"Cover Crop"},{"$f":"IF(BI$9=\"\",\"\",IF(BI35=0,0,HLOOKUP(BI$9,CPPE!$A$1:$DB$177,BH35,FALSE)))","v":""},{"$f":"IF(BJ35=\"\",\"\",IF(BJ35=0,\"\",IF(LandUse!$N28=2,\"\",IF(BJ35>=$E$5,BI35,\"\"))))","v":""},null,"","","","","","","","","",""]
[null,null,null,null,null,null,null,null,null,null,null,null,null,null,null,null,null,null,null,null,null,null,{"$f":"+CPPE!$A28","v":"Critical Area Planting"},28,{"$f":"+CPPE!$A28","v":"Critical Area Planting"},{"$f":"IF(Y$9=\"\",\"\",IF(Y36=0,0,HLOOKUP(Y$9,CPPE!$A$1:$DB$177,X36,FALSE)))","v":5},{"$f":"IF(Z36=\"\",\"\",IF(Z36=0,\"\",IF(LandUse!$N29=2,\"\",IF(Z36>=$E$5,Y36,\"\"))))","v":""},28,{"$f":"+CPPE!$A28","v":"Critical Area Planting"},{"$f":"IF(AC$9=\"\",\"\",IF(AC36=0,0,HLOOKUP(AC$9,CPPE!$A$1:$DB$177,AB36,FALSE)))","v":2},{"$f":"IF(AD36=\"\",\"\",IF(AD36=0,\"\",IF(LandUse!$N29=2,\"\",IF(AD36>=$E$5,AC36,\"\"))))","v":""},28,{"$f":"+CPPE!$A28","v":"Critical Area Planting"},{"$f":"IF(AG$9=\"\",\"\",IF(AG36=0,0,HLOOKUP(AG$9,CPPE!$A$1:$DB$177,AF36,FALSE)))","v":5},{"$f":"IF(AH36=\"\",\"\",IF(AH36=0,\"\",IF(LandUse!$N29=2,\"\",IF(AH36>=$E$5,AG36,\"\"))))","v":""},28,{"$f":"+CPPE!$A28","v":"Critical Area Planting"},{"$f":"IF(AK$9=\"\",\"\",IF(AK36=0,0,HLOOKUP(AK$9,CPPE!$A$1:$DB$177,AJ36,FALSE)))","v":2},{"$f":"IF(AL36=\"\",\"\",IF(AL36=0,\"\",IF(LandUse!$N29=2,\"\",IF(AL36>=$E$5,AK36,\"\"))))","v":""},28,{"$f":"+CPPE!$A28","v":"Critical Area Planting"},{"$f":"IF(AO$9=\"\",\"\",IF(AO36=0,0,HLOOKUP(AO$9,CPPE!$A$1:$DB$177,AN36,FALSE)))","v":""},{"$f":"IF(AP36=\"\",\"\",IF(AP36=0,\"\",IF(LandUse!$N29=2,\"\",IF(AP36>=$E$5,AO36,\"\"))))","v":""},28,{"$f":"+CPPE!$A28","v":"Critical Area Planting"},{"$f":"IF(AS$9=\"\",\"\",IF(AS36=0,0,HLOOKUP(AS$9,CPPE!$A$1:$DB$177,AR36,FALSE)))","v":""},{"$f":"IF(AT36=\"\",\"\",IF(AT36=0,\"\",IF(LandUse!$N29=2,\"\",IF(AT36>=$E$5,AS36,\"\"))))","v":""},28,{"$f":"+CPPE!$A28","v":"Critical Area Planting"},{"$f":"IF(AW$9=\"\",\"\",IF(AW36=0,0,HLOOKUP(AW$9,CPPE!$A$1:$DB$177,AV36,FALSE)))","v":""},{"$f":"IF(AX36=\"\",\"\",IF(AX36=0,\"\",IF(LandUse!$N29=2,\"\",IF(AX36>=$E$5,AW36,\"\"))))","v":""},28,{"$f":"+CPPE!$A28","v":"Critical Area Planting"},{"$f":"IF(BA$9=\"\",\"\",IF(BA36=0,0,HLOOKUP(BA$9,CPPE!$A$1:$DB$177,AZ36,FALSE)))","v":""},{"$f":"IF(BB36=\"\",\"\",IF(BB36=0,\"\",IF(LandUse!$N29=2,\"\",IF(BB36>=$E$5,BA36,\"\"))))","v":""},28,{"$f":"+CPPE!$A28","v":"Critical Area Planting"},{"$f":"IF(BE$9=\"\",\"\",IF(BE36=0,0,HLOOKUP(BE$9,CPPE!$A$1:$DB$177,BD36,FALSE)))","v":""},{"$f":"IF(BF36=\"\",\"\",IF(BF36=0,\"\",IF(LandUse!$N29=2,\"\",IF(BF36>=$E$5,BE36,\"\"))))","v":""},28,{"$f":"+CPPE!$A28","v":"Critical Area Planting"},{"$f":"IF(BI$9=\"\",\"\",IF(BI36=0,0,HLOOKUP(BI$9,CPPE!$A$1:$DB$177,BH36,FALSE)))","v":""},{"$f":"IF(BJ36=\"\",\"\",IF(BJ36=0,\"\",IF(LandUse!$N29=2,\"\",IF(BJ36>=$E$5,BI36,\"\"))))","v":""},null,"","","","","","","","","",""]
[null,null,null,null,null,null,null,null,null,null,null,null,null,null,null,null,null,null,null,null,null,null,{"$f":"+CPPE!$A29","v":"Cross Wind Ridges"},29,{"$f":"+CPPE!$A29","v":"Cross Wind Ridges"},{"$f":"IF(Y$9=\"\",\"\",IF(Y37=0,0,HLOOKUP(Y$9,CPPE!$A$1:$DB$177,X37,FALSE)))","v":0},{"$f":"IF(Z37=\"\",\"\",IF(Z37=0,\"\",IF(LandUse!$N30=2,\"\",IF(Z37>=$E$5,Y37,\"\"))))","v":""},29,{"$f":"+CPPE!$A29","v":"Cross Wind Ridges"},{"$f":"IF(AC$9=\"\",\"\",IF(AC37=0,0,HLOOKUP(AC$9,CPPE!$A$1:$DB$177,AB37,FALSE)))","v":0},{"$f":"IF(AD37=\"\",\"\",IF(AD37=0,\"\",IF(LandUse!$N30=2,\"\",IF(AD37>=$E$5,AC37,\"\"))))","v":""},29,{"$f":"+CPPE!$A29","v":"Cross Wind Ridges"},{"$f":"IF(AG$9=\"\",\"\",IF(AG37=0,0,HLOOKUP(AG$9,CPPE!$A$1:$DB$177,AF37,FALSE)))","v":1},{"$f":"IF(AH37=\"\",\"\",IF(AH37=0,\"\",IF(LandUse!$N30=2,\"\",IF(AH37>=$E$5,AG37,\"\"))))","v":""},29,{"$f":"+CPPE!$A29","v":"Cross Wind Ridges"},{"$f":"IF(AK$9=\"\",\"\",IF(AK37=0,0,HLOOKUP(AK$9,CPPE!$A$1:$DB$177,AJ37,FALSE)))","v":0},{"$f":"IF(AL37=\"\",\"\",IF(AL37=0,\"\",IF(LandUse!$N30=2,\"\",IF(AL37>=$E$5,AK37,\"\"))))","v":""},29,{"$f":"+CPPE!$A29","v":"Cross Wind Ridges"},{"$f":"IF(AO$9=\"\",\"\",IF(AO37=0,0,HLOOKUP(AO$9,CPPE!$A$1:$DB$177,AN37,FALSE)))","v":""},{"$f":"IF(AP37=\"\",\"\",IF(AP37=0,\"\",IF(LandUse!$N30=2,\"\",IF(AP37>=$E$5,AO37,\"\"))))","v":""},29,{"$f":"+CPPE!$A29","v":"Cross Wind Ridges"},{"$f":"IF(AS$9=\"\",\"\",IF(AS37=0,0,HLOOKUP(AS$9,CPPE!$A$1:$DB$177,AR37,FALSE)))","v":""},{"$f":"IF(AT37=\"\",\"\",IF(AT37=0,\"\",IF(LandUse!$N30=2,\"\",IF(AT37>=$E$5,AS37,\"\"))))","v":""},29,{"$f":"+CPPE!$A29","v":"Cross Wind Ridges"},{"$f":"IF(AW$9=\"\",\"\",IF(AW37=0,0,HLOOKUP(AW$9,CPPE!$A$1:$DB$177,AV37,FALSE)))","v":""},{"$f":"IF(AX37=\"\",\"\",IF(AX37=0,\"\",IF(LandUse!$N30=2,\"\",IF(AX37>=$E$5,AW37,\"\"))))","v":""},29,{"$f":"+CPPE!$A29","v":"Cross Wind Ridges"},{"$f":"IF(BA$9=\"\",\"\",IF(BA37=0,0,HLOOKUP(BA$9,CPPE!$A$1:$DB$177,AZ37,FALSE)))","v":""},{"$f":"IF(BB37=\"\",\"\",IF(BB37=0,\"\",IF(LandUse!$N30=2,\"\",IF(BB37>=$E$5,BA37,\"\"))))","v":""},29,{"$f":"+CPPE!$A29","v":"Cross Wind Ridges"},{"$f":"IF(BE$9=\"\",\"\",IF(BE37=0,0,HLOOKUP(BE$9,CPPE!$A$1:$DB$177,BD37,FALSE)))","v":""},{"$f":"IF(BF37=\"\",\"\",IF(BF37=0,\"\",IF(LandUse!$N30=2,\"\",IF(BF37>=$E$5,BE37,\"\"))))","v":""},29,{"$f":"+CPPE!$A29","v":"Cross Wind Ridges"},{"$f":"IF(BI$9=\"\",\"\",IF(BI37=0,0,HLOOKUP(BI$9,CPPE!$A$1:$DB$177,BH37,FALSE)))","v":""},{"$f":"IF(BJ37=\"\",\"\",IF(BJ37=0,\"\",IF(LandUse!$N30=2,\"\",IF(BJ37>=$E$5,BI37,\"\"))))","v":""},null,"","","","","","","","","",""]
[null,null,null,null,null,null,null,null,null,null,null,null,null,null,null,null,null,null,null,null,null,null,{"$f":"+CPPE!$A30","v":"Cross Wind Trap Strips"},30,{"$f":"+CPPE!$A30","v":"Cross Wind Trap Strips"},{"$f":"IF(Y$9=\"\",\"\",IF(Y38=0,0,HLOOKUP(Y$9,CPPE!$A$1:$DB$177,X38,FALSE)))","v":0},{"$f":"IF(Z38=\"\",\"\",IF(Z38=0,\"\",IF(LandUse!$N31=2,\"\",IF(Z38>=$E$5,Y38,\"\"))))","v":""},30,{"$f":"+CPPE!$A30","v":"Cross Wind Trap Strips"},{"$f":"IF(AC$9=\"\",\"\",IF(AC38=0,0,HLOOKUP(AC$9,CPPE!$A$1:$DB$177,AB38,FALSE)))","v":0},{"$f":"IF(AD38=\"\",\"\",IF(AD38=0,\"\",IF(LandUse!$N31=2,\"\",IF(AD38>=$E$5,AC38,\"\"))))","v":""},30,{"$f":"+CPPE!$A30","v":"Cross Wind Trap Strips"},{"$f":"IF(AG$9=\"\",\"\",IF(AG38=0,0,HLOOKUP(AG$9,CPPE!$A$1:$DB$177,AF38,FALSE)))","v":1},{"$f":"IF(AH38=\"\",\"\",IF(AH38=0,\"\",IF(LandUse!$N31=2,\"\",IF(AH38>=$E$5,AG38,\"\"))))","v":""},30,{"$f":"+CPPE!$A30","v":"Cross Wind Trap Strips"},{"$f":"IF(AK$9=\"\",\"\",IF(AK38=0,0,HLOOKUP(AK$9,CPPE!$A$1:$DB$177,AJ38,FALSE)))","v":0},{"$f":"IF(AL38=\"\",\"\",IF(AL38=0,\"\",IF(LandUse!$N31=2,\"\",IF(AL38>=$E$5,AK38,\"\"))))","v":""},30,{"$f":"+CPPE!$A30","v":"Cross Wind Trap Strips"},{"$f":"IF(AO$9=\"\",\"\",IF(AO38=0,0,HLOOKUP(AO$9,CPPE!$A$1:$DB$177,AN38,FALSE)))","v":""},{"$f":"IF(AP38=\"\",\"\",IF(AP38=0,\"\",IF(LandUse!$N31=2,\"\",IF(AP38>=$E$5,AO38,\"\"))))","v":""},30,{"$f":"+CPPE!$A30","v":"Cross Wind Trap Strips"},{"$f":"IF(AS$9=\"\",\"\",IF(AS38=0,0,HLOOKUP(AS$9,CPPE!$A$1:$DB$177,AR38,FALSE)))","v":""},{"$f":"IF(AT38=\"\",\"\",IF(AT38=0,\"\",IF(LandUse!$N31=2,\"\",IF(AT38>=$E$5,AS38,\"\"))))","v":""},30,{"$f":"+CPPE!$A30","v":"Cross Wind Trap Strips"},{"$f":"IF(AW$9=\"\",\"\",IF(AW38=0,0,HLOOKUP(AW$9,CPPE!$A$1:$DB$177,AV38,FALSE)))","v":""},{"$f":"IF(AX38=\"\",\"\",IF(AX38=0,\"\",IF(LandUse!$N31=2,\"\",IF(AX38>=$E$5,AW38,\"\"))))","v":""},30,{"$f":"+CPPE!$A30","v":"Cross Wind Trap Strips"},{"$f":"IF(BA$9=\"\",\"\",IF(BA38=0,0,HLOOKUP(BA$9,CPPE!$A$1:$DB$177,AZ38,FALSE)))","v":""},{"$f":"IF(BB38=\"\",\"\",IF(BB38=0,\"\",IF(LandUse!$N31=2,\"\",IF(BB38>=$E$5,BA38,\"\"))))","v":""},30,{"$f":"+CPPE!$A30","v":"Cross Wind Trap Strips"},{"$f":"IF(BE$9=\"\",\"\",IF(BE38=0,0,HLOOKUP(BE$9,CPPE!$A$1:$DB$177,BD38,FALSE)))","v":""},{"$f":"IF(BF38=\"\",\"\",IF(BF38=0,\"\",IF(LandUse!$N31=2,\"\",IF(BF38>=$E$5,BE38,\"\"))))","v":""},30,{"$f":"+CPPE!$A30","v":"Cross Wind Trap Strips"},{"$f":"IF(BI$9=\"\",\"\",IF(BI38=0,0,HLOOKUP(BI$9,CPPE!$A$1:$DB$177,BH38,FALSE)))","v":""},{"$f":"IF(BJ38=\"\",\"\",IF(BJ38=0,\"\",IF(LandUse!$N31=2,\"\",IF(BJ38>=$E$5,BI38,\"\"))))","v":""},null,"","","","","","","","","",""]
[null,null,null,null,null,null,null,null,null,null,null,null,null,null,null,null,null,null,null,null,null,null,{"$f":"+CPPE!$A31","v":"Dam"},31,{"$f":"+CPPE!$A31","v":"Dam"},{"$f":"IF(Y$9=\"\",\"\",IF(Y39=0,0,HLOOKUP(Y$9,CPPE!$A$1:$DB$177,X39,FALSE)))","v":0},{"$f":"IF(Z39=\"\",\"\",IF(Z39=0,\"\",IF(LandUse!$N32=2,\"\",IF(Z39>=$E$5,Y39,\"\"))))","v":""},31,{"$f":"+CPPE!$A31","v":"Dam"},{"$f":"IF(AC$9=\"\",\"\",IF(AC39=0,0,HLOOKUP(AC$9,CPPE!$A$1:$DB$177,AB39,FALSE)))","v":0},{"$f":"IF(AD39=\"\",\"\",IF(AD39=0,\"\",IF(LandUse!$N32=2,\"\",IF(AD39>=$E$5,AC39,\"\"))))","v":""},31,{"$f":"+CPPE!$A31","v":"Dam"},{"$f":"IF(AG$9=\"\",\"\",IF(AG39=0,0,HLOOKUP(AG$9,CPPE!$A$1:$DB$177,AF39,FALSE)))","v":0},{"$f":"IF(AH39=\"\",\"\",IF(AH39=0,\"\",IF(LandUse!$N32=2,\"\",IF(AH39>=$E$5,AG39,\"\"))))","v":""},31,{"$f":"+CPPE!$A31","v":"Dam"},{"$f":"IF(AK$9=\"\",\"\",IF(AK39=0,0,HLOOKUP(AK$9,CPPE!$A$1:$DB$177,AJ39,FALSE)))","v":2},{"$f":"IF(AL39=\"\",\"\",IF(AL39=0,\"\",IF(LandUse!$N32=2,\"\",IF(AL39>=$E$5,AK39,\"\"))))","v":""},31,{"$f":"+CPPE!$A31","v":"Dam"},{"$f":"IF(AO$9=\"\",\"\",IF(AO39=0,0,HLOOKUP(AO$9,CPPE!$A$1:$DB$177,AN39,FALSE)))","v":""},{"$f":"IF(AP39=\"\",\"\",IF(AP39=0,\"\",IF(LandUse!$N32=2,\"\",IF(AP39>=$E$5,AO39,\"\"))))","v":""},31,{"$f":"+CPPE!$A31","v":"Dam"},{"$f":"IF(AS$9=\"\",\"\",IF(AS39=0,0,HLOOKUP(AS$9,CPPE!$A$1:$DB$177,AR39,FALSE)))","v":""},{"$f":"IF(AT39=\"\",\"\",IF(AT39=0,\"\",IF(LandUse!$N32=2,\"\",IF(AT39>=$E$5,AS39,\"\"))))","v":""},31,{"$f":"+CPPE!$A31","v":"Dam"},{"$f":"IF(AW$9=\"\",\"\",IF(AW39=0,0,HLOOKUP(AW$9,CPPE!$A$1:$DB$177,AV39,FALSE)))","v":""},{"$f":"IF(AX39=\"\",\"\",IF(AX39=0,\"\",IF(LandUse!$N32=2,\"\",IF(AX39>=$E$5,AW39,\"\"))))","v":""},31,{"$f":"+CPPE!$A31","v":"Dam"},{"$f":"IF(BA$9=\"\",\"\",IF(BA39=0,0,HLOOKUP(BA$9,CPPE!$A$1:$DB$177,AZ39,FALSE)))","v":""},{"$f":"IF(BB39=\"\",\"\",IF(BB39=0,\"\",IF(LandUse!$N32=2,\"\",IF(BB39>=$E$5,BA39,\"\"))))","v":""},31,{"$f":"+CPPE!$A31","v":"Dam"},{"$f":"IF(BE$9=\"\",\"\",IF(BE39=0,0,HLOOKUP(BE$9,CPPE!$A$1:$DB$177,BD39,FALSE)))","v":""},{"$f":"IF(BF39=\"\",\"\",IF(BF39=0,\"\",IF(LandUse!$N32=2,\"\",IF(BF39>=$E$5,BE39,\"\"))))","v":""},31,{"$f":"+CPPE!$A31","v":"Dam"},{"$f":"IF(BI$9=\"\",\"\",IF(BI39=0,0,HLOOKUP(BI$9,CPPE!$A$1:$DB$177,BH39,FALSE)))","v":""},{"$f":"IF(BJ39=\"\",\"\",IF(BJ39=0,\"\",IF(LandUse!$N32=2,\"\",IF(BJ39>=$E$5,BI39,\"\"))))","v":""},null,"","","","","","","","","",""]
[null,null,null,null,null,null,null,null,null,null,null,null,null,null,null,null,null,null,null,null,null,null,{"$f":"+CPPE!$A32","v":"Dam, Diversion"},32,{"$f":"+CPPE!$A32","v":"Dam, Diversion"},{"$f":"IF(Y$9=\"\",\"\",IF(Y40=0,0,HLOOKUP(Y$9,CPPE!$A$1:$DB$177,X40,FALSE)))","v":0},{"$f":"IF(Z40=\"\",\"\",IF(Z40=0,\"\",IF(LandUse!$N33=2,\"\",IF(Z40>=$E$5,Y40,\"\"))))","v":""},32,{"$f":"+CPPE!$A32","v":"Dam, Diversion"},{"$f":"IF(AC$9=\"\",\"\",IF(AC40=0,0,HLOOKUP(AC$9,CPPE!$A$1:$DB$177,AB40,FALSE)))","v":0},{"$f":"IF(AD40=\"\",\"\",IF(AD40=0,\"\",IF(LandUse!$N33=2,\"\",IF(AD40>=$E$5,AC40,\"\"))))","v":""},32,{"$f":"+CPPE!$A32","v":"Dam, Diversion"},{"$f":"IF(AG$9=\"\",\"\",IF(AG40=0,0,HLOOKUP(AG$9,CPPE!$A$1:$DB$177,AF40,FALSE)))","v":0},{"$f":"IF(AH40=\"\",\"\",IF(AH40=0,\"\",IF(LandUse!$N33=2,\"\",IF(AH40>=$E$5,AG40,\"\"))))","v":""},32,{"$f":"+CPPE!$A32","v":"Dam, Diversion"},{"$f":"IF(AK$9=\"\",\"\",IF(AK40=0,0,HLOOKUP(AK$9,CPPE!$A$1:$DB$177,AJ40,FALSE)))","v":1},{"$f":"IF(AL40=\"\",\"\",IF(AL40=0,\"\",IF(LandUse!$N33=2,\"\",IF(AL40>=$E$5,AK40,\"\"))))","v":""},32,{"$f":"+CPPE!$A32","v":"Dam, Diversion"},{"$f":"IF(AO$9=\"\",\"\",IF(AO40=0,0,HLOOKUP(AO$9,CPPE!$A$1:$DB$177,AN40,FALSE)))","v":""},{"$f":"IF(AP40=\"\",\"\",IF(AP40=0,\"\",IF(LandUse!$N33=2,\"\",IF(AP40>=$E$5,AO40,\"\"))))","v":""},32,{"$f":"+CPPE!$A32","v":"Dam, Diversion"},{"$f":"IF(AS$9=\"\",\"\",IF(AS40=0,0,HLOOKUP(AS$9,CPPE!$A$1:$DB$177,AR40,FALSE)))","v":""},{"$f":"IF(AT40=\"\",\"\",IF(AT40=0,\"\",IF(LandUse!$N33=2,\"\",IF(AT40>=$E$5,AS40,\"\"))))","v":""},32,{"$f":"+CPPE!$A32","v":"Dam, Diversion"},{"$f":"IF(AW$9=\"\",\"\",IF(AW40=0,0,HLOOKUP(AW$9,CPPE!$A$1:$DB$177,AV40,FALSE)))","v":""},{"$f":"IF(AX40=\"\",\"\",IF(AX40=0,\"\",IF(LandUse!$N33=2,\"\",IF(AX40>=$E$5,AW40,\"\"))))","v":""},32,{"$f":"+CPPE!$A32","v":"Dam, Diversion"},{"$f":"IF(BA$9=\"\",\"\",IF(BA40=0,0,HLOOKUP(BA$9,CPPE!$A$1:$DB$177,AZ40,FALSE)))","v":""},{"$f":"IF(BB40=\"\",\"\",IF(BB40=0,\"\",IF(LandUse!$N33=2,\"\",IF(BB40>=$E$5,BA40,\"\"))))","v":""},32,{"$f":"+CPPE!$A32","v":"Dam, Diversion"},{"$f":"IF(BE$9=\"\",\"\",IF(BE40=0,0,HLOOKUP(BE$9,CPPE!$A$1:$DB$177,BD40,FALSE)))","v":""},{"$f":"IF(BF40=\"\",\"\",IF(BF40=0,\"\",IF(LandUse!$N33=2,\"\",IF(BF40>=$E$5,BE40,\"\"))))","v":""},32,{"$f":"+CPPE!$A32","v":"Dam, Diversion"},{"$f":"IF(BI$9=\"\",\"\",IF(BI40=0,0,HLOOKUP(BI$9,CPPE!$A$1:$DB$177,BH40,FALSE)))","v":""},{"$f":"IF(BJ40=\"\",\"\",IF(BJ40=0,\"\",IF(LandUse!$N33=2,\"\",IF(BJ40>=$E$5,BI40,\"\"))))","v":""},null,"","","","","","","","","",""]
[null,null,null,null,null,null,null,null,null,null,null,null,null,null,null,null,null,null,null,null,null,null,{"$f":"+CPPE!$A33","v":"Deep Tillage"},33,{"$f":"+CPPE!$A33","v":"Deep Tillage"},{"$f":"IF(Y$9=\"\",\"\",IF(Y41=0,0,HLOOKUP(Y$9,CPPE!$A$1:$DB$177,X41,FALSE)))","v":1},{"$f":"IF(Z41=\"\",\"\",IF(Z41=0,\"\",IF(LandUse!$N34=2,\"\",IF(Z41>=$E$5,Y41,\"\"))))","v":""},33,{"$f":"+CPPE!$A33","v":"Deep Tillage"},{"$f":"IF(AC$9=\"\",\"\",IF(AC41=0,0,HLOOKUP(AC$9,CPPE!$A$1:$DB$177,AB41,FALSE)))","v":5},{"$f":"IF(AD41=\"\",\"\",IF(AD41=0,\"\",IF(LandUse!$N34=2,\"\",IF(AD41>=$E$5,AC41,\"\"))))","v":""},33,{"$f":"+CPPE!$A33","v":"Deep Tillage"},{"$f":"IF(AG$9=\"\",\"\",IF(AG41=0,0,HLOOKUP(AG$9,CPPE!$A$1:$DB$177,AF41,FALSE)))","v":-3},{"$f":"IF(AH41=\"\",\"\",IF(AH41=0,\"\",IF(LandUse!$N34=2,\"\",IF(AH41>=$E$5,AG41,\"\"))))","v":""},33,{"$f":"+CPPE!$A33","v":"Deep Tillage"},{"$f":"IF(AK$9=\"\",\"\",IF(AK41=0,0,HLOOKUP(AK$9,CPPE!$A$1:$DB$177,AJ41,FALSE)))","v":1},{"$f":"IF(AL41=\"\",\"\",IF(AL41=0,\"\",IF(LandUse!$N34=2,\"\",IF(AL41>=$E$5,AK41,\"\"))))","v":""},33,{"$f":"+CPPE!$A33","v":"Deep Tillage"},{"$f":"IF(AO$9=\"\",\"\",IF(AO41=0,0,HLOOKUP(AO$9,CPPE!$A$1:$DB$177,AN41,FALSE)))","v":""},{"$f":"IF(AP41=\"\",\"\",IF(AP41=0,\"\",IF(LandUse!$N34=2,\"\",IF(AP41>=$E$5,AO41,\"\"))))","v":""},33,{"$f":"+CPPE!$A33","v":"Deep Tillage"},{"$f":"IF(AS$9=\"\",\"\",IF(AS41=0,0,HLOOKUP(AS$9,CPPE!$A$1:$DB$177,AR41,FALSE)))","v":""},{"$f":"IF(AT41=\"\",\"\",IF(AT41=0,\"\",IF(LandUse!$N34=2,\"\",IF(AT41>=$E$5,AS41,\"\"))))","v":""},33,{"$f":"+CPPE!$A33","v":"Deep Tillage"},{"$f":"IF(AW$9=\"\",\"\",IF(AW41=0,0,HLOOKUP(AW$9,CPPE!$A$1:$DB$177,AV41,FALSE)))","v":""},{"$f":"IF(AX41=\"\",\"\",IF(AX41=0,\"\",IF(LandUse!$N34=2,\"\",IF(AX41>=$E$5,AW41,\"\"))))","v":""},33,{"$f":"+CPPE!$A33","v":"Deep Tillage"},{"$f":"IF(BA$9=\"\",\"\",IF(BA41=0,0,HLOOKUP(BA$9,CPPE!$A$1:$DB$177,AZ41,FALSE)))","v":""},{"$f":"IF(BB41=\"\",\"\",IF(BB41=0,\"\",IF(LandUse!$N34=2,\"\",IF(BB41>=$E$5,BA41,\"\"))))","v":""},33,{"$f":"+CPPE!$A33","v":"Deep Tillage"},{"$f":"IF(BE$9=\"\",\"\",IF(BE41=0,0,HLOOKUP(BE$9,CPPE!$A$1:$DB$177,BD41,FALSE)))","v":""},{"$f":"IF(BF41=\"\",\"\",IF(BF41=0,\"\",IF(LandUse!$N34=2,\"\",IF(BF41>=$E$5,BE41,\"\"))))","v":""},33,{"$f":"+CPPE!$A33","v":"Deep Tillage"},{"$f":"IF(BI$9=\"\",\"\",IF(BI41=0,0,HLOOKUP(BI$9,CPPE!$A$1:$DB$177,BH41,FALSE)))","v":""},{"$f":"IF(BJ41=\"\",\"\",IF(BJ41=0,\"\",IF(LandUse!$N34=2,\"\",IF(BJ41>=$E$5,BI41,\"\"))))","v":""},null,"","","","","","","","","",""]
[null,null,null,null,null,null,null,null,null,null,null,null,null,null,null,null,null,null,null,null,null,null,{"$f":"+CPPE!$A34","v":"Denitrifying Bioreactor"},34,{"$f":"+CPPE!$A34","v":"Denitrifying Bioreactor"},{"$f":"IF(Y$9=\"\",\"\",IF(Y42=0,0,HLOOKUP(Y$9,CPPE!$A$1:$DB$177,X42,FALSE)))","v":0},{"$f":"IF(Z42=\"\",\"\",IF(Z42=0,\"\",IF(LandUse!$N35=2,\"\",IF(Z42>=$E$5,Y42,\"\"))))","v":""},34,{"$f":"+CPPE!$A34","v":"Denitrifying Bioreactor"},{"$f":"IF(AC$9=\"\",\"\",IF(AC42=0,0,HLOOKUP(AC$9,CPPE!$A$1:$DB$177,AB42,FALSE)))","v":0},{"$f":"IF(AD42=\"\",\"\",IF(AD42=0,\"\",IF(LandUse!$N35=2,\"\",IF(AD42>=$E$5,AC42,\"\"))))","v":""},34,{"$f":"+CPPE!$A34","v":"Denitrifying Bioreactor"},{"$f":"IF(AG$9=\"\",\"\",IF(AG42=0,0,HLOOKUP(AG$9,CPPE!$A$1:$DB$177,AF42,FALSE)))","v":0},{"$f":"IF(AH42=\"\",\"\",IF(AH42=0,\"\",IF(LandUse!$N35=2,\"\",IF(AH42>=$E$5,AG42,\"\"))))","v":""},34,{"$f":"+CPPE!$A34","v":"Denitrifying Bioreactor"},{"$f":"IF(AK$9=\"\",\"\",IF(AK42=0,0,HLOOKUP(AK$9,CPPE!$A$1:$DB$177,AJ42,FALSE)))","v":0},{"$f":"IF(AL42=\"\",\"\",IF(AL42=0,\"\",IF(LandUse!$N35=2,\"\",IF(AL42>=$E$5,AK42,\"\"))))","v":""},34,{"$f":"+CPPE!$A34","v":"Denitrifying Bioreactor"},{"$f":"IF(AO$9=\"\",\"\",IF(AO42=0,0,HLOOKUP(AO$9,CPPE!$A$1:$DB$177,AN42,FALSE)))","v":""},{"$f":"IF(AP42=\"\",\"\",IF(AP42=0,\"\",IF(LandUse!$N35=2,\"\",IF(AP42>=$E$5,AO42,\"\"))))","v":""},34,{"$f":"+CPPE!$A34","v":"Denitrifying Bioreactor"},{"$f":"IF(AS$9=\"\",\"\",IF(AS42=0,0,HLOOKUP(AS$9,CPPE!$A$1:$DB$177,AR42,FALSE)))","v":""},{"$f":"IF(AT42=\"\",\"\",IF(AT42=0,\"\",IF(LandUse!$N35=2,\"\",IF(AT42>=$E$5,AS42,\"\"))))","v":""},34,{"$f":"+CPPE!$A34","v":"Denitrifying Bioreactor"},{"$f":"IF(AW$9=\"\",\"\",IF(AW42=0,0,HLOOKUP(AW$9,CPPE!$A$1:$DB$177,AV42,FALSE)))","v":""},{"$f":"IF(AX42=\"\",\"\",IF(AX42=0,\"\",IF(LandUse!$N35=2,\"\",IF(AX42>=$E$5,AW42,\"\"))))","v":""},34,{"$f":"+CPPE!$A34","v":"Denitrifying Bioreactor"},{"$f":"IF(BA$9=\"\",\"\",IF(BA42=0,0,HLOOKUP(BA$9,CPPE!$A$1:$DB$177,AZ42,FALSE)))","v":""},{"$f":"IF(BB42=\"\",\"\",IF(BB42=0,\"\",IF(LandUse!$N35=2,\"\",IF(BB42>=$E$5,BA42,\"\"))))","v":""},34,{"$f":"+CPPE!$A34","v":"Denitrifying Bioreactor"},{"$f":"IF(BE$9=\"\",\"\",IF(BE42=0,0,HLOOKUP(BE$9,CPPE!$A$1:$DB$177,BD42,FALSE)))","v":""},{"$f":"IF(BF42=\"\",\"\",IF(BF42=0,\"\",IF(LandUse!$N35=2,\"\",IF(BF42>=$E$5,BE42,\"\"))))","v":""},34,{"$f":"+CPPE!$A34","v":"Denitrifying Bioreactor"},{"$f":"IF(BI$9=\"\",\"\",IF(BI42=0,0,HLOOKUP(BI$9,CPPE!$A$1:$DB$177,BH42,FALSE)))","v":""},{"$f":"IF(BJ42=\"\",\"\",IF(BJ42=0,\"\",IF(LandUse!$N35=2,\"\",IF(BJ42>=$E$5,BI42,\"\"))))","v":""},null,"","","","","","","","","",""]
[null,null,null,null,null,null,null,null,null,null,null,null,null,null,null,null,null,null,null,null,null,null,{"$f":"+CPPE!$A35","v":"Dike and Levee"},35,{"$f":"+CPPE!$A35","v":"Dike and Levee"},{"$f":"IF(Y$9=\"\",\"\",IF(Y43=0,0,HLOOKUP(Y$9,CPPE!$A$1:$DB$177,X43,FALSE)))","v":0},{"$f":"IF(Z43=\"\",\"\",IF(Z43=0,\"\",IF(LandUse!$N36=2,\"\",IF(Z43>=$E$5,Y43,\"\"))))","v":""},35,{"$f":"+CPPE!$A35","v":"Dike and Levee"},{"$f":"IF(AC$9=\"\",\"\",IF(AC43=0,0,HLOOKUP(AC$9,CPPE!$A$1:$DB$177,AB43,FALSE)))","v":0},{"$f":"IF(AD43=\"\",\"\",IF(AD43=0,\"\",IF(LandUse!$N36=2,\"\",IF(AD43>=$E$5,AC43,\"\"))))","v":""},35,{"$f":"+CPPE!$A35","v":"Dike and Levee"},{"$f":"IF(AG$9=\"\",\"\",IF(AG43=0,0,HLOOKUP(AG$9,CPPE!$A$1:$DB$177,AF43,FALSE)))","v":0},{"$f":"IF(AH43=\"\",\"\",IF(AH43=0,\"\",IF(LandUse!$N36=2,\"\",IF(AH43>=$E$5,AG43,\"\"))))","v":""},35,{"$f":"+CPPE!$A35","v":"Dike and Levee"},{"$f":"IF(AK$9=\"\",\"\",IF(AK43=0,0,HLOOKUP(AK$9,CPPE!$A$1:$DB$177,AJ43,FALSE)))","v":0},{"$f":"IF(AL43=\"\",\"\",IF(AL43=0,\"\",IF(LandUse!$N36=2,\"\",IF(AL43>=$E$5,AK43,\"\"))))","v":""},35,{"$f":"+CPPE!$A35","v":"Dike and Levee"},{"$f":"IF(AO$9=\"\",\"\",IF(AO43=0,0,HLOOKUP(AO$9,CPPE!$A$1:$DB$177,AN43,FALSE)))","v":""},{"$f":"IF(AP43=\"\",\"\",IF(AP43=0,\"\",IF(LandUse!$N36=2,\"\",IF(AP43>=$E$5,AO43,\"\"))))","v":""},35,{"$f":"+CPPE!$A35","v":"Dike and Levee"},{"$f":"IF(AS$9=\"\",\"\",IF(AS43=0,0,HLOOKUP(AS$9,CPPE!$A$1:$DB$177,AR43,FALSE)))","v":""},{"$f":"IF(AT43=\"\",\"\",IF(AT43=0,\"\",IF(LandUse!$N36=2,\"\",IF(AT43>=$E$5,AS43,\"\"))))","v":""},35,{"$f":"+CPPE!$A35","v":"Dike and Levee"},{"$f":"IF(AW$9=\"\",\"\",IF(AW43=0,0,HLOOKUP(AW$9,CPPE!$A$1:$DB$177,AV43,FALSE)))","v":""},{"$f":"IF(AX43=\"\",\"\",IF(AX43=0,\"\",IF(LandUse!$N36=2,\"\",IF(AX43>=$E$5,AW43,\"\"))))","v":""},35,{"$f":"+CPPE!$A35","v":"Dike and Levee"},{"$f":"IF(BA$9=\"\",\"\",IF(BA43=0,0,HLOOKUP(BA$9,CPPE!$A$1:$DB$177,AZ43,FALSE)))","v":""},{"$f":"IF(BB43=\"\",\"\",IF(BB43=0,\"\",IF(LandUse!$N36=2,\"\",IF(BB43>=$E$5,BA43,\"\"))))","v":""},35,{"$f":"+CPPE!$A35","v":"Dike and Levee"},{"$f":"IF(BE$9=\"\",\"\",IF(BE43=0,0,HLOOKUP(BE$9,CPPE!$A$1:$DB$177,BD43,FALSE)))","v":""},{"$f":"IF(BF43=\"\",\"\",IF(BF43=0,\"\",IF(LandUse!$N36=2,\"\",IF(BF43>=$E$5,BE43,\"\"))))","v":""},35,{"$f":"+CPPE!$A35","v":"Dike and Levee"},{"$f":"IF(BI$9=\"\",\"\",IF(BI43=0,0,HLOOKUP(BI$9,CPPE!$A$1:$DB$177,BH43,FALSE)))","v":""},{"$f":"IF(BJ43=\"\",\"\",IF(BJ43=0,\"\",IF(LandUse!$N36=2,\"\",IF(BJ43>=$E$5,BI43,\"\"))))","v":""},null,"","","","","","","","","",""]
[null,null,null,null,null,null,null,null,null,null,null,null,null,null,null,null,null,null,null,null,null,null,{"$f":"+CPPE!$A36","v":"Diversion"},36,{"$f":"+CPPE!$A36","v":"Diversion"},{"$f":"IF(Y$9=\"\",\"\",IF(Y44=0,0,HLOOKUP(Y$9,CPPE!$A$1:$DB$177,X44,FALSE)))","v":3},{"$f":"IF(Z44=\"\",\"\",IF(Z44=0,\"\",IF(LandUse!$N37=2,\"\",IF(Z44>=$E$5,Y44,\"\"))))","v":""},36,{"$f":"+CPPE!$A36","v":"Diversion"},{"$f":"IF(AC$9=\"\",\"\",IF(AC44=0,0,HLOOKUP(AC$9,CPPE!$A$1:$DB$177,AB44,FALSE)))","v":0},{"$f":"IF(AD44=\"\",\"\",IF(AD44=0,\"\",IF(LandUse!$N37=2,\"\",IF(AD44>=$E$5,AC44,\"\"))))","v":""},36,{"$f":"+CPPE!$A36","v":"Diversion"},{"$f":"IF(AG$9=\"\",\"\",IF(AG44=0,0,HLOOKUP(AG$9,CPPE!$A$1:$DB$177,AF44,FALSE)))","v":0},{"$f":"IF(AH44=\"\",\"\",IF(AH44=0,\"\",IF(LandUse!$N37=2,\"\",IF(AH44>=$E$5,AG44,\"\"))))","v":""},36,{"$f":"+CPPE!$A36","v":"Diversion"},{"$f":"IF(AK$9=\"\",\"\",IF(AK44=0,0,HLOOKUP(AK$9,CPPE!$A$1:$DB$177,AJ44,FALSE)))","v":0},{"$f":"IF(AL44=\"\",\"\",IF(AL44=0,\"\",IF(LandUse!$N37=2,\"\",IF(AL44>=$E$5,AK44,\"\"))))","v":""},36,{"$f":"+CPPE!$A36","v":"Diversion"},{"$f":"IF(AO$9=\"\",\"\",IF(AO44=0,0,HLOOKUP(AO$9,CPPE!$A$1:$DB$177,AN44,FALSE)))","v":""},{"$f":"IF(AP44=\"\",\"\",IF(AP44=0,\"\",IF(LandUse!$N37=2,\"\",IF(AP44>=$E$5,AO44,\"\"))))","v":""},36,{"$f":"+CPPE!$A36","v":"Diversion"},{"$f":"IF(AS$9=\"\",\"\",IF(AS44=0,0,HLOOKUP(AS$9,CPPE!$A$1:$DB$177,AR44,FALSE)))","v":""},{"$f":"IF(AT44=\"\",\"\",IF(AT44=0,\"\",IF(LandUse!$N37=2,\"\",IF(AT44>=$E$5,AS44,\"\"))))","v":""},36,{"$f":"+CPPE!$A36","v":"Diversion"},{"$f":"IF(AW$9=\"\",\"\",IF(AW44=0,0,HLOOKUP(AW$9,CPPE!$A$1:$DB$177,AV44,FALSE)))","v":""},{"$f":"IF(AX44=\"\",\"\",IF(AX44=0,\"\",IF(LandUse!$N37=2,\"\",IF(AX44>=$E$5,AW44,\"\"))))","v":""},36,{"$f":"+CPPE!$A36","v":"Diversion"},{"$f":"IF(BA$9=\"\",\"\",IF(BA44=0,0,HLOOKUP(BA$9,CPPE!$A$1:$DB$177,AZ44,FALSE)))","v":""},{"$f":"IF(BB44=\"\",\"\",IF(BB44=0,\"\",IF(LandUse!$N37=2,\"\",IF(BB44>=$E$5,BA44,\"\"))))","v":""},36,{"$f":"+CPPE!$A36","v":"Diversion"},{"$f":"IF(BE$9=\"\",\"\",IF(BE44=0,0,HLOOKUP(BE$9,CPPE!$A$1:$DB$177,BD44,FALSE)))","v":""},{"$f":"IF(BF44=\"\",\"\",IF(BF44=0,\"\",IF(LandUse!$N37=2,\"\",IF(BF44>=$E$5,BE44,\"\"))))","v":""},36,{"$f":"+CPPE!$A36","v":"Diversion"},{"$f":"IF(BI$9=\"\",\"\",IF(BI44=0,0,HLOOKUP(BI$9,CPPE!$A$1:$DB$177,BH44,FALSE)))","v":""},{"$f":"IF(BJ44=\"\",\"\",IF(BJ44=0,\"\",IF(LandUse!$N37=2,\"\",IF(BJ44>=$E$5,BI44,\"\"))))","v":""},null,"","","","","","","","","",""]
[null,null,null,null,null,null,null,null,null,null,null,null,null,null,null,null,null,null,null,null,null,null,{"$f":"+CPPE!$A37","v":"Drainage Water Management"},37,{"$f":"+CPPE!$A37","v":"Drainage Water Management"},{"$f":"IF(Y$9=\"\",\"\",IF(Y45=0,0,HLOOKUP(Y$9,CPPE!$A$1:$DB$177,X45,FALSE)))","v":0},{"$f":"IF(Z45=\"\",\"\",IF(Z45=0,\"\",IF(LandUse!$N38=2,\"\",IF(Z45>=$E$5,Y45,\"\"))))","v":""},37,{"$f":"+CPPE!$A37","v":"Drainage Water Management"},{"$f":"IF(AC$9=\"\",\"\",IF(AC45=0,0,HLOOKUP(AC$9,CPPE!$A$1:$DB$177,AB45,FALSE)))","v":-1},{"$f":"IF(AD45=\"\",\"\",IF(AD45=0,\"\",IF(LandUse!$N38=2,\"\",IF(AD45>=$E$5,AC45,\"\"))))","v":""},37,{"$f":"+CPPE!$A37","v":"Drainage Water Management"},{"$f":"IF(AG$9=\"\",\"\",IF(AG45=0,0,HLOOKUP(AG$9,CPPE!$A$1:$DB$177,AF45,FALSE)))","v":2},{"$f":"IF(AH45=\"\",\"\",IF(AH45=0,\"\",IF(LandUse!$N38=2,\"\",IF(AH45>=$E$5,AG45,\"\"))))","v":""},37,{"$f":"+CPPE!$A37","v":"Drainage Water Management"},{"$f":"IF(AK$9=\"\",\"\",IF(AK45=0,0,HLOOKUP(AK$9,CPPE!$A$1:$DB$177,AJ45,FALSE)))","v":0},{"$f":"IF(AL45=\"\",\"\",IF(AL45=0,\"\",IF(LandUse!$N38=2,\"\",IF(AL45>=$E$5,AK45,\"\"))))","v":""},37,{"$f":"+CPPE!$A37","v":"Drainage Water Management"},{"$f":"IF(AO$9=\"\",\"\",IF(AO45=0,0,HLOOKUP(AO$9,CPPE!$A$1:$DB$177,AN45,FALSE)))","v":""},{"$f":"IF(AP45=\"\",\"\",IF(AP45=0,\"\",IF(LandUse!$N38=2,\"\",IF(AP45>=$E$5,AO45,\"\"))))","v":""},37,{"$f":"+CPPE!$A37","v":"Drainage Water Management"},{"$f":"IF(AS$9=\"\",\"\",IF(AS45=0,0,HLOOKUP(AS$9,CPPE!$A$1:$DB$177,AR45,FALSE)))","v":""},{"$f":"IF(AT45=\"\",\"\",IF(AT45=0,\"\",IF(LandUse!$N38=2,\"\",IF(AT45>=$E$5,AS45,\"\"))))","v":""},37,{"$f":"+CPPE!$A37","v":"Drainage Water Management"},{"$f":"IF(AW$9=\"\",\"\",IF(AW45=0,0,HLOOKUP(AW$9,CPPE!$A$1:$DB$177,AV45,FALSE)))","v":""},{"$f":"IF(AX45=\"\",\"\",IF(AX45=0,\"\",IF(LandUse!$N38=2,\"\",IF(AX45>=$E$5,AW45,\"\"))))","v":""},37,{"$f":"+CPPE!$A37","v":"Drainage Water Management"},{"$f":"IF(BA$9=\"\",\"\",IF(BA45=0,0,HLOOKUP(BA$9,CPPE!$A$1:$DB$177,AZ45,FALSE)))","v":""},{"$f":"IF(BB45=\"\",\"\",IF(BB45=0,\"\",IF(LandUse!$N38=2,\"\",IF(BB45>=$E$5,BA45,\"\"))))","v":""},37,{"$f":"+CPPE!$A37","v":"Drainage Water Management"},{"$f":"IF(BE$9=\"\",\"\",IF(BE45=0,0,HLOOKUP(BE$9,CPPE!$A$1:$DB$177,BD45,FALSE)))","v":""},{"$f":"IF(BF45=\"\",\"\",IF(BF45=0,\"\",IF(LandUse!$N38=2,\"\",IF(BF45>=$E$5,BE45,\"\"))))","v":""},37,{"$f":"+CPPE!$A37","v":"Drainage Water Management"},{"$f":"IF(BI$9=\"\",\"\",IF(BI45=0,0,HLOOKUP(BI$9,CPPE!$A$1:$DB$177,BH45,FALSE)))","v":""},{"$f":"IF(BJ45=\"\",\"\",IF(BJ45=0,\"\",IF(LandUse!$N38=2,\"\",IF(BJ45>=$E$5,BI45,\"\"))))","v":""},null,"","","","","","","","","",""]
[null,null,null,null,null,null,null,null,null,null,null,null,null,null,null,null,null,null,null,null,null,null,{"$f":"+CPPE!$A38","v":"Dry Hydrant"},38,{"$f":"+CPPE!$A38","v":"Dry Hydrant"},{"$f":"IF(Y$9=\"\",\"\",IF(Y46=0,0,HLOOKUP(Y$9,CPPE!$A$1:$DB$177,X46,FALSE)))","v":0},{"$f":"IF(Z46=\"\",\"\",IF(Z46=0,\"\",IF(LandUse!$N39=2,\"\",IF(Z46>=$E$5,Y46,\"\"))))","v":""},38,{"$f":"+CPPE!$A38","v":"Dry Hydrant"},{"$f":"IF(AC$9=\"\",\"\",IF(AC46=0,0,HLOOKUP(AC$9,CPPE!$A$1:$DB$177,AB46,FALSE)))","v":0},{"$f":"IF(AD46=\"\",\"\",IF(AD46=0,\"\",IF(LandUse!$N39=2,\"\",IF(AD46>=$E$5,AC46,\"\"))))","v":""},38,{"$f":"+CPPE!$A38","v":"Dry Hydrant"},{"$f":"IF(AG$9=\"\",\"\",IF(AG46=0,0,HLOOKUP(AG$9,CPPE!$A$1:$DB$177,AF46,FALSE)))","v":0},{"$f":"IF(AH46=\"\",\"\",IF(AH46=0,\"\",IF(LandUse!$N39=2,\"\",IF(AH46>=$E$5,AG46,\"\"))))","v":""},38,{"$f":"+CPPE!$A38","v":"Dry Hydrant"},{"$f":"IF(AK$9=\"\",\"\",IF(AK46=0,0,HLOOKUP(AK$9,CPPE!$A$1:$DB$177,AJ46,FALSE)))","v":0},{"$f":"IF(AL46=\"\",\"\",IF(AL46=0,\"\",IF(LandUse!$N39=2,\"\",IF(AL46>=$E$5,AK46,\"\"))))","v":""},38,{"$f":"+CPPE!$A38","v":"Dry Hydrant"},{"$f":"IF(AO$9=\"\",\"\",IF(AO46=0,0,HLOOKUP(AO$9,CPPE!$A$1:$DB$177,AN46,FALSE)))","v":""},{"$f":"IF(AP46=\"\",\"\",IF(AP46=0,\"\",IF(LandUse!$N39=2,\"\",IF(AP46>=$E$5,AO46,\"\"))))","v":""},38,{"$f":"+CPPE!$A38","v":"Dry Hydrant"},{"$f":"IF(AS$9=\"\",\"\",IF(AS46=0,0,HLOOKUP(AS$9,CPPE!$A$1:$DB$177,AR46,FALSE)))","v":""},{"$f":"IF(AT46=\"\",\"\",IF(AT46=0,\"\",IF(LandUse!$N39=2,\"\",IF(AT46>=$E$5,AS46,\"\"))))","v":""},38,{"$f":"+CPPE!$A38","v":"Dry Hydrant"},{"$f":"IF(AW$9=\"\",\"\",IF(AW46=0,0,HLOOKUP(AW$9,CPPE!$A$1:$DB$177,AV46,FALSE)))","v":""},{"$f":"IF(AX46=\"\",\"\",IF(AX46=0,\"\",IF(LandUse!$N39=2,\"\",IF(AX46>=$E$5,AW46,\"\"))))","v":""},38,{"$f":"+CPPE!$A38","v":"Dry Hydrant"},{"$f":"IF(BA$9=\"\",\"\",IF(BA46=0,0,HLOOKUP(BA$9,CPPE!$A$1:$DB$177,AZ46,FALSE)))","v":""},{"$f":"IF(BB46=\"\",\"\",IF(BB46=0,\"\",IF(LandUse!$N39=2,\"\",IF(BB46>=$E$5,BA46,\"\"))))","v":""},38,{"$f":"+CPPE!$A38","v":"Dry Hydrant"},{"$f":"IF(BE$9=\"\",\"\",IF(BE46=0,0,HLOOKUP(BE$9,CPPE!$A$1:$DB$177,BD46,FALSE)))","v":""},{"$f":"IF(BF46=\"\",\"\",IF(BF46=0,\"\",IF(LandUse!$N39=2,\"\",IF(BF46>=$E$5,BE46,\"\"))))","v":""},38,{"$f":"+CPPE!$A38","v":"Dry Hydrant"},{"$f":"IF(BI$9=\"\",\"\",IF(BI46=0,0,HLOOKUP(BI$9,CPPE!$A$1:$DB$177,BH46,FALSE)))","v":""},{"$f":"IF(BJ46=\"\",\"\",IF(BJ46=0,\"\",IF(LandUse!$N39=2,\"\",IF(BJ46>=$E$5,BI46,\"\"))))","v":""},null,"","","","","","","","","",""]
[null,null,null,null,null,null,null,null,null,null,null,null,null,null,null,null,null,null,null,null,null,null,{"$f":"+CPPE!$A39","v":"Dust Control on Unpaved Roads and Surfaces"},39,{"$f":"+CPPE!$A39","v":"Dust Control on Unpaved Roads and Surfaces"},{"$f":"IF(Y$9=\"\",\"\",IF(Y47=0,0,HLOOKUP(Y$9,CPPE!$A$1:$DB$177,X47,FALSE)))","v":1},{"$f":"IF(Z47=\"\",\"\",IF(Z47=0,\"\",IF(LandUse!$N40=2,\"\",IF(Z47>=$E$5,Y47,\"\"))))","v":""},39,{"$f":"+CPPE!$A39","v":"Dust Control on Unpaved Roads and Surfaces"},{"$f":"IF(AC$9=\"\",\"\",IF(AC47=0,0,HLOOKUP(AC$9,CPPE!$A$1:$DB$177,AB47,FALSE)))","v":0},{"$f":"IF(AD47=\"\",\"\",IF(AD47=0,\"\",IF(LandUse!$N40=2,\"\",IF(AD47>=$E$5,AC47,\"\"))))","v":""},39,{"$f":"+CPPE!$A39","v":"Dust Control on Unpaved Roads and Surfaces"},{"$f":"IF(AG$9=\"\",\"\",IF(AG47=0,0,HLOOKUP(AG$9,CPPE!$A$1:$DB$177,AF47,FALSE)))","v":0},{"$f":"IF(AH47=\"\",\"\",IF(AH47=0,\"\",IF(LandUse!$N40=2,\"\",IF(AH47>=$E$5,AG47,\"\"))))","v":""},39,{"$f":"+CPPE!$A39","v":"Dust Control on Unpaved Roads and Surfaces"},{"$f":"IF(AK$9=\"\",\"\",IF(AK47=0,0,HLOOKUP(AK$9,CPPE!$A$1:$DB$177,AJ47,FALSE)))","v":0},{"$f":"IF(AL47=\"\",\"\",IF(AL47=0,\"\",IF(LandUse!$N40=2,\"\",IF(AL47>=$E$5,AK47,\"\"))))","v":""},39,{"$f":"+CPPE!$A39","v":"Dust Control on Unpaved Roads and Surfaces"},{"$f":"IF(AO$9=\"\",\"\",IF(AO47=0,0,HLOOKUP(AO$9,CPPE!$A$1:$DB$177,AN47,FALSE)))","v":""},{"$f":"IF(AP47=\"\",\"\",IF(AP47=0,\"\",IF(LandUse!$N40=2,\"\",IF(AP47>=$E$5,AO47,\"\"))))","v":""},39,{"$f":"+CPPE!$A39","v":"Dust Control on Unpaved Roads and Surfaces"},{"$f":"IF(AS$9=\"\",\"\",IF(AS47=0,0,HLOOKUP(AS$9,CPPE!$A$1:$DB$177,AR47,FALSE)))","v":""},{"$f":"IF(AT47=\"\",\"\",IF(AT47=0,\"\",IF(LandUse!$N40=2,\"\",IF(AT47>=$E$5,AS47,\"\"))))","v":""},39,{"$f":"+CPPE!$A39","v":"Dust Control on Unpaved Roads and Surfaces"},{"$f":"IF(AW$9=\"\",\"\",IF(AW47=0,0,HLOOKUP(AW$9,CPPE!$A$1:$DB$177,AV47,FALSE)))","v":""},{"$f":"IF(AX47=\"\",\"\",IF(AX47=0,\"\",IF(LandUse!$N40=2,\"\",IF(AX47>=$E$5,AW47,\"\"))))","v":""},39,{"$f":"+CPPE!$A39","v":"Dust Control on Unpaved Roads and Surfaces"},{"$f":"IF(BA$9=\"\",\"\",IF(BA47=0,0,HLOOKUP(BA$9,CPPE!$A$1:$DB$177,AZ47,FALSE)))","v":""},{"$f":"IF(BB47=\"\",\"\",IF(BB47=0,\"\",IF(LandUse!$N40=2,\"\",IF(BB47>=$E$5,BA47,\"\"))))","v":""},39,{"$f":"+CPPE!$A39","v":"Dust Control on Unpaved Roads and Surfaces"},{"$f":"IF(BE$9=\"\",\"\",IF(BE47=0,0,HLOOKUP(BE$9,CPPE!$A$1:$DB$177,BD47,FALSE)))","v":""},{"$f":"IF(BF47=\"\",\"\",IF(BF47=0,\"\",IF(LandUse!$N40=2,\"\",IF(BF47>=$E$5,BE47,\"\"))))","v":""},39,{"$f":"+CPPE!$A39","v":"Dust Control on Unpaved Roads and Surfaces"},{"$f":"IF(BI$9=\"\",\"\",IF(BI47=0,0,HLOOKUP(BI$9,CPPE!$A$1:$DB$177,BH47,FALSE)))","v":""},{"$f":"IF(BJ47=\"\",\"\",IF(BJ47=0,\"\",IF(LandUse!$N40=2,\"\",IF(BJ47>=$E$5,BI47,\"\"))))","v":""},null,"","","","","","","","","",""]
[null,null,null,null,null,null,null,null,null,null,null,null,null,null,null,null,null,null,null,null,null,null,{"$f":"+CPPE!$A40","v":"Dust Management for Pen Surfaces"},40,{"$f":"+CPPE!$A40","v":"Dust Management for Pen Surfaces"},{"$f":"IF(Y$9=\"\",\"\",IF(Y48=0,0,HLOOKUP(Y$9,CPPE!$A$1:$DB$177,X48,FALSE)))","v":0},{"$f":"IF(Z48=\"\",\"\",IF(Z48=0,\"\",IF(LandUse!$N41=2,\"\",IF(Z48>=$E$5,Y48,\"\"))))","v":""},40,{"$f":"+CPPE!$A40","v":"Dust Management for Pen Surfaces"},{"$f":"IF(AC$9=\"\",\"\",IF(AC48=0,0,HLOOKUP(AC$9,CPPE!$A$1:$DB$177,AB48,FALSE)))","v":0},{"$f":"IF(AD48=\"\",\"\",IF(AD48=0,\"\",IF(LandUse!$N41=2,\"\",IF(AD48>=$E$5,AC48,\"\"))))","v":""},40,{"$f":"+CPPE!$A40","v":"Dust Management for Pen Surfaces"},{"$f":"IF(AG$9=\"\",\"\",IF(AG48=0,0,HLOOKUP(AG$9,CPPE!$A$1:$DB$177,AF48,FALSE)))","v":0},{"$f":"IF(AH48=\"\",\"\",IF(AH48=0,\"\",IF(LandUse!$N41=2,\"\",IF(AH48>=$E$5,AG48,\"\"))))","v":""},40,{"$f":"+CPPE!$A40","v":"Dust Management for Pen Surfaces"},{"$f":"IF(AK$9=\"\",\"\",IF(AK48=0,0,HLOOKUP(AK$9,CPPE!$A$1:$DB$177,AJ48,FALSE)))","v":0},{"$f":"IF(AL48=\"\",\"\",IF(AL48=0,\"\",IF(LandUse!$N41=2,\"\",IF(AL48>=$E$5,AK48,\"\"))))","v":""},40,{"$f":"+CPPE!$A40","v":"Dust Management for Pen Surfaces"},{"$f":"IF(AO$9=\"\",\"\",IF(AO48=0,0,HLOOKUP(AO$9,CPPE!$A$1:$DB$177,AN48,FALSE)))","v":""},{"$f":"IF(AP48=\"\",\"\",IF(AP48=0,\"\",IF(LandUse!$N41=2,\"\",IF(AP48>=$E$5,AO48,\"\"))))","v":""},40,{"$f":"+CPPE!$A40","v":"Dust Management for Pen Surfaces"},{"$f":"IF(AS$9=\"\",\"\",IF(AS48=0,0,HLOOKUP(AS$9,CPPE!$A$1:$DB$177,AR48,FALSE)))","v":""},{"$f":"IF(AT48=\"\",\"\",IF(AT48=0,\"\",IF(LandUse!$N41=2,\"\",IF(AT48>=$E$5,AS48,\"\"))))","v":""},40,{"$f":"+CPPE!$A40","v":"Dust Management for Pen Surfaces"},{"$f":"IF(AW$9=\"\",\"\",IF(AW48=0,0,HLOOKUP(AW$9,CPPE!$A$1:$DB$177,AV48,FALSE)))","v":""},{"$f":"IF(AX48=\"\",\"\",IF(AX48=0,\"\",IF(LandUse!$N41=2,\"\",IF(AX48>=$E$5,AW48,\"\"))))","v":""},40,{"$f":"+CPPE!$A40","v":"Dust Management for Pen Surfaces"},{"$f":"IF(BA$9=\"\",\"\",IF(BA48=0,0,HLOOKUP(BA$9,CPPE!$A$1:$DB$177,AZ48,FALSE)))","v":""},{"$f":"IF(BB48=\"\",\"\",IF(BB48=0,\"\",IF(LandUse!$N41=2,\"\",IF(BB48>=$E$5,BA48,\"\"))))","v":""},40,{"$f":"+CPPE!$A40","v":"Dust Management for Pen Surfaces"},{"$f":"IF(BE$9=\"\",\"\",IF(BE48=0,0,HLOOKUP(BE$9,CPPE!$A$1:$DB$177,BD48,FALSE)))","v":""},{"$f":"IF(BF48=\"\",\"\",IF(BF48=0,\"\",IF(LandUse!$N41=2,\"\",IF(BF48>=$E$5,BE48,\"\"))))","v":""},40,{"$f":"+CPPE!$A40","v":"Dust Management for Pen Surfaces"},{"$f":"IF(BI$9=\"\",\"\",IF(BI48=0,0,HLOOKUP(BI$9,CPPE!$A$1:$DB$177,BH48,FALSE)))","v":""},{"$f":"IF(BJ48=\"\",\"\",IF(BJ48=0,\"\",IF(LandUse!$N41=2,\"\",IF(BJ48>=$E$5,BI48,\"\"))))","v":""},null,"","","","","","","","","",""]
[null,null,null,null,null,null,null,null,null,null,null,null,null,null,null,null,null,null,null,null,null,null,{"$f":"+CPPE!$A41","v":"Early Successional Habitat Development/Mgt."},41,{"$f":"+CPPE!$A41","v":"Early Successional Habitat Development/Mgt."},{"$f":"IF(Y$9=\"\",\"\",IF(Y49=0,0,HLOOKUP(Y$9,CPPE!$A$1:$DB$177,X49,FALSE)))","v":0},{"$f":"IF(Z49=\"\",\"\",IF(Z49=0,\"\",IF(LandUse!$N42=2,\"\",IF(Z49>=$E$5,Y49,\"\"))))","v":""},41,{"$f":"+CPPE!$A41","v":"Early Successional Habitat Development/Mgt."},{"$f":"IF(AC$9=\"\",\"\",IF(AC49=0,0,HLOOKUP(AC$9,CPPE!$A$1:$DB$177,AB49,FALSE)))","v":0},{"$f":"IF(AD49=\"\",\"\",IF(AD49=0,\"\",IF(LandUse!$N42=2,\"\",IF(AD49>=$E$5,AC49,\"\"))))","v":""},41,{"$f":"+CPPE!$A41","v":"Early Successional Habitat Development/Mgt."},{"$f":"IF(AG$9=\"\",\"\",IF(AG49=0,0,HLOOKUP(AG$9,CPPE!$A$1:$DB$177,AF49,FALSE)))","v":0},{"$f":"IF(AH49=\"\",\"\",IF(AH49=0,\"\",IF(LandUse!$N42=2,\"\",IF(AH49>=$E$5,AG49,\"\"))))","v":""},41,{"$f":"+CPPE!$A41","v":"Early Successional Habitat Development/Mgt."},{"$f":"IF(AK$9=\"\",\"\",IF(AK49=0,0,HLOOKUP(AK$9,CPPE!$A$1:$DB$177,AJ49,FALSE)))","v":0},{"$f":"IF(AL49=\"\",\"\",IF(AL49=0,\"\",IF(LandUse!$N42=2,\"\",IF(AL49>=$E$5,AK49,\"\"))))","v":""},41,{"$f":"+CPPE!$A41","v":"Early Successional Habitat Development/Mgt."},{"$f":"IF(AO$9=\"\",\"\",IF(AO49=0,0,HLOOKUP(AO$9,CPPE!$A$1:$DB$177,AN49,FALSE)))","v":""},{"$f":"IF(AP49=\"\",\"\",IF(AP49=0,\"\",IF(LandUse!$N42=2,\"\",IF(AP49>=$E$5,AO49,\"\"))))","v":""},41,{"$f":"+CPPE!$A41","v":"Early Successional Habitat Development/Mgt."},{"$f":"IF(AS$9=\"\",\"\",IF(AS49=0,0,HLOOKUP(AS$9,CPPE!$A$1:$DB$177,AR49,FALSE)))","v":""},{"$f":"IF(AT49=\"\",\"\",IF(AT49=0,\"\",IF(LandUse!$N42=2,\"\",IF(AT49>=$E$5,AS49,\"\"))))","v":""},41,{"$f":"+CPPE!$A41","v":"Early Successional Habitat Development/Mgt."},{"$f":"IF(AW$9=\"\",\"\",IF(AW49=0,0,HLOOKUP(AW$9,CPPE!$A$1:$DB$177,AV49,FALSE)))","v":""},{"$f":"IF(AX49=\"\",\"\",IF(AX49=0,\"\",IF(LandUse!$N42=2,\"\",IF(AX49>=$E$5,AW49,\"\"))))","v":""},41,{"$f":"+CPPE!$A41","v":"Early Successional Habitat Development/Mgt."},{"$f":"IF(BA$9=\"\",\"\",IF(BA49=0,0,HLOOKUP(BA$9,CPPE!$A$1:$DB$177,AZ49,FALSE)))","v":""},{"$f":"IF(BB49=\"\",\"\",IF(BB49=0,\"\",IF(LandUse!$N42=2,\"\",IF(BB49>=$E$5,BA49,\"\"))))","v":""},41,{"$f":"+CPPE!$A41","v":"Early Successional Habitat Development/Mgt."},{"$f":"IF(BE$9=\"\",\"\",IF(BE49=0,0,HLOOKUP(BE$9,CPPE!$A$1:$DB$177,BD49,FALSE)))","v":""},{"$f":"IF(BF49=\"\",\"\",IF(BF49=0,\"\",IF(LandUse!$N42=2,\"\",IF(BF49>=$E$5,BE49,\"\"))))","v":""},41,{"$f":"+CPPE!$A41","v":"Early Successional Habitat Development/Mgt."},{"$f":"IF(BI$9=\"\",\"\",IF(BI49=0,0,HLOOKUP(BI$9,CPPE!$A$1:$DB$177,BH49,FALSE)))","v":""},{"$f":"IF(BJ49=\"\",\"\",IF(BJ49=0,\"\",IF(LandUse!$N42=2,\"\",IF(BJ49>=$E$5,BI49,\"\"))))","v":""},null,"","","","","","","","","",""]
[null,null,null,null,null,null,null,null,null,null,null,null,null,null,null,null,null,null,null,null,null,null,{"$f":"+CPPE!$A42","v":"Emergency Animal Mortality Management"},42,{"$f":"+CPPE!$A42","v":"Emergency Animal Mortality Management"},{"$f":"IF(Y$9=\"\",\"\",IF(Y50=0,0,HLOOKUP(Y$9,CPPE!$A$1:$DB$177,X50,FALSE)))","v":0},{"$f":"IF(Z50=\"\",\"\",IF(Z50=0,\"\",IF(LandUse!$N43=2,\"\",IF(Z50>=$E$5,Y50,\"\"))))","v":""},42,{"$f":"+CPPE!$A42","v":"Emergency Animal Mortality Management"},{"$f":"IF(AC$9=\"\",\"\",IF(AC50=0,0,HLOOKUP(AC$9,CPPE!$A$1:$DB$177,AB50,FALSE)))","v":0},{"$f":"IF(AD50=\"\",\"\",IF(AD50=0,\"\",IF(LandUse!$N43=2,\"\",IF(AD50>=$E$5,AC50,\"\"))))","v":""},42,{"$f":"+CPPE!$A42","v":"Emergency Animal Mortality Management"},{"$f":"IF(AG$9=\"\",\"\",IF(AG50=0,0,HLOOKUP(AG$9,CPPE!$A$1:$DB$177,AF50,FALSE)))","v":0},{"$f":"IF(AH50=\"\",\"\",IF(AH50=0,\"\",IF(LandUse!$N43=2,\"\",IF(AH50>=$E$5,AG50,\"\"))))","v":""},42,{"$f":"+CPPE!$A42","v":"Emergency Animal Mortality Management"},{"$f":"IF(AK$9=\"\",\"\",IF(AK50=0,0,HLOOKUP(AK$9,CPPE!$A$1:$DB$177,AJ50,FALSE)))","v":0},{"$f":"IF(AL50=\"\",\"\",IF(AL50=0,\"\",IF(LandUse!$N43=2,\"\",IF(AL50>=$E$5,AK50,\"\"))))","v":""},42,{"$f":"+CPPE!$A42","v":"Emergency Animal Mortality Management"},{"$f":"IF(AO$9=\"\",\"\",IF(AO50=0,0,HLOOKUP(AO$9,CPPE!$A$1:$DB$177,AN50,FALSE)))","v":""},{"$f":"IF(AP50=\"\",\"\",IF(AP50=0,\"\",IF(LandUse!$N43=2,\"\",IF(AP50>=$E$5,AO50,\"\"))))","v":""},42,{"$f":"+CPPE!$A42","v":"Emergency Animal Mortality Management"},{"$f":"IF(AS$9=\"\",\"\",IF(AS50=0,0,HLOOKUP(AS$9,CPPE!$A$1:$DB$177,AR50,FALSE)))","v":""},{"$f":"IF(AT50=\"\",\"\",IF(AT50=0,\"\",IF(LandUse!$N43=2,\"\",IF(AT50>=$E$5,AS50,\"\"))))","v":""},42,{"$f":"+CPPE!$A42","v":"Emergency Animal Mortality Management"},{"$f":"IF(AW$9=\"\",\"\",IF(AW50=0,0,HLOOKUP(AW$9,CPPE!$A$1:$DB$177,AV50,FALSE)))","v":""},{"$f":"IF(AX50=\"\",\"\",IF(AX50=0,\"\",IF(LandUse!$N43=2,\"\",IF(AX50>=$E$5,AW50,\"\"))))","v":""},42,{"$f":"+CPPE!$A42","v":"Emergency Animal Mortality Management"},{"$f":"IF(BA$9=\"\",\"\",IF(BA50=0,0,HLOOKUP(BA$9,CPPE!$A$1:$DB$177,AZ50,FALSE)))","v":""},{"$f":"IF(BB50=\"\",\"\",IF(BB50=0,\"\",IF(LandUse!$N43=2,\"\",IF(BB50>=$E$5,BA50,\"\"))))","v":""},42,{"$f":"+CPPE!$A42","v":"Emergency Animal Mortality Management"},{"$f":"IF(BE$9=\"\",\"\",IF(BE50=0,0,HLOOKUP(BE$9,CPPE!$A$1:$DB$177,BD50,FALSE)))","v":""},{"$f":"IF(BF50=\"\",\"\",IF(BF50=0,\"\",IF(LandUse!$N43=2,\"\",IF(BF50>=$E$5,BE50,\"\"))))","v":""},42,{"$f":"+CPPE!$A42","v":"Emergency Animal Mortality Management"},{"$f":"IF(BI$9=\"\",\"\",IF(BI50=0,0,HLOOKUP(BI$9,CPPE!$A$1:$DB$177,BH50,FALSE)))","v":""},{"$f":"IF(BJ50=\"\",\"\",IF(BJ50=0,\"\",IF(LandUse!$N43=2,\"\",IF(BJ50>=$E$5,BI50,\"\"))))","v":""},null,"","","","","","","","","",""]
[null,null,null,null,null,null,null,null,null,null,null,null,null,null,null,null,null,null,null,null,null,null,{"$f":"+CPPE!$A43","v":"Energy Efficient Agricultural Operation"},43,{"$f":"+CPPE!$A43","v":"Energy Efficient Agricultural Operation"},{"$f":"IF(Y$9=\"\",\"\",IF(Y51=0,0,HLOOKUP(Y$9,CPPE!$A$1:$DB$177,X51,FALSE)))","v":0},{"$f":"IF(Z51=\"\",\"\",IF(Z51=0,\"\",IF(LandUse!$N44=2,\"\",IF(Z51>=$E$5,Y51,\"\"))))","v":""},43,{"$f":"+CPPE!$A43","v":"Energy Efficient Agricultural Operation"},{"$f":"IF(AC$9=\"\",\"\",IF(AC51=0,0,HLOOKUP(AC$9,CPPE!$A$1:$DB$177,AB51,FALSE)))","v":0},{"$f":"IF(AD51=\"\",\"\",IF(AD51=0,\"\",IF(LandUse!$N44=2,\"\",IF(AD51>=$E$5,AC51,\"\"))))","v":""},43,{"$f":"+CPPE!$A43","v":"Energy Efficient Agricultural Operation"},{"$f":"IF(AG$9=\"\",\"\",IF(AG51=0,0,HLOOKUP(AG$9,CPPE!$A$1:$DB$177,AF51,FALSE)))","v":0},{"$f":"IF(AH51=\"\",\"\",IF(AH51=0,\"\",IF(LandUse!$N44=2,\"\",IF(AH51>=$E$5,AG51,\"\"))))","v":""},43,{"$f":"+CPPE!$A43","v":"Energy Efficient Agricultural Operation"},{"$f":"IF(AK$9=\"\",\"\",IF(AK51=0,0,HLOOKUP(AK$9,CPPE!$A$1:$DB$177,AJ51,FALSE)))","v":0},{"$f":"IF(AL51=\"\",\"\",IF(AL51=0,\"\",IF(LandUse!$N44=2,\"\",IF(AL51>=$E$5,AK51,\"\"))))","v":""},43,{"$f":"+CPPE!$A43","v":"Energy Efficient Agricultural Operation"},{"$f":"IF(AO$9=\"\",\"\",IF(AO51=0,0,HLOOKUP(AO$9,CPPE!$A$1:$DB$177,AN51,FALSE)))","v":""},{"$f":"IF(AP51=\"\",\"\",IF(AP51=0,\"\",IF(LandUse!$N44=2,\"\",IF(AP51>=$E$5,AO51,\"\"))))","v":""},43,{"$f":"+CPPE!$A43","v":"Energy Efficient Agricultural Operation"},{"$f":"IF(AS$9=\"\",\"\",IF(AS51=0,0,HLOOKUP(AS$9,CPPE!$A$1:$DB$177,AR51,FALSE)))","v":""},{"$f":"IF(AT51=\"\",\"\",IF(AT51=0,\"\",IF(LandUse!$N44=2,\"\",IF(AT51>=$E$5,AS51,\"\"))))","v":""},43,{"$f":"+CPPE!$A43","v":"Energy Efficient Agricultural Operation"},{"$f":"IF(AW$9=\"\",\"\",IF(AW51=0,0,HLOOKUP(AW$9,CPPE!$A$1:$DB$177,AV51,FALSE)))","v":""},{"$f":"IF(AX51=\"\",\"\",IF(AX51=0,\"\",IF(LandUse!$N44=2,\"\",IF(AX51>=$E$5,AW51,\"\"))))","v":""},43,{"$f":"+CPPE!$A43","v":"Energy Efficient Agricultural Operation"},{"$f":"IF(BA$9=\"\",\"\",IF(BA51=0,0,HLOOKUP(BA$9,CPPE!$A$1:$DB$177,AZ51,FALSE)))","v":""},{"$f":"IF(BB51=\"\",\"\",IF(BB51=0,\"\",IF(LandUse!$N44=2,\"\",IF(BB51>=$E$5,BA51,\"\"))))","v":""},43,{"$f":"+CPPE!$A43","v":"Energy Efficient Agricultural Operation"},{"$f":"IF(BE$9=\"\",\"\",IF(BE51=0,0,HLOOKUP(BE$9,CPPE!$A$1:$DB$177,BD51,FALSE)))","v":""},{"$f":"IF(BF51=\"\",\"\",IF(BF51=0,\"\",IF(LandUse!$N44=2,\"\",IF(BF51>=$E$5,BE51,\"\"))))","v":""},43,{"$f":"+CPPE!$A43","v":"Energy Efficient Agricultural Operation"},{"$f":"IF(BI$9=\"\",\"\",IF(BI51=0,0,HLOOKUP(BI$9,CPPE!$A$1:$DB$177,BH51,FALSE)))","v":""},{"$f":"IF(BJ51=\"\",\"\",IF(BJ51=0,\"\",IF(LandUse!$N44=2,\"\",IF(BJ51>=$E$5,BI51,\"\"))))","v":""},null,"","","","","","","","","",""]
[null,null,null,null,null,null,null,null,null,null,null,null,null,null,null,null,null,null,null,null,null,null,{"$f":"+CPPE!$A44","v":"Energy Efficient Building Envelope"},44,{"$f":"+CPPE!$A44","v":"Energy Efficient Building Envelope"},{"$f":"IF(Y$9=\"\",\"\",IF(Y52=0,0,HLOOKUP(Y$9,CPPE!$A$1:$DB$177,X52,FALSE)))","v":0},{"$f":"IF(Z52=\"\",\"\",IF(Z52=0,\"\",IF(LandUse!$N45=2,\"\",IF(Z52>=$E$5,Y52,\"\"))))","v":""},44,{"$f":"+CPPE!$A44","v":"Energy Efficient Building Envelope"},{"$f":"IF(AC$9=\"\",\"\",IF(AC52=0,0,HLOOKUP(AC$9,CPPE!$A$1:$DB$177,AB52,FALSE)))","v":0},{"$f":"IF(AD52=\"\",\"\",IF(AD52=0,\"\",IF(LandUse!$N45=2,\"\",IF(AD52>=$E$5,AC52,\"\"))))","v":""},44,{"$f":"+CPPE!$A44","v":"Energy Efficient Building Envelope"},{"$f":"IF(AG$9=\"\",\"\",IF(AG52=0,0,HLOOKUP(AG$9,CPPE!$A$1:$DB$177,AF52,FALSE)))","v":0},{"$f":"IF(AH52=\"\",\"\",IF(AH52=0,\"\",IF(LandUse!$N45=2,\"\",IF(AH52>=$E$5,AG52,\"\"))))","v":""},44,{"$f":"+CPPE!$A44","v":"Energy Efficient Building Envelope"},{"$f":"IF(AK$9=\"\",\"\",IF(AK52=0,0,HLOOKUP(AK$9,CPPE!$A$1:$DB$177,AJ52,FALSE)))","v":0},{"$f":"IF(AL52=\"\",\"\",IF(AL52=0,\"\",IF(LandUse!$N45=2,\"\",IF(AL52>=$E$5,AK52,\"\"))))","v":""},44,{"$f":"+CPPE!$A44","v":"Energy Efficient Building Envelope"},{"$f":"IF(AO$9=\"\",\"\",IF(AO52=0,0,HLOOKUP(AO$9,CPPE!$A$1:$DB$177,AN52,FALSE)))","v":""},{"$f":"IF(AP52=\"\",\"\",IF(AP52=0,\"\",IF(LandUse!$N45=2,\"\",IF(AP52>=$E$5,AO52,\"\"))))","v":""},44,{"$f":"+CPPE!$A44","v":"Energy Efficient Building Envelope"},{"$f":"IF(AS$9=\"\",\"\",IF(AS52=0,0,HLOOKUP(AS$9,CPPE!$A$1:$DB$177,AR52,FALSE)))","v":""},{"$f":"IF(AT52=\"\",\"\",IF(AT52=0,\"\",IF(LandUse!$N45=2,\"\",IF(AT52>=$E$5,AS52,\"\"))))","v":""},44,{"$f":"+CPPE!$A44","v":"Energy Efficient Building Envelope"},{"$f":"IF(AW$9=\"\",\"\",IF(AW52=0,0,HLOOKUP(AW$9,CPPE!$A$1:$DB$177,AV52,FALSE)))","v":""},{"$f":"IF(AX52=\"\",\"\",IF(AX52=0,\"\",IF(LandUse!$N45=2,\"\",IF(AX52>=$E$5,AW52,\"\"))))","v":""},44,{"$f":"+CPPE!$A44","v":"Energy Efficient Building Envelope"},{"$f":"IF(BA$9=\"\",\"\",IF(BA52=0,0,HLOOKUP(BA$9,CPPE!$A$1:$DB$177,AZ52,FALSE)))","v":""},{"$f":"IF(BB52=\"\",\"\",IF(BB52=0,\"\",IF(LandUse!$N45=2,\"\",IF(BB52>=$E$5,BA52,\"\"))))","v":""},44,{"$f":"+CPPE!$A44","v":"Energy Efficient Building Envelope"},{"$f":"IF(BE$9=\"\",\"\",IF(BE52=0,0,HLOOKUP(BE$9,CPPE!$A$1:$DB$177,BD52,FALSE)))","v":""},{"$f":"IF(BF52=\"\",\"\",IF(BF52=0,\"\",IF(LandUse!$N45=2,\"\",IF(BF52>=$E$5,BE52,\"\"))))","v":""},44,{"$f":"+CPPE!$A44","v":"Energy Efficient Building Envelope"},{"$f":"IF(BI$9=\"\",\"\",IF(BI52=0,0,HLOOKUP(BI$9,CPPE!$A$1:$DB$177,BH52,FALSE)))","v":""},{"$f":"IF(BJ52=\"\",\"\",IF(BJ52=0,\"\",IF(LandUse!$N45=2,\"\",IF(BJ52>=$E$5,BI52,\"\"))))","v":""},null,"","","","","","","","","",""]
[null,null,null,null,null,null,null,null,null,null,null,null,null,null,null,null,null,null,null,null,null,null,{"$f":"+CPPE!$A45","v":"Energy Efficient Lighting System"},45,{"$f":"+CPPE!$A45","v":"Energy Efficient Lighting System"},{"$f":"IF(Y$9=\"\",\"\",IF(Y53=0,0,HLOOKUP(Y$9,CPPE!$A$1:$DB$177,X53,FALSE)))","v":0},{"$f":"IF(Z53=\"\",\"\",IF(Z53=0,\"\",IF(LandUse!$N46=2,\"\",IF(Z53>=$E$5,Y53,\"\"))))","v":""},45,{"$f":"+CPPE!$A45","v":"Energy Efficient Lighting System"},{"$f":"IF(AC$9=\"\",\"\",IF(AC53=0,0,HLOOKUP(AC$9,CPPE!$A$1:$DB$177,AB53,FALSE)))","v":0},{"$f":"IF(AD53=\"\",\"\",IF(AD53=0,\"\",IF(LandUse!$N46=2,\"\",IF(AD53>=$E$5,AC53,\"\"))))","v":""},45,{"$f":"+CPPE!$A45","v":"Energy Efficient Lighting System"},{"$f":"IF(AG$9=\"\",\"\",IF(AG53=0,0,HLOOKUP(AG$9,CPPE!$A$1:$DB$177,AF53,FALSE)))","v":0},{"$f":"IF(AH53=\"\",\"\",IF(AH53=0,\"\",IF(LandUse!$N46=2,\"\",IF(AH53>=$E$5,AG53,\"\"))))","v":""},45,{"$f":"+CPPE!$A45","v":"Energy Efficient Lighting System"},{"$f":"IF(AK$9=\"\",\"\",IF(AK53=0,0,HLOOKUP(AK$9,CPPE!$A$1:$DB$177,AJ53,FALSE)))","v":0},{"$f":"IF(AL53=\"\",\"\",IF(AL53=0,\"\",IF(LandUse!$N46=2,\"\",IF(AL53>=$E$5,AK53,\"\"))))","v":""},45,{"$f":"+CPPE!$A45","v":"Energy Efficient Lighting System"},{"$f":"IF(AO$9=\"\",\"\",IF(AO53=0,0,HLOOKUP(AO$9,CPPE!$A$1:$DB$177,AN53,FALSE)))","v":""},{"$f":"IF(AP53=\"\",\"\",IF(AP53=0,\"\",IF(LandUse!$N46=2,\"\",IF(AP53>=$E$5,AO53,\"\"))))","v":""},45,{"$f":"+CPPE!$A45","v":"Energy Efficient Lighting System"},{"$f":"IF(AS$9=\"\",\"\",IF(AS53=0,0,HLOOKUP(AS$9,CPPE!$A$1:$DB$177,AR53,FALSE)))","v":""},{"$f":"IF(AT53=\"\",\"\",IF(AT53=0,\"\",IF(LandUse!$N46=2,\"\",IF(AT53>=$E$5,AS53,\"\"))))","v":""},45,{"$f":"+CPPE!$A45","v":"Energy Efficient Lighting System"},{"$f":"IF(AW$9=\"\",\"\",IF(AW53=0,0,HLOOKUP(AW$9,CPPE!$A$1:$DB$177,AV53,FALSE)))","v":""},{"$f":"IF(AX53=\"\",\"\",IF(AX53=0,\"\",IF(LandUse!$N46=2,\"\",IF(AX53>=$E$5,AW53,\"\"))))","v":""},45,{"$f":"+CPPE!$A45","v":"Energy Efficient Lighting System"},{"$f":"IF(BA$9=\"\",\"\",IF(BA53=0,0,HLOOKUP(BA$9,CPPE!$A$1:$DB$177,AZ53,FALSE)))","v":""},{"$f":"IF(BB53=\"\",\"\",IF(BB53=0,\"\",IF(LandUse!$N46=2,\"\",IF(BB53>=$E$5,BA53,\"\"))))","v":""},45,{"$f":"+CPPE!$A45","v":"Energy Efficient Lighting System"},{"$f":"IF(BE$9=\"\",\"\",IF(BE53=0,0,HLOOKUP(BE$9,CPPE!$A$1:$DB$177,BD53,FALSE)))","v":""},{"$f":"IF(BF53=\"\",\"\",IF(BF53=0,\"\",IF(LandUse!$N46=2,\"\",IF(BF53>=$E$5,BE53,\"\"))))","v":""},45,{"$f":"+CPPE!$A45","v":"Energy Efficient Lighting System"},{"$f":"IF(BI$9=\"\",\"\",IF(BI53=0,0,HLOOKUP(BI$9,CPPE!$A$1:$DB$177,BH53,FALSE)))","v":""},{"$f":"IF(BJ53=\"\",\"\",IF(BJ53=0,\"\",IF(LandUse!$N46=2,\"\",IF(BJ53>=$E$5,BI53,\"\"))))","v":""},null,"","","","","","","","","",""]
[null,null,null,null,null,null,null,null,null,null,null,null,null,null,null,null,null,null,null,null,null,null,{"$f":"+CPPE!$A46","v":"Feed Management"},46,{"$f":"+CPPE!$A46","v":"Feed Management"},{"$f":"IF(Y$9=\"\",\"\",IF(Y54=0,0,HLOOKUP(Y$9,CPPE!$A$1:$DB$177,X54,FALSE)))","v":0},{"$f":"IF(Z54=\"\",\"\",IF(Z54=0,\"\",IF(LandUse!$N47=2,\"\",IF(Z54>=$E$5,Y54,\"\"))))","v":""},46,{"$f":"+CPPE!$A46","v":"Feed Management"},{"$f":"IF(AC$9=\"\",\"\",IF(AC54=0,0,HLOOKUP(AC$9,CPPE!$A$1:$DB$177,AB54,FALSE)))","v":0},{"$f":"IF(AD54=\"\",\"\",IF(AD54=0,\"\",IF(LandUse!$N47=2,\"\",IF(AD54>=$E$5,AC54,\"\"))))","v":""},46,{"$f":"+CPPE!$A46","v":"Feed Management"},{"$f":"IF(AG$9=\"\",\"\",IF(AG54=0,0,HLOOKUP(AG$9,CPPE!$A$1:$DB$177,AF54,FALSE)))","v":0},{"$f":"IF(AH54=\"\",\"\",IF(AH54=0,\"\",IF(LandUse!$N47=2,\"\",IF(AH54>=$E$5,AG54,\"\"))))","v":""},46,{"$f":"+CPPE!$A46","v":"Feed Management"},{"$f":"IF(AK$9=\"\",\"\",IF(AK54=0,0,HLOOKUP(AK$9,CPPE!$A$1:$DB$177,AJ54,FALSE)))","v":0},{"$f":"IF(AL54=\"\",\"\",IF(AL54=0,\"\",IF(LandUse!$N47=2,\"\",IF(AL54>=$E$5,AK54,\"\"))))","v":""},46,{"$f":"+CPPE!$A46","v":"Feed Management"},{"$f":"IF(AO$9=\"\",\"\",IF(AO54=0,0,HLOOKUP(AO$9,CPPE!$A$1:$DB$177,AN54,FALSE)))","v":""},{"$f":"IF(AP54=\"\",\"\",IF(AP54=0,\"\",IF(LandUse!$N47=2,\"\",IF(AP54>=$E$5,AO54,\"\"))))","v":""},46,{"$f":"+CPPE!$A46","v":"Feed Management"},{"$f":"IF(AS$9=\"\",\"\",IF(AS54=0,0,HLOOKUP(AS$9,CPPE!$A$1:$DB$177,AR54,FALSE)))","v":""},{"$f":"IF(AT54=\"\",\"\",IF(AT54=0,\"\",IF(LandUse!$N47=2,\"\",IF(AT54>=$E$5,AS54,\"\"))))","v":""},46,{"$f":"+CPPE!$A46","v":"Feed Management"},{"$f":"IF(AW$9=\"\",\"\",IF(AW54=0,0,HLOOKUP(AW$9,CPPE!$A$1:$DB$177,AV54,FALSE)))","v":""},{"$f":"IF(AX54=\"\",\"\",IF(AX54=0,\"\",IF(LandUse!$N47=2,\"\",IF(AX54>=$E$5,AW54,\"\"))))","v":""},46,{"$f":"+CPPE!$A46","v":"Feed Management"},{"$f":"IF(BA$9=\"\",\"\",IF(BA54=0,0,HLOOKUP(BA$9,CPPE!$A$1:$DB$177,AZ54,FALSE)))","v":""},{"$f":"IF(BB54=\"\",\"\",IF(BB54=0,\"\",IF(LandUse!$N47=2,\"\",IF(BB54>=$E$5,BA54,\"\"))))","v":""},46,{"$f":"+CPPE!$A46","v":"Feed Management"},{"$f":"IF(BE$9=\"\",\"\",IF(BE54=0,0,HLOOKUP(BE$9,CPPE!$A$1:$DB$177,BD54,FALSE)))","v":""},{"$f":"IF(BF54=\"\",\"\",IF(BF54=0,\"\",IF(LandUse!$N47=2,\"\",IF(BF54>=$E$5,BE54,\"\"))))","v":""},46,{"$f":"+CPPE!$A46","v":"Feed Management"},{"$f":"IF(BI$9=\"\",\"\",IF(BI54=0,0,HLOOKUP(BI$9,CPPE!$A$1:$DB$177,BH54,FALSE)))","v":""},{"$f":"IF(BJ54=\"\",\"\",IF(BJ54=0,\"\",IF(LandUse!$N47=2,\"\",IF(BJ54>=$E$5,BI54,\"\"))))","v":""},null,"","","","","","","","","",""]
[null,null,null,null,null,null,null,null,null,null,null,null,null,null,null,null,null,null,null,null,null,null,{"$f":"+CPPE!$A47","v":"Fence"},47,{"$f":"+CPPE!$A47","v":"Fence"},{"$f":"IF(Y$9=\"\",\"\",IF(Y55=0,0,HLOOKUP(Y$9,CPPE!$A$1:$DB$177,X55,FALSE)))","v":1},{"$f":"IF(Z55=\"\",\"\",IF(Z55=0,\"\",IF(LandUse!$N48=2,\"\",IF(Z55>=$E$5,Y55,\"\"))))","v":""},47,{"$f":"+CPPE!$A47","v":"Fence"},{"$f":"IF(AC$9=\"\",\"\",IF(AC55=0,0,HLOOKUP(AC$9,CPPE!$A$1:$DB$177,AB55,FALSE)))","v":1},{"$f":"IF(AD55=\"\",\"\",IF(AD55=0,\"\",IF(LandUse!$N48=2,\"\",IF(AD55>=$E$5,AC55,\"\"))))","v":""},47,{"$f":"+CPPE!$A47","v":"Fence"},{"$f":"IF(AG$9=\"\",\"\",IF(AG55=0,0,HLOOKUP(AG$9,CPPE!$A$1:$DB$177,AF55,FALSE)))","v":0},{"$f":"IF(AH55=\"\",\"\",IF(AH55=0,\"\",IF(LandUse!$N48=2,\"\",IF(AH55>=$E$5,AG55,\"\"))))","v":""},47,{"$f":"+CPPE!$A47","v":"Fence"},{"$f":"IF(AK$9=\"\",\"\",IF(AK55=0,0,HLOOKUP(AK$9,CPPE!$A$1:$DB$177,AJ55,FALSE)))","v":1},{"$f":"IF(AL55=\"\",\"\",IF(AL55=0,\"\",IF(LandUse!$N48=2,\"\",IF(AL55>=$E$5,AK55,\"\"))))","v":""},47,{"$f":"+CPPE!$A47","v":"Fence"},{"$f":"IF(AO$9=\"\",\"\",IF(AO55=0,0,HLOOKUP(AO$9,CPPE!$A$1:$DB$177,AN55,FALSE)))","v":""},{"$f":"IF(AP55=\"\",\"\",IF(AP55=0,\"\",IF(LandUse!$N48=2,\"\",IF(AP55>=$E$5,AO55,\"\"))))","v":""},47,{"$f":"+CPPE!$A47","v":"Fence"},{"$f":"IF(AS$9=\"\",\"\",IF(AS55=0,0,HLOOKUP(AS$9,CPPE!$A$1:$DB$177,AR55,FALSE)))","v":""},{"$f":"IF(AT55=\"\",\"\",IF(AT55=0,\"\",IF(LandUse!$N48=2,\"\",IF(AT55>=$E$5,AS55,\"\"))))","v":""},47,{"$f":"+CPPE!$A47","v":"Fence"},{"$f":"IF(AW$9=\"\",\"\",IF(AW55=0,0,HLOOKUP(AW$9,CPPE!$A$1:$DB$177,AV55,FALSE)))","v":""},{"$f":"IF(AX55=\"\",\"\",IF(AX55=0,\"\",IF(LandUse!$N48=2,\"\",IF(AX55>=$E$5,AW55,\"\"))))","v":""},47,{"$f":"+CPPE!$A47","v":"Fence"},{"$f":"IF(BA$9=\"\",\"\",IF(BA55=0,0,HLOOKUP(BA$9,CPPE!$A$1:$DB$177,AZ55,FALSE)))","v":""},{"$f":"IF(BB55=\"\",\"\",IF(BB55=0,\"\",IF(LandUse!$N48=2,\"\",IF(BB55>=$E$5,BA55,\"\"))))","v":""},47,{"$f":"+CPPE!$A47","v":"Fence"},{"$f":"IF(BE$9=\"\",\"\",IF(BE55=0,0,HLOOKUP(BE$9,CPPE!$A$1:$DB$177,BD55,FALSE)))","v":""},{"$f":"IF(BF55=\"\",\"\",IF(BF55=0,\"\",IF(LandUse!$N48=2,\"\",IF(BF55>=$E$5,BE55,\"\"))))","v":""},47,{"$f":"+CPPE!$A47","v":"Fence"},{"$f":"IF(BI$9=\"\",\"\",IF(BI55=0,0,HLOOKUP(BI$9,CPPE!$A$1:$DB$177,BH55,FALSE)))","v":""},{"$f":"IF(BJ55=\"\",\"\",IF(BJ55=0,\"\",IF(LandUse!$N48=2,\"\",IF(BJ55>=$E$5,BI55,\"\"))))","v":""},null,"","","","","","","","","",""]
[null,null,null,null,null,null,null,null,null,null,null,null,null,null,null,null,null,null,null,null,null,null,{"$f":"+CPPE!$A48","v":"Field Border"},48,{"$f":"+CPPE!$A48","v":"Field Border"},{"$f":"IF(Y$9=\"\",\"\",IF(Y56=0,0,HLOOKUP(Y$9,CPPE!$A$1:$DB$177,X56,FALSE)))","v":4},{"$f":"IF(Z56=\"\",\"\",IF(Z56=0,\"\",IF(LandUse!$N49=2,\"\",IF(Z56>=$E$5,Y56,\"\"))))","v":""},48,{"$f":"+CPPE!$A48","v":"Field Border"},{"$f":"IF(AC$9=\"\",\"\",IF(AC56=0,0,HLOOKUP(AC$9,CPPE!$A$1:$DB$177,AB56,FALSE)))","v":1},{"$f":"IF(AD56=\"\",\"\",IF(AD56=0,\"\",IF(LandUse!$N49=2,\"\",IF(AD56>=$E$5,AC56,\"\"))))","v":""},48,{"$f":"+CPPE!$A48","v":"Field Border"},{"$f":"IF(AG$9=\"\",\"\",IF(AG56=0,0,HLOOKUP(AG$9,CPPE!$A$1:$DB$177,AF56,FALSE)))","v":4},{"$f":"IF(AH56=\"\",\"\",IF(AH56=0,\"\",IF(LandUse!$N49=2,\"\",IF(AH56>=$E$5,AG56,\"\"))))","v":""},48,{"$f":"+CPPE!$A48","v":"Field Border"},{"$f":"IF(AK$9=\"\",\"\",IF(AK56=0,0,HLOOKUP(AK$9,CPPE!$A$1:$DB$177,AJ56,FALSE)))","v":1},{"$f":"IF(AL56=\"\",\"\",IF(AL56=0,\"\",IF(LandUse!$N49=2,\"\",IF(AL56>=$E$5,AK56,\"\"))))","v":""},48,{"$f":"+CPPE!$A48","v":"Field Border"},{"$f":"IF(AO$9=\"\",\"\",IF(AO56=0,0,HLOOKUP(AO$9,CPPE!$A$1:$DB$177,AN56,FALSE)))","v":""},{"$f":"IF(AP56=\"\",\"\",IF(AP56=0,\"\",IF(LandUse!$N49=2,\"\",IF(AP56>=$E$5,AO56,\"\"))))","v":""},48,{"$f":"+CPPE!$A48","v":"Field Border"},{"$f":"IF(AS$9=\"\",\"\",IF(AS56=0,0,HLOOKUP(AS$9,CPPE!$A$1:$DB$177,AR56,FALSE)))","v":""},{"$f":"IF(AT56=\"\",\"\",IF(AT56=0,\"\",IF(LandUse!$N49=2,\"\",IF(AT56>=$E$5,AS56,\"\"))))","v":""},48,{"$f":"+CPPE!$A48","v":"Field Border"},{"$f":"IF(AW$9=\"\",\"\",IF(AW56=0,0,HLOOKUP(AW$9,CPPE!$A$1:$DB$177,AV56,FALSE)))","v":""},{"$f":"IF(AX56=\"\",\"\",IF(AX56=0,\"\",IF(LandUse!$N49=2,\"\",IF(AX56>=$E$5,AW56,\"\"))))","v":""},48,{"$f":"+CPPE!$A48","v":"Field Border"},{"$f":"IF(BA$9=\"\",\"\",IF(BA56=0,0,HLOOKUP(BA$9,CPPE!$A$1:$DB$177,AZ56,FALSE)))","v":""},{"$f":"IF(BB56=\"\",\"\",IF(BB56=0,\"\",IF(LandUse!$N49=2,\"\",IF(BB56>=$E$5,BA56,\"\"))))","v":""},48,{"$f":"+CPPE!$A48","v":"Field Border"},{"$f":"IF(BE$9=\"\",\"\",IF(BE56=0,0,HLOOKUP(BE$9,CPPE!$A$1:$DB$177,BD56,FALSE)))","v":""},{"$f":"IF(BF56=\"\",\"\",IF(BF56=0,\"\",IF(LandUse!$N49=2,\"\",IF(BF56>=$E$5,BE56,\"\"))))","v":""},48,{"$f":"+CPPE!$A48","v":"Field Border"},{"$f":"IF(BI$9=\"\",\"\",IF(BI56=0,0,HLOOKUP(BI$9,CPPE!$A$1:$DB$177,BH56,FALSE)))","v":""},{"$f":"IF(BJ56=\"\",\"\",IF(BJ56=0,\"\",IF(LandUse!$N49=2,\"\",IF(BJ56>=$E$5,BI56,\"\"))))","v":""},null,"","","","","","","","","",""]
[null,null,null,null,null,null,null,null,null,null,null,null,null,null,null,null,null,null,null,null,null,null,{"$f":"+CPPE!$A49","v":"Field Operations Emissions Reduction"},49,{"$f":"+CPPE!$A49","v":"Field Operations Emissions Reduction"},{"$f":"IF(Y$9=\"\",\"\",IF(Y57=0,0,HLOOKUP(Y$9,CPPE!$A$1:$DB$177,X57,FALSE)))","v":1},{"$f":"IF(Z57=\"\",\"\",IF(Z57=0,\"\",IF(LandUse!$N50=2,\"\",IF(Z57>=$E$5,Y57,\"\"))))","v":""},49,{"$f":"+CPPE!$A49","v":"Field Operations Emissions Reduction"},{"$f":"IF(AC$9=\"\",\"\",IF(AC57=0,0,HLOOKUP(AC$9,CPPE!$A$1:$DB$177,AB57,FALSE)))","v":0},{"$f":"IF(AD57=\"\",\"\",IF(AD57=0,\"\",IF(LandUse!$N50=2,\"\",IF(AD57>=$E$5,AC57,\"\"))))","v":""},49,{"$f":"+CPPE!$A49","v":"Field Operations Emissions Reduction"},{"$f":"IF(AG$9=\"\",\"\",IF(AG57=0,0,HLOOKUP(AG$9,CPPE!$A$1:$DB$177,AF57,FALSE)))","v":0},{"$f":"IF(AH57=\"\",\"\",IF(AH57=0,\"\",IF(LandUse!$N50=2,\"\",IF(AH57>=$E$5,AG57,\"\"))))","v":""},49,{"$f":"+CPPE!$A49","v":"Field Operations Emissions Reduction"},{"$f":"IF(AK$9=\"\",\"\",IF(AK57=0,0,HLOOKUP(AK$9,CPPE!$A$1:$DB$177,AJ57,FALSE)))","v":0},{"$f":"IF(AL57=\"\",\"\",IF(AL57=0,\"\",IF(LandUse!$N50=2,\"\",IF(AL57>=$E$5,AK57,\"\"))))","v":""},49,{"$f":"+CPPE!$A49","v":"Field Operations Emissions Reduction"},{"$f":"IF(AO$9=\"\",\"\",IF(AO57=0,0,HLOOKUP(AO$9,CPPE!$A$1:$DB$177,AN57,FALSE)))","v":""},{"$f":"IF(AP57=\"\",\"\",IF(AP57=0,\"\",IF(LandUse!$N50=2,\"\",IF(AP57>=$E$5,AO57,\"\"))))","v":""},49,{"$f":"+CPPE!$A49","v":"Field Operations Emissions Reduction"},{"$f":"IF(AS$9=\"\",\"\",IF(AS57=0,0,HLOOKUP(AS$9,CPPE!$A$1:$DB$177,AR57,FALSE)))","v":""},{"$f":"IF(AT57=\"\",\"\",IF(AT57=0,\"\",IF(LandUse!$N50=2,\"\",IF(AT57>=$E$5,AS57,\"\"))))","v":""},49,{"$f":"+CPPE!$A49","v":"Field Operations Emissions Reduction"},{"$f":"IF(AW$9=\"\",\"\",IF(AW57=0,0,HLOOKUP(AW$9,CPPE!$A$1:$DB$177,AV57,FALSE)))","v":""},{"$f":"IF(AX57=\"\",\"\",IF(AX57=0,\"\",IF(LandUse!$N50=2,\"\",IF(AX57>=$E$5,AW57,\"\"))))","v":""},49,{"$f":"+CPPE!$A49","v":"Field Operations Emissions Reduction"},{"$f":"IF(BA$9=\"\",\"\",IF(BA57=0,0,HLOOKUP(BA$9,CPPE!$A$1:$DB$177,AZ57,FALSE)))","v":""},{"$f":"IF(BB57=\"\",\"\",IF(BB57=0,\"\",IF(LandUse!$N50=2,\"\",IF(BB57>=$E$5,BA57,\"\"))))","v":""},49,{"$f":"+CPPE!$A49","v":"Field Operations Emissions Reduction"},{"$f":"IF(BE$9=\"\",\"\",IF(BE57=0,0,HLOOKUP(BE$9,CPPE!$A$1:$DB$177,BD57,FALSE)))","v":""},{"$f":"IF(BF57=\"\",\"\",IF(BF57=0,\"\",IF(LandUse!$N50=2,\"\",IF(BF57>=$E$5,BE57,\"\"))))","v":""},49,{"$f":"+CPPE!$A49","v":"Field Operations Emissions Reduction"},{"$f":"IF(BI$9=\"\",\"\",IF(BI57=0,0,HLOOKUP(BI$9,CPPE!$A$1:$DB$177,BH57,FALSE)))","v":""},{"$f":"IF(BJ57=\"\",\"\",IF(BJ57=0,\"\",IF(LandUse!$N50=2,\"\",IF(BJ57>=$E$5,BI57,\"\"))))","v":""},null,"","","","","","","","","",""]
[null,null,null,null,null,null,null,null,null,null,null,null,null,null,null,null,null,null,null,null,null,null,{"$f":"+CPPE!$A50","v":"Filter Strip"},50,{"$f":"+CPPE!$A50","v":"Filter Strip"},{"$f":"IF(Y$9=\"\",\"\",IF(Y58=0,0,HLOOKUP(Y$9,CPPE!$A$1:$DB$177,X58,FALSE)))","v":2},{"$f":"IF(Z58=\"\",\"\",IF(Z58=0,\"\",IF(LandUse!$N51=2,\"\",IF(Z58>=$E$5,Y58,\"\"))))","v":""},50,{"$f":"+CPPE!$A50","v":"Filter Strip"},{"$f":"IF(AC$9=\"\",\"\",IF(AC58=0,0,HLOOKUP(AC$9,CPPE!$A$1:$DB$177,AB58,FALSE)))","v":1},{"$f":"IF(AD58=\"\",\"\",IF(AD58=0,\"\",IF(LandUse!$N51=2,\"\",IF(AD58>=$E$5,AC58,\"\"))))","v":""},50,{"$f":"+CPPE!$A50","v":"Filter Strip"},{"$f":"IF(AG$9=\"\",\"\",IF(AG58=0,0,HLOOKUP(AG$9,CPPE!$A$1:$DB$177,AF58,FALSE)))","v":1},{"$f":"IF(AH58=\"\",\"\",IF(AH58=0,\"\",IF(LandUse!$N51=2,\"\",IF(AH58>=$E$5,AG58,\"\"))))","v":""},50,{"$f":"+CPPE!$A50","v":"Filter Strip"},{"$f":"IF(AK$9=\"\",\"\",IF(AK58=0,0,HLOOKUP(AK$9,CPPE!$A$1:$DB$177,AJ58,FALSE)))","v":1},{"$f":"IF(AL58=\"\",\"\",IF(AL58=0,\"\",IF(LandUse!$N51=2,\"\",IF(AL58>=$E$5,AK58,\"\"))))","v":""},50,{"$f":"+CPPE!$A50","v":"Filter Strip"},{"$f":"IF(AO$9=\"\",\"\",IF(AO58=0,0,HLOOKUP(AO$9,CPPE!$A$1:$DB$177,AN58,FALSE)))","v":""},{"$f":"IF(AP58=\"\",\"\",IF(AP58=0,\"\",IF(LandUse!$N51=2,\"\",IF(AP58>=$E$5,AO58,\"\"))))","v":""},50,{"$f":"+CPPE!$A50","v":"Filter Strip"},{"$f":"IF(AS$9=\"\",\"\",IF(AS58=0,0,HLOOKUP(AS$9,CPPE!$A$1:$DB$177,AR58,FALSE)))","v":""},{"$f":"IF(AT58=\"\",\"\",IF(AT58=0,\"\",IF(LandUse!$N51=2,\"\",IF(AT58>=$E$5,AS58,\"\"))))","v":""},50,{"$f":"+CPPE!$A50","v":"Filter Strip"},{"$f":"IF(AW$9=\"\",\"\",IF(AW58=0,0,HLOOKUP(AW$9,CPPE!$A$1:$DB$177,AV58,FALSE)))","v":""},{"$f":"IF(AX58=\"\",\"\",IF(AX58=0,\"\",IF(LandUse!$N51=2,\"\",IF(AX58>=$E$5,AW58,\"\"))))","v":""},50,{"$f":"+CPPE!$A50","v":"Filter Strip"},{"$f":"IF(BA$9=\"\",\"\",IF(BA58=0,0,HLOOKUP(BA$9,CPPE!$A$1:$DB$177,AZ58,FALSE)))","v":""},{"$f":"IF(BB58=\"\",\"\",IF(BB58=0,\"\",IF(LandUse!$N51=2,\"\",IF(BB58>=$E$5,BA58,\"\"))))","v":""},50,{"$f":"+CPPE!$A50","v":"Filter Strip"},{"$f":"IF(BE$9=\"\",\"\",IF(BE58=0,0,HLOOKUP(BE$9,CPPE!$A$1:$DB$177,BD58,FALSE)))","v":""},{"$f":"IF(BF58=\"\",\"\",IF(BF58=0,\"\",IF(LandUse!$N51=2,\"\",IF(BF58>=$E$5,BE58,\"\"))))","v":""},50,{"$f":"+CPPE!$A50","v":"Filter Strip"},{"$f":"IF(BI$9=\"\",\"\",IF(BI58=0,0,HLOOKUP(BI$9,CPPE!$A$1:$DB$177,BH58,FALSE)))","v":""},{"$f":"IF(BJ58=\"\",\"\",IF(BJ58=0,\"\",IF(LandUse!$N51=2,\"\",IF(BJ58>=$E$5,BI58,\"\"))))","v":""},null,"","","","","","","","","",""]
[null,null,null,null,null,null,null,null,null,null,null,null,null,null,null,null,null,null,null,null,null,null,{"$f":"+CPPE!$A51","v":"Firebreak"},51,{"$f":"+CPPE!$A51","v":"Firebreak"},{"$f":"IF(Y$9=\"\",\"\",IF(Y59=0,0,HLOOKUP(Y$9,CPPE!$A$1:$DB$177,X59,FALSE)))","v":-1},{"$f":"IF(Z59=\"\",\"\",IF(Z59=0,\"\",IF(LandUse!$N52=2,\"\",IF(Z59>=$E$5,Y59,\"\"))))","v":""},51,{"$f":"+CPPE!$A51","v":"Firebreak"},{"$f":"IF(AC$9=\"\",\"\",IF(AC59=0,0,HLOOKUP(AC$9,CPPE!$A$1:$DB$177,AB59,FALSE)))","v":-2},{"$f":"IF(AD59=\"\",\"\",IF(AD59=0,\"\",IF(LandUse!$N52=2,\"\",IF(AD59>=$E$5,AC59,\"\"))))","v":""},51,{"$f":"+CPPE!$A51","v":"Firebreak"},{"$f":"IF(AG$9=\"\",\"\",IF(AG59=0,0,HLOOKUP(AG$9,CPPE!$A$1:$DB$177,AF59,FALSE)))","v":-2},{"$f":"IF(AH59=\"\",\"\",IF(AH59=0,\"\",IF(LandUse!$N52=2,\"\",IF(AH59>=$E$5,AG59,\"\"))))","v":""},51,{"$f":"+CPPE!$A51","v":"Firebreak"},{"$f":"IF(AK$9=\"\",\"\",IF(AK59=0,0,HLOOKUP(AK$9,CPPE!$A$1:$DB$177,AJ59,FALSE)))","v":-2},{"$f":"IF(AL59=\"\",\"\",IF(AL59=0,\"\",IF(LandUse!$N52=2,\"\",IF(AL59>=$E$5,AK59,\"\"))))","v":""},51,{"$f":"+CPPE!$A51","v":"Firebreak"},{"$f":"IF(AO$9=\"\",\"\",IF(AO59=0,0,HLOOKUP(AO$9,CPPE!$A$1:$DB$177,AN59,FALSE)))","v":""},{"$f":"IF(AP59=\"\",\"\",IF(AP59=0,\"\",IF(LandUse!$N52=2,\"\",IF(AP59>=$E$5,AO59,\"\"))))","v":""},51,{"$f":"+CPPE!$A51","v":"Firebreak"},{"$f":"IF(AS$9=\"\",\"\",IF(AS59=0,0,HLOOKUP(AS$9,CPPE!$A$1:$DB$177,AR59,FALSE)))","v":""},{"$f":"IF(AT59=\"\",\"\",IF(AT59=0,\"\",IF(LandUse!$N52=2,\"\",IF(AT59>=$E$5,AS59,\"\"))))","v":""},51,{"$f":"+CPPE!$A51","v":"Firebreak"},{"$f":"IF(AW$9=\"\",\"\",IF(AW59=0,0,HLOOKUP(AW$9,CPPE!$A$1:$DB$177,AV59,FALSE)))","v":""},{"$f":"IF(AX59=\"\",\"\",IF(AX59=0,\"\",IF(LandUse!$N52=2,\"\",IF(AX59>=$E$5,AW59,\"\"))))","v":""},51,{"$f":"+CPPE!$A51","v":"Firebreak"},{"$f":"IF(BA$9=\"\",\"\",IF(BA59=0,0,HLOOKUP(BA$9,CPPE!$A$1:$DB$177,AZ59,FALSE)))","v":""},{"$f":"IF(BB59=\"\",\"\",IF(BB59=0,\"\",IF(LandUse!$N52=2,\"\",IF(BB59>=$E$5,BA59,\"\"))))","v":""},51,{"$f":"+CPPE!$A51","v":"Firebreak"},{"$f":"IF(BE$9=\"\",\"\",IF(BE59=0,0,HLOOKUP(BE$9,CPPE!$A$1:$DB$177,BD59,FALSE)))","v":""},{"$f":"IF(BF59=\"\",\"\",IF(BF59=0,\"\",IF(LandUse!$N52=2,\"\",IF(BF59>=$E$5,BE59,\"\"))))","v":""},51,{"$f":"+CPPE!$A51","v":"Firebreak"},{"$f":"IF(BI$9=\"\",\"\",IF(BI59=0,0,HLOOKUP(BI$9,CPPE!$A$1:$DB$177,BH59,FALSE)))","v":""},{"$f":"IF(BJ59=\"\",\"\",IF(BJ59=0,\"\",IF(LandUse!$N52=2,\"\",IF(BJ59>=$E$5,BI59,\"\"))))","v":""},null,"","","","","","","","","",""]
[null,null,null,null,null,null,null,null,null,null,null,null,null,null,null,null,null,null,null,null,null,null,{"$f":"+CPPE!$A52","v":"Fish Raceway or Tank"},52,{"$f":"+CPPE!$A52","v":"Fish Raceway or Tank"},{"$f":"IF(Y$9=\"\",\"\",IF(Y60=0,0,HLOOKUP(Y$9,CPPE!$A$1:$DB$177,X60,FALSE)))","v":0},{"$f":"IF(Z60=\"\",\"\",IF(Z60=0,\"\",IF(LandUse!$N53=2,\"\",IF(Z60>=$E$5,Y60,\"\"))))","v":""},52,{"$f":"+CPPE!$A52","v":"Fish Raceway or Tank"},{"$f":"IF(AC$9=\"\",\"\",IF(AC60=0,0,HLOOKUP(AC$9,CPPE!$A$1:$DB$177,AB60,FALSE)))","v":0},{"$f":"IF(AD60=\"\",\"\",IF(AD60=0,\"\",IF(LandUse!$N53=2,\"\",IF(AD60>=$E$5,AC60,\"\"))))","v":""},52,{"$f":"+CPPE!$A52","v":"Fish Raceway or Tank"},{"$f":"IF(AG$9=\"\",\"\",IF(AG60=0,0,HLOOKUP(AG$9,CPPE!$A$1:$DB$177,AF60,FALSE)))","v":0},{"$f":"IF(AH60=\"\",\"\",IF(AH60=0,\"\",IF(LandUse!$N53=2,\"\",IF(AH60>=$E$5,AG60,\"\"))))","v":""},52,{"$f":"+CPPE!$A52","v":"Fish Raceway or Tank"},{"$f":"IF(AK$9=\"\",\"\",IF(AK60=0,0,HLOOKUP(AK$9,CPPE!$A$1:$DB$177,AJ60,FALSE)))","v":0},{"$f":"IF(AL60=\"\",\"\",IF(AL60=0,\"\",IF(LandUse!$N53=2,\"\",IF(AL60>=$E$5,AK60,\"\"))))","v":""},52,{"$f":"+CPPE!$A52","v":"Fish Raceway or Tank"},{"$f":"IF(AO$9=\"\",\"\",IF(AO60=0,0,HLOOKUP(AO$9,CPPE!$A$1:$DB$177,AN60,FALSE)))","v":""},{"$f":"IF(AP60=\"\",\"\",IF(AP60=0,\"\",IF(LandUse!$N53=2,\"\",IF(AP60>=$E$5,AO60,\"\"))))","v":""},52,{"$f":"+CPPE!$A52","v":"Fish Raceway or Tank"},{"$f":"IF(AS$9=\"\",\"\",IF(AS60=0,0,HLOOKUP(AS$9,CPPE!$A$1:$DB$177,AR60,FALSE)))","v":""},{"$f":"IF(AT60=\"\",\"\",IF(AT60=0,\"\",IF(LandUse!$N53=2,\"\",IF(AT60>=$E$5,AS60,\"\"))))","v":""},52,{"$f":"+CPPE!$A52","v":"Fish Raceway or Tank"},{"$f":"IF(AW$9=\"\",\"\",IF(AW60=0,0,HLOOKUP(AW$9,CPPE!$A$1:$DB$177,AV60,FALSE)))","v":""},{"$f":"IF(AX60=\"\",\"\",IF(AX60=0,\"\",IF(LandUse!$N53=2,\"\",IF(AX60>=$E$5,AW60,\"\"))))","v":""},52,{"$f":"+CPPE!$A52","v":"Fish Raceway or Tank"},{"$f":"IF(BA$9=\"\",\"\",IF(BA60=0,0,HLOOKUP(BA$9,CPPE!$A$1:$DB$177,AZ60,FALSE)))","v":""},{"$f":"IF(BB60=\"\",\"\",IF(BB60=0,\"\",IF(LandUse!$N53=2,\"\",IF(BB60>=$E$5,BA60,\"\"))))","v":""},52,{"$f":"+CPPE!$A52","v":"Fish Raceway or Tank"},{"$f":"IF(BE$9=\"\",\"\",IF(BE60=0,0,HLOOKUP(BE$9,CPPE!$A$1:$DB$177,BD60,FALSE)))","v":""},{"$f":"IF(BF60=\"\",\"\",IF(BF60=0,\"\",IF(LandUse!$N53=2,\"\",IF(BF60>=$E$5,BE60,\"\"))))","v":""},52,{"$f":"+CPPE!$A52","v":"Fish Raceway or Tank"},{"$f":"IF(BI$9=\"\",\"\",IF(BI60=0,0,HLOOKUP(BI$9,CPPE!$A$1:$DB$177,BH60,FALSE)))","v":""},{"$f":"IF(BJ60=\"\",\"\",IF(BJ60=0,\"\",IF(LandUse!$N53=2,\"\",IF(BJ60>=$E$5,BI60,\"\"))))","v":""},null,"","","","","","","","","",""]
[null,null,null,null,null,null,null,null,null,null,null,null,null,null,null,null,null,null,null,null,null,null,{"$f":"+CPPE!$A53","v":"Fishpond Management"},53,{"$f":"+CPPE!$A53","v":"Fishpond Management"},{"$f":"IF(Y$9=\"\",\"\",IF(Y61=0,0,HLOOKUP(Y$9,CPPE!$A$1:$DB$177,X61,FALSE)))","v":0},{"$f":"IF(Z61=\"\",\"\",IF(Z61=0,\"\",IF(LandUse!$N54=2,\"\",IF(Z61>=$E$5,Y61,\"\"))))","v":""},53,{"$f":"+CPPE!$A53","v":"Fishpond Management"},{"$f":"IF(AC$9=\"\",\"\",IF(AC61=0,0,HLOOKUP(AC$9,CPPE!$A$1:$DB$177,AB61,FALSE)))","v":0},{"$f":"IF(AD61=\"\",\"\",IF(AD61=0,\"\",IF(LandUse!$N54=2,\"\",IF(AD61>=$E$5,AC61,\"\"))))","v":""},53,{"$f":"+CPPE!$A53","v":"Fishpond Management"},{"$f":"IF(AG$9=\"\",\"\",IF(AG61=0,0,HLOOKUP(AG$9,CPPE!$A$1:$DB$177,AF61,FALSE)))","v":0},{"$f":"IF(AH61=\"\",\"\",IF(AH61=0,\"\",IF(LandUse!$N54=2,\"\",IF(AH61>=$E$5,AG61,\"\"))))","v":""},53,{"$f":"+CPPE!$A53","v":"Fishpond Management"},{"$f":"IF(AK$9=\"\",\"\",IF(AK61=0,0,HLOOKUP(AK$9,CPPE!$A$1:$DB$177,AJ61,FALSE)))","v":0},{"$f":"IF(AL61=\"\",\"\",IF(AL61=0,\"\",IF(LandUse!$N54=2,\"\",IF(AL61>=$E$5,AK61,\"\"))))","v":""},53,{"$f":"+CPPE!$A53","v":"Fishpond Management"},{"$f":"IF(AO$9=\"\",\"\",IF(AO61=0,0,HLOOKUP(AO$9,CPPE!$A$1:$DB$177,AN61,FALSE)))","v":""},{"$f":"IF(AP61=\"\",\"\",IF(AP61=0,\"\",IF(LandUse!$N54=2,\"\",IF(AP61>=$E$5,AO61,\"\"))))","v":""},53,{"$f":"+CPPE!$A53","v":"Fishpond Management"},{"$f":"IF(AS$9=\"\",\"\",IF(AS61=0,0,HLOOKUP(AS$9,CPPE!$A$1:$DB$177,AR61,FALSE)))","v":""},{"$f":"IF(AT61=\"\",\"\",IF(AT61=0,\"\",IF(LandUse!$N54=2,\"\",IF(AT61>=$E$5,AS61,\"\"))))","v":""},53,{"$f":"+CPPE!$A53","v":"Fishpond Management"},{"$f":"IF(AW$9=\"\",\"\",IF(AW61=0,0,HLOOKUP(AW$9,CPPE!$A$1:$DB$177,AV61,FALSE)))","v":""},{"$f":"IF(AX61=\"\",\"\",IF(AX61=0,\"\",IF(LandUse!$N54=2,\"\",IF(AX61>=$E$5,AW61,\"\"))))","v":""},53,{"$f":"+CPPE!$A53","v":"Fishpond Management"},{"$f":"IF(BA$9=\"\",\"\",IF(BA61=0,0,HLOOKUP(BA$9,CPPE!$A$1:$DB$177,AZ61,FALSE)))","v":""},{"$f":"IF(BB61=\"\",\"\",IF(BB61=0,\"\",IF(LandUse!$N54=2,\"\",IF(BB61>=$E$5,BA61,\"\"))))","v":""},53,{"$f":"+CPPE!$A53","v":"Fishpond Management"},{"$f":"IF(BE$9=\"\",\"\",IF(BE61=0,0,HLOOKUP(BE$9,CPPE!$A$1:$DB$177,BD61,FALSE)))","v":""},{"$f":"IF(BF61=\"\",\"\",IF(BF61=0,\"\",IF(LandUse!$N54=2,\"\",IF(BF61>=$E$5,BE61,\"\"))))","v":""},53,{"$f":"+CPPE!$A53","v":"Fishpond Management"},{"$f":"IF(BI$9=\"\",\"\",IF(BI61=0,0,HLOOKUP(BI$9,CPPE!$A$1:$DB$177,BH61,FALSE)))","v":""},{"$f":"IF(BJ61=\"\",\"\",IF(BJ61=0,\"\",IF(LandUse!$N54=2,\"\",IF(BJ61>=$E$5,BI61,\"\"))))","v":""},null,"","","","","","","","","",""]
[null,null,null,null,null,null,null,null,null,null,null,null,null,null,null,null,null,null,null,null,null,null,{"$f":"+CPPE!$A54","v":"Forage Harvest Management"},54,{"$f":"+CPPE!$A54","v":"Forage Harvest Management"},{"$f":"IF(Y$9=\"\",\"\",IF(Y62=0,0,HLOOKUP(Y$9,CPPE!$A$1:$DB$177,X62,FALSE)))","v":1},{"$f":"IF(Z62=\"\",\"\",IF(Z62=0,\"\",IF(LandUse!$N55=2,\"\",IF(Z62>=$E$5,Y62,\"\"))))","v":""},54,{"$f":"+CPPE!$A54","v":"Forage Harvest Management"},{"$f":"IF(AC$9=\"\",\"\",IF(AC62=0,0,HLOOKUP(AC$9,CPPE!$A$1:$DB$177,AB62,FALSE)))","v":3},{"$f":"IF(AD62=\"\",\"\",IF(AD62=0,\"\",IF(LandUse!$N55=2,\"\",IF(AD62>=$E$5,AC62,\"\"))))","v":""},54,{"$f":"+CPPE!$A54","v":"Forage Harvest Management"},{"$f":"IF(AG$9=\"\",\"\",IF(AG62=0,0,HLOOKUP(AG$9,CPPE!$A$1:$DB$177,AF62,FALSE)))","v":3},{"$f":"IF(AH62=\"\",\"\",IF(AH62=0,\"\",IF(LandUse!$N55=2,\"\",IF(AH62>=$E$5,AG62,\"\"))))","v":""},54,{"$f":"+CPPE!$A54","v":"Forage Harvest Management"},{"$f":"IF(AK$9=\"\",\"\",IF(AK62=0,0,HLOOKUP(AK$9,CPPE!$A$1:$DB$177,AJ62,FALSE)))","v":1},{"$f":"IF(AL62=\"\",\"\",IF(AL62=0,\"\",IF(LandUse!$N55=2,\"\",IF(AL62>=$E$5,AK62,\"\"))))","v":""},54,{"$f":"+CPPE!$A54","v":"Forage Harvest Management"},{"$f":"IF(AO$9=\"\",\"\",IF(AO62=0,0,HLOOKUP(AO$9,CPPE!$A$1:$DB$177,AN62,FALSE)))","v":""},{"$f":"IF(AP62=\"\",\"\",IF(AP62=0,\"\",IF(LandUse!$N55=2,\"\",IF(AP62>=$E$5,AO62,\"\"))))","v":""},54,{"$f":"+CPPE!$A54","v":"Forage Harvest Management"},{"$f":"IF(AS$9=\"\",\"\",IF(AS62=0,0,HLOOKUP(AS$9,CPPE!$A$1:$DB$177,AR62,FALSE)))","v":""},{"$f":"IF(AT62=\"\",\"\",IF(AT62=0,\"\",IF(LandUse!$N55=2,\"\",IF(AT62>=$E$5,AS62,\"\"))))","v":""},54,{"$f":"+CPPE!$A54","v":"Forage Harvest Management"},{"$f":"IF(AW$9=\"\",\"\",IF(AW62=0,0,HLOOKUP(AW$9,CPPE!$A$1:$DB$177,AV62,FALSE)))","v":""},{"$f":"IF(AX62=\"\",\"\",IF(AX62=0,\"\",IF(LandUse!$N55=2,\"\",IF(AX62>=$E$5,AW62,\"\"))))","v":""},54,{"$f":"+CPPE!$A54","v":"Forage Harvest Management"},{"$f":"IF(BA$9=\"\",\"\",IF(BA62=0,0,HLOOKUP(BA$9,CPPE!$A$1:$DB$177,AZ62,FALSE)))","v":""},{"$f":"IF(BB62=\"\",\"\",IF(BB62=0,\"\",IF(LandUse!$N55=2,\"\",IF(BB62>=$E$5,BA62,\"\"))))","v":""},54,{"$f":"+CPPE!$A54","v":"Forage Harvest Management"},{"$f":"IF(BE$9=\"\",\"\",IF(BE62=0,0,HLOOKUP(BE$9,CPPE!$A$1:$DB$177,BD62,FALSE)))","v":""},{"$f":"IF(BF62=\"\",\"\",IF(BF62=0,\"\",IF(LandUse!$N55=2,\"\",IF(BF62>=$E$5,BE62,\"\"))))","v":""},54,{"$f":"+CPPE!$A54","v":"Forage Harvest Management"},{"$f":"IF(BI$9=\"\",\"\",IF(BI62=0,0,HLOOKUP(BI$9,CPPE!$A$1:$DB$177,BH62,FALSE)))","v":""},{"$f":"IF(BJ62=\"\",\"\",IF(BJ62=0,\"\",IF(LandUse!$N55=2,\"\",IF(BJ62>=$E$5,BI62,\"\"))))","v":""},null,"","","","","","","","","",""]
[null,null,null,null,null,null,null,null,null,null,null,null,null,null,null,null,null,null,null,null,null,null,{"$f":"+CPPE!$A55","v":"Forest Farming"},55,{"$f":"+CPPE!$A55","v":"Forest Farming"},{"$f":"IF(Y$9=\"\",\"\",IF(Y63=0,0,HLOOKUP(Y$9,CPPE!$A$1:$DB$177,X63,FALSE)))","v":4},{"$f":"IF(Z63=\"\",\"\",IF(Z63=0,\"\",IF(LandUse!$N56=2,\"\",IF(Z63>=$E$5,Y63,\"\"))))","v":""},55,{"$f":"+CPPE!$A55","v":"Forest Farming"},{"$f":"IF(AC$9=\"\",\"\",IF(AC63=0,0,HLOOKUP(AC$9,CPPE!$A$1:$DB$177,AB63,FALSE)))","v":1},{"$f":"IF(AD63=\"\",\"\",IF(AD63=0,\"\",IF(LandUse!$N56=2,\"\",IF(AD63>=$E$5,AC63,\"\"))))","v":""},55,{"$f":"+CPPE!$A55","v":"Forest Farming"},{"$f":"IF(AG$9=\"\",\"\",IF(AG63=0,0,HLOOKUP(AG$9,CPPE!$A$1:$DB$177,AF63,FALSE)))","v":1},{"$f":"IF(AH63=\"\",\"\",IF(AH63=0,\"\",IF(LandUse!$N56=2,\"\",IF(AH63>=$E$5,AG63,\"\"))))","v":""},55,{"$f":"+CPPE!$A55","v":"Forest Farming"},{"$f":"IF(AK$9=\"\",\"\",IF(AK63=0,0,HLOOKUP(AK$9,CPPE!$A$1:$DB$177,AJ63,FALSE)))","v":3},{"$f":"IF(AL63=\"\",\"\",IF(AL63=0,\"\",IF(LandUse!$N56=2,\"\",IF(AL63>=$E$5,AK63,\"\"))))","v":""},55,{"$f":"+CPPE!$A55","v":"Forest Farming"},{"$f":"IF(AO$9=\"\",\"\",IF(AO63=0,0,HLOOKUP(AO$9,CPPE!$A$1:$DB$177,AN63,FALSE)))","v":""},{"$f":"IF(AP63=\"\",\"\",IF(AP63=0,\"\",IF(LandUse!$N56=2,\"\",IF(AP63>=$E$5,AO63,\"\"))))","v":""},55,{"$f":"+CPPE!$A55","v":"Forest Farming"},{"$f":"IF(AS$9=\"\",\"\",IF(AS63=0,0,HLOOKUP(AS$9,CPPE!$A$1:$DB$177,AR63,FALSE)))","v":""},{"$f":"IF(AT63=\"\",\"\",IF(AT63=0,\"\",IF(LandUse!$N56=2,\"\",IF(AT63>=$E$5,AS63,\"\"))))","v":""},55,{"$f":"+CPPE!$A55","v":"Forest Farming"},{"$f":"IF(AW$9=\"\",\"\",IF(AW63=0,0,HLOOKUP(AW$9,CPPE!$A$1:$DB$177,AV63,FALSE)))","v":""},{"$f":"IF(AX63=\"\",\"\",IF(AX63=0,\"\",IF(LandUse!$N56=2,\"\",IF(AX63>=$E$5,AW63,\"\"))))","v":""},55,{"$f":"+CPPE!$A55","v":"Forest Farming"},{"$f":"IF(BA$9=\"\",\"\",IF(BA63=0,0,HLOOKUP(BA$9,CPPE!$A$1:$DB$177,AZ63,FALSE)))","v":""},{"$f":"IF(BB63=\"\",\"\",IF(BB63=0,\"\",IF(LandUse!$N56=2,\"\",IF(BB63>=$E$5,BA63,\"\"))))","v":""},55,{"$f":"+CPPE!$A55","v":"Forest Farming"},{"$f":"IF(BE$9=\"\",\"\",IF(BE63=0,0,HLOOKUP(BE$9,CPPE!$A$1:$DB$177,BD63,FALSE)))","v":""},{"$f":"IF(BF63=\"\",\"\",IF(BF63=0,\"\",IF(LandUse!$N56=2,\"\",IF(BF63>=$E$5,BE63,\"\"))))","v":""},55,{"$f":"+CPPE!$A55","v":"Forest Farming"},{"$f":"IF(BI$9=\"\",\"\",IF(BI63=0,0,HLOOKUP(BI$9,CPPE!$A$1:$DB$177,BH63,FALSE)))","v":""},{"$f":"IF(BJ63=\"\",\"\",IF(BJ63=0,\"\",IF(LandUse!$N56=2,\"\",IF(BJ63>=$E$5,BI63,\"\"))))","v":""},null,"","","","","","","","","",""]
[null,null,null,null,null,null,null,null,null,null,null,null,null,null,null,null,null,null,null,null,null,null,{"$f":"+CPPE!$A56","v":"Forest Stand Improvement"},56,{"$f":"+CPPE!$A56","v":"Forest Stand Improvement"},{"$f":"IF(Y$9=\"\",\"\",IF(Y64=0,0,HLOOKUP(Y$9,CPPE!$A$1:$DB$177,X64,FALSE)))","v":4},{"$f":"IF(Z64=\"\",\"\",IF(Z64=0,\"\",IF(LandUse!$N57=2,\"\",IF(Z64>=$E$5,Y64,\"\"))))","v":""},56,{"$f":"+CPPE!$A56","v":"Forest Stand Improvement"},{"$f":"IF(AC$9=\"\",\"\",IF(AC64=0,0,HLOOKUP(AC$9,CPPE!$A$1:$DB$177,AB64,FALSE)))","v":-1},{"$f":"IF(AD64=\"\",\"\",IF(AD64=0,\"\",IF(LandUse!$N57=2,\"\",IF(AD64>=$E$5,AC64,\"\"))))","v":""},56,{"$f":"+CPPE!$A56","v":"Forest Stand Improvement"},{"$f":"IF(AG$9=\"\",\"\",IF(AG64=0,0,HLOOKUP(AG$9,CPPE!$A$1:$DB$177,AF64,FALSE)))","v":1},{"$f":"IF(AH64=\"\",\"\",IF(AH64=0,\"\",IF(LandUse!$N57=2,\"\",IF(AH64>=$E$5,AG64,\"\"))))","v":""},56,{"$f":"+CPPE!$A56","v":"Forest Stand Improvement"},{"$f":"IF(AK$9=\"\",\"\",IF(AK64=0,0,HLOOKUP(AK$9,CPPE!$A$1:$DB$177,AJ64,FALSE)))","v":1},{"$f":"IF(AL64=\"\",\"\",IF(AL64=0,\"\",IF(LandUse!$N57=2,\"\",IF(AL64>=$E$5,AK64,\"\"))))","v":""},56,{"$f":"+CPPE!$A56","v":"Forest Stand Improvement"},{"$f":"IF(AO$9=\"\",\"\",IF(AO64=0,0,HLOOKUP(AO$9,CPPE!$A$1:$DB$177,AN64,FALSE)))","v":""},{"$f":"IF(AP64=\"\",\"\",IF(AP64=0,\"\",IF(LandUse!$N57=2,\"\",IF(AP64>=$E$5,AO64,\"\"))))","v":""},56,{"$f":"+CPPE!$A56","v":"Forest Stand Improvement"},{"$f":"IF(AS$9=\"\",\"\",IF(AS64=0,0,HLOOKUP(AS$9,CPPE!$A$1:$DB$177,AR64,FALSE)))","v":""},{"$f":"IF(AT64=\"\",\"\",IF(AT64=0,\"\",IF(LandUse!$N57=2,\"\",IF(AT64>=$E$5,AS64,\"\"))))","v":""},56,{"$f":"+CPPE!$A56","v":"Forest Stand Improvement"},{"$f":"IF(AW$9=\"\",\"\",IF(AW64=0,0,HLOOKUP(AW$9,CPPE!$A$1:$DB$177,AV64,FALSE)))","v":""},{"$f":"IF(AX64=\"\",\"\",IF(AX64=0,\"\",IF(LandUse!$N57=2,\"\",IF(AX64>=$E$5,AW64,\"\"))))","v":""},56,{"$f":"+CPPE!$A56","v":"Forest Stand Improvement"},{"$f":"IF(BA$9=\"\",\"\",IF(BA64=0,0,HLOOKUP(BA$9,CPPE!$A$1:$DB$177,AZ64,FALSE)))","v":""},{"$f":"IF(BB64=\"\",\"\",IF(BB64=0,\"\",IF(LandUse!$N57=2,\"\",IF(BB64>=$E$5,BA64,\"\"))))","v":""},56,{"$f":"+CPPE!$A56","v":"Forest Stand Improvement"},{"$f":"IF(BE$9=\"\",\"\",IF(BE64=0,0,HLOOKUP(BE$9,CPPE!$A$1:$DB$177,BD64,FALSE)))","v":""},{"$f":"IF(BF64=\"\",\"\",IF(BF64=0,\"\",IF(LandUse!$N57=2,\"\",IF(BF64>=$E$5,BE64,\"\"))))","v":""},56,{"$f":"+CPPE!$A56","v":"Forest Stand Improvement"},{"$f":"IF(BI$9=\"\",\"\",IF(BI64=0,0,HLOOKUP(BI$9,CPPE!$A$1:$DB$177,BH64,FALSE)))","v":""},{"$f":"IF(BJ64=\"\",\"\",IF(BJ64=0,\"\",IF(LandUse!$N57=2,\"\",IF(BJ64>=$E$5,BI64,\"\"))))","v":""},null,"","","","","","","","","",""]
[null,null,null,null,null,null,null,null,null,null,null,null,null,null,null,null,null,null,null,null,null,null,{"$f":"+CPPE!$A57","v":"Forest Trails and Landings"},57,{"$f":"+CPPE!$A57","v":"Forest Trails and Landings"},{"$f":"IF(Y$9=\"\",\"\",IF(Y65=0,0,HLOOKUP(Y$9,CPPE!$A$1:$DB$177,X65,FALSE)))","v":-1},{"$f":"IF(Z65=\"\",\"\",IF(Z65=0,\"\",IF(LandUse!$N58=2,\"\",IF(Z65>=$E$5,Y65,\"\"))))","v":""},57,{"$f":"+CPPE!$A57","v":"Forest Trails and Landings"},{"$f":"IF(AC$9=\"\",\"\",IF(AC65=0,0,HLOOKUP(AC$9,CPPE!$A$1:$DB$177,AB65,FALSE)))","v":1},{"$f":"IF(AD65=\"\",\"\",IF(AD65=0,\"\",IF(LandUse!$N58=2,\"\",IF(AD65>=$E$5,AC65,\"\"))))","v":""},57,{"$f":"+CPPE!$A57","v":"Forest Trails and Landings"},{"$f":"IF(AG$9=\"\",\"\",IF(AG65=0,0,HLOOKUP(AG$9,CPPE!$A$1:$DB$177,AF65,FALSE)))","v":-1},{"$f":"IF(AH65=\"\",\"\",IF(AH65=0,\"\",IF(LandUse!$N58=2,\"\",IF(AH65>=$E$5,AG65,\"\"))))","v":""},57,{"$f":"+CPPE!$A57","v":"Forest Trails and Landings"},{"$f":"IF(AK$9=\"\",\"\",IF(AK65=0,0,HLOOKUP(AK$9,CPPE!$A$1:$DB$177,AJ65,FALSE)))","v":-1},{"$f":"IF(AL65=\"\",\"\",IF(AL65=0,\"\",IF(LandUse!$N58=2,\"\",IF(AL65>=$E$5,AK65,\"\"))))","v":""},57,{"$f":"+CPPE!$A57","v":"Forest Trails and Landings"},{"$f":"IF(AO$9=\"\",\"\",IF(AO65=0,0,HLOOKUP(AO$9,CPPE!$A$1:$DB$177,AN65,FALSE)))","v":""},{"$f":"IF(AP65=\"\",\"\",IF(AP65=0,\"\",IF(LandUse!$N58=2,\"\",IF(AP65>=$E$5,AO65,\"\"))))","v":""},57,{"$f":"+CPPE!$A57","v":"Forest Trails and Landings"},{"$f":"IF(AS$9=\"\",\"\",IF(AS65=0,0,HLOOKUP(AS$9,CPPE!$A$1:$DB$177,AR65,FALSE)))","v":""},{"$f":"IF(AT65=\"\",\"\",IF(AT65=0,\"\",IF(LandUse!$N58=2,\"\",IF(AT65>=$E$5,AS65,\"\"))))","v":""},57,{"$f":"+CPPE!$A57","v":"Forest Trails and Landings"},{"$f":"IF(AW$9=\"\",\"\",IF(AW65=0,0,HLOOKUP(AW$9,CPPE!$A$1:$DB$177,AV65,FALSE)))","v":""},{"$f":"IF(AX65=\"\",\"\",IF(AX65=0,\"\",IF(LandUse!$N58=2,\"\",IF(AX65>=$E$5,AW65,\"\"))))","v":""},57,{"$f":"+CPPE!$A57","v":"Forest Trails and Landings"},{"$f":"IF(BA$9=\"\",\"\",IF(BA65=0,0,HLOOKUP(BA$9,CPPE!$A$1:$DB$177,AZ65,FALSE)))","v":""},{"$f":"IF(BB65=\"\",\"\",IF(BB65=0,\"\",IF(LandUse!$N58=2,\"\",IF(BB65>=$E$5,BA65,\"\"))))","v":""},57,{"$f":"+CPPE!$A57","v":"Forest Trails and Landings"},{"$f":"IF(BE$9=\"\",\"\",IF(BE65=0,0,HLOOKUP(BE$9,CPPE!$A$1:$DB$177,BD65,FALSE)))","v":""},{"$f":"IF(BF65=\"\",\"\",IF(BF65=0,\"\",IF(LandUse!$N58=2,\"\",IF(BF65>=$E$5,BE65,\"\"))))","v":""},57,{"$f":"+CPPE!$A57","v":"Forest Trails and Landings"},{"$f":"IF(BI$9=\"\",\"\",IF(BI65=0,0,HLOOKUP(BI$9,CPPE!$A$1:$DB$177,BH65,FALSE)))","v":""},{"$f":"IF(BJ65=\"\",\"\",IF(BJ65=0,\"\",IF(LandUse!$N58=2,\"\",IF(BJ65>=$E$5,BI65,\"\"))))","v":""},null,"","","","","","","","","",""]
[null,null,null,null,null,null,null,null,null,null,null,null,null,null,null,null,null,null,null,null,null,null,{"$f":"+CPPE!$A58","v":"Fuel Break"},58,{"$f":"+CPPE!$A58","v":"Fuel Break"},{"$f":"IF(Y$9=\"\",\"\",IF(Y66=0,0,HLOOKUP(Y$9,CPPE!$A$1:$DB$177,X66,FALSE)))","v":-1},{"$f":"IF(Z66=\"\",\"\",IF(Z66=0,\"\",IF(LandUse!$N59=2,\"\",IF(Z66>=$E$5,Y66,\"\"))))","v":""},58,{"$f":"+CPPE!$A58","v":"Fuel Break"},{"$f":"IF(AC$9=\"\",\"\",IF(AC66=0,0,HLOOKUP(AC$9,CPPE!$A$1:$DB$177,AB66,FALSE)))","v":-1},{"$f":"IF(AD66=\"\",\"\",IF(AD66=0,\"\",IF(LandUse!$N59=2,\"\",IF(AD66>=$E$5,AC66,\"\"))))","v":""},58,{"$f":"+CPPE!$A58","v":"Fuel Break"},{"$f":"IF(AG$9=\"\",\"\",IF(AG66=0,0,HLOOKUP(AG$9,CPPE!$A$1:$DB$177,AF66,FALSE)))","v":-3},{"$f":"IF(AH66=\"\",\"\",IF(AH66=0,\"\",IF(LandUse!$N59=2,\"\",IF(AH66>=$E$5,AG66,\"\"))))","v":""},58,{"$f":"+CPPE!$A58","v":"Fuel Break"},{"$f":"IF(AK$9=\"\",\"\",IF(AK66=0,0,HLOOKUP(AK$9,CPPE!$A$1:$DB$177,AJ66,FALSE)))","v":0},{"$f":"IF(AL66=\"\",\"\",IF(AL66=0,\"\",IF(LandUse!$N59=2,\"\",IF(AL66>=$E$5,AK66,\"\"))))","v":""},58,{"$f":"+CPPE!$A58","v":"Fuel Break"},{"$f":"IF(AO$9=\"\",\"\",IF(AO66=0,0,HLOOKUP(AO$9,CPPE!$A$1:$DB$177,AN66,FALSE)))","v":""},{"$f":"IF(AP66=\"\",\"\",IF(AP66=0,\"\",IF(LandUse!$N59=2,\"\",IF(AP66>=$E$5,AO66,\"\"))))","v":""},58,{"$f":"+CPPE!$A58","v":"Fuel Break"},{"$f":"IF(AS$9=\"\",\"\",IF(AS66=0,0,HLOOKUP(AS$9,CPPE!$A$1:$DB$177,AR66,FALSE)))","v":""},{"$f":"IF(AT66=\"\",\"\",IF(AT66=0,\"\",IF(LandUse!$N59=2,\"\",IF(AT66>=$E$5,AS66,\"\"))))","v":""},58,{"$f":"+CPPE!$A58","v":"Fuel Break"},{"$f":"IF(AW$9=\"\",\"\",IF(AW66=0,0,HLOOKUP(AW$9,CPPE!$A$1:$DB$177,AV66,FALSE)))","v":""},{"$f":"IF(AX66=\"\",\"\",IF(AX66=0,\"\",IF(LandUse!$N59=2,\"\",IF(AX66>=$E$5,AW66,\"\"))))","v":""},58,{"$f":"+CPPE!$A58","v":"Fuel Break"},{"$f":"IF(BA$9=\"\",\"\",IF(BA66=0,0,HLOOKUP(BA$9,CPPE!$A$1:$DB$177,AZ66,FALSE)))","v":""},{"$f":"IF(BB66=\"\",\"\",IF(BB66=0,\"\",IF(LandUse!$N59=2,\"\",IF(BB66>=$E$5,BA66,\"\"))))","v":""},58,{"$f":"+CPPE!$A58","v":"Fuel Break"},{"$f":"IF(BE$9=\"\",\"\",IF(BE66=0,0,HLOOKUP(BE$9,CPPE!$A$1:$DB$177,BD66,FALSE)))","v":""},{"$f":"IF(BF66=\"\",\"\",IF(BF66=0,\"\",IF(LandUse!$N59=2,\"\",IF(BF66>=$E$5,BE66,\"\"))))","v":""},58,{"$f":"+CPPE!$A58","v":"Fuel Break"},{"$f":"IF(BI$9=\"\",\"\",IF(BI66=0,0,HLOOKUP(BI$9,CPPE!$A$1:$DB$177,BH66,FALSE)))","v":""},{"$f":"IF(BJ66=\"\",\"\",IF(BJ66=0,\"\",IF(LandUse!$N59=2,\"\",IF(BJ66>=$E$5,BI66,\"\"))))","v":""},null,"","","","","","","","","",""]
[null,null,null,null,null,null,null,null,null,null,null,null,null,null,null,null,null,null,null,null,null,null,{"$f":"+CPPE!$A59","v":"Grade Stabilization Structure"},59,{"$f":"+CPPE!$A59","v":"Grade Stabilization Structure"},{"$f":"IF(Y$9=\"\",\"\",IF(Y67=0,0,HLOOKUP(Y$9,CPPE!$A$1:$DB$177,X67,FALSE)))","v":0},{"$f":"IF(Z67=\"\",\"\",IF(Z67=0,\"\",IF(LandUse!$N60=2,\"\",IF(Z67>=$E$5,Y67,\"\"))))","v":""},59,{"$f":"+CPPE!$A59","v":"Grade Stabilization Structure"},{"$f":"IF(AC$9=\"\",\"\",IF(AC67=0,0,HLOOKUP(AC$9,CPPE!$A$1:$DB$177,AB67,FALSE)))","v":0},{"$f":"IF(AD67=\"\",\"\",IF(AD67=0,\"\",IF(LandUse!$N60=2,\"\",IF(AD67>=$E$5,AC67,\"\"))))","v":""},59,{"$f":"+CPPE!$A59","v":"Grade Stabilization Structure"},{"$f":"IF(AG$9=\"\",\"\",IF(AG67=0,0,HLOOKUP(AG$9,CPPE!$A$1:$DB$177,AF67,FALSE)))","v":0},{"$f":"IF(AH67=\"\",\"\",IF(AH67=0,\"\",IF(LandUse!$N60=2,\"\",IF(AH67>=$E$5,AG67,\"\"))))","v":""},59,{"$f":"+CPPE!$A59","v":"Grade Stabilization Structure"},{"$f":"IF(AK$9=\"\",\"\",IF(AK67=0,0,HLOOKUP(AK$9,CPPE!$A$1:$DB$177,AJ67,FALSE)))","v":2},{"$f":"IF(AL67=\"\",\"\",IF(AL67=0,\"\",IF(LandUse!$N60=2,\"\",IF(AL67>=$E$5,AK67,\"\"))))","v":""},59,{"$f":"+CPPE!$A59","v":"Grade Stabilization Structure"},{"$f":"IF(AO$9=\"\",\"\",IF(AO67=0,0,HLOOKUP(AO$9,CPPE!$A$1:$DB$177,AN67,FALSE)))","v":""},{"$f":"IF(AP67=\"\",\"\",IF(AP67=0,\"\",IF(LandUse!$N60=2,\"\",IF(AP67>=$E$5,AO67,\"\"))))","v":""},59,{"$f":"+CPPE!$A59","v":"Grade Stabilization Structure"},{"$f":"IF(AS$9=\"\",\"\",IF(AS67=0,0,HLOOKUP(AS$9,CPPE!$A$1:$DB$177,AR67,FALSE)))","v":""},{"$f":"IF(AT67=\"\",\"\",IF(AT67=0,\"\",IF(LandUse!$N60=2,\"\",IF(AT67>=$E$5,AS67,\"\"))))","v":""},59,{"$f":"+CPPE!$A59","v":"Grade Stabilization Structure"},{"$f":"IF(AW$9=\"\",\"\",IF(AW67=0,0,HLOOKUP(AW$9,CPPE!$A$1:$DB$177,AV67,FALSE)))","v":""},{"$f":"IF(AX67=\"\",\"\",IF(AX67=0,\"\",IF(LandUse!$N60=2,\"\",IF(AX67>=$E$5,AW67,\"\"))))","v":""},59,{"$f":"+CPPE!$A59","v":"Grade Stabilization Structure"},{"$f":"IF(BA$9=\"\",\"\",IF(BA67=0,0,HLOOKUP(BA$9,CPPE!$A$1:$DB$177,AZ67,FALSE)))","v":""},{"$f":"IF(BB67=\"\",\"\",IF(BB67=0,\"\",IF(LandUse!$N60=2,\"\",IF(BB67>=$E$5,BA67,\"\"))))","v":""},59,{"$f":"+CPPE!$A59","v":"Grade Stabilization Structure"},{"$f":"IF(BE$9=\"\",\"\",IF(BE67=0,0,HLOOKUP(BE$9,CPPE!$A$1:$DB$177,BD67,FALSE)))","v":""},{"$f":"IF(BF67=\"\",\"\",IF(BF67=0,\"\",IF(LandUse!$N60=2,\"\",IF(BF67>=$E$5,BE67,\"\"))))","v":""},59,{"$f":"+CPPE!$A59","v":"Grade Stabilization Structure"},{"$f":"IF(BI$9=\"\",\"\",IF(BI67=0,0,HLOOKUP(BI$9,CPPE!$A$1:$DB$177,BH67,FALSE)))","v":""},{"$f":"IF(BJ67=\"\",\"\",IF(BJ67=0,\"\",IF(LandUse!$N60=2,\"\",IF(BJ67>=$E$5,BI67,\"\"))))","v":""},null,"","","","","","","","","",""]
[null,null,null,null,null,null,null,null,null,null,null,null,null,null,null,null,null,null,null,null,null,null,{"$f":"+CPPE!$A60","v":"Grassed Waterway"},60,{"$f":"+CPPE!$A60","v":"Grassed Waterway"},{"$f":"IF(Y$9=\"\",\"\",IF(Y68=0,0,HLOOKUP(Y$9,CPPE!$A$1:$DB$177,X68,FALSE)))","v":0},{"$f":"IF(Z68=\"\",\"\",IF(Z68=0,\"\",IF(LandUse!$N61=2,\"\",IF(Z68>=$E$5,Y68,\"\"))))","v":""},60,{"$f":"+CPPE!$A60","v":"Grassed Waterway"},{"$f":"IF(AC$9=\"\",\"\",IF(AC68=0,0,HLOOKUP(AC$9,CPPE!$A$1:$DB$177,AB68,FALSE)))","v":0},{"$f":"IF(AD68=\"\",\"\",IF(AD68=0,\"\",IF(LandUse!$N61=2,\"\",IF(AD68>=$E$5,AC68,\"\"))))","v":""},60,{"$f":"+CPPE!$A60","v":"Grassed Waterway"},{"$f":"IF(AG$9=\"\",\"\",IF(AG68=0,0,HLOOKUP(AG$9,CPPE!$A$1:$DB$177,AF68,FALSE)))","v":3},{"$f":"IF(AH68=\"\",\"\",IF(AH68=0,\"\",IF(LandUse!$N61=2,\"\",IF(AH68>=$E$5,AG68,\"\"))))","v":""},60,{"$f":"+CPPE!$A60","v":"Grassed Waterway"},{"$f":"IF(AK$9=\"\",\"\",IF(AK68=0,0,HLOOKUP(AK$9,CPPE!$A$1:$DB$177,AJ68,FALSE)))","v":3},{"$f":"IF(AL68=\"\",\"\",IF(AL68=0,\"\",IF(LandUse!$N61=2,\"\",IF(AL68>=$E$5,AK68,\"\"))))","v":""},60,{"$f":"+CPPE!$A60","v":"Grassed Waterway"},{"$f":"IF(AO$9=\"\",\"\",IF(AO68=0,0,HLOOKUP(AO$9,CPPE!$A$1:$DB$177,AN68,FALSE)))","v":""},{"$f":"IF(AP68=\"\",\"\",IF(AP68=0,\"\",IF(LandUse!$N61=2,\"\",IF(AP68>=$E$5,AO68,\"\"))))","v":""},60,{"$f":"+CPPE!$A60","v":"Grassed Waterway"},{"$f":"IF(AS$9=\"\",\"\",IF(AS68=0,0,HLOOKUP(AS$9,CPPE!$A$1:$DB$177,AR68,FALSE)))","v":""},{"$f":"IF(AT68=\"\",\"\",IF(AT68=0,\"\",IF(LandUse!$N61=2,\"\",IF(AT68>=$E$5,AS68,\"\"))))","v":""},60,{"$f":"+CPPE!$A60","v":"Grassed Waterway"},{"$f":"IF(AW$9=\"\",\"\",IF(AW68=0,0,HLOOKUP(AW$9,CPPE!$A$1:$DB$177,AV68,FALSE)))","v":""},{"$f":"IF(AX68=\"\",\"\",IF(AX68=0,\"\",IF(LandUse!$N61=2,\"\",IF(AX68>=$E$5,AW68,\"\"))))","v":""},60,{"$f":"+CPPE!$A60","v":"Grassed Waterway"},{"$f":"IF(BA$9=\"\",\"\",IF(BA68=0,0,HLOOKUP(BA$9,CPPE!$A$1:$DB$177,AZ68,FALSE)))","v":""},{"$f":"IF(BB68=\"\",\"\",IF(BB68=0,\"\",IF(LandUse!$N61=2,\"\",IF(BB68>=$E$5,BA68,\"\"))))","v":""},60,{"$f":"+CPPE!$A60","v":"Grassed Waterway"},{"$f":"IF(BE$9=\"\",\"\",IF(BE68=0,0,HLOOKUP(BE$9,CPPE!$A$1:$DB$177,BD68,FALSE)))","v":""},{"$f":"IF(BF68=\"\",\"\",IF(BF68=0,\"\",IF(LandUse!$N61=2,\"\",IF(BF68>=$E$5,BE68,\"\"))))","v":""},60,{"$f":"+CPPE!$A60","v":"Grassed Waterway"},{"$f":"IF(BI$9=\"\",\"\",IF(BI68=0,0,HLOOKUP(BI$9,CPPE!$A$1:$DB$177,BH68,FALSE)))","v":""},{"$f":"IF(BJ68=\"\",\"\",IF(BJ68=0,\"\",IF(LandUse!$N61=2,\"\",IF(BJ68>=$E$5,BI68,\"\"))))","v":""},null,"","","","","","","","","",""]
[null,null,null,null,null,null,null,null,null,null,null,null,null,null,null,null,null,null,null,null,null,null,{"$f":"+CPPE!$A61","v":"Grazing Land Mechanical Treatment"},61,{"$f":"+CPPE!$A61","v":"Grazing Land Mechanical Treatment"},{"$f":"IF(Y$9=\"\",\"\",IF(Y69=0,0,HLOOKUP(Y$9,CPPE!$A$1:$DB$177,X69,FALSE)))","v":3},{"$f":"IF(Z69=\"\",\"\",IF(Z69=0,\"\",IF(LandUse!$N62=2,\"\",IF(Z69>=$E$5,Y69,\"\"))))","v":""},61,{"$f":"+CPPE!$A61","v":"Grazing Land Mechanical Treatment"},{"$f":"IF(AC$9=\"\",\"\",IF(AC69=0,0,HLOOKUP(AC$9,CPPE!$A$1:$DB$177,AB69,FALSE)))","v":4},{"$f":"IF(AD69=\"\",\"\",IF(AD69=0,\"\",IF(LandUse!$N62=2,\"\",IF(AD69>=$E$5,AC69,\"\"))))","v":""},61,{"$f":"+CPPE!$A61","v":"Grazing Land Mechanical Treatment"},{"$f":"IF(AG$9=\"\",\"\",IF(AG69=0,0,HLOOKUP(AG$9,CPPE!$A$1:$DB$177,AF69,FALSE)))","v":3},{"$f":"IF(AH69=\"\",\"\",IF(AH69=0,\"\",IF(LandUse!$N62=2,\"\",IF(AH69>=$E$5,AG69,\"\"))))","v":""},61,{"$f":"+CPPE!$A61","v":"Grazing Land Mechanical Treatment"},{"$f":"IF(AK$9=\"\",\"\",IF(AK69=0,0,HLOOKUP(AK$9,CPPE!$A$1:$DB$177,AJ69,FALSE)))","v":0},{"$f":"IF(AL69=\"\",\"\",IF(AL69=0,\"\",IF(LandUse!$N62=2,\"\",IF(AL69>=$E$5,AK69,\"\"))))","v":""},61,{"$f":"+CPPE!$A61","v":"Grazing Land Mechanical Treatment"},{"$f":"IF(AO$9=\"\",\"\",IF(AO69=0,0,HLOOKUP(AO$9,CPPE!$A$1:$DB$177,AN69,FALSE)))","v":""},{"$f":"IF(AP69=\"\",\"\",IF(AP69=0,\"\",IF(LandUse!$N62=2,\"\",IF(AP69>=$E$5,AO69,\"\"))))","v":""},61,{"$f":"+CPPE!$A61","v":"Grazing Land Mechanical Treatment"},{"$f":"IF(AS$9=\"\",\"\",IF(AS69=0,0,HLOOKUP(AS$9,CPPE!$A$1:$DB$177,AR69,FALSE)))","v":""},{"$f":"IF(AT69=\"\",\"\",IF(AT69=0,\"\",IF(LandUse!$N62=2,\"\",IF(AT69>=$E$5,AS69,\"\"))))","v":""},61,{"$f":"+CPPE!$A61","v":"Grazing Land Mechanical Treatment"},{"$f":"IF(AW$9=\"\",\"\",IF(AW69=0,0,HLOOKUP(AW$9,CPPE!$A$1:$DB$177,AV69,FALSE)))","v":""},{"$f":"IF(AX69=\"\",\"\",IF(AX69=0,\"\",IF(LandUse!$N62=2,\"\",IF(AX69>=$E$5,AW69,\"\"))))","v":""},61,{"$f":"+CPPE!$A61","v":"Grazing Land Mechanical Treatment"},{"$f":"IF(BA$9=\"\",\"\",IF(BA69=0,0,HLOOKUP(BA$9,CPPE!$A$1:$DB$177,AZ69,FALSE)))","v":""},{"$f":"IF(BB69=\"\",\"\",IF(BB69=0,\"\",IF(LandUse!$N62=2,\"\",IF(BB69>=$E$5,BA69,\"\"))))","v":""},61,{"$f":"+CPPE!$A61","v":"Grazing Land Mechanical Treatment"},{"$f":"IF(BE$9=\"\",\"\",IF(BE69=0,0,HLOOKUP(BE$9,CPPE!$A$1:$DB$177,BD69,FALSE)))","v":""},{"$f":"IF(BF69=\"\",\"\",IF(BF69=0,\"\",IF(LandUse!$N62=2,\"\",IF(BF69>=$E$5,BE69,\"\"))))","v":""},61,{"$f":"+CPPE!$A61","v":"Grazing Land Mechanical Treatment"},{"$f":"IF(BI$9=\"\",\"\",IF(BI69=0,0,HLOOKUP(BI$9,CPPE!$A$1:$DB$177,BH69,FALSE)))","v":""},{"$f":"IF(BJ69=\"\",\"\",IF(BJ69=0,\"\",IF(LandUse!$N62=2,\"\",IF(BJ69>=$E$5,BI69,\"\"))))","v":""},null,"","","","","","","","","",""]
[null,null,null,null,null,null,null,null,null,null,null,null,null,null,null,null,null,null,null,null,null,null,{"$f":"+CPPE!$A62","v":"Groundwater Testing"},62,{"$f":"+CPPE!$A62","v":"Groundwater Testing"},{"$f":"IF(Y$9=\"\",\"\",IF(Y70=0,0,HLOOKUP(Y$9,CPPE!$A$1:$DB$177,X70,FALSE)))","v":0},{"$f":"IF(Z70=\"\",\"\",IF(Z70=0,\"\",IF(LandUse!$N63=2,\"\",IF(Z70>=$E$5,Y70,\"\"))))","v":""},62,{"$f":"+CPPE!$A62","v":"Groundwater Testing"},{"$f":"IF(AC$9=\"\",\"\",IF(AC70=0,0,HLOOKUP(AC$9,CPPE!$A$1:$DB$177,AB70,FALSE)))","v":0},{"$f":"IF(AD70=\"\",\"\",IF(AD70=0,\"\",IF(LandUse!$N63=2,\"\",IF(AD70>=$E$5,AC70,\"\"))))","v":""},62,{"$f":"+CPPE!$A62","v":"Groundwater Testing"},{"$f":"IF(AG$9=\"\",\"\",IF(AG70=0,0,HLOOKUP(AG$9,CPPE!$A$1:$DB$177,AF70,FALSE)))","v":0},{"$f":"IF(AH70=\"\",\"\",IF(AH70=0,\"\",IF(LandUse!$N63=2,\"\",IF(AH70>=$E$5,AG70,\"\"))))","v":""},62,{"$f":"+CPPE!$A62","v":"Groundwater Testing"},{"$f":"IF(AK$9=\"\",\"\",IF(AK70=0,0,HLOOKUP(AK$9,CPPE!$A$1:$DB$177,AJ70,FALSE)))","v":0},{"$f":"IF(AL70=\"\",\"\",IF(AL70=0,\"\",IF(LandUse!$N63=2,\"\",IF(AL70>=$E$5,AK70,\"\"))))","v":""},62,{"$f":"+CPPE!$A62","v":"Groundwater Testing"},{"$f":"IF(AO$9=\"\",\"\",IF(AO70=0,0,HLOOKUP(AO$9,CPPE!$A$1:$DB$177,AN70,FALSE)))","v":""},{"$f":"IF(AP70=\"\",\"\",IF(AP70=0,\"\",IF(LandUse!$N63=2,\"\",IF(AP70>=$E$5,AO70,\"\"))))","v":""},62,{"$f":"+CPPE!$A62","v":"Groundwater Testing"},{"$f":"IF(AS$9=\"\",\"\",IF(AS70=0,0,HLOOKUP(AS$9,CPPE!$A$1:$DB$177,AR70,FALSE)))","v":""},{"$f":"IF(AT70=\"\",\"\",IF(AT70=0,\"\",IF(LandUse!$N63=2,\"\",IF(AT70>=$E$5,AS70,\"\"))))","v":""},62,{"$f":"+CPPE!$A62","v":"Groundwater Testing"},{"$f":"IF(AW$9=\"\",\"\",IF(AW70=0,0,HLOOKUP(AW$9,CPPE!$A$1:$DB$177,AV70,FALSE)))","v":""},{"$f":"IF(AX70=\"\",\"\",IF(AX70=0,\"\",IF(LandUse!$N63=2,\"\",IF(AX70>=$E$5,AW70,\"\"))))","v":""},62,{"$f":"+CPPE!$A62","v":"Groundwater Testing"},{"$f":"IF(BA$9=\"\",\"\",IF(BA70=0,0,HLOOKUP(BA$9,CPPE!$A$1:$DB$177,AZ70,FALSE)))","v":""},{"$f":"IF(BB70=\"\",\"\",IF(BB70=0,\"\",IF(LandUse!$N63=2,\"\",IF(BB70>=$E$5,BA70,\"\"))))","v":""},62,{"$f":"+CPPE!$A62","v":"Groundwater Testing"},{"$f":"IF(BE$9=\"\",\"\",IF(BE70=0,0,HLOOKUP(BE$9,CPPE!$A$1:$DB$177,BD70,FALSE)))","v":""},{"$f":"IF(BF70=\"\",\"\",IF(BF70=0,\"\",IF(LandUse!$N63=2,\"\",IF(BF70>=$E$5,BE70,\"\"))))","v":""},62,{"$f":"+CPPE!$A62","v":"Groundwater Testing"},{"$f":"IF(BI$9=\"\",\"\",IF(BI70=0,0,HLOOKUP(BI$9,CPPE!$A$1:$DB$177,BH70,FALSE)))","v":""},{"$f":"IF(BJ70=\"\",\"\",IF(BJ70=0,\"\",IF(LandUse!$N63=2,\"\",IF(BJ70>=$E$5,BI70,\"\"))))","v":""},null,"","","","","","","","","",""]
[null,null,null,null,null,null,null,null,null,null,null,null,null,null,null,null,null,null,null,null,null,null,{"$f":"+CPPE!$A63","v":"Heavy Use Area Protection"},63,{"$f":"+CPPE!$A63","v":"Heavy Use Area Protection"},{"$f":"IF(Y$9=\"\",\"\",IF(Y71=0,0,HLOOKUP(Y$9,CPPE!$A$1:$DB$177,X71,FALSE)))","v":2},{"$f":"IF(Z71=\"\",\"\",IF(Z71=0,\"\",IF(LandUse!$N64=2,\"\",IF(Z71>=$E$5,Y71,\"\"))))","v":""},63,{"$f":"+CPPE!$A63","v":"Heavy Use Area Protection"},{"$f":"IF(AC$9=\"\",\"\",IF(AC71=0,0,HLOOKUP(AC$9,CPPE!$A$1:$DB$177,AB71,FALSE)))","v":1},{"$f":"IF(AD71=\"\",\"\",IF(AD71=0,\"\",IF(LandUse!$N64=2,\"\",IF(AD71>=$E$5,AC71,\"\"))))","v":""},63,{"$f":"+CPPE!$A63","v":"Heavy Use Area Protection"},{"$f":"IF(AG$9=\"\",\"\",IF(AG71=0,0,HLOOKUP(AG$9,CPPE!$A$1:$DB$177,AF71,FALSE)))","v":0},{"$f":"IF(AH71=\"\",\"\",IF(AH71=0,\"\",IF(LandUse!$N64=2,\"\",IF(AH71>=$E$5,AG71,\"\"))))","v":""},63,{"$f":"+CPPE!$A63","v":"Heavy Use Area Protection"},{"$f":"IF(AK$9=\"\",\"\",IF(AK71=0,0,HLOOKUP(AK$9,CPPE!$A$1:$DB$177,AJ71,FALSE)))","v":1},{"$f":"IF(AL71=\"\",\"\",IF(AL71=0,\"\",IF(LandUse!$N64=2,\"\",IF(AL71>=$E$5,AK71,\"\"))))","v":""},63,{"$f":"+CPPE!$A63","v":"Heavy Use Area Protection"},{"$f":"IF(AO$9=\"\",\"\",IF(AO71=0,0,HLOOKUP(AO$9,CPPE!$A$1:$DB$177,AN71,FALSE)))","v":""},{"$f":"IF(AP71=\"\",\"\",IF(AP71=0,\"\",IF(LandUse!$N64=2,\"\",IF(AP71>=$E$5,AO71,\"\"))))","v":""},63,{"$f":"+CPPE!$A63","v":"Heavy Use Area Protection"},{"$f":"IF(AS$9=\"\",\"\",IF(AS71=0,0,HLOOKUP(AS$9,CPPE!$A$1:$DB$177,AR71,FALSE)))","v":""},{"$f":"IF(AT71=\"\",\"\",IF(AT71=0,\"\",IF(LandUse!$N64=2,\"\",IF(AT71>=$E$5,AS71,\"\"))))","v":""},63,{"$f":"+CPPE!$A63","v":"Heavy Use Area Protection"},{"$f":"IF(AW$9=\"\",\"\",IF(AW71=0,0,HLOOKUP(AW$9,CPPE!$A$1:$DB$177,AV71,FALSE)))","v":""},{"$f":"IF(AX71=\"\",\"\",IF(AX71=0,\"\",IF(LandUse!$N64=2,\"\",IF(AX71>=$E$5,AW71,\"\"))))","v":""},63,{"$f":"+CPPE!$A63","v":"Heavy Use Area Protection"},{"$f":"IF(BA$9=\"\",\"\",IF(BA71=0,0,HLOOKUP(BA$9,CPPE!$A$1:$DB$177,AZ71,FALSE)))","v":""},{"$f":"IF(BB71=\"\",\"\",IF(BB71=0,\"\",IF(LandUse!$N64=2,\"\",IF(BB71>=$E$5,BA71,\"\"))))","v":""},63,{"$f":"+CPPE!$A63","v":"Heavy Use Area Protection"},{"$f":"IF(BE$9=\"\",\"\",IF(BE71=0,0,HLOOKUP(BE$9,CPPE!$A$1:$DB$177,BD71,FALSE)))","v":""},{"$f":"IF(BF71=\"\",\"\",IF(BF71=0,\"\",IF(LandUse!$N64=2,\"\",IF(BF71>=$E$5,BE71,\"\"))))","v":""},63,{"$f":"+CPPE!$A63","v":"Heavy Use Area Protection"},{"$f":"IF(BI$9=\"\",\"\",IF(BI71=0,0,HLOOKUP(BI$9,CPPE!$A$1:$DB$177,BH71,FALSE)))","v":""},{"$f":"IF(BJ71=\"\",\"\",IF(BJ71=0,\"\",IF(LandUse!$N64=2,\"\",IF(BJ71>=$E$5,BI71,\"\"))))","v":""},null,"","","","","","","","","",""]
[null,null,null,null,null,null,null,null,null,null,null,null,null,null,null,null,null,null,null,null,null,null,{"$f":"+CPPE!$A64","v":"Hedgerow Planting"},64,{"$f":"+CPPE!$A64","v":"Hedgerow Planting"},{"$f":"IF(Y$9=\"\",\"\",IF(Y72=0,0,HLOOKUP(Y$9,CPPE!$A$1:$DB$177,X72,FALSE)))","v":0},{"$f":"IF(Z72=\"\",\"\",IF(Z72=0,\"\",IF(LandUse!$N65=2,\"\",IF(Z72>=$E$5,Y72,\"\"))))","v":""},64,{"$f":"+CPPE!$A64","v":"Hedgerow Planting"},{"$f":"IF(AC$9=\"\",\"\",IF(AC72=0,0,HLOOKUP(AC$9,CPPE!$A$1:$DB$177,AB72,FALSE)))","v":1},{"$f":"IF(AD72=\"\",\"\",IF(AD72=0,\"\",IF(LandUse!$N65=2,\"\",IF(AD72>=$E$5,AC72,\"\"))))","v":""},64,{"$f":"+CPPE!$A64","v":"Hedgerow Planting"},{"$f":"IF(AG$9=\"\",\"\",IF(AG72=0,0,HLOOKUP(AG$9,CPPE!$A$1:$DB$177,AF72,FALSE)))","v":2},{"$f":"IF(AH72=\"\",\"\",IF(AH72=0,\"\",IF(LandUse!$N65=2,\"\",IF(AH72>=$E$5,AG72,\"\"))))","v":""},64,{"$f":"+CPPE!$A64","v":"Hedgerow Planting"},{"$f":"IF(AK$9=\"\",\"\",IF(AK72=0,0,HLOOKUP(AK$9,CPPE!$A$1:$DB$177,AJ72,FALSE)))","v":0},{"$f":"IF(AL72=\"\",\"\",IF(AL72=0,\"\",IF(LandUse!$N65=2,\"\",IF(AL72>=$E$5,AK72,\"\"))))","v":""},64,{"$f":"+CPPE!$A64","v":"Hedgerow Planting"},{"$f":"IF(AO$9=\"\",\"\",IF(AO72=0,0,HLOOKUP(AO$9,CPPE!$A$1:$DB$177,AN72,FALSE)))","v":""},{"$f":"IF(AP72=\"\",\"\",IF(AP72=0,\"\",IF(LandUse!$N65=2,\"\",IF(AP72>=$E$5,AO72,\"\"))))","v":""},64,{"$f":"+CPPE!$A64","v":"Hedgerow Planting"},{"$f":"IF(AS$9=\"\",\"\",IF(AS72=0,0,HLOOKUP(AS$9,CPPE!$A$1:$DB$177,AR72,FALSE)))","v":""},{"$f":"IF(AT72=\"\",\"\",IF(AT72=0,\"\",IF(LandUse!$N65=2,\"\",IF(AT72>=$E$5,AS72,\"\"))))","v":""},64,{"$f":"+CPPE!$A64","v":"Hedgerow Planting"},{"$f":"IF(AW$9=\"\",\"\",IF(AW72=0,0,HLOOKUP(AW$9,CPPE!$A$1:$DB$177,AV72,FALSE)))","v":""},{"$f":"IF(AX72=\"\",\"\",IF(AX72=0,\"\",IF(LandUse!$N65=2,\"\",IF(AX72>=$E$5,AW72,\"\"))))","v":""},64,{"$f":"+CPPE!$A64","v":"Hedgerow Planting"},{"$f":"IF(BA$9=\"\",\"\",IF(BA72=0,0,HLOOKUP(BA$9,CPPE!$A$1:$DB$177,AZ72,FALSE)))","v":""},{"$f":"IF(BB72=\"\",\"\",IF(BB72=0,\"\",IF(LandUse!$N65=2,\"\",IF(BB72>=$E$5,BA72,\"\"))))","v":""},64,{"$f":"+CPPE!$A64","v":"Hedgerow Planting"},{"$f":"IF(BE$9=\"\",\"\",IF(BE72=0,0,HLOOKUP(BE$9,CPPE!$A$1:$DB$177,BD72,FALSE)))","v":""},{"$f":"IF(BF72=\"\",\"\",IF(BF72=0,\"\",IF(LandUse!$N65=2,\"\",IF(BF72>=$E$5,BE72,\"\"))))","v":""},64,{"$f":"+CPPE!$A64","v":"Hedgerow Planting"},{"$f":"IF(BI$9=\"\",\"\",IF(BI72=0,0,HLOOKUP(BI$9,CPPE!$A$1:$DB$177,BH72,FALSE)))","v":""},{"$f":"IF(BJ72=\"\",\"\",IF(BJ72=0,\"\",IF(LandUse!$N65=2,\"\",IF(BJ72>=$E$5,BI72,\"\"))))","v":""},null,"","","","","","","","","",""]
[null,null,null,null,null,null,null,null,null,null,null,null,null,null,null,null,null,null,null,null,null,null,{"$f":"+CPPE!$A65","v":"Herbaceous Weed Treatment"},65,{"$f":"+CPPE!$A65","v":"Herbaceous Weed Treatment"},{"$f":"IF(Y$9=\"\",\"\",IF(Y73=0,0,HLOOKUP(Y$9,CPPE!$A$1:$DB$177,X73,FALSE)))","v":4},{"$f":"IF(Z73=\"\",\"\",IF(Z73=0,\"\",IF(LandUse!$N66=2,\"\",IF(Z73>=$E$5,Y73,\"\"))))","v":""},65,{"$f":"+CPPE!$A65","v":"Herbaceous Weed Treatment"},{"$f":"IF(AC$9=\"\",\"\",IF(AC73=0,0,HLOOKUP(AC$9,CPPE!$A$1:$DB$177,AB73,FALSE)))","v":0},{"$f":"IF(AD73=\"\",\"\",IF(AD73=0,\"\",IF(LandUse!$N66=2,\"\",IF(AD73>=$E$5,AC73,\"\"))))","v":""},65,{"$f":"+CPPE!$A65","v":"Herbaceous Weed Treatment"},{"$f":"IF(AG$9=\"\",\"\",IF(AG73=0,0,HLOOKUP(AG$9,CPPE!$A$1:$DB$177,AF73,FALSE)))","v":0},{"$f":"IF(AH73=\"\",\"\",IF(AH73=0,\"\",IF(LandUse!$N66=2,\"\",IF(AH73>=$E$5,AG73,\"\"))))","v":""},65,{"$f":"+CPPE!$A65","v":"Herbaceous Weed Treatment"},{"$f":"IF(AK$9=\"\",\"\",IF(AK73=0,0,HLOOKUP(AK$9,CPPE!$A$1:$DB$177,AJ73,FALSE)))","v":1},{"$f":"IF(AL73=\"\",\"\",IF(AL73=0,\"\",IF(LandUse!$N66=2,\"\",IF(AL73>=$E$5,AK73,\"\"))))","v":""},65,{"$f":"+CPPE!$A65","v":"Herbaceous Weed Treatment"},{"$f":"IF(AO$9=\"\",\"\",IF(AO73=0,0,HLOOKUP(AO$9,CPPE!$A$1:$DB$177,AN73,FALSE)))","v":""},{"$f":"IF(AP73=\"\",\"\",IF(AP73=0,\"\",IF(LandUse!$N66=2,\"\",IF(AP73>=$E$5,AO73,\"\"))))","v":""},65,{"$f":"+CPPE!$A65","v":"Herbaceous Weed Treatment"},{"$f":"IF(AS$9=\"\",\"\",IF(AS73=0,0,HLOOKUP(AS$9,CPPE!$A$1:$DB$177,AR73,FALSE)))","v":""},{"$f":"IF(AT73=\"\",\"\",IF(AT73=0,\"\",IF(LandUse!$N66=2,\"\",IF(AT73>=$E$5,AS73,\"\"))))","v":""},65,{"$f":"+CPPE!$A65","v":"Herbaceous Weed Treatment"},{"$f":"IF(AW$9=\"\",\"\",IF(AW73=0,0,HLOOKUP(AW$9,CPPE!$A$1:$DB$177,AV73,FALSE)))","v":""},{"$f":"IF(AX73=\"\",\"\",IF(AX73=0,\"\",IF(LandUse!$N66=2,\"\",IF(AX73>=$E$5,AW73,\"\"))))","v":""},65,{"$f":"+CPPE!$A65","v":"Herbaceous Weed Treatment"},{"$f":"IF(BA$9=\"\",\"\",IF(BA73=0,0,HLOOKUP(BA$9,CPPE!$A$1:$DB$177,AZ73,FALSE)))","v":""},{"$f":"IF(BB73=\"\",\"\",IF(BB73=0,\"\",IF(LandUse!$N66=2,\"\",IF(BB73>=$E$5,BA73,\"\"))))","v":""},65,{"$f":"+CPPE!$A65","v":"Herbaceous Weed Treatment"},{"$f":"IF(BE$9=\"\",\"\",IF(BE73=0,0,HLOOKUP(BE$9,CPPE!$A$1:$DB$177,BD73,FALSE)))","v":""},{"$f":"IF(BF73=\"\",\"\",IF(BF73=0,\"\",IF(LandUse!$N66=2,\"\",IF(BF73>=$E$5,BE73,\"\"))))","v":""},65,{"$f":"+CPPE!$A65","v":"Herbaceous Weed Treatment"},{"$f":"IF(BI$9=\"\",\"\",IF(BI73=0,0,HLOOKUP(BI$9,CPPE!$A$1:$DB$177,BH73,FALSE)))","v":""},{"$f":"IF(BJ73=\"\",\"\",IF(BJ73=0,\"\",IF(LandUse!$N66=2,\"\",IF(BJ73>=$E$5,BI73,\"\"))))","v":""},null,"","","","","","","","","",""]
[null,null,null,null,null,null,null,null,null,null,null,null,null,null,null,null,null,null,null,null,null,null,{"$f":"+CPPE!$A66","v":"Herbaceous Wind Barriers"},66,{"$f":"+CPPE!$A66","v":"Herbaceous Wind Barriers"},{"$f":"IF(Y$9=\"\",\"\",IF(Y74=0,0,HLOOKUP(Y$9,CPPE!$A$1:$DB$177,X74,FALSE)))","v":0},{"$f":"IF(Z74=\"\",\"\",IF(Z74=0,\"\",IF(LandUse!$N67=2,\"\",IF(Z74>=$E$5,Y74,\"\"))))","v":""},66,{"$f":"+CPPE!$A66","v":"Herbaceous Wind Barriers"},{"$f":"IF(AC$9=\"\",\"\",IF(AC74=0,0,HLOOKUP(AC$9,CPPE!$A$1:$DB$177,AB74,FALSE)))","v":0},{"$f":"IF(AD74=\"\",\"\",IF(AD74=0,\"\",IF(LandUse!$N67=2,\"\",IF(AD74>=$E$5,AC74,\"\"))))","v":""},66,{"$f":"+CPPE!$A66","v":"Herbaceous Wind Barriers"},{"$f":"IF(AG$9=\"\",\"\",IF(AG74=0,0,HLOOKUP(AG$9,CPPE!$A$1:$DB$177,AF74,FALSE)))","v":1},{"$f":"IF(AH74=\"\",\"\",IF(AH74=0,\"\",IF(LandUse!$N67=2,\"\",IF(AH74>=$E$5,AG74,\"\"))))","v":""},66,{"$f":"+CPPE!$A66","v":"Herbaceous Wind Barriers"},{"$f":"IF(AK$9=\"\",\"\",IF(AK74=0,0,HLOOKUP(AK$9,CPPE!$A$1:$DB$177,AJ74,FALSE)))","v":0},{"$f":"IF(AL74=\"\",\"\",IF(AL74=0,\"\",IF(LandUse!$N67=2,\"\",IF(AL74>=$E$5,AK74,\"\"))))","v":""},66,{"$f":"+CPPE!$A66","v":"Herbaceous Wind Barriers"},{"$f":"IF(AO$9=\"\",\"\",IF(AO74=0,0,HLOOKUP(AO$9,CPPE!$A$1:$DB$177,AN74,FALSE)))","v":""},{"$f":"IF(AP74=\"\",\"\",IF(AP74=0,\"\",IF(LandUse!$N67=2,\"\",IF(AP74>=$E$5,AO74,\"\"))))","v":""},66,{"$f":"+CPPE!$A66","v":"Herbaceous Wind Barriers"},{"$f":"IF(AS$9=\"\",\"\",IF(AS74=0,0,HLOOKUP(AS$9,CPPE!$A$1:$DB$177,AR74,FALSE)))","v":""},{"$f":"IF(AT74=\"\",\"\",IF(AT74=0,\"\",IF(LandUse!$N67=2,\"\",IF(AT74>=$E$5,AS74,\"\"))))","v":""},66,{"$f":"+CPPE!$A66","v":"Herbaceous Wind Barriers"},{"$f":"IF(AW$9=\"\",\"\",IF(AW74=0,0,HLOOKUP(AW$9,CPPE!$A$1:$DB$177,AV74,FALSE)))","v":""},{"$f":"IF(AX74=\"\",\"\",IF(AX74=0,\"\",IF(LandUse!$N67=2,\"\",IF(AX74>=$E$5,AW74,\"\"))))","v":""},66,{"$f":"+CPPE!$A66","v":"Herbaceous Wind Barriers"},{"$f":"IF(BA$9=\"\",\"\",IF(BA74=0,0,HLOOKUP(BA$9,CPPE!$A$1:$DB$177,AZ74,FALSE)))","v":""},{"$f":"IF(BB74=\"\",\"\",IF(BB74=0,\"\",IF(LandUse!$N67=2,\"\",IF(BB74>=$E$5,BA74,\"\"))))","v":""},66,{"$f":"+CPPE!$A66","v":"Herbaceous Wind Barriers"},{"$f":"IF(BE$9=\"\",\"\",IF(BE74=0,0,HLOOKUP(BE$9,CPPE!$A$1:$DB$177,BD74,FALSE)))","v":""},{"$f":"IF(BF74=\"\",\"\",IF(BF74=0,\"\",IF(LandUse!$N67=2,\"\",IF(BF74>=$E$5,BE74,\"\"))))","v":""},66,{"$f":"+CPPE!$A66","v":"Herbaceous Wind Barriers"},{"$f":"IF(BI$9=\"\",\"\",IF(BI74=0,0,HLOOKUP(BI$9,CPPE!$A$1:$DB$177,BH74,FALSE)))","v":""},{"$f":"IF(BJ74=\"\",\"\",IF(BJ74=0,\"\",IF(LandUse!$N67=2,\"\",IF(BJ74>=$E$5,BI74,\"\"))))","v":""},null,"","","","","","","","","",""]
[null,null,null,null,null,null,null,null,null,null,null,null,null,null,null,null,null,null,null,null,null,null,{"$f":"+CPPE!$A67","v":"High Tunnel System"},67,{"$f":"+CPPE!$A67","v":"High Tunnel System"},{"$f":"IF(Y$9=\"\",\"\",IF(Y75=0,0,HLOOKUP(Y$9,CPPE!$A$1:$DB$177,X75,FALSE)))","v":0},{"$f":"IF(Z75=\"\",\"\",IF(Z75=0,\"\",IF(LandUse!$N68=2,\"\",IF(Z75>=$E$5,Y75,\"\"))))","v":""},67,{"$f":"+CPPE!$A67","v":"High Tunnel System"},{"$f":"IF(AC$9=\"\",\"\",IF(AC75=0,0,HLOOKUP(AC$9,CPPE!$A$1:$DB$177,AB75,FALSE)))","v":0},{"$f":"IF(AD75=\"\",\"\",IF(AD75=0,\"\",IF(LandUse!$N68=2,\"\",IF(AD75>=$E$5,AC75,\"\"))))","v":""},67,{"$f":"+CPPE!$A67","v":"High Tunnel System"},{"$f":"IF(AG$9=\"\",\"\",IF(AG75=0,0,HLOOKUP(AG$9,CPPE!$A$1:$DB$177,AF75,FALSE)))","v":0},{"$f":"IF(AH75=\"\",\"\",IF(AH75=0,\"\",IF(LandUse!$N68=2,\"\",IF(AH75>=$E$5,AG75,\"\"))))","v":""},67,{"$f":"+CPPE!$A67","v":"High Tunnel System"},{"$f":"IF(AK$9=\"\",\"\",IF(AK75=0,0,HLOOKUP(AK$9,CPPE!$A$1:$DB$177,AJ75,FALSE)))","v":0},{"$f":"IF(AL75=\"\",\"\",IF(AL75=0,\"\",IF(LandUse!$N68=2,\"\",IF(AL75>=$E$5,AK75,\"\"))))","v":""},67,{"$f":"+CPPE!$A67","v":"High Tunnel System"},{"$f":"IF(AO$9=\"\",\"\",IF(AO75=0,0,HLOOKUP(AO$9,CPPE!$A$1:$DB$177,AN75,FALSE)))","v":""},{"$f":"IF(AP75=\"\",\"\",IF(AP75=0,\"\",IF(LandUse!$N68=2,\"\",IF(AP75>=$E$5,AO75,\"\"))))","v":""},67,{"$f":"+CPPE!$A67","v":"High Tunnel System"},{"$f":"IF(AS$9=\"\",\"\",IF(AS75=0,0,HLOOKUP(AS$9,CPPE!$A$1:$DB$177,AR75,FALSE)))","v":""},{"$f":"IF(AT75=\"\",\"\",IF(AT75=0,\"\",IF(LandUse!$N68=2,\"\",IF(AT75>=$E$5,AS75,\"\"))))","v":""},67,{"$f":"+CPPE!$A67","v":"High Tunnel System"},{"$f":"IF(AW$9=\"\",\"\",IF(AW75=0,0,HLOOKUP(AW$9,CPPE!$A$1:$DB$177,AV75,FALSE)))","v":""},{"$f":"IF(AX75=\"\",\"\",IF(AX75=0,\"\",IF(LandUse!$N68=2,\"\",IF(AX75>=$E$5,AW75,\"\"))))","v":""},67,{"$f":"+CPPE!$A67","v":"High Tunnel System"},{"$f":"IF(BA$9=\"\",\"\",IF(BA75=0,0,HLOOKUP(BA$9,CPPE!$A$1:$DB$177,AZ75,FALSE)))","v":""},{"$f":"IF(BB75=\"\",\"\",IF(BB75=0,\"\",IF(LandUse!$N68=2,\"\",IF(BB75>=$E$5,BA75,\"\"))))","v":""},67,{"$f":"+CPPE!$A67","v":"High Tunnel System"},{"$f":"IF(BE$9=\"\",\"\",IF(BE75=0,0,HLOOKUP(BE$9,CPPE!$A$1:$DB$177,BD75,FALSE)))","v":""},{"$f":"IF(BF75=\"\",\"\",IF(BF75=0,\"\",IF(LandUse!$N68=2,\"\",IF(BF75>=$E$5,BE75,\"\"))))","v":""},67,{"$f":"+CPPE!$A67","v":"High Tunnel System"},{"$f":"IF(BI$9=\"\",\"\",IF(BI75=0,0,HLOOKUP(BI$9,CPPE!$A$1:$DB$177,BH75,FALSE)))","v":""},{"$f":"IF(BJ75=\"\",\"\",IF(BJ75=0,\"\",IF(LandUse!$N68=2,\"\",IF(BJ75>=$E$5,BI75,\"\"))))","v":""},null,{"$f":"IF(B75=\"\",\"\",C75)","v":""},{"$f":"IF(D75=\"\",\"\",E75)","v":""},{"$f":"IF(F75=\"\",\"\",G75)","v":""},{"$f":"IF(H75=\"\",\"\",I75)","v":""},{"$f":"IF(J75=\"\",\"\",K75)","v":""},{"$f":"IF(L75=\"\",\"\",M75)","v":""},{"$f":"IF(N75=\"\",\"\",O75)","v":""},{"$f":"IF(P75=\"\",\"\",Q75)","v":""},{"$f":"IF(R75=\"\",\"\",S75)","v":""},{"$f":"IF(T75=\"\",\"\",U75)","v":""}]
[null,null,null,null,null,null,null,null,null,null,null,null,null,null,null,null,null,null,null,null,null,null,{"$f":"+CPPE!$A68","v":"Hillside Ditch"},68,{"$f":"+CPPE!$A68","v":"Hillside Ditch"},{"$f":"IF(Y$9=\"\",\"\",IF(Y76=0,0,HLOOKUP(Y$9,CPPE!$A$1:$DB$177,X76,FALSE)))","v":2},{"$f":"IF(Z76=\"\",\"\",IF(Z76=0,\"\",IF(LandUse!$N69=2,\"\",IF(Z76>=$E$5,Y76,\"\"))))","v":""},68,{"$f":"+CPPE!$A68","v":"Hillside Ditch"},{"$f":"IF(AC$9=\"\",\"\",IF(AC76=0,0,HLOOKUP(AC$9,CPPE!$A$1:$DB$177,AB76,FALSE)))","v":0},{"$f":"IF(AD76=\"\",\"\",IF(AD76=0,\"\",IF(LandUse!$N69=2,\"\",IF(AD76>=$E$5,AC76,\"\"))))","v":""},68,{"$f":"+CPPE!$A68","v":"Hillside Ditch"},{"$f":"IF(AG$9=\"\",\"\",IF(AG76=0,0,HLOOKUP(AG$9,CPPE!$A$1:$DB$177,AF76,FALSE)))","v":0},{"$f":"IF(AH76=\"\",\"\",IF(AH76=0,\"\",IF(LandUse!$N69=2,\"\",IF(AH76>=$E$5,AG76,\"\"))))","v":""},68,{"$f":"+CPPE!$A68","v":"Hillside Ditch"},{"$f":"IF(AK$9=\"\",\"\",IF(AK76=0,0,HLOOKUP(AK$9,CPPE!$A$1:$DB$177,AJ76,FALSE)))","v":0},{"$f":"IF(AL76=\"\",\"\",IF(AL76=0,\"\",IF(LandUse!$N69=2,\"\",IF(AL76>=$E$5,AK76,\"\"))))","v":""},68,{"$f":"+CPPE!$A68","v":"Hillside Ditch"},{"$f":"IF(AO$9=\"\",\"\",IF(AO76=0,0,HLOOKUP(AO$9,CPPE!$A$1:$DB$177,AN76,FALSE)))","v":""},{"$f":"IF(AP76=\"\",\"\",IF(AP76=0,\"\",IF(LandUse!$N69=2,\"\",IF(AP76>=$E$5,AO76,\"\"))))","v":""},68,{"$f":"+CPPE!$A68","v":"Hillside Ditch"},{"$f":"IF(AS$9=\"\",\"\",IF(AS76=0,0,HLOOKUP(AS$9,CPPE!$A$1:$DB$177,AR76,FALSE)))","v":""},{"$f":"IF(AT76=\"\",\"\",IF(AT76=0,\"\",IF(LandUse!$N69=2,\"\",IF(AT76>=$E$5,AS76,\"\"))))","v":""},68,{"$f":"+CPPE!$A68","v":"Hillside Ditch"},{"$f":"IF(AW$9=\"\",\"\",IF(AW76=0,0,HLOOKUP(AW$9,CPPE!$A$1:$DB$177,AV76,FALSE)))","v":""},{"$f":"IF(AX76=\"\",\"\",IF(AX76=0,\"\",IF(LandUse!$N69=2,\"\",IF(AX76>=$E$5,AW76,\"\"))))","v":""},68,{"$f":"+CPPE!$A68","v":"Hillside Ditch"},{"$f":"IF(BA$9=\"\",\"\",IF(BA76=0,0,HLOOKUP(BA$9,CPPE!$A$1:$DB$177,AZ76,FALSE)))","v":""},{"$f":"IF(BB76=\"\",\"\",IF(BB76=0,\"\",IF(LandUse!$N69=2,\"\",IF(BB76>=$E$5,BA76,\"\"))))","v":""},68,{"$f":"+CPPE!$A68","v":"Hillside Ditch"},{"$f":"IF(BE$9=\"\",\"\",IF(BE76=0,0,HLOOKUP(BE$9,CPPE!$A$1:$DB$177,BD76,FALSE)))","v":""},{"$f":"IF(BF76=\"\",\"\",IF(BF76=0,\"\",IF(LandUse!$N69=2,\"\",IF(BF76>=$E$5,BE76,\"\"))))","v":""},68,{"$f":"+CPPE!$A68","v":"Hillside Ditch"},{"$f":"IF(BI$9=\"\",\"\",IF(BI76=0,0,HLOOKUP(BI$9,CPPE!$A$1:$DB$177,BH76,FALSE)))","v":""},{"$f":"IF(BJ76=\"\",\"\",IF(BJ76=0,\"\",IF(LandUse!$N69=2,\"\",IF(BJ76>=$E$5,BI76,\"\"))))","v":""},null,"","","","","","","","","",""]
[null,null,null,null,null,null,null,null,null,null,null,null,null,null,null,null,null,null,null,null,null,null,{"$f":"+CPPE!$A69","v":"Irrigation and Drainage Tailwater Recovery"},69,{"$f":"+CPPE!$A69","v":"Irrigation and Drainage Tailwater Recovery"},{"$f":"IF(Y$9=\"\",\"\",IF(Y77=0,0,HLOOKUP(Y$9,CPPE!$A$1:$DB$177,X77,FALSE)))","v":0},{"$f":"IF(Z77=\"\",\"\",IF(Z77=0,\"\",IF(LandUse!$N70=2,\"\",IF(Z77>=$E$5,Y77,\"\"))))","v":""},69,{"$f":"+CPPE!$A69","v":"Irrigation and Drainage Tailwater Recovery"},{"$f":"IF(AC$9=\"\",\"\",IF(AC77=0,0,HLOOKUP(AC$9,CPPE!$A$1:$DB$177,AB77,FALSE)))","v":-1},{"$f":"IF(AD77=\"\",\"\",IF(AD77=0,\"\",IF(LandUse!$N70=2,\"\",IF(AD77>=$E$5,AC77,\"\"))))","v":""},69,{"$f":"+CPPE!$A69","v":"Irrigation and Drainage Tailwater Recovery"},{"$f":"IF(AG$9=\"\",\"\",IF(AG77=0,0,HLOOKUP(AG$9,CPPE!$A$1:$DB$177,AF77,FALSE)))","v":0},{"$f":"IF(AH77=\"\",\"\",IF(AH77=0,\"\",IF(LandUse!$N70=2,\"\",IF(AH77>=$E$5,AG77,\"\"))))","v":""},69,{"$f":"+CPPE!$A69","v":"Irrigation and Drainage Tailwater Recovery"},{"$f":"IF(AK$9=\"\",\"\",IF(AK77=0,0,HLOOKUP(AK$9,CPPE!$A$1:$DB$177,AJ77,FALSE)))","v":0},{"$f":"IF(AL77=\"\",\"\",IF(AL77=0,\"\",IF(LandUse!$N70=2,\"\",IF(AL77>=$E$5,AK77,\"\"))))","v":""},69,{"$f":"+CPPE!$A69","v":"Irrigation and Drainage Tailwater Recovery"},{"$f":"IF(AO$9=\"\",\"\",IF(AO77=0,0,HLOOKUP(AO$9,CPPE!$A$1:$DB$177,AN77,FALSE)))","v":""},{"$f":"IF(AP77=\"\",\"\",IF(AP77=0,\"\",IF(LandUse!$N70=2,\"\",IF(AP77>=$E$5,AO77,\"\"))))","v":""},69,{"$f":"+CPPE!$A69","v":"Irrigation and Drainage Tailwater Recovery"},{"$f":"IF(AS$9=\"\",\"\",IF(AS77=0,0,HLOOKUP(AS$9,CPPE!$A$1:$DB$177,AR77,FALSE)))","v":""},{"$f":"IF(AT77=\"\",\"\",IF(AT77=0,\"\",IF(LandUse!$N70=2,\"\",IF(AT77>=$E$5,AS77,\"\"))))","v":""},69,{"$f":"+CPPE!$A69","v":"Irrigation and Drainage Tailwater Recovery"},{"$f":"IF(AW$9=\"\",\"\",IF(AW77=0,0,HLOOKUP(AW$9,CPPE!$A$1:$DB$177,AV77,FALSE)))","v":""},{"$f":"IF(AX77=\"\",\"\",IF(AX77=0,\"\",IF(LandUse!$N70=2,\"\",IF(AX77>=$E$5,AW77,\"\"))))","v":""},69,{"$f":"+CPPE!$A69","v":"Irrigation and Drainage Tailwater Recovery"},{"$f":"IF(BA$9=\"\",\"\",IF(BA77=0,0,HLOOKUP(BA$9,CPPE!$A$1:$DB$177,AZ77,FALSE)))","v":""},{"$f":"IF(BB77=\"\",\"\",IF(BB77=0,\"\",IF(LandUse!$N70=2,\"\",IF(BB77>=$E$5,BA77,\"\"))))","v":""},69,{"$f":"+CPPE!$A69","v":"Irrigation and Drainage Tailwater Recovery"},{"$f":"IF(BE$9=\"\",\"\",IF(BE77=0,0,HLOOKUP(BE$9,CPPE!$A$1:$DB$177,BD77,FALSE)))","v":""},{"$f":"IF(BF77=\"\",\"\",IF(BF77=0,\"\",IF(LandUse!$N70=2,\"\",IF(BF77>=$E$5,BE77,\"\"))))","v":""},69,{"$f":"+CPPE!$A69","v":"Irrigation and Drainage Tailwater Recovery"},{"$f":"IF(BI$9=\"\",\"\",IF(BI77=0,0,HLOOKUP(BI$9,CPPE!$A$1:$DB$177,BH77,FALSE)))","v":""},{"$f":"IF(BJ77=\"\",\"\",IF(BJ77=0,\"\",IF(LandUse!$N70=2,\"\",IF(BJ77>=$E$5,BI77,\"\"))))","v":""},null,"","","","","","","","","",""]
[null,null,null,null,null,null,null,null,null,null,null,null,null,null,null,null,null,null,null,null,null,null,{"$f":"+CPPE!$A70","v":"Irrigation Canal or Lateral"},70,{"$f":"+CPPE!$A70","v":"Irrigation Canal or Lateral"},{"$f":"IF(Y$9=\"\",\"\",IF(Y78=0,0,HLOOKUP(Y$9,CPPE!$A$1:$DB$177,X78,FALSE)))","v":0},{"$f":"IF(Z78=\"\",\"\",IF(Z78=0,\"\",IF(LandUse!$N71=2,\"\",IF(Z78>=$E$5,Y78,\"\"))))","v":""},70,{"$f":"+CPPE!$A70","v":"Irrigation Canal or Lateral"},{"$f":"IF(AC$9=\"\",\"\",IF(AC78=0,0,HLOOKUP(AC$9,CPPE!$A$1:$DB$177,AB78,FALSE)))","v":0},{"$f":"IF(AD78=\"\",\"\",IF(AD78=0,\"\",IF(LandUse!$N71=2,\"\",IF(AD78>=$E$5,AC78,\"\"))))","v":""},70,{"$f":"+CPPE!$A70","v":"Irrigation Canal or Lateral"},{"$f":"IF(AG$9=\"\",\"\",IF(AG78=0,0,HLOOKUP(AG$9,CPPE!$A$1:$DB$177,AF78,FALSE)))","v":0},{"$f":"IF(AH78=\"\",\"\",IF(AH78=0,\"\",IF(LandUse!$N71=2,\"\",IF(AH78>=$E$5,AG78,\"\"))))","v":""},70,{"$f":"+CPPE!$A70","v":"Irrigation Canal or Lateral"},{"$f":"IF(AK$9=\"\",\"\",IF(AK78=0,0,HLOOKUP(AK$9,CPPE!$A$1:$DB$177,AJ78,FALSE)))","v":0},{"$f":"IF(AL78=\"\",\"\",IF(AL78=0,\"\",IF(LandUse!$N71=2,\"\",IF(AL78>=$E$5,AK78,\"\"))))","v":""},70,{"$f":"+CPPE!$A70","v":"Irrigation Canal or Lateral"},{"$f":"IF(AO$9=\"\",\"\",IF(AO78=0,0,HLOOKUP(AO$9,CPPE!$A$1:$DB$177,AN78,FALSE)))","v":""},{"$f":"IF(AP78=\"\",\"\",IF(AP78=0,\"\",IF(LandUse!$N71=2,\"\",IF(AP78>=$E$5,AO78,\"\"))))","v":""},70,{"$f":"+CPPE!$A70","v":"Irrigation Canal or Lateral"},{"$f":"IF(AS$9=\"\",\"\",IF(AS78=0,0,HLOOKUP(AS$9,CPPE!$A$1:$DB$177,AR78,FALSE)))","v":""},{"$f":"IF(AT78=\"\",\"\",IF(AT78=0,\"\",IF(LandUse!$N71=2,\"\",IF(AT78>=$E$5,AS78,\"\"))))","v":""},70,{"$f":"+CPPE!$A70","v":"Irrigation Canal or Lateral"},{"$f":"IF(AW$9=\"\",\"\",IF(AW78=0,0,HLOOKUP(AW$9,CPPE!$A$1:$DB$177,AV78,FALSE)))","v":""},{"$f":"IF(AX78=\"\",\"\",IF(AX78=0,\"\",IF(LandUse!$N71=2,\"\",IF(AX78>=$E$5,AW78,\"\"))))","v":""},70,{"$f":"+CPPE!$A70","v":"Irrigation Canal or Lateral"},{"$f":"IF(BA$9=\"\",\"\",IF(BA78=0,0,HLOOKUP(BA$9,CPPE!$A$1:$DB$177,AZ78,FALSE)))","v":""},{"$f":"IF(BB78=\"\",\"\",IF(BB78=0,\"\",IF(LandUse!$N71=2,\"\",IF(BB78>=$E$5,BA78,\"\"))))","v":""},70,{"$f":"+CPPE!$A70","v":"Irrigation Canal or Lateral"},{"$f":"IF(BE$9=\"\",\"\",IF(BE78=0,0,HLOOKUP(BE$9,CPPE!$A$1:$DB$177,BD78,FALSE)))","v":""},{"$f":"IF(BF78=\"\",\"\",IF(BF78=0,\"\",IF(LandUse!$N71=2,\"\",IF(BF78>=$E$5,BE78,\"\"))))","v":""},70,{"$f":"+CPPE!$A70","v":"Irrigation Canal or Lateral"},{"$f":"IF(BI$9=\"\",\"\",IF(BI78=0,0,HLOOKUP(BI$9,CPPE!$A$1:$DB$177,BH78,FALSE)))","v":""},{"$f":"IF(BJ78=\"\",\"\",IF(BJ78=0,\"\",IF(LandUse!$N71=2,\"\",IF(BJ78>=$E$5,BI78,\"\"))))","v":""},null,"","","","","","","","","",""]
[null,null,null,null,null,null,null,null,null,null,null,null,null,null,null,null,null,null,null,null,null,null,{"$f":"+CPPE!$A71","v":"Irrigation Ditch Lining"},71,{"$f":"+CPPE!$A71","v":"Irrigation Ditch Lining"},{"$f":"IF(Y$9=\"\",\"\",IF(Y79=0,0,HLOOKUP(Y$9,CPPE!$A$1:$DB$177,X79,FALSE)))","v":0},{"$f":"IF(Z79=\"\",\"\",IF(Z79=0,\"\",IF(LandUse!$N72=2,\"\",IF(Z79>=$E$5,Y79,\"\"))))","v":""},71,{"$f":"+CPPE!$A71","v":"Irrigation Ditch Lining"},{"$f":"IF(AC$9=\"\",\"\",IF(AC79=0,0,HLOOKUP(AC$9,CPPE!$A$1:$DB$177,AB79,FALSE)))","v":0},{"$f":"IF(AD79=\"\",\"\",IF(AD79=0,\"\",IF(LandUse!$N72=2,\"\",IF(AD79>=$E$5,AC79,\"\"))))","v":""},71,{"$f":"+CPPE!$A71","v":"Irrigation Ditch Lining"},{"$f":"IF(AG$9=\"\",\"\",IF(AG79=0,0,HLOOKUP(AG$9,CPPE!$A$1:$DB$177,AF79,FALSE)))","v":0},{"$f":"IF(AH79=\"\",\"\",IF(AH79=0,\"\",IF(LandUse!$N72=2,\"\",IF(AH79>=$E$5,AG79,\"\"))))","v":""},71,{"$f":"+CPPE!$A71","v":"Irrigation Ditch Lining"},{"$f":"IF(AK$9=\"\",\"\",IF(AK79=0,0,HLOOKUP(AK$9,CPPE!$A$1:$DB$177,AJ79,FALSE)))","v":0},{"$f":"IF(AL79=\"\",\"\",IF(AL79=0,\"\",IF(LandUse!$N72=2,\"\",IF(AL79>=$E$5,AK79,\"\"))))","v":""},71,{"$f":"+CPPE!$A71","v":"Irrigation Ditch Lining"},{"$f":"IF(AO$9=\"\",\"\",IF(AO79=0,0,HLOOKUP(AO$9,CPPE!$A$1:$DB$177,AN79,FALSE)))","v":""},{"$f":"IF(AP79=\"\",\"\",IF(AP79=0,\"\",IF(LandUse!$N72=2,\"\",IF(AP79>=$E$5,AO79,\"\"))))","v":""},71,{"$f":"+CPPE!$A71","v":"Irrigation Ditch Lining"},{"$f":"IF(AS$9=\"\",\"\",IF(AS79=0,0,HLOOKUP(AS$9,CPPE!$A$1:$DB$177,AR79,FALSE)))","v":""},{"$f":"IF(AT79=\"\",\"\",IF(AT79=0,\"\",IF(LandUse!$N72=2,\"\",IF(AT79>=$E$5,AS79,\"\"))))","v":""},71,{"$f":"+CPPE!$A71","v":"Irrigation Ditch Lining"},{"$f":"IF(AW$9=\"\",\"\",IF(AW79=0,0,HLOOKUP(AW$9,CPPE!$A$1:$DB$177,AV79,FALSE)))","v":""},{"$f":"IF(AX79=\"\",\"\",IF(AX79=0,\"\",IF(LandUse!$N72=2,\"\",IF(AX79>=$E$5,AW79,\"\"))))","v":""},71,{"$f":"+CPPE!$A71","v":"Irrigation Ditch Lining"},{"$f":"IF(BA$9=\"\",\"\",IF(BA79=0,0,HLOOKUP(BA$9,CPPE!$A$1:$DB$177,AZ79,FALSE)))","v":""},{"$f":"IF(BB79=\"\",\"\",IF(BB79=0,\"\",IF(LandUse!$N72=2,\"\",IF(BB79>=$E$5,BA79,\"\"))))","v":""},71,{"$f":"+CPPE!$A71","v":"Irrigation Ditch Lining"},{"$f":"IF(BE$9=\"\",\"\",IF(BE79=0,0,HLOOKUP(BE$9,CPPE!$A$1:$DB$177,BD79,FALSE)))","v":""},{"$f":"IF(BF79=\"\",\"\",IF(BF79=0,\"\",IF(LandUse!$N72=2,\"\",IF(BF79>=$E$5,BE79,\"\"))))","v":""},71,{"$f":"+CPPE!$A71","v":"Irrigation Ditch Lining"},{"$f":"IF(BI$9=\"\",\"\",IF(BI79=0,0,HLOOKUP(BI$9,CPPE!$A$1:$DB$177,BH79,FALSE)))","v":""},{"$f":"IF(BJ79=\"\",\"\",IF(BJ79=0,\"\",IF(LandUse!$N72=2,\"\",IF(BJ79>=$E$5,BI79,\"\"))))","v":""},null,"","","","","","","","","",""]
[null,null,null,null,null,null,null,null,null,null,null,null,null,null,null,null,null,null,null,null,null,null,{"$f":"+CPPE!$A72","v":"Irrigation Field Ditch"},72,{"$f":"+CPPE!$A72","v":"Irrigation Field Ditch"},{"$f":"IF(Y$9=\"\",\"\",IF(Y80=0,0,HLOOKUP(Y$9,CPPE!$A$1:$DB$177,X80,FALSE)))","v":0},{"$f":"IF(Z80=\"\",\"\",IF(Z80=0,\"\",IF(LandUse!$N73=2,\"\",IF(Z80>=$E$5,Y80,\"\"))))","v":""},72,{"$f":"+CPPE!$A72","v":"Irrigation Field Ditch"},{"$f":"IF(AC$9=\"\",\"\",IF(AC80=0,0,HLOOKUP(AC$9,CPPE!$A$1:$DB$177,AB80,FALSE)))","v":0},{"$f":"IF(AD80=\"\",\"\",IF(AD80=0,\"\",IF(LandUse!$N73=2,\"\",IF(AD80>=$E$5,AC80,\"\"))))","v":""},72,{"$f":"+CPPE!$A72","v":"Irrigation Field Ditch"},{"$f":"IF(AG$9=\"\",\"\",IF(AG80=0,0,HLOOKUP(AG$9,CPPE!$A$1:$DB$177,AF80,FALSE)))","v":0},{"$f":"IF(AH80=\"\",\"\",IF(AH80=0,\"\",IF(LandUse!$N73=2,\"\",IF(AH80>=$E$5,AG80,\"\"))))","v":""},72,{"$f":"+CPPE!$A72","v":"Irrigation Field Ditch"},{"$f":"IF(AK$9=\"\",\"\",IF(AK80=0,0,HLOOKUP(AK$9,CPPE!$A$1:$DB$177,AJ80,FALSE)))","v":0},{"$f":"IF(AL80=\"\",\"\",IF(AL80=0,\"\",IF(LandUse!$N73=2,\"\",IF(AL80>=$E$5,AK80,\"\"))))","v":""},72,{"$f":"+CPPE!$A72","v":"Irrigation Field Ditch"},{"$f":"IF(AO$9=\"\",\"\",IF(AO80=0,0,HLOOKUP(AO$9,CPPE!$A$1:$DB$177,AN80,FALSE)))","v":""},{"$f":"IF(AP80=\"\",\"\",IF(AP80=0,\"\",IF(LandUse!$N73=2,\"\",IF(AP80>=$E$5,AO80,\"\"))))","v":""},72,{"$f":"+CPPE!$A72","v":"Irrigation Field Ditch"},{"$f":"IF(AS$9=\"\",\"\",IF(AS80=0,0,HLOOKUP(AS$9,CPPE!$A$1:$DB$177,AR80,FALSE)))","v":""},{"$f":"IF(AT80=\"\",\"\",IF(AT80=0,\"\",IF(LandUse!$N73=2,\"\",IF(AT80>=$E$5,AS80,\"\"))))","v":""},72,{"$f":"+CPPE!$A72","v":"Irrigation Field Ditch"},{"$f":"IF(AW$9=\"\",\"\",IF(AW80=0,0,HLOOKUP(AW$9,CPPE!$A$1:$DB$177,AV80,FALSE)))","v":""},{"$f":"IF(AX80=\"\",\"\",IF(AX80=0,\"\",IF(LandUse!$N73=2,\"\",IF(AX80>=$E$5,AW80,\"\"))))","v":""},72,{"$f":"+CPPE!$A72","v":"Irrigation Field Ditch"},{"$f":"IF(BA$9=\"\",\"\",IF(BA80=0,0,HLOOKUP(BA$9,CPPE!$A$1:$DB$177,AZ80,FALSE)))","v":""},{"$f":"IF(BB80=\"\",\"\",IF(BB80=0,\"\",IF(LandUse!$N73=2,\"\",IF(BB80>=$E$5,BA80,\"\"))))","v":""},72,{"$f":"+CPPE!$A72","v":"Irrigation Field Ditch"},{"$f":"IF(BE$9=\"\",\"\",IF(BE80=0,0,HLOOKUP(BE$9,CPPE!$A$1:$DB$177,BD80,FALSE)))","v":""},{"$f":"IF(BF80=\"\",\"\",IF(BF80=0,\"\",IF(LandUse!$N73=2,\"\",IF(BF80>=$E$5,BE80,\"\"))))","v":""},72,{"$f":"+CPPE!$A72","v":"Irrigation Field Ditch"},{"$f":"IF(BI$9=\"\",\"\",IF(BI80=0,0,HLOOKUP(BI$9,CPPE!$A$1:$DB$177,BH80,FALSE)))","v":""},{"$f":"IF(BJ80=\"\",\"\",IF(BJ80=0,\"\",IF(LandUse!$N73=2,\"\",IF(BJ80>=$E$5,BI80,\"\"))))","v":""},null,"","","","","","","","","",""]
[null,null,null,null,null,null,null,null,null,null,null,null,null,null,null,null,null,null,null,null,null,null,{"$f":"+CPPE!$A73","v":"Irrigation Land Leveling"},73,{"$f":"+CPPE!$A73","v":"Irrigation Land Leveling"},{"$f":"IF(Y$9=\"\",\"\",IF(Y81=0,0,HLOOKUP(Y$9,CPPE!$A$1:$DB$177,X81,FALSE)))","v":1},{"$f":"IF(Z81=\"\",\"\",IF(Z81=0,\"\",IF(LandUse!$N74=2,\"\",IF(Z81>=$E$5,Y81,\"\"))))","v":""},73,{"$f":"+CPPE!$A73","v":"Irrigation Land Leveling"},{"$f":"IF(AC$9=\"\",\"\",IF(AC81=0,0,HLOOKUP(AC$9,CPPE!$A$1:$DB$177,AB81,FALSE)))","v":-2},{"$f":"IF(AD81=\"\",\"\",IF(AD81=0,\"\",IF(LandUse!$N74=2,\"\",IF(AD81>=$E$5,AC81,\"\"))))","v":""},73,{"$f":"+CPPE!$A73","v":"Irrigation Land Leveling"},{"$f":"IF(AG$9=\"\",\"\",IF(AG81=0,0,HLOOKUP(AG$9,CPPE!$A$1:$DB$177,AF81,FALSE)))","v":-2},{"$f":"IF(AH81=\"\",\"\",IF(AH81=0,\"\",IF(LandUse!$N74=2,\"\",IF(AH81>=$E$5,AG81,\"\"))))","v":""},73,{"$f":"+CPPE!$A73","v":"Irrigation Land Leveling"},{"$f":"IF(AK$9=\"\",\"\",IF(AK81=0,0,HLOOKUP(AK$9,CPPE!$A$1:$DB$177,AJ81,FALSE)))","v":0},{"$f":"IF(AL81=\"\",\"\",IF(AL81=0,\"\",IF(LandUse!$N74=2,\"\",IF(AL81>=$E$5,AK81,\"\"))))","v":""},73,{"$f":"+CPPE!$A73","v":"Irrigation Land Leveling"},{"$f":"IF(AO$9=\"\",\"\",IF(AO81=0,0,HLOOKUP(AO$9,CPPE!$A$1:$DB$177,AN81,FALSE)))","v":""},{"$f":"IF(AP81=\"\",\"\",IF(AP81=0,\"\",IF(LandUse!$N74=2,\"\",IF(AP81>=$E$5,AO81,\"\"))))","v":""},73,{"$f":"+CPPE!$A73","v":"Irrigation Land Leveling"},{"$f":"IF(AS$9=\"\",\"\",IF(AS81=0,0,HLOOKUP(AS$9,CPPE!$A$1:$DB$177,AR81,FALSE)))","v":""},{"$f":"IF(AT81=\"\",\"\",IF(AT81=0,\"\",IF(LandUse!$N74=2,\"\",IF(AT81>=$E$5,AS81,\"\"))))","v":""},73,{"$f":"+CPPE!$A73","v":"Irrigation Land Leveling"},{"$f":"IF(AW$9=\"\",\"\",IF(AW81=0,0,HLOOKUP(AW$9,CPPE!$A$1:$DB$177,AV81,FALSE)))","v":""},{"$f":"IF(AX81=\"\",\"\",IF(AX81=0,\"\",IF(LandUse!$N74=2,\"\",IF(AX81>=$E$5,AW81,\"\"))))","v":""},73,{"$f":"+CPPE!$A73","v":"Irrigation Land Leveling"},{"$f":"IF(BA$9=\"\",\"\",IF(BA81=0,0,HLOOKUP(BA$9,CPPE!$A$1:$DB$177,AZ81,FALSE)))","v":""},{"$f":"IF(BB81=\"\",\"\",IF(BB81=0,\"\",IF(LandUse!$N74=2,\"\",IF(BB81>=$E$5,BA81,\"\"))))","v":""},73,{"$f":"+CPPE!$A73","v":"Irrigation Land Leveling"},{"$f":"IF(BE$9=\"\",\"\",IF(BE81=0,0,HLOOKUP(BE$9,CPPE!$A$1:$DB$177,BD81,FALSE)))","v":""},{"$f":"IF(BF81=\"\",\"\",IF(BF81=0,\"\",IF(LandUse!$N74=2,\"\",IF(BF81>=$E$5,BE81,\"\"))))","v":""},73,{"$f":"+CPPE!$A73","v":"Irrigation Land Leveling"},{"$f":"IF(BI$9=\"\",\"\",IF(BI81=0,0,HLOOKUP(BI$9,CPPE!$A$1:$DB$177,BH81,FALSE)))","v":""},{"$f":"IF(BJ81=\"\",\"\",IF(BJ81=0,\"\",IF(LandUse!$N74=2,\"\",IF(BJ81>=$E$5,BI81,\"\"))))","v":""},null,"","","","","","","","","",""]
[null,null,null,null,null,null,null,null,null,null,null,null,null,null,null,null,null,null,null,null,null,null,{"$f":"+CPPE!$A74","v":"Irrigation Pipeline"},74,{"$f":"+CPPE!$A74","v":"Irrigation Pipeline"},{"$f":"IF(Y$9=\"\",\"\",IF(Y82=0,0,HLOOKUP(Y$9,CPPE!$A$1:$DB$177,X82,FALSE)))","v":0},{"$f":"IF(Z82=\"\",\"\",IF(Z82=0,\"\",IF(LandUse!$N75=2,\"\",IF(Z82>=$E$5,Y82,\"\"))))","v":""},74,{"$f":"+CPPE!$A74","v":"Irrigation Pipeline"},{"$f":"IF(AC$9=\"\",\"\",IF(AC82=0,0,HLOOKUP(AC$9,CPPE!$A$1:$DB$177,AB82,FALSE)))","v":0},{"$f":"IF(AD82=\"\",\"\",IF(AD82=0,\"\",IF(LandUse!$N75=2,\"\",IF(AD82>=$E$5,AC82,\"\"))))","v":""},74,{"$f":"+CPPE!$A74","v":"Irrigation Pipeline"},{"$f":"IF(AG$9=\"\",\"\",IF(AG82=0,0,HLOOKUP(AG$9,CPPE!$A$1:$DB$177,AF82,FALSE)))","v":0},{"$f":"IF(AH82=\"\",\"\",IF(AH82=0,\"\",IF(LandUse!$N75=2,\"\",IF(AH82>=$E$5,AG82,\"\"))))","v":""},74,{"$f":"+CPPE!$A74","v":"Irrigation Pipeline"},{"$f":"IF(AK$9=\"\",\"\",IF(AK82=0,0,HLOOKUP(AK$9,CPPE!$A$1:$DB$177,AJ82,FALSE)))","v":0},{"$f":"IF(AL82=\"\",\"\",IF(AL82=0,\"\",IF(LandUse!$N75=2,\"\",IF(AL82>=$E$5,AK82,\"\"))))","v":""},74,{"$f":"+CPPE!$A74","v":"Irrigation Pipeline"},{"$f":"IF(AO$9=\"\",\"\",IF(AO82=0,0,HLOOKUP(AO$9,CPPE!$A$1:$DB$177,AN82,FALSE)))","v":""},{"$f":"IF(AP82=\"\",\"\",IF(AP82=0,\"\",IF(LandUse!$N75=2,\"\",IF(AP82>=$E$5,AO82,\"\"))))","v":""},74,{"$f":"+CPPE!$A74","v":"Irrigation Pipeline"},{"$f":"IF(AS$9=\"\",\"\",IF(AS82=0,0,HLOOKUP(AS$9,CPPE!$A$1:$DB$177,AR82,FALSE)))","v":""},{"$f":"IF(AT82=\"\",\"\",IF(AT82=0,\"\",IF(LandUse!$N75=2,\"\",IF(AT82>=$E$5,AS82,\"\"))))","v":""},74,{"$f":"+CPPE!$A74","v":"Irrigation Pipeline"},{"$f":"IF(AW$9=\"\",\"\",IF(AW82=0,0,HLOOKUP(AW$9,CPPE!$A$1:$DB$177,AV82,FALSE)))","v":""},{"$f":"IF(AX82=\"\",\"\",IF(AX82=0,\"\",IF(LandUse!$N75=2,\"\",IF(AX82>=$E$5,AW82,\"\"))))","v":""},74,{"$f":"+CPPE!$A74","v":"Irrigation Pipeline"},{"$f":"IF(BA$9=\"\",\"\",IF(BA82=0,0,HLOOKUP(BA$9,CPPE!$A$1:$DB$177,AZ82,FALSE)))","v":""},{"$f":"IF(BB82=\"\",\"\",IF(BB82=0,\"\",IF(LandUse!$N75=2,\"\",IF(BB82>=$E$5,BA82,\"\"))))","v":""},74,{"$f":"+CPPE!$A74","v":"Irrigation Pipeline"},{"$f":"IF(BE$9=\"\",\"\",IF(BE82=0,0,HLOOKUP(BE$9,CPPE!$A$1:$DB$177,BD82,FALSE)))","v":""},{"$f":"IF(BF82=\"\",\"\",IF(BF82=0,\"\",IF(LandUse!$N75=2,\"\",IF(BF82>=$E$5,BE82,\"\"))))","v":""},74,{"$f":"+CPPE!$A74","v":"Irrigation Pipeline"},{"$f":"IF(BI$9=\"\",\"\",IF(BI82=0,0,HLOOKUP(BI$9,CPPE!$A$1:$DB$177,BH82,FALSE)))","v":""},{"$f":"IF(BJ82=\"\",\"\",IF(BJ82=0,\"\",IF(LandUse!$N75=2,\"\",IF(BJ82>=$E$5,BI82,\"\"))))","v":""},null,"","","","","","","","","",""]
[null,null,null,null,null,null,null,null,null,null,null,null,null,null,null,null,null,null,null,null,null,null,{"$f":"+CPPE!$A75","v":"Irrigation Reservoir"},75,{"$f":"+CPPE!$A75","v":"Irrigation Reservoir"},{"$f":"IF(Y$9=\"\",\"\",IF(Y83=0,0,HLOOKUP(Y$9,CPPE!$A$1:$DB$177,X83,FALSE)))","v":0},{"$f":"IF(Z83=\"\",\"\",IF(Z83=0,\"\",IF(LandUse!$N76=2,\"\",IF(Z83>=$E$5,Y83,\"\"))))","v":""},75,{"$f":"+CPPE!$A75","v":"Irrigation Reservoir"},{"$f":"IF(AC$9=\"\",\"\",IF(AC83=0,0,HLOOKUP(AC$9,CPPE!$A$1:$DB$177,AB83,FALSE)))","v":0},{"$f":"IF(AD83=\"\",\"\",IF(AD83=0,\"\",IF(LandUse!$N76=2,\"\",IF(AD83>=$E$5,AC83,\"\"))))","v":""},75,{"$f":"+CPPE!$A75","v":"Irrigation Reservoir"},{"$f":"IF(AG$9=\"\",\"\",IF(AG83=0,0,HLOOKUP(AG$9,CPPE!$A$1:$DB$177,AF83,FALSE)))","v":0},{"$f":"IF(AH83=\"\",\"\",IF(AH83=0,\"\",IF(LandUse!$N76=2,\"\",IF(AH83>=$E$5,AG83,\"\"))))","v":""},75,{"$f":"+CPPE!$A75","v":"Irrigation Reservoir"},{"$f":"IF(AK$9=\"\",\"\",IF(AK83=0,0,HLOOKUP(AK$9,CPPE!$A$1:$DB$177,AJ83,FALSE)))","v":0},{"$f":"IF(AL83=\"\",\"\",IF(AL83=0,\"\",IF(LandUse!$N76=2,\"\",IF(AL83>=$E$5,AK83,\"\"))))","v":""},75,{"$f":"+CPPE!$A75","v":"Irrigation Reservoir"},{"$f":"IF(AO$9=\"\",\"\",IF(AO83=0,0,HLOOKUP(AO$9,CPPE!$A$1:$DB$177,AN83,FALSE)))","v":""},{"$f":"IF(AP83=\"\",\"\",IF(AP83=0,\"\",IF(LandUse!$N76=2,\"\",IF(AP83>=$E$5,AO83,\"\"))))","v":""},75,{"$f":"+CPPE!$A75","v":"Irrigation Reservoir"},{"$f":"IF(AS$9=\"\",\"\",IF(AS83=0,0,HLOOKUP(AS$9,CPPE!$A$1:$DB$177,AR83,FALSE)))","v":""},{"$f":"IF(AT83=\"\",\"\",IF(AT83=0,\"\",IF(LandUse!$N76=2,\"\",IF(AT83>=$E$5,AS83,\"\"))))","v":""},75,{"$f":"+CPPE!$A75","v":"Irrigation Reservoir"},{"$f":"IF(AW$9=\"\",\"\",IF(AW83=0,0,HLOOKUP(AW$9,CPPE!$A$1:$DB$177,AV83,FALSE)))","v":""},{"$f":"IF(AX83=\"\",\"\",IF(AX83=0,\"\",IF(LandUse!$N76=2,\"\",IF(AX83>=$E$5,AW83,\"\"))))","v":""},75,{"$f":"+CPPE!$A75","v":"Irrigation Reservoir"},{"$f":"IF(BA$9=\"\",\"\",IF(BA83=0,0,HLOOKUP(BA$9,CPPE!$A$1:$DB$177,AZ83,FALSE)))","v":""},{"$f":"IF(BB83=\"\",\"\",IF(BB83=0,\"\",IF(LandUse!$N76=2,\"\",IF(BB83>=$E$5,BA83,\"\"))))","v":""},75,{"$f":"+CPPE!$A75","v":"Irrigation Reservoir"},{"$f":"IF(BE$9=\"\",\"\",IF(BE83=0,0,HLOOKUP(BE$9,CPPE!$A$1:$DB$177,BD83,FALSE)))","v":""},{"$f":"IF(BF83=\"\",\"\",IF(BF83=0,\"\",IF(LandUse!$N76=2,\"\",IF(BF83>=$E$5,BE83,\"\"))))","v":""},75,{"$f":"+CPPE!$A75","v":"Irrigation Reservoir"},{"$f":"IF(BI$9=\"\",\"\",IF(BI83=0,0,HLOOKUP(BI$9,CPPE!$A$1:$DB$177,BH83,FALSE)))","v":""},{"$f":"IF(BJ83=\"\",\"\",IF(BJ83=0,\"\",IF(LandUse!$N76=2,\"\",IF(BJ83>=$E$5,BI83,\"\"))))","v":""},null,"","","","","","","","","",""]
[null,null,null,null,null,null,null,null,null,null,null,null,null,null,null,null,null,null,null,null,null,null,{"$f":"+CPPE!$A76","v":"Irrigation System, Microirrigation"},76,{"$f":"+CPPE!$A76","v":"Irrigation System, Microirrigation"},{"$f":"IF(Y$9=\"\",\"\",IF(Y84=0,0,HLOOKUP(Y$9,CPPE!$A$1:$DB$177,X84,FALSE)))","v":0},{"$f":"IF(Z84=\"\",\"\",IF(Z84=0,\"\",IF(LandUse!$N77=2,\"\",IF(Z84>=$E$5,Y84,\"\"))))","v":""},76,{"$f":"+CPPE!$A76","v":"Irrigation System, Microirrigation"},{"$f":"IF(AC$9=\"\",\"\",IF(AC84=0,0,HLOOKUP(AC$9,CPPE!$A$1:$DB$177,AB84,FALSE)))","v":0},{"$f":"IF(AD84=\"\",\"\",IF(AD84=0,\"\",IF(LandUse!$N77=2,\"\",IF(AD84>=$E$5,AC84,\"\"))))","v":""},76,{"$f":"+CPPE!$A76","v":"Irrigation System, Microirrigation"},{"$f":"IF(AG$9=\"\",\"\",IF(AG84=0,0,HLOOKUP(AG$9,CPPE!$A$1:$DB$177,AF84,FALSE)))","v":0},{"$f":"IF(AH84=\"\",\"\",IF(AH84=0,\"\",IF(LandUse!$N77=2,\"\",IF(AH84>=$E$5,AG84,\"\"))))","v":""},76,{"$f":"+CPPE!$A76","v":"Irrigation System, Microirrigation"},{"$f":"IF(AK$9=\"\",\"\",IF(AK84=0,0,HLOOKUP(AK$9,CPPE!$A$1:$DB$177,AJ84,FALSE)))","v":0},{"$f":"IF(AL84=\"\",\"\",IF(AL84=0,\"\",IF(LandUse!$N77=2,\"\",IF(AL84>=$E$5,AK84,\"\"))))","v":""},76,{"$f":"+CPPE!$A76","v":"Irrigation System, Microirrigation"},{"$f":"IF(AO$9=\"\",\"\",IF(AO84=0,0,HLOOKUP(AO$9,CPPE!$A$1:$DB$177,AN84,FALSE)))","v":""},{"$f":"IF(AP84=\"\",\"\",IF(AP84=0,\"\",IF(LandUse!$N77=2,\"\",IF(AP84>=$E$5,AO84,\"\"))))","v":""},76,{"$f":"+CPPE!$A76","v":"Irrigation System, Microirrigation"},{"$f":"IF(AS$9=\"\",\"\",IF(AS84=0,0,HLOOKUP(AS$9,CPPE!$A$1:$DB$177,AR84,FALSE)))","v":""},{"$f":"IF(AT84=\"\",\"\",IF(AT84=0,\"\",IF(LandUse!$N77=2,\"\",IF(AT84>=$E$5,AS84,\"\"))))","v":""},76,{"$f":"+CPPE!$A76","v":"Irrigation System, Microirrigation"},{"$f":"IF(AW$9=\"\",\"\",IF(AW84=0,0,HLOOKUP(AW$9,CPPE!$A$1:$DB$177,AV84,FALSE)))","v":""},{"$f":"IF(AX84=\"\",\"\",IF(AX84=0,\"\",IF(LandUse!$N77=2,\"\",IF(AX84>=$E$5,AW84,\"\"))))","v":""},76,{"$f":"+CPPE!$A76","v":"Irrigation System, Microirrigation"},{"$f":"IF(BA$9=\"\",\"\",IF(BA84=0,0,HLOOKUP(BA$9,CPPE!$A$1:$DB$177,AZ84,FALSE)))","v":""},{"$f":"IF(BB84=\"\",\"\",IF(BB84=0,\"\",IF(LandUse!$N77=2,\"\",IF(BB84>=$E$5,BA84,\"\"))))","v":""},76,{"$f":"+CPPE!$A76","v":"Irrigation System, Microirrigation"},{"$f":"IF(BE$9=\"\",\"\",IF(BE84=0,0,HLOOKUP(BE$9,CPPE!$A$1:$DB$177,BD84,FALSE)))","v":""},{"$f":"IF(BF84=\"\",\"\",IF(BF84=0,\"\",IF(LandUse!$N77=2,\"\",IF(BF84>=$E$5,BE84,\"\"))))","v":""},76,{"$f":"+CPPE!$A76","v":"Irrigation System, Microirrigation"},{"$f":"IF(BI$9=\"\",\"\",IF(BI84=0,0,HLOOKUP(BI$9,CPPE!$A$1:$DB$177,BH84,FALSE)))","v":""},{"$f":"IF(BJ84=\"\",\"\",IF(BJ84=0,\"\",IF(LandUse!$N77=2,\"\",IF(BJ84>=$E$5,BI84,\"\"))))","v":""},null,"","","","","","","","","",""]
[null,null,null,null,null,null,null,null,null,null,null,null,null,null,null,null,null,null,null,null,null,null,{"$f":"+CPPE!$A77","v":"Irrigation System, Surface & Subsurface"},77,{"$f":"+CPPE!$A77","v":"Irrigation System, Surface & Subsurface"},{"$f":"IF(Y$9=\"\",\"\",IF(Y85=0,0,HLOOKUP(Y$9,CPPE!$A$1:$DB$177,X85,FALSE)))","v":0},{"$f":"IF(Z85=\"\",\"\",IF(Z85=0,\"\",IF(LandUse!$N78=2,\"\",IF(Z85>=$E$5,Y85,\"\"))))","v":""},77,{"$f":"+CPPE!$A77","v":"Irrigation System, Surface & Subsurface"},{"$f":"IF(AC$9=\"\",\"\",IF(AC85=0,0,HLOOKUP(AC$9,CPPE!$A$1:$DB$177,AB85,FALSE)))","v":-1},{"$f":"IF(AD85=\"\",\"\",IF(AD85=0,\"\",IF(LandUse!$N78=2,\"\",IF(AD85>=$E$5,AC85,\"\"))))","v":""},77,{"$f":"+CPPE!$A77","v":"Irrigation System, Surface & Subsurface"},{"$f":"IF(AG$9=\"\",\"\",IF(AG85=0,0,HLOOKUP(AG$9,CPPE!$A$1:$DB$177,AF85,FALSE)))","v":0},{"$f":"IF(AH85=\"\",\"\",IF(AH85=0,\"\",IF(LandUse!$N78=2,\"\",IF(AH85>=$E$5,AG85,\"\"))))","v":""},77,{"$f":"+CPPE!$A77","v":"Irrigation System, Surface & Subsurface"},{"$f":"IF(AK$9=\"\",\"\",IF(AK85=0,0,HLOOKUP(AK$9,CPPE!$A$1:$DB$177,AJ85,FALSE)))","v":0},{"$f":"IF(AL85=\"\",\"\",IF(AL85=0,\"\",IF(LandUse!$N78=2,\"\",IF(AL85>=$E$5,AK85,\"\"))))","v":""},77,{"$f":"+CPPE!$A77","v":"Irrigation System, Surface & Subsurface"},{"$f":"IF(AO$9=\"\",\"\",IF(AO85=0,0,HLOOKUP(AO$9,CPPE!$A$1:$DB$177,AN85,FALSE)))","v":""},{"$f":"IF(AP85=\"\",\"\",IF(AP85=0,\"\",IF(LandUse!$N78=2,\"\",IF(AP85>=$E$5,AO85,\"\"))))","v":""},77,{"$f":"+CPPE!$A77","v":"Irrigation System, Surface & Subsurface"},{"$f":"IF(AS$9=\"\",\"\",IF(AS85=0,0,HLOOKUP(AS$9,CPPE!$A$1:$DB$177,AR85,FALSE)))","v":""},{"$f":"IF(AT85=\"\",\"\",IF(AT85=0,\"\",IF(LandUse!$N78=2,\"\",IF(AT85>=$E$5,AS85,\"\"))))","v":""},77,{"$f":"+CPPE!$A77","v":"Irrigation System, Surface & Subsurface"},{"$f":"IF(AW$9=\"\",\"\",IF(AW85=0,0,HLOOKUP(AW$9,CPPE!$A$1:$DB$177,AV85,FALSE)))","v":""},{"$f":"IF(AX85=\"\",\"\",IF(AX85=0,\"\",IF(LandUse!$N78=2,\"\",IF(AX85>=$E$5,AW85,\"\"))))","v":""},77,{"$f":"+CPPE!$A77","v":"Irrigation System, Surface & Subsurface"},{"$f":"IF(BA$9=\"\",\"\",IF(BA85=0,0,HLOOKUP(BA$9,CPPE!$A$1:$DB$177,AZ85,FALSE)))","v":""},{"$f":"IF(BB85=\"\",\"\",IF(BB85=0,\"\",IF(LandUse!$N78=2,\"\",IF(BB85>=$E$5,BA85,\"\"))))","v":""},77,{"$f":"+CPPE!$A77","v":"Irrigation System, Surface & Subsurface"},{"$f":"IF(BE$9=\"\",\"\",IF(BE85=0,0,HLOOKUP(BE$9,CPPE!$A$1:$DB$177,BD85,FALSE)))","v":""},{"$f":"IF(BF85=\"\",\"\",IF(BF85=0,\"\",IF(LandUse!$N78=2,\"\",IF(BF85>=$E$5,BE85,\"\"))))","v":""},77,{"$f":"+CPPE!$A77","v":"Irrigation System, Surface & Subsurface"},{"$f":"IF(BI$9=\"\",\"\",IF(BI85=0,0,HLOOKUP(BI$9,CPPE!$A$1:$DB$177,BH85,FALSE)))","v":""},{"$f":"IF(BJ85=\"\",\"\",IF(BJ85=0,\"\",IF(LandUse!$N78=2,\"\",IF(BJ85>=$E$5,BI85,\"\"))))","v":""},null,"","","","","","","","","",""]
[null,null,null,null,null,null,null,null,null,null,null,null,null,null,null,null,null,null,null,null,null,null,{"$f":"+CPPE!$A78","v":"Irrigation Water Management"},78,{"$f":"+CPPE!$A78","v":"Irrigation Water Management"},{"$f":"IF(Y$9=\"\",\"\",IF(Y86=0,0,HLOOKUP(Y$9,CPPE!$A$1:$DB$177,X86,FALSE)))","v":0},{"$f":"IF(Z86=\"\",\"\",IF(Z86=0,\"\",IF(LandUse!$N79=2,\"\",IF(Z86>=$E$5,Y86,\"\"))))","v":""},78,{"$f":"+CPPE!$A78","v":"Irrigation Water Management"},{"$f":"IF(AC$9=\"\",\"\",IF(AC86=0,0,HLOOKUP(AC$9,CPPE!$A$1:$DB$177,AB86,FALSE)))","v":0},{"$f":"IF(AD86=\"\",\"\",IF(AD86=0,\"\",IF(LandUse!$N79=2,\"\",IF(AD86>=$E$5,AC86,\"\"))))","v":""},78,{"$f":"+CPPE!$A78","v":"Irrigation Water Management"},{"$f":"IF(AG$9=\"\",\"\",IF(AG86=0,0,HLOOKUP(AG$9,CPPE!$A$1:$DB$177,AF86,FALSE)))","v":1},{"$f":"IF(AH86=\"\",\"\",IF(AH86=0,\"\",IF(LandUse!$N79=2,\"\",IF(AH86>=$E$5,AG86,\"\"))))","v":""},78,{"$f":"+CPPE!$A78","v":"Irrigation Water Management"},{"$f":"IF(AK$9=\"\",\"\",IF(AK86=0,0,HLOOKUP(AK$9,CPPE!$A$1:$DB$177,AJ86,FALSE)))","v":0},{"$f":"IF(AL86=\"\",\"\",IF(AL86=0,\"\",IF(LandUse!$N79=2,\"\",IF(AL86>=$E$5,AK86,\"\"))))","v":""},78,{"$f":"+CPPE!$A78","v":"Irrigation Water Management"},{"$f":"IF(AO$9=\"\",\"\",IF(AO86=0,0,HLOOKUP(AO$9,CPPE!$A$1:$DB$177,AN86,FALSE)))","v":""},{"$f":"IF(AP86=\"\",\"\",IF(AP86=0,\"\",IF(LandUse!$N79=2,\"\",IF(AP86>=$E$5,AO86,\"\"))))","v":""},78,{"$f":"+CPPE!$A78","v":"Irrigation Water Management"},{"$f":"IF(AS$9=\"\",\"\",IF(AS86=0,0,HLOOKUP(AS$9,CPPE!$A$1:$DB$177,AR86,FALSE)))","v":""},{"$f":"IF(AT86=\"\",\"\",IF(AT86=0,\"\",IF(LandUse!$N79=2,\"\",IF(AT86>=$E$5,AS86,\"\"))))","v":""},78,{"$f":"+CPPE!$A78","v":"Irrigation Water Management"},{"$f":"IF(AW$9=\"\",\"\",IF(AW86=0,0,HLOOKUP(AW$9,CPPE!$A$1:$DB$177,AV86,FALSE)))","v":""},{"$f":"IF(AX86=\"\",\"\",IF(AX86=0,\"\",IF(LandUse!$N79=2,\"\",IF(AX86>=$E$5,AW86,\"\"))))","v":""},78,{"$f":"+CPPE!$A78","v":"Irrigation Water Management"},{"$f":"IF(BA$9=\"\",\"\",IF(BA86=0,0,HLOOKUP(BA$9,CPPE!$A$1:$DB$177,AZ86,FALSE)))","v":""},{"$f":"IF(BB86=\"\",\"\",IF(BB86=0,\"\",IF(LandUse!$N79=2,\"\",IF(BB86>=$E$5,BA86,\"\"))))","v":""},78,{"$f":"+CPPE!$A78","v":"Irrigation Water Management"},{"$f":"IF(BE$9=\"\",\"\",IF(BE86=0,0,HLOOKUP(BE$9,CPPE!$A$1:$DB$177,BD86,FALSE)))","v":""},{"$f":"IF(BF86=\"\",\"\",IF(BF86=0,\"\",IF(LandUse!$N79=2,\"\",IF(BF86>=$E$5,BE86,\"\"))))","v":""},78,{"$f":"+CPPE!$A78","v":"Irrigation Water Management"},{"$f":"IF(BI$9=\"\",\"\",IF(BI86=0,0,HLOOKUP(BI$9,CPPE!$A$1:$DB$177,BH86,FALSE)))","v":""},{"$f":"IF(BJ86=\"\",\"\",IF(BJ86=0,\"\",IF(LandUse!$N79=2,\"\",IF(BJ86>=$E$5,BI86,\"\"))))","v":""},null,"","","","","","","","","",""]
[null,null,null,null,null,null,null,null,null,null,null,null,null,null,null,null,null,null,null,null,null,null,{"$f":"+CPPE!$A79","v":"Land Clearing"},79,{"$f":"+CPPE!$A79","v":"Land Clearing"},{"$f":"IF(Y$9=\"\",\"\",IF(Y87=0,0,HLOOKUP(Y$9,CPPE!$A$1:$DB$177,X87,FALSE)))","v":0},{"$f":"IF(Z87=\"\",\"\",IF(Z87=0,\"\",IF(LandUse!$N80=2,\"\",IF(Z87>=$E$5,Y87,\"\"))))","v":""},79,{"$f":"+CPPE!$A79","v":"Land Clearing"},{"$f":"IF(AC$9=\"\",\"\",IF(AC87=0,0,HLOOKUP(AC$9,CPPE!$A$1:$DB$177,AB87,FALSE)))","v":-1},{"$f":"IF(AD87=\"\",\"\",IF(AD87=0,\"\",IF(LandUse!$N80=2,\"\",IF(AD87>=$E$5,AC87,\"\"))))","v":""},79,{"$f":"+CPPE!$A79","v":"Land Clearing"},{"$f":"IF(AG$9=\"\",\"\",IF(AG87=0,0,HLOOKUP(AG$9,CPPE!$A$1:$DB$177,AF87,FALSE)))","v":-3},{"$f":"IF(AH87=\"\",\"\",IF(AH87=0,\"\",IF(LandUse!$N80=2,\"\",IF(AH87>=$E$5,AG87,\"\"))))","v":""},79,{"$f":"+CPPE!$A79","v":"Land Clearing"},{"$f":"IF(AK$9=\"\",\"\",IF(AK87=0,0,HLOOKUP(AK$9,CPPE!$A$1:$DB$177,AJ87,FALSE)))","v":-4},{"$f":"IF(AL87=\"\",\"\",IF(AL87=0,\"\",IF(LandUse!$N80=2,\"\",IF(AL87>=$E$5,AK87,\"\"))))","v":""},79,{"$f":"+CPPE!$A79","v":"Land Clearing"},{"$f":"IF(AO$9=\"\",\"\",IF(AO87=0,0,HLOOKUP(AO$9,CPPE!$A$1:$DB$177,AN87,FALSE)))","v":""},{"$f":"IF(AP87=\"\",\"\",IF(AP87=0,\"\",IF(LandUse!$N80=2,\"\",IF(AP87>=$E$5,AO87,\"\"))))","v":""},79,{"$f":"+CPPE!$A79","v":"Land Clearing"},{"$f":"IF(AS$9=\"\",\"\",IF(AS87=0,0,HLOOKUP(AS$9,CPPE!$A$1:$DB$177,AR87,FALSE)))","v":""},{"$f":"IF(AT87=\"\",\"\",IF(AT87=0,\"\",IF(LandUse!$N80=2,\"\",IF(AT87>=$E$5,AS87,\"\"))))","v":""},79,{"$f":"+CPPE!$A79","v":"Land Clearing"},{"$f":"IF(AW$9=\"\",\"\",IF(AW87=0,0,HLOOKUP(AW$9,CPPE!$A$1:$DB$177,AV87,FALSE)))","v":""},{"$f":"IF(AX87=\"\",\"\",IF(AX87=0,\"\",IF(LandUse!$N80=2,\"\",IF(AX87>=$E$5,AW87,\"\"))))","v":""},79,{"$f":"+CPPE!$A79","v":"Land Clearing"},{"$f":"IF(BA$9=\"\",\"\",IF(BA87=0,0,HLOOKUP(BA$9,CPPE!$A$1:$DB$177,AZ87,FALSE)))","v":""},{"$f":"IF(BB87=\"\",\"\",IF(BB87=0,\"\",IF(LandUse!$N80=2,\"\",IF(BB87>=$E$5,BA87,\"\"))))","v":""},79,{"$f":"+CPPE!$A79","v":"Land Clearing"},{"$f":"IF(BE$9=\"\",\"\",IF(BE87=0,0,HLOOKUP(BE$9,CPPE!$A$1:$DB$177,BD87,FALSE)))","v":""},{"$f":"IF(BF87=\"\",\"\",IF(BF87=0,\"\",IF(LandUse!$N80=2,\"\",IF(BF87>=$E$5,BE87,\"\"))))","v":""},79,{"$f":"+CPPE!$A79","v":"Land Clearing"},{"$f":"IF(BI$9=\"\",\"\",IF(BI87=0,0,HLOOKUP(BI$9,CPPE!$A$1:$DB$177,BH87,FALSE)))","v":""},{"$f":"IF(BJ87=\"\",\"\",IF(BJ87=0,\"\",IF(LandUse!$N80=2,\"\",IF(BJ87>=$E$5,BI87,\"\"))))","v":""},null,"","","","","","","","","",""]
[null,null,null,null,null,null,null,null,null,null,null,null,null,null,null,null,null,null,null,null,null,null,{"$f":"+CPPE!$A80","v":"Land Reclamation, Abandoned Mined Land"},80,{"$f":"+CPPE!$A80","v":"Land Reclamation, Abandoned Mined Land"},{"$f":"IF(Y$9=\"\",\"\",IF(Y88=0,0,HLOOKUP(Y$9,CPPE!$A$1:$DB$177,X88,FALSE)))","v":4},{"$f":"IF(Z88=\"\",\"\",IF(Z88=0,\"\",IF(LandUse!$N81=2,\"\",IF(Z88>=$E$5,Y88,\"\"))))","v":""},80,{"$f":"+CPPE!$A80","v":"Land Reclamation, Abandoned Mined Land"},{"$f":"IF(AC$9=\"\",\"\",IF(AC88=0,0,HLOOKUP(AC$9,CPPE!$A$1:$DB$177,AB88,FALSE)))","v":1},{"$f":"IF(AD88=\"\",\"\",IF(AD88=0,\"\",IF(LandUse!$N81=2,\"\",IF(AD88>=$E$5,AC88,\"\"))))","v":""},80,{"$f":"+CPPE!$A80","v":"Land Reclamation, Abandoned Mined Land"},{"$f":"IF(AG$9=\"\",\"\",IF(AG88=0,0,HLOOKUP(AG$9,CPPE!$A$1:$DB$177,AF88,FALSE)))","v":3},{"$f":"IF(AH88=\"\",\"\",IF(AH88=0,\"\",IF(LandUse!$N81=2,\"\",IF(AH88>=$E$5,AG88,\"\"))))","v":""},80,{"$f":"+CPPE!$A80","v":"Land Reclamation, Abandoned Mined Land"},{"$f":"IF(AK$9=\"\",\"\",IF(AK88=0,0,HLOOKUP(AK$9,CPPE!$A$1:$DB$177,AJ88,FALSE)))","v":0},{"$f":"IF(AL88=\"\",\"\",IF(AL88=0,\"\",IF(LandUse!$N81=2,\"\",IF(AL88>=$E$5,AK88,\"\"))))","v":""},80,{"$f":"+CPPE!$A80","v":"Land Reclamation, Abandoned Mined Land"},{"$f":"IF(AO$9=\"\",\"\",IF(AO88=0,0,HLOOKUP(AO$9,CPPE!$A$1:$DB$177,AN88,FALSE)))","v":""},{"$f":"IF(AP88=\"\",\"\",IF(AP88=0,\"\",IF(LandUse!$N81=2,\"\",IF(AP88>=$E$5,AO88,\"\"))))","v":""},80,{"$f":"+CPPE!$A80","v":"Land Reclamation, Abandoned Mined Land"},{"$f":"IF(AS$9=\"\",\"\",IF(AS88=0,0,HLOOKUP(AS$9,CPPE!$A$1:$DB$177,AR88,FALSE)))","v":""},{"$f":"IF(AT88=\"\",\"\",IF(AT88=0,\"\",IF(LandUse!$N81=2,\"\",IF(AT88>=$E$5,AS88,\"\"))))","v":""},80,{"$f":"+CPPE!$A80","v":"Land Reclamation, Abandoned Mined Land"},{"$f":"IF(AW$9=\"\",\"\",IF(AW88=0,0,HLOOKUP(AW$9,CPPE!$A$1:$DB$177,AV88,FALSE)))","v":""},{"$f":"IF(AX88=\"\",\"\",IF(AX88=0,\"\",IF(LandUse!$N81=2,\"\",IF(AX88>=$E$5,AW88,\"\"))))","v":""},80,{"$f":"+CPPE!$A80","v":"Land Reclamation, Abandoned Mined Land"},{"$f":"IF(BA$9=\"\",\"\",IF(BA88=0,0,HLOOKUP(BA$9,CPPE!$A$1:$DB$177,AZ88,FALSE)))","v":""},{"$f":"IF(BB88=\"\",\"\",IF(BB88=0,\"\",IF(LandUse!$N81=2,\"\",IF(BB88>=$E$5,BA88,\"\"))))","v":""},80,{"$f":"+CPPE!$A80","v":"Land Reclamation, Abandoned Mined Land"},{"$f":"IF(BE$9=\"\",\"\",IF(BE88=0,0,HLOOKUP(BE$9,CPPE!$A$1:$DB$177,BD88,FALSE)))","v":""},{"$f":"IF(BF88=\"\",\"\",IF(BF88=0,\"\",IF(LandUse!$N81=2,\"\",IF(BF88>=$E$5,BE88,\"\"))))","v":""},80,{"$f":"+CPPE!$A80","v":"Land Reclamation, Abandoned Mined Land"},{"$f":"IF(BI$9=\"\",\"\",IF(BI88=0,0,HLOOKUP(BI$9,CPPE!$A$1:$DB$177,BH88,FALSE)))","v":""},{"$f":"IF(BJ88=\"\",\"\",IF(BJ88=0,\"\",IF(LandUse!$N81=2,\"\",IF(BJ88>=$E$5,BI88,\"\"))))","v":""},null,"","","","","","","","","",""]
[null,null,null,null,null,null,null,null,null,null,null,null,null,null,null,null,null,null,null,null,null,null,{"$f":"+CPPE!$A81","v":"Land Reclamation, Currently Mined Land"},81,{"$f":"+CPPE!$A81","v":"Land Reclamation, Currently Mined Land"},{"$f":"IF(Y$9=\"\",\"\",IF(Y89=0,0,HLOOKUP(Y$9,CPPE!$A$1:$DB$177,X89,FALSE)))","v":4},{"$f":"IF(Z89=\"\",\"\",IF(Z89=0,\"\",IF(LandUse!$N82=2,\"\",IF(Z89>=$E$5,Y89,\"\"))))","v":""},81,{"$f":"+CPPE!$A81","v":"Land Reclamation, Currently Mined Land"},{"$f":"IF(AC$9=\"\",\"\",IF(AC89=0,0,HLOOKUP(AC$9,CPPE!$A$1:$DB$177,AB89,FALSE)))","v":1},{"$f":"IF(AD89=\"\",\"\",IF(AD89=0,\"\",IF(LandUse!$N82=2,\"\",IF(AD89>=$E$5,AC89,\"\"))))","v":""},81,{"$f":"+CPPE!$A81","v":"Land Reclamation, Currently Mined Land"},{"$f":"IF(AG$9=\"\",\"\",IF(AG89=0,0,HLOOKUP(AG$9,CPPE!$A$1:$DB$177,AF89,FALSE)))","v":3},{"$f":"IF(AH89=\"\",\"\",IF(AH89=0,\"\",IF(LandUse!$N82=2,\"\",IF(AH89>=$E$5,AG89,\"\"))))","v":""},81,{"$f":"+CPPE!$A81","v":"Land Reclamation, Currently Mined Land"},{"$f":"IF(AK$9=\"\",\"\",IF(AK89=0,0,HLOOKUP(AK$9,CPPE!$A$1:$DB$177,AJ89,FALSE)))","v":0},{"$f":"IF(AL89=\"\",\"\",IF(AL89=0,\"\",IF(LandUse!$N82=2,\"\",IF(AL89>=$E$5,AK89,\"\"))))","v":""},81,{"$f":"+CPPE!$A81","v":"Land Reclamation, Currently Mined Land"},{"$f":"IF(AO$9=\"\",\"\",IF(AO89=0,0,HLOOKUP(AO$9,CPPE!$A$1:$DB$177,AN89,FALSE)))","v":""},{"$f":"IF(AP89=\"\",\"\",IF(AP89=0,\"\",IF(LandUse!$N82=2,\"\",IF(AP89>=$E$5,AO89,\"\"))))","v":""},81,{"$f":"+CPPE!$A81","v":"Land Reclamation, Currently Mined Land"},{"$f":"IF(AS$9=\"\",\"\",IF(AS89=0,0,HLOOKUP(AS$9,CPPE!$A$1:$DB$177,AR89,FALSE)))","v":""},{"$f":"IF(AT89=\"\",\"\",IF(AT89=0,\"\",IF(LandUse!$N82=2,\"\",IF(AT89>=$E$5,AS89,\"\"))))","v":""},81,{"$f":"+CPPE!$A81","v":"Land Reclamation, Currently Mined Land"},{"$f":"IF(AW$9=\"\",\"\",IF(AW89=0,0,HLOOKUP(AW$9,CPPE!$A$1:$DB$177,AV89,FALSE)))","v":""},{"$f":"IF(AX89=\"\",\"\",IF(AX89=0,\"\",IF(LandUse!$N82=2,\"\",IF(AX89>=$E$5,AW89,\"\"))))","v":""},81,{"$f":"+CPPE!$A81","v":"Land Reclamation, Currently Mined Land"},{"$f":"IF(BA$9=\"\",\"\",IF(BA89=0,0,HLOOKUP(BA$9,CPPE!$A$1:$DB$177,AZ89,FALSE)))","v":""},{"$f":"IF(BB89=\"\",\"\",IF(BB89=0,\"\",IF(LandUse!$N82=2,\"\",IF(BB89>=$E$5,BA89,\"\"))))","v":""},81,{"$f":"+CPPE!$A81","v":"Land Reclamation, Currently Mined Land"},{"$f":"IF(BE$9=\"\",\"\",IF(BE89=0,0,HLOOKUP(BE$9,CPPE!$A$1:$DB$177,BD89,FALSE)))","v":""},{"$f":"IF(BF89=\"\",\"\",IF(BF89=0,\"\",IF(LandUse!$N82=2,\"\",IF(BF89>=$E$5,BE89,\"\"))))","v":""},81,{"$f":"+CPPE!$A81","v":"Land Reclamation, Currently Mined Land"},{"$f":"IF(BI$9=\"\",\"\",IF(BI89=0,0,HLOOKUP(BI$9,CPPE!$A$1:$DB$177,BH89,FALSE)))","v":""},{"$f":"IF(BJ89=\"\",\"\",IF(BJ89=0,\"\",IF(LandUse!$N82=2,\"\",IF(BJ89>=$E$5,BI89,\"\"))))","v":""},null,"","","","","","","","","",""]
[null,null,null,null,null,null,null,null,null,null,null,null,null,null,null,null,null,null,null,null,null,null,{"$f":"+CPPE!$A82","v":"Land Reclamation, Landslide Treatment"},82,{"$f":"+CPPE!$A82","v":"Land Reclamation, Landslide Treatment"},{"$f":"IF(Y$9=\"\",\"\",IF(Y90=0,0,HLOOKUP(Y$9,CPPE!$A$1:$DB$177,X90,FALSE)))","v":2},{"$f":"IF(Z90=\"\",\"\",IF(Z90=0,\"\",IF(LandUse!$N83=2,\"\",IF(Z90>=$E$5,Y90,\"\"))))","v":""},82,{"$f":"+CPPE!$A82","v":"Land Reclamation, Landslide Treatment"},{"$f":"IF(AC$9=\"\",\"\",IF(AC90=0,0,HLOOKUP(AC$9,CPPE!$A$1:$DB$177,AB90,FALSE)))","v":0},{"$f":"IF(AD90=\"\",\"\",IF(AD90=0,\"\",IF(LandUse!$N83=2,\"\",IF(AD90>=$E$5,AC90,\"\"))))","v":""},82,{"$f":"+CPPE!$A82","v":"Land Reclamation, Landslide Treatment"},{"$f":"IF(AG$9=\"\",\"\",IF(AG90=0,0,HLOOKUP(AG$9,CPPE!$A$1:$DB$177,AF90,FALSE)))","v":2},{"$f":"IF(AH90=\"\",\"\",IF(AH90=0,\"\",IF(LandUse!$N83=2,\"\",IF(AH90>=$E$5,AG90,\"\"))))","v":""},82,{"$f":"+CPPE!$A82","v":"Land Reclamation, Landslide Treatment"},{"$f":"IF(AK$9=\"\",\"\",IF(AK90=0,0,HLOOKUP(AK$9,CPPE!$A$1:$DB$177,AJ90,FALSE)))","v":0},{"$f":"IF(AL90=\"\",\"\",IF(AL90=0,\"\",IF(LandUse!$N83=2,\"\",IF(AL90>=$E$5,AK90,\"\"))))","v":""},82,{"$f":"+CPPE!$A82","v":"Land Reclamation, Landslide Treatment"},{"$f":"IF(AO$9=\"\",\"\",IF(AO90=0,0,HLOOKUP(AO$9,CPPE!$A$1:$DB$177,AN90,FALSE)))","v":""},{"$f":"IF(AP90=\"\",\"\",IF(AP90=0,\"\",IF(LandUse!$N83=2,\"\",IF(AP90>=$E$5,AO90,\"\"))))","v":""},82,{"$f":"+CPPE!$A82","v":"Land Reclamation, Landslide Treatment"},{"$f":"IF(AS$9=\"\",\"\",IF(AS90=0,0,HLOOKUP(AS$9,CPPE!$A$1:$DB$177,AR90,FALSE)))","v":""},{"$f":"IF(AT90=\"\",\"\",IF(AT90=0,\"\",IF(LandUse!$N83=2,\"\",IF(AT90>=$E$5,AS90,\"\"))))","v":""},82,{"$f":"+CPPE!$A82","v":"Land Reclamation, Landslide Treatment"},{"$f":"IF(AW$9=\"\",\"\",IF(AW90=0,0,HLOOKUP(AW$9,CPPE!$A$1:$DB$177,AV90,FALSE)))","v":""},{"$f":"IF(AX90=\"\",\"\",IF(AX90=0,\"\",IF(LandUse!$N83=2,\"\",IF(AX90>=$E$5,AW90,\"\"))))","v":""},82,{"$f":"+CPPE!$A82","v":"Land Reclamation, Landslide Treatment"},{"$f":"IF(BA$9=\"\",\"\",IF(BA90=0,0,HLOOKUP(BA$9,CPPE!$A$1:$DB$177,AZ90,FALSE)))","v":""},{"$f":"IF(BB90=\"\",\"\",IF(BB90=0,\"\",IF(LandUse!$N83=2,\"\",IF(BB90>=$E$5,BA90,\"\"))))","v":""},82,{"$f":"+CPPE!$A82","v":"Land Reclamation, Landslide Treatment"},{"$f":"IF(BE$9=\"\",\"\",IF(BE90=0,0,HLOOKUP(BE$9,CPPE!$A$1:$DB$177,BD90,FALSE)))","v":""},{"$f":"IF(BF90=\"\",\"\",IF(BF90=0,\"\",IF(LandUse!$N83=2,\"\",IF(BF90>=$E$5,BE90,\"\"))))","v":""},82,{"$f":"+CPPE!$A82","v":"Land Reclamation, Landslide Treatment"},{"$f":"IF(BI$9=\"\",\"\",IF(BI90=0,0,HLOOKUP(BI$9,CPPE!$A$1:$DB$177,BH90,FALSE)))","v":""},{"$f":"IF(BJ90=\"\",\"\",IF(BJ90=0,\"\",IF(LandUse!$N83=2,\"\",IF(BJ90>=$E$5,BI90,\"\"))))","v":""},null,"","","","","","","","","",""]
[null,null,null,null,null,null,null,null,null,null,null,null,null,null,null,null,null,null,null,null,null,null,{"$f":"+CPPE!$A83","v":"Land Reclamation, Toxic Discharge Control"},83,{"$f":"+CPPE!$A83","v":"Land Reclamation, Toxic Discharge Control"},{"$f":"IF(Y$9=\"\",\"\",IF(Y91=0,0,HLOOKUP(Y$9,CPPE!$A$1:$DB$177,X91,FALSE)))","v":2},{"$f":"IF(Z91=\"\",\"\",IF(Z91=0,\"\",IF(LandUse!$N84=2,\"\",IF(Z91>=$E$5,Y91,\"\"))))","v":""},83,{"$f":"+CPPE!$A83","v":"Land Reclamation, Toxic Discharge Control"},{"$f":"IF(AC$9=\"\",\"\",IF(AC91=0,0,HLOOKUP(AC$9,CPPE!$A$1:$DB$177,AB91,FALSE)))","v":0},{"$f":"IF(AD91=\"\",\"\",IF(AD91=0,\"\",IF(LandUse!$N84=2,\"\",IF(AD91>=$E$5,AC91,\"\"))))","v":""},83,{"$f":"+CPPE!$A83","v":"Land Reclamation, Toxic Discharge Control"},{"$f":"IF(AG$9=\"\",\"\",IF(AG91=0,0,HLOOKUP(AG$9,CPPE!$A$1:$DB$177,AF91,FALSE)))","v":0},{"$f":"IF(AH91=\"\",\"\",IF(AH91=0,\"\",IF(LandUse!$N84=2,\"\",IF(AH91>=$E$5,AG91,\"\"))))","v":""},83,{"$f":"+CPPE!$A83","v":"Land Reclamation, Toxic Discharge Control"},{"$f":"IF(AK$9=\"\",\"\",IF(AK91=0,0,HLOOKUP(AK$9,CPPE!$A$1:$DB$177,AJ91,FALSE)))","v":0},{"$f":"IF(AL91=\"\",\"\",IF(AL91=0,\"\",IF(LandUse!$N84=2,\"\",IF(AL91>=$E$5,AK91,\"\"))))","v":""},83,{"$f":"+CPPE!$A83","v":"Land Reclamation, Toxic Discharge Control"},{"$f":"IF(AO$9=\"\",\"\",IF(AO91=0,0,HLOOKUP(AO$9,CPPE!$A$1:$DB$177,AN91,FALSE)))","v":""},{"$f":"IF(AP91=\"\",\"\",IF(AP91=0,\"\",IF(LandUse!$N84=2,\"\",IF(AP91>=$E$5,AO91,\"\"))))","v":""},83,{"$f":"+CPPE!$A83","v":"Land Reclamation, Toxic Discharge Control"},{"$f":"IF(AS$9=\"\",\"\",IF(AS91=0,0,HLOOKUP(AS$9,CPPE!$A$1:$DB$177,AR91,FALSE)))","v":""},{"$f":"IF(AT91=\"\",\"\",IF(AT91=0,\"\",IF(LandUse!$N84=2,\"\",IF(AT91>=$E$5,AS91,\"\"))))","v":""},83,{"$f":"+CPPE!$A83","v":"Land Reclamation, Toxic Discharge Control"},{"$f":"IF(AW$9=\"\",\"\",IF(AW91=0,0,HLOOKUP(AW$9,CPPE!$A$1:$DB$177,AV91,FALSE)))","v":""},{"$f":"IF(AX91=\"\",\"\",IF(AX91=0,\"\",IF(LandUse!$N84=2,\"\",IF(AX91>=$E$5,AW91,\"\"))))","v":""},83,{"$f":"+CPPE!$A83","v":"Land Reclamation, Toxic Discharge Control"},{"$f":"IF(BA$9=\"\",\"\",IF(BA91=0,0,HLOOKUP(BA$9,CPPE!$A$1:$DB$177,AZ91,FALSE)))","v":""},{"$f":"IF(BB91=\"\",\"\",IF(BB91=0,\"\",IF(LandUse!$N84=2,\"\",IF(BB91>=$E$5,BA91,\"\"))))","v":""},83,{"$f":"+CPPE!$A83","v":"Land Reclamation, Toxic Discharge Control"},{"$f":"IF(BE$9=\"\",\"\",IF(BE91=0,0,HLOOKUP(BE$9,CPPE!$A$1:$DB$177,BD91,FALSE)))","v":""},{"$f":"IF(BF91=\"\",\"\",IF(BF91=0,\"\",IF(LandUse!$N84=2,\"\",IF(BF91>=$E$5,BE91,\"\"))))","v":""},83,{"$f":"+CPPE!$A83","v":"Land Reclamation, Toxic Discharge Control"},{"$f":"IF(BI$9=\"\",\"\",IF(BI91=0,0,HLOOKUP(BI$9,CPPE!$A$1:$DB$177,BH91,FALSE)))","v":""},{"$f":"IF(BJ91=\"\",\"\",IF(BJ91=0,\"\",IF(LandUse!$N84=2,\"\",IF(BJ91>=$E$5,BI91,\"\"))))","v":""},null,{"$f":"IF(B92=\"\",\"\",C92)","v":""},{"$f":"IF(D92=\"\",\"\",E92)","v":""},{"$f":"IF(F92=\"\",\"\",G92)","v":""},{"$f":"IF(H92=\"\",\"\",I92)","v":""},{"$f":"IF(J92=\"\",\"\",K92)","v":""},{"$f":"IF(L92=\"\",\"\",M92)","v":""},{"$f":"IF(N92=\"\",\"\",O92)","v":""},{"$f":"IF(P92=\"\",\"\",Q92)","v":""},{"$f":"IF(R92=\"\",\"\",S92)","v":""},{"$f":"IF(T92=\"\",\"\",U92)","v":""}]
[null,null,null,null,null,null,null,null,null,null,null,null,null,null,null,null,null,null,null,null,null,null,{"$f":"+CPPE!$A84","v":"Lined Waterway or Outlet"},84,{"$f":"+CPPE!$A84","v":"Lined Waterway or Outlet"},{"$f":"IF(Y$9=\"\",\"\",IF(Y92=0,0,HLOOKUP(Y$9,CPPE!$A$1:$DB$177,X92,FALSE)))","v":0},{"$f":"IF(Z92=\"\",\"\",IF(Z92=0,\"\",IF(LandUse!$N85=2,\"\",IF(Z92>=$E$5,Y92,\"\"))))","v":""},84,{"$f":"+CPPE!$A84","v":"Lined Waterway or Outlet"},{"$f":"IF(AC$9=\"\",\"\",IF(AC92=0,0,HLOOKUP(AC$9,CPPE!$A$1:$DB$177,AB92,FALSE)))","v":0},{"$f":"IF(AD92=\"\",\"\",IF(AD92=0,\"\",IF(LandUse!$N85=2,\"\",IF(AD92>=$E$5,AC92,\"\"))))","v":""},84,{"$f":"+CPPE!$A84","v":"Lined Waterway or Outlet"},{"$f":"IF(AG$9=\"\",\"\",IF(AG92=0,0,HLOOKUP(AG$9,CPPE!$A$1:$DB$177,AF92,FALSE)))","v":0},{"$f":"IF(AH92=\"\",\"\",IF(AH92=0,\"\",IF(LandUse!$N85=2,\"\",IF(AH92>=$E$5,AG92,\"\"))))","v":""},84,{"$f":"+CPPE!$A84","v":"Lined Waterway or Outlet"},{"$f":"IF(AK$9=\"\",\"\",IF(AK92=0,0,HLOOKUP(AK$9,CPPE!$A$1:$DB$177,AJ92,FALSE)))","v":1},{"$f":"IF(AL92=\"\",\"\",IF(AL92=0,\"\",IF(LandUse!$N85=2,\"\",IF(AL92>=$E$5,AK92,\"\"))))","v":""},84,{"$f":"+CPPE!$A84","v":"Lined Waterway or Outlet"},{"$f":"IF(AO$9=\"\",\"\",IF(AO92=0,0,HLOOKUP(AO$9,CPPE!$A$1:$DB$177,AN92,FALSE)))","v":""},{"$f":"IF(AP92=\"\",\"\",IF(AP92=0,\"\",IF(LandUse!$N85=2,\"\",IF(AP92>=$E$5,AO92,\"\"))))","v":""},84,{"$f":"+CPPE!$A84","v":"Lined Waterway or Outlet"},{"$f":"IF(AS$9=\"\",\"\",IF(AS92=0,0,HLOOKUP(AS$9,CPPE!$A$1:$DB$177,AR92,FALSE)))","v":""},{"$f":"IF(AT92=\"\",\"\",IF(AT92=0,\"\",IF(LandUse!$N85=2,\"\",IF(AT92>=$E$5,AS92,\"\"))))","v":""},84,{"$f":"+CPPE!$A84","v":"Lined Waterway or Outlet"},{"$f":"IF(AW$9=\"\",\"\",IF(AW92=0,0,HLOOKUP(AW$9,CPPE!$A$1:$DB$177,AV92,FALSE)))","v":""},{"$f":"IF(AX92=\"\",\"\",IF(AX92=0,\"\",IF(LandUse!$N85=2,\"\",IF(AX92>=$E$5,AW92,\"\"))))","v":""},84,{"$f":"+CPPE!$A84","v":"Lined Waterway or Outlet"},{"$f":"IF(BA$9=\"\",\"\",IF(BA92=0,0,HLOOKUP(BA$9,CPPE!$A$1:$DB$177,AZ92,FALSE)))","v":""},{"$f":"IF(BB92=\"\",\"\",IF(BB92=0,\"\",IF(LandUse!$N85=2,\"\",IF(BB92>=$E$5,BA92,\"\"))))","v":""},84,{"$f":"+CPPE!$A84","v":"Lined Waterway or Outlet"},{"$f":"IF(BE$9=\"\",\"\",IF(BE92=0,0,HLOOKUP(BE$9,CPPE!$A$1:$DB$177,BD92,FALSE)))","v":""},{"$f":"IF(BF92=\"\",\"\",IF(BF92=0,\"\",IF(LandUse!$N85=2,\"\",IF(BF92>=$E$5,BE92,\"\"))))","v":""},84,{"$f":"+CPPE!$A84","v":"Lined Waterway or Outlet"},{"$f":"IF(BI$9=\"\",\"\",IF(BI92=0,0,HLOOKUP(BI$9,CPPE!$A$1:$DB$177,BH92,FALSE)))","v":""},{"$f":"IF(BJ92=\"\",\"\",IF(BJ92=0,\"\",IF(LandUse!$N85=2,\"\",IF(BJ92>=$E$5,BI92,\"\"))))","v":""},null,"","","","","","","","","",""]
[null,null,null,null,null,null,null,null,null,null,null,null,null,null,null,null,null,null,null,null,null,null,{"$f":"+CPPE!$A85","v":"Livestock Pipeline"},85,{"$f":"+CPPE!$A85","v":"Livestock Pipeline"},{"$f":"IF(Y$9=\"\",\"\",IF(Y93=0,0,HLOOKUP(Y$9,CPPE!$A$1:$DB$177,X93,FALSE)))","v":0},{"$f":"IF(Z93=\"\",\"\",IF(Z93=0,\"\",IF(LandUse!$N86=2,\"\",IF(Z93>=$E$5,Y93,\"\"))))","v":""},85,{"$f":"+CPPE!$A85","v":"Livestock Pipeline"},{"$f":"IF(AC$9=\"\",\"\",IF(AC93=0,0,HLOOKUP(AC$9,CPPE!$A$1:$DB$177,AB93,FALSE)))","v":0},{"$f":"IF(AD93=\"\",\"\",IF(AD93=0,\"\",IF(LandUse!$N86=2,\"\",IF(AD93>=$E$5,AC93,\"\"))))","v":""},85,{"$f":"+CPPE!$A85","v":"Livestock Pipeline"},{"$f":"IF(AG$9=\"\",\"\",IF(AG93=0,0,HLOOKUP(AG$9,CPPE!$A$1:$DB$177,AF93,FALSE)))","v":0},{"$f":"IF(AH93=\"\",\"\",IF(AH93=0,\"\",IF(LandUse!$N86=2,\"\",IF(AH93>=$E$5,AG93,\"\"))))","v":""},85,{"$f":"+CPPE!$A85","v":"Livestock Pipeline"},{"$f":"IF(AK$9=\"\",\"\",IF(AK93=0,0,HLOOKUP(AK$9,CPPE!$A$1:$DB$177,AJ93,FALSE)))","v":0},{"$f":"IF(AL93=\"\",\"\",IF(AL93=0,\"\",IF(LandUse!$N86=2,\"\",IF(AL93>=$E$5,AK93,\"\"))))","v":""},85,{"$f":"+CPPE!$A85","v":"Livestock Pipeline"},{"$f":"IF(AO$9=\"\",\"\",IF(AO93=0,0,HLOOKUP(AO$9,CPPE!$A$1:$DB$177,AN93,FALSE)))","v":""},{"$f":"IF(AP93=\"\",\"\",IF(AP93=0,\"\",IF(LandUse!$N86=2,\"\",IF(AP93>=$E$5,AO93,\"\"))))","v":""},85,{"$f":"+CPPE!$A85","v":"Livestock Pipeline"},{"$f":"IF(AS$9=\"\",\"\",IF(AS93=0,0,HLOOKUP(AS$9,CPPE!$A$1:$DB$177,AR93,FALSE)))","v":""},{"$f":"IF(AT93=\"\",\"\",IF(AT93=0,\"\",IF(LandUse!$N86=2,\"\",IF(AT93>=$E$5,AS93,\"\"))))","v":""},85,{"$f":"+CPPE!$A85","v":"Livestock Pipeline"},{"$f":"IF(AW$9=\"\",\"\",IF(AW93=0,0,HLOOKUP(AW$9,CPPE!$A$1:$DB$177,AV93,FALSE)))","v":""},{"$f":"IF(AX93=\"\",\"\",IF(AX93=0,\"\",IF(LandUse!$N86=2,\"\",IF(AX93>=$E$5,AW93,\"\"))))","v":""},85,{"$f":"+CPPE!$A85","v":"Livestock Pipeline"},{"$f":"IF(BA$9=\"\",\"\",IF(BA93=0,0,HLOOKUP(BA$9,CPPE!$A$1:$DB$177,AZ93,FALSE)))","v":""},{"$f":"IF(BB93=\"\",\"\",IF(BB93=0,\"\",IF(LandUse!$N86=2,\"\",IF(BB93>=$E$5,BA93,\"\"))))","v":""},85,{"$f":"+CPPE!$A85","v":"Livestock Pipeline"},{"$f":"IF(BE$9=\"\",\"\",IF(BE93=0,0,HLOOKUP(BE$9,CPPE!$A$1:$DB$177,BD93,FALSE)))","v":""},{"$f":"IF(BF93=\"\",\"\",IF(BF93=0,\"\",IF(LandUse!$N86=2,\"\",IF(BF93>=$E$5,BE93,\"\"))))","v":""},85,{"$f":"+CPPE!$A85","v":"Livestock Pipeline"},{"$f":"IF(BI$9=\"\",\"\",IF(BI93=0,0,HLOOKUP(BI$9,CPPE!$A$1:$DB$177,BH93,FALSE)))","v":""},{"$f":"IF(BJ93=\"\",\"\",IF(BJ93=0,\"\",IF(LandUse!$N86=2,\"\",IF(BJ93>=$E$5,BI93,\"\"))))","v":""},null,"","","","","","","","","",""]
[null,null,null,null,null,null,null,null,null,null,null,null,null,null,null,null,null,null,null,null,null,null,{"$f":"+CPPE!$A86","v":"Livestock Shelter Structure"},86,{"$f":"+CPPE!$A86","v":"Livestock Shelter Structure"},{"$f":"IF(Y$9=\"\",\"\",IF(Y94=0,0,HLOOKUP(Y$9,CPPE!$A$1:$DB$177,X94,FALSE)))","v":0},{"$f":"IF(Z94=\"\",\"\",IF(Z94=0,\"\",IF(LandUse!$N87=2,\"\",IF(Z94>=$E$5,Y94,\"\"))))","v":""},86,{"$f":"+CPPE!$A86","v":"Livestock Shelter Structure"},{"$f":"IF(AC$9=\"\",\"\",IF(AC94=0,0,HLOOKUP(AC$9,CPPE!$A$1:$DB$177,AB94,FALSE)))","v":0},{"$f":"IF(AD94=\"\",\"\",IF(AD94=0,\"\",IF(LandUse!$N87=2,\"\",IF(AD94>=$E$5,AC94,\"\"))))","v":""},86,{"$f":"+CPPE!$A86","v":"Livestock Shelter Structure"},{"$f":"IF(AG$9=\"\",\"\",IF(AG94=0,0,HLOOKUP(AG$9,CPPE!$A$1:$DB$177,AF94,FALSE)))","v":0},{"$f":"IF(AH94=\"\",\"\",IF(AH94=0,\"\",IF(LandUse!$N87=2,\"\",IF(AH94>=$E$5,AG94,\"\"))))","v":""},86,{"$f":"+CPPE!$A86","v":"Livestock Shelter Structure"},{"$f":"IF(AK$9=\"\",\"\",IF(AK94=0,0,HLOOKUP(AK$9,CPPE!$A$1:$DB$177,AJ94,FALSE)))","v":0},{"$f":"IF(AL94=\"\",\"\",IF(AL94=0,\"\",IF(LandUse!$N87=2,\"\",IF(AL94>=$E$5,AK94,\"\"))))","v":""},86,{"$f":"+CPPE!$A86","v":"Livestock Shelter Structure"},{"$f":"IF(AO$9=\"\",\"\",IF(AO94=0,0,HLOOKUP(AO$9,CPPE!$A$1:$DB$177,AN94,FALSE)))","v":""},{"$f":"IF(AP94=\"\",\"\",IF(AP94=0,\"\",IF(LandUse!$N87=2,\"\",IF(AP94>=$E$5,AO94,\"\"))))","v":""},86,{"$f":"+CPPE!$A86","v":"Livestock Shelter Structure"},{"$f":"IF(AS$9=\"\",\"\",IF(AS94=0,0,HLOOKUP(AS$9,CPPE!$A$1:$DB$177,AR94,FALSE)))","v":""},{"$f":"IF(AT94=\"\",\"\",IF(AT94=0,\"\",IF(LandUse!$N87=2,\"\",IF(AT94>=$E$5,AS94,\"\"))))","v":""},86,{"$f":"+CPPE!$A86","v":"Livestock Shelter Structure"},{"$f":"IF(AW$9=\"\",\"\",IF(AW94=0,0,HLOOKUP(AW$9,CPPE!$A$1:$DB$177,AV94,FALSE)))","v":""},{"$f":"IF(AX94=\"\",\"\",IF(AX94=0,\"\",IF(LandUse!$N87=2,\"\",IF(AX94>=$E$5,AW94,\"\"))))","v":""},86,{"$f":"+CPPE!$A86","v":"Livestock Shelter Structure"},{"$f":"IF(BA$9=\"\",\"\",IF(BA94=0,0,HLOOKUP(BA$9,CPPE!$A$1:$DB$177,AZ94,FALSE)))","v":""},{"$f":"IF(BB94=\"\",\"\",IF(BB94=0,\"\",IF(LandUse!$N87=2,\"\",IF(BB94>=$E$5,BA94,\"\"))))","v":""},86,{"$f":"+CPPE!$A86","v":"Livestock Shelter Structure"},{"$f":"IF(BE$9=\"\",\"\",IF(BE94=0,0,HLOOKUP(BE$9,CPPE!$A$1:$DB$177,BD94,FALSE)))","v":""},{"$f":"IF(BF94=\"\",\"\",IF(BF94=0,\"\",IF(LandUse!$N87=2,\"\",IF(BF94>=$E$5,BE94,\"\"))))","v":""},86,{"$f":"+CPPE!$A86","v":"Livestock Shelter Structure"},{"$f":"IF(BI$9=\"\",\"\",IF(BI94=0,0,HLOOKUP(BI$9,CPPE!$A$1:$DB$177,BH94,FALSE)))","v":""},{"$f":"IF(BJ94=\"\",\"\",IF(BJ94=0,\"\",IF(LandUse!$N87=2,\"\",IF(BJ94>=$E$5,BI94,\"\"))))","v":""},null,"","","","","","","","","",""]
[null,null,null,null,null,null,null,null,null,null,null,null,null,null,null,null,null,null,null,null,null,null,{"$f":"+CPPE!$A87","v":"Mine Shaft & Adit Closing"},87,{"$f":"+CPPE!$A87","v":"Mine Shaft & Adit Closing"},{"$f":"IF(Y$9=\"\",\"\",IF(Y95=0,0,HLOOKUP(Y$9,CPPE!$A$1:$DB$177,X95,FALSE)))","v":0},{"$f":"IF(Z95=\"\",\"\",IF(Z95=0,\"\",IF(LandUse!$N88=2,\"\",IF(Z95>=$E$5,Y95,\"\"))))","v":""},87,{"$f":"+CPPE!$A87","v":"Mine Shaft & Adit Closing"},{"$f":"IF(AC$9=\"\",\"\",IF(AC95=0,0,HLOOKUP(AC$9,CPPE!$A$1:$DB$177,AB95,FALSE)))","v":0},{"$f":"IF(AD95=\"\",\"\",IF(AD95=0,\"\",IF(LandUse!$N88=2,\"\",IF(AD95>=$E$5,AC95,\"\"))))","v":""},87,{"$f":"+CPPE!$A87","v":"Mine Shaft & Adit Closing"},{"$f":"IF(AG$9=\"\",\"\",IF(AG95=0,0,HLOOKUP(AG$9,CPPE!$A$1:$DB$177,AF95,FALSE)))","v":0},{"$f":"IF(AH95=\"\",\"\",IF(AH95=0,\"\",IF(LandUse!$N88=2,\"\",IF(AH95>=$E$5,AG95,\"\"))))","v":""},87,{"$f":"+CPPE!$A87","v":"Mine Shaft & Adit Closing"},{"$f":"IF(AK$9=\"\",\"\",IF(AK95=0,0,HLOOKUP(AK$9,CPPE!$A$1:$DB$177,AJ95,FALSE)))","v":0},{"$f":"IF(AL95=\"\",\"\",IF(AL95=0,\"\",IF(LandUse!$N88=2,\"\",IF(AL95>=$E$5,AK95,\"\"))))","v":""},87,{"$f":"+CPPE!$A87","v":"Mine Shaft & Adit Closing"},{"$f":"IF(AO$9=\"\",\"\",IF(AO95=0,0,HLOOKUP(AO$9,CPPE!$A$1:$DB$177,AN95,FALSE)))","v":""},{"$f":"IF(AP95=\"\",\"\",IF(AP95=0,\"\",IF(LandUse!$N88=2,\"\",IF(AP95>=$E$5,AO95,\"\"))))","v":""},87,{"$f":"+CPPE!$A87","v":"Mine Shaft & Adit Closing"},{"$f":"IF(AS$9=\"\",\"\",IF(AS95=0,0,HLOOKUP(AS$9,CPPE!$A$1:$DB$177,AR95,FALSE)))","v":""},{"$f":"IF(AT95=\"\",\"\",IF(AT95=0,\"\",IF(LandUse!$N88=2,\"\",IF(AT95>=$E$5,AS95,\"\"))))","v":""},87,{"$f":"+CPPE!$A87","v":"Mine Shaft & Adit Closing"},{"$f":"IF(AW$9=\"\",\"\",IF(AW95=0,0,HLOOKUP(AW$9,CPPE!$A$1:$DB$177,AV95,FALSE)))","v":""},{"$f":"IF(AX95=\"\",\"\",IF(AX95=0,\"\",IF(LandUse!$N88=2,\"\",IF(AX95>=$E$5,AW95,\"\"))))","v":""},87,{"$f":"+CPPE!$A87","v":"Mine Shaft & Adit Closing"},{"$f":"IF(BA$9=\"\",\"\",IF(BA95=0,0,HLOOKUP(BA$9,CPPE!$A$1:$DB$177,AZ95,FALSE)))","v":""},{"$f":"IF(BB95=\"\",\"\",IF(BB95=0,\"\",IF(LandUse!$N88=2,\"\",IF(BB95>=$E$5,BA95,\"\"))))","v":""},87,{"$f":"+CPPE!$A87","v":"Mine Shaft & Adit Closing"},{"$f":"IF(BE$9=\"\",\"\",IF(BE95=0,0,HLOOKUP(BE$9,CPPE!$A$1:$DB$177,BD95,FALSE)))","v":""},{"$f":"IF(BF95=\"\",\"\",IF(BF95=0,\"\",IF(LandUse!$N88=2,\"\",IF(BF95>=$E$5,BE95,\"\"))))","v":""},87,{"$f":"+CPPE!$A87","v":"Mine Shaft & Adit Closing"},{"$f":"IF(BI$9=\"\",\"\",IF(BI95=0,0,HLOOKUP(BI$9,CPPE!$A$1:$DB$177,BH95,FALSE)))","v":""},{"$f":"IF(BJ95=\"\",\"\",IF(BJ95=0,\"\",IF(LandUse!$N88=2,\"\",IF(BJ95>=$E$5,BI95,\"\"))))","v":""},null,"","","","","","","","","",""]
[null,null,null,null,null,null,null,null,null,null,null,null,null,null,null,null,null,null,null,null,null,null,{"$f":"+CPPE!$A88","v":"Monitoring Well"},88,{"$f":"+CPPE!$A88","v":"Monitoring Well"},{"$f":"IF(Y$9=\"\",\"\",IF(Y96=0,0,HLOOKUP(Y$9,CPPE!$A$1:$DB$177,X96,FALSE)))","v":0},{"$f":"IF(Z96=\"\",\"\",IF(Z96=0,\"\",IF(LandUse!$N89=2,\"\",IF(Z96>=$E$5,Y96,\"\"))))","v":""},88,{"$f":"+CPPE!$A88","v":"Monitoring Well"},{"$f":"IF(AC$9=\"\",\"\",IF(AC96=0,0,HLOOKUP(AC$9,CPPE!$A$1:$DB$177,AB96,FALSE)))","v":0},{"$f":"IF(AD96=\"\",\"\",IF(AD96=0,\"\",IF(LandUse!$N89=2,\"\",IF(AD96>=$E$5,AC96,\"\"))))","v":""},88,{"$f":"+CPPE!$A88","v":"Monitoring Well"},{"$f":"IF(AG$9=\"\",\"\",IF(AG96=0,0,HLOOKUP(AG$9,CPPE!$A$1:$DB$177,AF96,FALSE)))","v":0},{"$f":"IF(AH96=\"\",\"\",IF(AH96=0,\"\",IF(LandUse!$N89=2,\"\",IF(AH96>=$E$5,AG96,\"\"))))","v":""},88,{"$f":"+CPPE!$A88","v":"Monitoring Well"},{"$f":"IF(AK$9=\"\",\"\",IF(AK96=0,0,HLOOKUP(AK$9,CPPE!$A$1:$DB$177,AJ96,FALSE)))","v":0},{"$f":"IF(AL96=\"\",\"\",IF(AL96=0,\"\",IF(LandUse!$N89=2,\"\",IF(AL96>=$E$5,AK96,\"\"))))","v":""},88,{"$f":"+CPPE!$A88","v":"Monitoring Well"},{"$f":"IF(AO$9=\"\",\"\",IF(AO96=0,0,HLOOKUP(AO$9,CPPE!$A$1:$DB$177,AN96,FALSE)))","v":""},{"$f":"IF(AP96=\"\",\"\",IF(AP96=0,\"\",IF(LandUse!$N89=2,\"\",IF(AP96>=$E$5,AO96,\"\"))))","v":""},88,{"$f":"+CPPE!$A88","v":"Monitoring Well"},{"$f":"IF(AS$9=\"\",\"\",IF(AS96=0,0,HLOOKUP(AS$9,CPPE!$A$1:$DB$177,AR96,FALSE)))","v":""},{"$f":"IF(AT96=\"\",\"\",IF(AT96=0,\"\",IF(LandUse!$N89=2,\"\",IF(AT96>=$E$5,AS96,\"\"))))","v":""},88,{"$f":"+CPPE!$A88","v":"Monitoring Well"},{"$f":"IF(AW$9=\"\",\"\",IF(AW96=0,0,HLOOKUP(AW$9,CPPE!$A$1:$DB$177,AV96,FALSE)))","v":""},{"$f":"IF(AX96=\"\",\"\",IF(AX96=0,\"\",IF(LandUse!$N89=2,\"\",IF(AX96>=$E$5,AW96,\"\"))))","v":""},88,{"$f":"+CPPE!$A88","v":"Monitoring Well"},{"$f":"IF(BA$9=\"\",\"\",IF(BA96=0,0,HLOOKUP(BA$9,CPPE!$A$1:$DB$177,AZ96,FALSE)))","v":""},{"$f":"IF(BB96=\"\",\"\",IF(BB96=0,\"\",IF(LandUse!$N89=2,\"\",IF(BB96>=$E$5,BA96,\"\"))))","v":""},88,{"$f":"+CPPE!$A88","v":"Monitoring Well"},{"$f":"IF(BE$9=\"\",\"\",IF(BE96=0,0,HLOOKUP(BE$9,CPPE!$A$1:$DB$177,BD96,FALSE)))","v":""},{"$f":"IF(BF96=\"\",\"\",IF(BF96=0,\"\",IF(LandUse!$N89=2,\"\",IF(BF96>=$E$5,BE96,\"\"))))","v":""},88,{"$f":"+CPPE!$A88","v":"Monitoring Well"},{"$f":"IF(BI$9=\"\",\"\",IF(BI96=0,0,HLOOKUP(BI$9,CPPE!$A$1:$DB$177,BH96,FALSE)))","v":""},{"$f":"IF(BJ96=\"\",\"\",IF(BJ96=0,\"\",IF(LandUse!$N89=2,\"\",IF(BJ96>=$E$5,BI96,\"\"))))","v":""},null,"","","","","","","","","",""]
[null,null,null,null,null,null,null,null,null,null,null,null,null,null,null,null,null,null,null,null,null,null,{"$f":"+CPPE!$A89","v":"Mulching"},89,{"$f":"+CPPE!$A89","v":"Mulching"},{"$f":"IF(Y$9=\"\",\"\",IF(Y97=0,0,HLOOKUP(Y$9,CPPE!$A$1:$DB$177,X97,FALSE)))","v":4},{"$f":"IF(Z97=\"\",\"\",IF(Z97=0,\"\",IF(LandUse!$N90=2,\"\",IF(Z97>=$E$5,Y97,\"\"))))","v":""},89,{"$f":"+CPPE!$A89","v":"Mulching"},{"$f":"IF(AC$9=\"\",\"\",IF(AC97=0,0,HLOOKUP(AC$9,CPPE!$A$1:$DB$177,AB97,FALSE)))","v":1},{"$f":"IF(AD97=\"\",\"\",IF(AD97=0,\"\",IF(LandUse!$N90=2,\"\",IF(AD97>=$E$5,AC97,\"\"))))","v":""},89,{"$f":"+CPPE!$A89","v":"Mulching"},{"$f":"IF(AG$9=\"\",\"\",IF(AG97=0,0,HLOOKUP(AG$9,CPPE!$A$1:$DB$177,AF97,FALSE)))","v":1},{"$f":"IF(AH97=\"\",\"\",IF(AH97=0,\"\",IF(LandUse!$N90=2,\"\",IF(AH97>=$E$5,AG97,\"\"))))","v":""},89,{"$f":"+CPPE!$A89","v":"Mulching"},{"$f":"IF(AK$9=\"\",\"\",IF(AK97=0,0,HLOOKUP(AK$9,CPPE!$A$1:$DB$177,AJ97,FALSE)))","v":0},{"$f":"IF(AL97=\"\",\"\",IF(AL97=0,\"\",IF(LandUse!$N90=2,\"\",IF(AL97>=$E$5,AK97,\"\"))))","v":""},89,{"$f":"+CPPE!$A89","v":"Mulching"},{"$f":"IF(AO$9=\"\",\"\",IF(AO97=0,0,HLOOKUP(AO$9,CPPE!$A$1:$DB$177,AN97,FALSE)))","v":""},{"$f":"IF(AP97=\"\",\"\",IF(AP97=0,\"\",IF(LandUse!$N90=2,\"\",IF(AP97>=$E$5,AO97,\"\"))))","v":""},89,{"$f":"+CPPE!$A89","v":"Mulching"},{"$f":"IF(AS$9=\"\",\"\",IF(AS97=0,0,HLOOKUP(AS$9,CPPE!$A$1:$DB$177,AR97,FALSE)))","v":""},{"$f":"IF(AT97=\"\",\"\",IF(AT97=0,\"\",IF(LandUse!$N90=2,\"\",IF(AT97>=$E$5,AS97,\"\"))))","v":""},89,{"$f":"+CPPE!$A89","v":"Mulching"},{"$f":"IF(AW$9=\"\",\"\",IF(AW97=0,0,HLOOKUP(AW$9,CPPE!$A$1:$DB$177,AV97,FALSE)))","v":""},{"$f":"IF(AX97=\"\",\"\",IF(AX97=0,\"\",IF(LandUse!$N90=2,\"\",IF(AX97>=$E$5,AW97,\"\"))))","v":""},89,{"$f":"+CPPE!$A89","v":"Mulching"},{"$f":"IF(BA$9=\"\",\"\",IF(BA97=0,0,HLOOKUP(BA$9,CPPE!$A$1:$DB$177,AZ97,FALSE)))","v":""},{"$f":"IF(BB97=\"\",\"\",IF(BB97=0,\"\",IF(LandUse!$N90=2,\"\",IF(BB97>=$E$5,BA97,\"\"))))","v":""},89,{"$f":"+CPPE!$A89","v":"Mulching"},{"$f":"IF(BE$9=\"\",\"\",IF(BE97=0,0,HLOOKUP(BE$9,CPPE!$A$1:$DB$177,BD97,FALSE)))","v":""},{"$f":"IF(BF97=\"\",\"\",IF(BF97=0,\"\",IF(LandUse!$N90=2,\"\",IF(BF97>=$E$5,BE97,\"\"))))","v":""},89,{"$f":"+CPPE!$A89","v":"Mulching"},{"$f":"IF(BI$9=\"\",\"\",IF(BI97=0,0,HLOOKUP(BI$9,CPPE!$A$1:$DB$177,BH97,FALSE)))","v":""},{"$f":"IF(BJ97=\"\",\"\",IF(BJ97=0,\"\",IF(LandUse!$N90=2,\"\",IF(BJ97>=$E$5,BI97,\"\"))))","v":""},null,"","","","","","","","","",""]
[null,null,null,null,null,null,null,null,null,null,null,null,null,null,null,null,null,null,null,null,null,null,{"$f":"+CPPE!$A90","v":"Nutrient Management"},90,{"$f":"+CPPE!$A90","v":"Nutrient Management"},{"$f":"IF(Y$9=\"\",\"\",IF(Y98=0,0,HLOOKUP(Y$9,CPPE!$A$1:$DB$177,X98,FALSE)))","v":0},{"$f":"IF(Z98=\"\",\"\",IF(Z98=0,\"\",IF(LandUse!$N91=2,\"\",IF(Z98>=$E$5,Y98,\"\"))))","v":""},90,{"$f":"+CPPE!$A90","v":"Nutrient Management"},{"$f":"IF(AC$9=\"\",\"\",IF(AC98=0,0,HLOOKUP(AC$9,CPPE!$A$1:$DB$177,AB98,FALSE)))","v":0},{"$f":"IF(AD98=\"\",\"\",IF(AD98=0,\"\",IF(LandUse!$N91=2,\"\",IF(AD98>=$E$5,AC98,\"\"))))","v":""},90,{"$f":"+CPPE!$A90","v":"Nutrient Management"},{"$f":"IF(AG$9=\"\",\"\",IF(AG98=0,0,HLOOKUP(AG$9,CPPE!$A$1:$DB$177,AF98,FALSE)))","v":2},{"$f":"IF(AH98=\"\",\"\",IF(AH98=0,\"\",IF(LandUse!$N91=2,\"\",IF(AH98>=$E$5,AG98,\"\"))))","v":""},90,{"$f":"+CPPE!$A90","v":"Nutrient Management"},{"$f":"IF(AK$9=\"\",\"\",IF(AK98=0,0,HLOOKUP(AK$9,CPPE!$A$1:$DB$177,AJ98,FALSE)))","v":0},{"$f":"IF(AL98=\"\",\"\",IF(AL98=0,\"\",IF(LandUse!$N91=2,\"\",IF(AL98>=$E$5,AK98,\"\"))))","v":""},90,{"$f":"+CPPE!$A90","v":"Nutrient Management"},{"$f":"IF(AO$9=\"\",\"\",IF(AO98=0,0,HLOOKUP(AO$9,CPPE!$A$1:$DB$177,AN98,FALSE)))","v":""},{"$f":"IF(AP98=\"\",\"\",IF(AP98=0,\"\",IF(LandUse!$N91=2,\"\",IF(AP98>=$E$5,AO98,\"\"))))","v":""},90,{"$f":"+CPPE!$A90","v":"Nutrient Management"},{"$f":"IF(AS$9=\"\",\"\",IF(AS98=0,0,HLOOKUP(AS$9,CPPE!$A$1:$DB$177,AR98,FALSE)))","v":""},{"$f":"IF(AT98=\"\",\"\",IF(AT98=0,\"\",IF(LandUse!$N91=2,\"\",IF(AT98>=$E$5,AS98,\"\"))))","v":""},90,{"$f":"+CPPE!$A90","v":"Nutrient Management"},{"$f":"IF(AW$9=\"\",\"\",IF(AW98=0,0,HLOOKUP(AW$9,CPPE!$A$1:$DB$177,AV98,FALSE)))","v":""},{"$f":"IF(AX98=\"\",\"\",IF(AX98=0,\"\",IF(LandUse!$N91=2,\"\",IF(AX98>=$E$5,AW98,\"\"))))","v":""},90,{"$f":"+CPPE!$A90","v":"Nutrient Management"},{"$f":"IF(BA$9=\"\",\"\",IF(BA98=0,0,HLOOKUP(BA$9,CPPE!$A$1:$DB$177,AZ98,FALSE)))","v":""},{"$f":"IF(BB98=\"\",\"\",IF(BB98=0,\"\",IF(LandUse!$N91=2,\"\",IF(BB98>=$E$5,BA98,\"\"))))","v":""},90,{"$f":"+CPPE!$A90","v":"Nutrient Management"},{"$f":"IF(BE$9=\"\",\"\",IF(BE98=0,0,HLOOKUP(BE$9,CPPE!$A$1:$DB$177,BD98,FALSE)))","v":""},{"$f":"IF(BF98=\"\",\"\",IF(BF98=0,\"\",IF(LandUse!$N91=2,\"\",IF(BF98>=$E$5,BE98,\"\"))))","v":""},90,{"$f":"+CPPE!$A90","v":"Nutrient Management"},{"$f":"IF(BI$9=\"\",\"\",IF(BI98=0,0,HLOOKUP(BI$9,CPPE!$A$1:$DB$177,BH98,FALSE)))","v":""},{"$f":"IF(BJ98=\"\",\"\",IF(BJ98=0,\"\",IF(LandUse!$N91=2,\"\",IF(BJ98>=$E$5,BI98,\"\"))))","v":""},null,"","","","","","","","","",""]
[null,null,null,null,null,null,null,null,null,null,null,null,null,null,null,null,null,null,null,null,null,null,{"$f":"+CPPE!$A91","v":"Obstruction Removal"},91,{"$f":"+CPPE!$A91","v":"Obstruction Removal"},{"$f":"IF(Y$9=\"\",\"\",IF(Y99=0,0,HLOOKUP(Y$9,CPPE!$A$1:$DB$177,X99,FALSE)))","v":0},{"$f":"IF(Z99=\"\",\"\",IF(Z99=0,\"\",IF(LandUse!$N92=2,\"\",IF(Z99>=$E$5,Y99,\"\"))))","v":""},91,{"$f":"+CPPE!$A91","v":"Obstruction Removal"},{"$f":"IF(AC$9=\"\",\"\",IF(AC99=0,0,HLOOKUP(AC$9,CPPE!$A$1:$DB$177,AB99,FALSE)))","v":-1},{"$f":"IF(AD99=\"\",\"\",IF(AD99=0,\"\",IF(LandUse!$N92=2,\"\",IF(AD99>=$E$5,AC99,\"\"))))","v":""},91,{"$f":"+CPPE!$A91","v":"Obstruction Removal"},{"$f":"IF(AG$9=\"\",\"\",IF(AG99=0,0,HLOOKUP(AG$9,CPPE!$A$1:$DB$177,AF99,FALSE)))","v":1},{"$f":"IF(AH99=\"\",\"\",IF(AH99=0,\"\",IF(LandUse!$N92=2,\"\",IF(AH99>=$E$5,AG99,\"\"))))","v":""},91,{"$f":"+CPPE!$A91","v":"Obstruction Removal"},{"$f":"IF(AK$9=\"\",\"\",IF(AK99=0,0,HLOOKUP(AK$9,CPPE!$A$1:$DB$177,AJ99,FALSE)))","v":0},{"$f":"IF(AL99=\"\",\"\",IF(AL99=0,\"\",IF(LandUse!$N92=2,\"\",IF(AL99>=$E$5,AK99,\"\"))))","v":""},91,{"$f":"+CPPE!$A91","v":"Obstruction Removal"},{"$f":"IF(AO$9=\"\",\"\",IF(AO99=0,0,HLOOKUP(AO$9,CPPE!$A$1:$DB$177,AN99,FALSE)))","v":""},{"$f":"IF(AP99=\"\",\"\",IF(AP99=0,\"\",IF(LandUse!$N92=2,\"\",IF(AP99>=$E$5,AO99,\"\"))))","v":""},91,{"$f":"+CPPE!$A91","v":"Obstruction Removal"},{"$f":"IF(AS$9=\"\",\"\",IF(AS99=0,0,HLOOKUP(AS$9,CPPE!$A$1:$DB$177,AR99,FALSE)))","v":""},{"$f":"IF(AT99=\"\",\"\",IF(AT99=0,\"\",IF(LandUse!$N92=2,\"\",IF(AT99>=$E$5,AS99,\"\"))))","v":""},91,{"$f":"+CPPE!$A91","v":"Obstruction Removal"},{"$f":"IF(AW$9=\"\",\"\",IF(AW99=0,0,HLOOKUP(AW$9,CPPE!$A$1:$DB$177,AV99,FALSE)))","v":""},{"$f":"IF(AX99=\"\",\"\",IF(AX99=0,\"\",IF(LandUse!$N92=2,\"\",IF(AX99>=$E$5,AW99,\"\"))))","v":""},91,{"$f":"+CPPE!$A91","v":"Obstruction Removal"},{"$f":"IF(BA$9=\"\",\"\",IF(BA99=0,0,HLOOKUP(BA$9,CPPE!$A$1:$DB$177,AZ99,FALSE)))","v":""},{"$f":"IF(BB99=\"\",\"\",IF(BB99=0,\"\",IF(LandUse!$N92=2,\"\",IF(BB99>=$E$5,BA99,\"\"))))","v":""},91,{"$f":"+CPPE!$A91","v":"Obstruction Removal"},{"$f":"IF(BE$9=\"\",\"\",IF(BE99=0,0,HLOOKUP(BE$9,CPPE!$A$1:$DB$177,BD99,FALSE)))","v":""},{"$f":"IF(BF99=\"\",\"\",IF(BF99=0,\"\",IF(LandUse!$N92=2,\"\",IF(BF99>=$E$5,BE99,\"\"))))","v":""},91,{"$f":"+CPPE!$A91","v":"Obstruction Removal"},{"$f":"IF(BI$9=\"\",\"\",IF(BI99=0,0,HLOOKUP(BI$9,CPPE!$A$1:$DB$177,BH99,FALSE)))","v":""},{"$f":"IF(BJ99=\"\",\"\",IF(BJ99=0,\"\",IF(LandUse!$N92=2,\"\",IF(BJ99>=$E$5,BI99,\"\"))))","v":""},null,"","","","","","","","","",""]
[null,null,null,null,null,null,null,null,null,null,null,null,null,null,null,null,null,null,null,null,null,null,{"$f":"+CPPE!$A92","v":"On-Farm Secondary Containment Facility"},92,{"$f":"+CPPE!$A92","v":"On-Farm Secondary Containment Facility"},{"$f":"IF(Y$9=\"\",\"\",IF(Y100=0,0,HLOOKUP(Y$9,CPPE!$A$1:$DB$177,X100,FALSE)))","v":0},{"$f":"IF(Z100=\"\",\"\",IF(Z100=0,\"\",IF(LandUse!$N93=2,\"\",IF(Z100>=$E$5,Y100,\"\"))))","v":""},92,{"$f":"+CPPE!$A92","v":"On-Farm Secondary Containment Facility"},{"$f":"IF(AC$9=\"\",\"\",IF(AC100=0,0,HLOOKUP(AC$9,CPPE!$A$1:$DB$177,AB100,FALSE)))","v":0},{"$f":"IF(AD100=\"\",\"\",IF(AD100=0,\"\",IF(LandUse!$N93=2,\"\",IF(AD100>=$E$5,AC100,\"\"))))","v":""},92,{"$f":"+CPPE!$A92","v":"On-Farm Secondary Containment Facility"},{"$f":"IF(AG$9=\"\",\"\",IF(AG100=0,0,HLOOKUP(AG$9,CPPE!$A$1:$DB$177,AF100,FALSE)))","v":0},{"$f":"IF(AH100=\"\",\"\",IF(AH100=0,\"\",IF(LandUse!$N93=2,\"\",IF(AH100>=$E$5,AG100,\"\"))))","v":""},92,{"$f":"+CPPE!$A92","v":"On-Farm Secondary Containment Facility"},{"$f":"IF(AK$9=\"\",\"\",IF(AK100=0,0,HLOOKUP(AK$9,CPPE!$A$1:$DB$177,AJ100,FALSE)))","v":0},{"$f":"IF(AL100=\"\",\"\",IF(AL100=0,\"\",IF(LandUse!$N93=2,\"\",IF(AL100>=$E$5,AK100,\"\"))))","v":""},92,{"$f":"+CPPE!$A92","v":"On-Farm Secondary Containment Facility"},{"$f":"IF(AO$9=\"\",\"\",IF(AO100=0,0,HLOOKUP(AO$9,CPPE!$A$1:$DB$177,AN100,FALSE)))","v":""},{"$f":"IF(AP100=\"\",\"\",IF(AP100=0,\"\",IF(LandUse!$N93=2,\"\",IF(AP100>=$E$5,AO100,\"\"))))","v":""},92,{"$f":"+CPPE!$A92","v":"On-Farm Secondary Containment Facility"},{"$f":"IF(AS$9=\"\",\"\",IF(AS100=0,0,HLOOKUP(AS$9,CPPE!$A$1:$DB$177,AR100,FALSE)))","v":""},{"$f":"IF(AT100=\"\",\"\",IF(AT100=0,\"\",IF(LandUse!$N93=2,\"\",IF(AT100>=$E$5,AS100,\"\"))))","v":""},92,{"$f":"+CPPE!$A92","v":"On-Farm Secondary Containment Facility"},{"$f":"IF(AW$9=\"\",\"\",IF(AW100=0,0,HLOOKUP(AW$9,CPPE!$A$1:$DB$177,AV100,FALSE)))","v":""},{"$f":"IF(AX100=\"\",\"\",IF(AX100=0,\"\",IF(LandUse!$N93=2,\"\",IF(AX100>=$E$5,AW100,\"\"))))","v":""},92,{"$f":"+CPPE!$A92","v":"On-Farm Secondary Containment Facility"},{"$f":"IF(BA$9=\"\",\"\",IF(BA100=0,0,HLOOKUP(BA$9,CPPE!$A$1:$DB$177,AZ100,FALSE)))","v":""},{"$f":"IF(BB100=\"\",\"\",IF(BB100=0,\"\",IF(LandUse!$N93=2,\"\",IF(BB100>=$E$5,BA100,\"\"))))","v":""},92,{"$f":"+CPPE!$A92","v":"On-Farm Secondary Containment Facility"},{"$f":"IF(BE$9=\"\",\"\",IF(BE100=0,0,HLOOKUP(BE$9,CPPE!$A$1:$DB$177,BD100,FALSE)))","v":""},{"$f":"IF(BF100=\"\",\"\",IF(BF100=0,\"\",IF(LandUse!$N93=2,\"\",IF(BF100>=$E$5,BE100,\"\"))))","v":""},92,{"$f":"+CPPE!$A92","v":"On-Farm Secondary Containment Facility"},{"$f":"IF(BI$9=\"\",\"\",IF(BI100=0,0,HLOOKUP(BI$9,CPPE!$A$1:$DB$177,BH100,FALSE)))","v":""},{"$f":"IF(BJ100=\"\",\"\",IF(BJ100=0,\"\",IF(LandUse!$N93=2,\"\",IF(BJ100>=$E$5,BI100,\"\"))))","v":""},null,"","","","","","","","","",""]
[null,null,null,null,null,null,null,null,null,null,null,null,null,null,null,null,null,null,null,null,null,null,{"$f":"+CPPE!$A93","v":"Open Channel"},93,{"$f":"+CPPE!$A93","v":"Open Channel"},{"$f":"IF(Y$9=\"\",\"\",IF(Y101=0,0,HLOOKUP(Y$9,CPPE!$A$1:$DB$177,X101,FALSE)))","v":0},{"$f":"IF(Z101=\"\",\"\",IF(Z101=0,\"\",IF(LandUse!$N94=2,\"\",IF(Z101>=$E$5,Y101,\"\"))))","v":""},93,{"$f":"+CPPE!$A93","v":"Open Channel"},{"$f":"IF(AC$9=\"\",\"\",IF(AC101=0,0,HLOOKUP(AC$9,CPPE!$A$1:$DB$177,AB101,FALSE)))","v":0},{"$f":"IF(AD101=\"\",\"\",IF(AD101=0,\"\",IF(LandUse!$N94=2,\"\",IF(AD101>=$E$5,AC101,\"\"))))","v":""},93,{"$f":"+CPPE!$A93","v":"Open Channel"},{"$f":"IF(AG$9=\"\",\"\",IF(AG101=0,0,HLOOKUP(AG$9,CPPE!$A$1:$DB$177,AF101,FALSE)))","v":0},{"$f":"IF(AH101=\"\",\"\",IF(AH101=0,\"\",IF(LandUse!$N94=2,\"\",IF(AH101>=$E$5,AG101,\"\"))))","v":""},93,{"$f":"+CPPE!$A93","v":"Open Channel"},{"$f":"IF(AK$9=\"\",\"\",IF(AK101=0,0,HLOOKUP(AK$9,CPPE!$A$1:$DB$177,AJ101,FALSE)))","v":2},{"$f":"IF(AL101=\"\",\"\",IF(AL101=0,\"\",IF(LandUse!$N94=2,\"\",IF(AL101>=$E$5,AK101,\"\"))))","v":""},93,{"$f":"+CPPE!$A93","v":"Open Channel"},{"$f":"IF(AO$9=\"\",\"\",IF(AO101=0,0,HLOOKUP(AO$9,CPPE!$A$1:$DB$177,AN101,FALSE)))","v":""},{"$f":"IF(AP101=\"\",\"\",IF(AP101=0,\"\",IF(LandUse!$N94=2,\"\",IF(AP101>=$E$5,AO101,\"\"))))","v":""},93,{"$f":"+CPPE!$A93","v":"Open Channel"},{"$f":"IF(AS$9=\"\",\"\",IF(AS101=0,0,HLOOKUP(AS$9,CPPE!$A$1:$DB$177,AR101,FALSE)))","v":""},{"$f":"IF(AT101=\"\",\"\",IF(AT101=0,\"\",IF(LandUse!$N94=2,\"\",IF(AT101>=$E$5,AS101,\"\"))))","v":""},93,{"$f":"+CPPE!$A93","v":"Open Channel"},{"$f":"IF(AW$9=\"\",\"\",IF(AW101=0,0,HLOOKUP(AW$9,CPPE!$A$1:$DB$177,AV101,FALSE)))","v":""},{"$f":"IF(AX101=\"\",\"\",IF(AX101=0,\"\",IF(LandUse!$N94=2,\"\",IF(AX101>=$E$5,AW101,\"\"))))","v":""},93,{"$f":"+CPPE!$A93","v":"Open Channel"},{"$f":"IF(BA$9=\"\",\"\",IF(BA101=0,0,HLOOKUP(BA$9,CPPE!$A$1:$DB$177,AZ101,FALSE)))","v":""},{"$f":"IF(BB101=\"\",\"\",IF(BB101=0,\"\",IF(LandUse!$N94=2,\"\",IF(BB101>=$E$5,BA101,\"\"))))","v":""},93,{"$f":"+CPPE!$A93","v":"Open Channel"},{"$f":"IF(BE$9=\"\",\"\",IF(BE101=0,0,HLOOKUP(BE$9,CPPE!$A$1:$DB$177,BD101,FALSE)))","v":""},{"$f":"IF(BF101=\"\",\"\",IF(BF101=0,\"\",IF(LandUse!$N94=2,\"\",IF(BF101>=$E$5,BE101,\"\"))))","v":""},93,{"$f":"+CPPE!$A93","v":"Open Channel"},{"$f":"IF(BI$9=\"\",\"\",IF(BI101=0,0,HLOOKUP(BI$9,CPPE!$A$1:$DB$177,BH101,FALSE)))","v":""},{"$f":"IF(BJ101=\"\",\"\",IF(BJ101=0,\"\",IF(LandUse!$N94=2,\"\",IF(BJ101>=$E$5,BI101,\"\"))))","v":""},null,"","","","","","","","","",""]
[null,null,null,null,null,null,null,null,null,null,null,null,null,null,null,null,null,null,null,null,null,null,{"$f":"+CPPE!$A94","v":"Pasture and Hay Planting"},94,{"$f":"+CPPE!$A94","v":"Pasture and Hay Planting"},{"$f":"IF(Y$9=\"\",\"\",IF(Y102=0,0,HLOOKUP(Y$9,CPPE!$A$1:$DB$177,X102,FALSE)))","v":4},{"$f":"IF(Z102=\"\",\"\",IF(Z102=0,\"\",IF(LandUse!$N95=2,\"\",IF(Z102>=$E$5,Y102,\"\"))))","v":""},94,{"$f":"+CPPE!$A94","v":"Pasture and Hay Planting"},{"$f":"IF(AC$9=\"\",\"\",IF(AC102=0,0,HLOOKUP(AC$9,CPPE!$A$1:$DB$177,AB102,FALSE)))","v":2},{"$f":"IF(AD102=\"\",\"\",IF(AD102=0,\"\",IF(LandUse!$N95=2,\"\",IF(AD102>=$E$5,AC102,\"\"))))","v":""},94,{"$f":"+CPPE!$A94","v":"Pasture and Hay Planting"},{"$f":"IF(AG$9=\"\",\"\",IF(AG102=0,0,HLOOKUP(AG$9,CPPE!$A$1:$DB$177,AF102,FALSE)))","v":4},{"$f":"IF(AH102=\"\",\"\",IF(AH102=0,\"\",IF(LandUse!$N95=2,\"\",IF(AH102>=$E$5,AG102,\"\"))))","v":""},94,{"$f":"+CPPE!$A94","v":"Pasture and Hay Planting"},{"$f":"IF(AK$9=\"\",\"\",IF(AK102=0,0,HLOOKUP(AK$9,CPPE!$A$1:$DB$177,AJ102,FALSE)))","v":4},{"$f":"IF(AL102=\"\",\"\",IF(AL102=0,\"\",IF(LandUse!$N95=2,\"\",IF(AL102>=$E$5,AK102,\"\"))))","v":""},94,{"$f":"+CPPE!$A94","v":"Pasture and Hay Planting"},{"$f":"IF(AO$9=\"\",\"\",IF(AO102=0,0,HLOOKUP(AO$9,CPPE!$A$1:$DB$177,AN102,FALSE)))","v":""},{"$f":"IF(AP102=\"\",\"\",IF(AP102=0,\"\",IF(LandUse!$N95=2,\"\",IF(AP102>=$E$5,AO102,\"\"))))","v":""},94,{"$f":"+CPPE!$A94","v":"Pasture and Hay Planting"},{"$f":"IF(AS$9=\"\",\"\",IF(AS102=0,0,HLOOKUP(AS$9,CPPE!$A$1:$DB$177,AR102,FALSE)))","v":""},{"$f":"IF(AT102=\"\",\"\",IF(AT102=0,\"\",IF(LandUse!$N95=2,\"\",IF(AT102>=$E$5,AS102,\"\"))))","v":""},94,{"$f":"+CPPE!$A94","v":"Pasture and Hay Planting"},{"$f":"IF(AW$9=\"\",\"\",IF(AW102=0,0,HLOOKUP(AW$9,CPPE!$A$1:$DB$177,AV102,FALSE)))","v":""},{"$f":"IF(AX102=\"\",\"\",IF(AX102=0,\"\",IF(LandUse!$N95=2,\"\",IF(AX102>=$E$5,AW102,\"\"))))","v":""},94,{"$f":"+CPPE!$A94","v":"Pasture and Hay Planting"},{"$f":"IF(BA$9=\"\",\"\",IF(BA102=0,0,HLOOKUP(BA$9,CPPE!$A$1:$DB$177,AZ102,FALSE)))","v":""},{"$f":"IF(BB102=\"\",\"\",IF(BB102=0,\"\",IF(LandUse!$N95=2,\"\",IF(BB102>=$E$5,BA102,\"\"))))","v":""},94,{"$f":"+CPPE!$A94","v":"Pasture and Hay Planting"},{"$f":"IF(BE$9=\"\",\"\",IF(BE102=0,0,HLOOKUP(BE$9,CPPE!$A$1:$DB$177,BD102,FALSE)))","v":""},{"$f":"IF(BF102=\"\",\"\",IF(BF102=0,\"\",IF(LandUse!$N95=2,\"\",IF(BF102>=$E$5,BE102,\"\"))))","v":""},94,{"$f":"+CPPE!$A94","v":"Pasture and Hay Planting"},{"$f":"IF(BI$9=\"\",\"\",IF(BI102=0,0,HLOOKUP(BI$9,CPPE!$A$1:$DB$177,BH102,FALSE)))","v":""},{"$f":"IF(BJ102=\"\",\"\",IF(BJ102=0,\"\",IF(LandUse!$N95=2,\"\",IF(BJ102>=$E$5,BI102,\"\"))))","v":""},null,"","","","","","","","","",""]
[null,null,null,null,null,null,null,null,null,null,null,null,null,null,null,null,null,null,null,null,null,null,{"$f":"+CPPE!$A95","v":"Pest Management Conservation System"},95,{"$f":"+CPPE!$A95","v":"Pest Management Conservation System"},{"$f":"IF(Y$9=\"\",\"\",IF(Y103=0,0,HLOOKUP(Y$9,CPPE!$A$1:$DB$177,X103,FALSE)))","v":2},{"$f":"IF(Z103=\"\",\"\",IF(Z103=0,\"\",IF(LandUse!$N96=2,\"\",IF(Z103>=$E$5,Y103,\"\"))))","v":""},95,{"$f":"+CPPE!$A95","v":"Pest Management Conservation System"},{"$f":"IF(AC$9=\"\",\"\",IF(AC103=0,0,HLOOKUP(AC$9,CPPE!$A$1:$DB$177,AB103,FALSE)))","v":2},{"$f":"IF(AD103=\"\",\"\",IF(AD103=0,\"\",IF(LandUse!$N96=2,\"\",IF(AD103>=$E$5,AC103,\"\"))))","v":""},95,{"$f":"+CPPE!$A95","v":"Pest Management Conservation System"},{"$f":"IF(AG$9=\"\",\"\",IF(AG103=0,0,HLOOKUP(AG$9,CPPE!$A$1:$DB$177,AF103,FALSE)))","v":2},{"$f":"IF(AH103=\"\",\"\",IF(AH103=0,\"\",IF(LandUse!$N96=2,\"\",IF(AH103>=$E$5,AG103,\"\"))))","v":""},95,{"$f":"+CPPE!$A95","v":"Pest Management Conservation System"},{"$f":"IF(AK$9=\"\",\"\",IF(AK103=0,0,HLOOKUP(AK$9,CPPE!$A$1:$DB$177,AJ103,FALSE)))","v":0},{"$f":"IF(AL103=\"\",\"\",IF(AL103=0,\"\",IF(LandUse!$N96=2,\"\",IF(AL103>=$E$5,AK103,\"\"))))","v":""},95,{"$f":"+CPPE!$A95","v":"Pest Management Conservation System"},{"$f":"IF(AO$9=\"\",\"\",IF(AO103=0,0,HLOOKUP(AO$9,CPPE!$A$1:$DB$177,AN103,FALSE)))","v":""},{"$f":"IF(AP103=\"\",\"\",IF(AP103=0,\"\",IF(LandUse!$N96=2,\"\",IF(AP103>=$E$5,AO103,\"\"))))","v":""},95,{"$f":"+CPPE!$A95","v":"Pest Management Conservation System"},{"$f":"IF(AS$9=\"\",\"\",IF(AS103=0,0,HLOOKUP(AS$9,CPPE!$A$1:$DB$177,AR103,FALSE)))","v":""},{"$f":"IF(AT103=\"\",\"\",IF(AT103=0,\"\",IF(LandUse!$N96=2,\"\",IF(AT103>=$E$5,AS103,\"\"))))","v":""},95,{"$f":"+CPPE!$A95","v":"Pest Management Conservation System"},{"$f":"IF(AW$9=\"\",\"\",IF(AW103=0,0,HLOOKUP(AW$9,CPPE!$A$1:$DB$177,AV103,FALSE)))","v":""},{"$f":"IF(AX103=\"\",\"\",IF(AX103=0,\"\",IF(LandUse!$N96=2,\"\",IF(AX103>=$E$5,AW103,\"\"))))","v":""},95,{"$f":"+CPPE!$A95","v":"Pest Management Conservation System"},{"$f":"IF(BA$9=\"\",\"\",IF(BA103=0,0,HLOOKUP(BA$9,CPPE!$A$1:$DB$177,AZ103,FALSE)))","v":""},{"$f":"IF(BB103=\"\",\"\",IF(BB103=0,\"\",IF(LandUse!$N96=2,\"\",IF(BB103>=$E$5,BA103,\"\"))))","v":""},95,{"$f":"+CPPE!$A95","v":"Pest Management Conservation System"},{"$f":"IF(BE$9=\"\",\"\",IF(BE103=0,0,HLOOKUP(BE$9,CPPE!$A$1:$DB$177,BD103,FALSE)))","v":""},{"$f":"IF(BF103=\"\",\"\",IF(BF103=0,\"\",IF(LandUse!$N96=2,\"\",IF(BF103>=$E$5,BE103,\"\"))))","v":""},95,{"$f":"+CPPE!$A95","v":"Pest Management Conservation System"},{"$f":"IF(BI$9=\"\",\"\",IF(BI103=0,0,HLOOKUP(BI$9,CPPE!$A$1:$DB$177,BH103,FALSE)))","v":""},{"$f":"IF(BJ103=\"\",\"\",IF(BJ103=0,\"\",IF(LandUse!$N96=2,\"\",IF(BJ103>=$E$5,BI103,\"\"))))","v":""},null,"","","","","","","","","",""]
[null,null,null,null,null,null,null,null,null,null,null,null,null,null,null,null,null,null,null,null,null,null,{"$f":"+CPPE!$A96","v":"Pond"},96,{"$f":"+CPPE!$A96","v":"Pond"},{"$f":"IF(Y$9=\"\",\"\",IF(Y104=0,0,HLOOKUP(Y$9,CPPE!$A$1:$DB$177,X104,FALSE)))","v":0},{"$f":"IF(Z104=\"\",\"\",IF(Z104=0,\"\",IF(LandUse!$N97=2,\"\",IF(Z104>=$E$5,Y104,\"\"))))","v":""},96,{"$f":"+CPPE!$A96","v":"Pond"},{"$f":"IF(AC$9=\"\",\"\",IF(AC104=0,0,HLOOKUP(AC$9,CPPE!$A$1:$DB$177,AB104,FALSE)))","v":0},{"$f":"IF(AD104=\"\",\"\",IF(AD104=0,\"\",IF(LandUse!$N97=2,\"\",IF(AD104>=$E$5,AC104,\"\"))))","v":""},96,{"$f":"+CPPE!$A96","v":"Pond"},{"$f":"IF(AG$9=\"\",\"\",IF(AG104=0,0,HLOOKUP(AG$9,CPPE!$A$1:$DB$177,AF104,FALSE)))","v":0},{"$f":"IF(AH104=\"\",\"\",IF(AH104=0,\"\",IF(LandUse!$N97=2,\"\",IF(AH104>=$E$5,AG104,\"\"))))","v":""},96,{"$f":"+CPPE!$A96","v":"Pond"},{"$f":"IF(AK$9=\"\",\"\",IF(AK104=0,0,HLOOKUP(AK$9,CPPE!$A$1:$DB$177,AJ104,FALSE)))","v":0},{"$f":"IF(AL104=\"\",\"\",IF(AL104=0,\"\",IF(LandUse!$N97=2,\"\",IF(AL104>=$E$5,AK104,\"\"))))","v":""},96,{"$f":"+CPPE!$A96","v":"Pond"},{"$f":"IF(AO$9=\"\",\"\",IF(AO104=0,0,HLOOKUP(AO$9,CPPE!$A$1:$DB$177,AN104,FALSE)))","v":""},{"$f":"IF(AP104=\"\",\"\",IF(AP104=0,\"\",IF(LandUse!$N97=2,\"\",IF(AP104>=$E$5,AO104,\"\"))))","v":""},96,{"$f":"+CPPE!$A96","v":"Pond"},{"$f":"IF(AS$9=\"\",\"\",IF(AS104=0,0,HLOOKUP(AS$9,CPPE!$A$1:$DB$177,AR104,FALSE)))","v":""},{"$f":"IF(AT104=\"\",\"\",IF(AT104=0,\"\",IF(LandUse!$N97=2,\"\",IF(AT104>=$E$5,AS104,\"\"))))","v":""},96,{"$f":"+CPPE!$A96","v":"Pond"},{"$f":"IF(AW$9=\"\",\"\",IF(AW104=0,0,HLOOKUP(AW$9,CPPE!$A$1:$DB$177,AV104,FALSE)))","v":""},{"$f":"IF(AX104=\"\",\"\",IF(AX104=0,\"\",IF(LandUse!$N97=2,\"\",IF(AX104>=$E$5,AW104,\"\"))))","v":""},96,{"$f":"+CPPE!$A96","v":"Pond"},{"$f":"IF(BA$9=\"\",\"\",IF(BA104=0,0,HLOOKUP(BA$9,CPPE!$A$1:$DB$177,AZ104,FALSE)))","v":""},{"$f":"IF(BB104=\"\",\"\",IF(BB104=0,\"\",IF(LandUse!$N97=2,\"\",IF(BB104>=$E$5,BA104,\"\"))))","v":""},96,{"$f":"+CPPE!$A96","v":"Pond"},{"$f":"IF(BE$9=\"\",\"\",IF(BE104=0,0,HLOOKUP(BE$9,CPPE!$A$1:$DB$177,BD104,FALSE)))","v":""},{"$f":"IF(BF104=\"\",\"\",IF(BF104=0,\"\",IF(LandUse!$N97=2,\"\",IF(BF104>=$E$5,BE104,\"\"))))","v":""},96,{"$f":"+CPPE!$A96","v":"Pond"},{"$f":"IF(BI$9=\"\",\"\",IF(BI104=0,0,HLOOKUP(BI$9,CPPE!$A$1:$DB$177,BH104,FALSE)))","v":""},{"$f":"IF(BJ104=\"\",\"\",IF(BJ104=0,\"\",IF(LandUse!$N97=2,\"\",IF(BJ104>=$E$5,BI104,\"\"))))","v":""},null,"","","","","","","","","",""]
[null,null,null,null,null,null,null,null,null,null,null,null,null,null,null,null,null,null,null,null,null,null,{"$f":"+CPPE!$A97","v":"Pond Sealing or Lining - Geomembrane or Geosynthetic Clay Liner    "},97,{"$f":"+CPPE!$A97","v":"Pond Sealing or Lining - Geomembrane or Geosynthetic Clay Liner    "},{"$f":"IF(Y$9=\"\",\"\",IF(Y105=0,0,HLOOKUP(Y$9,CPPE!$A$1:$DB$177,X105,FALSE)))","v":0},{"$f":"IF(Z105=\"\",\"\",IF(Z105=0,\"\",IF(LandUse!$N98=2,\"\",IF(Z105>=$E$5,Y105,\"\"))))","v":""},97,{"$f":"+CPPE!$A97","v":"Pond Sealing or Lining - Geomembrane or Geosynthetic Clay Liner    "},{"$f":"IF(AC$9=\"\",\"\",IF(AC105=0,0,HLOOKUP(AC$9,CPPE!$A$1:$DB$177,AB105,FALSE)))","v":0},{"$f":"IF(AD105=\"\",\"\",IF(AD105=0,\"\",IF(LandUse!$N98=2,\"\",IF(AD105>=$E$5,AC105,\"\"))))","v":""},97,{"$f":"+CPPE!$A97","v":"Pond Sealing or Lining - Geomembrane or Geosynthetic Clay Liner    "},{"$f":"IF(AG$9=\"\",\"\",IF(AG105=0,0,HLOOKUP(AG$9,CPPE!$A$1:$DB$177,AF105,FALSE)))","v":0},{"$f":"IF(AH105=\"\",\"\",IF(AH105=0,\"\",IF(LandUse!$N98=2,\"\",IF(AH105>=$E$5,AG105,\"\"))))","v":""},97,{"$f":"+CPPE!$A97","v":"Pond Sealing or Lining - Geomembrane or Geosynthetic Clay Liner    "},{"$f":"IF(AK$9=\"\",\"\",IF(AK105=0,0,HLOOKUP(AK$9,CPPE!$A$1:$DB$177,AJ105,FALSE)))","v":0},{"$f":"IF(AL105=\"\",\"\",IF(AL105=0,\"\",IF(LandUse!$N98=2,\"\",IF(AL105>=$E$5,AK105,\"\"))))","v":""},97,{"$f":"+CPPE!$A97","v":"Pond Sealing or Lining - Geomembrane or Geosynthetic Clay Liner    "},{"$f":"IF(AO$9=\"\",\"\",IF(AO105=0,0,HLOOKUP(AO$9,CPPE!$A$1:$DB$177,AN105,FALSE)))","v":""},{"$f":"IF(AP105=\"\",\"\",IF(AP105=0,\"\",IF(LandUse!$N98=2,\"\",IF(AP105>=$E$5,AO105,\"\"))))","v":""},97,{"$f":"+CPPE!$A97","v":"Pond Sealing or Lining - Geomembrane or Geosynthetic Clay Liner    "},{"$f":"IF(AS$9=\"\",\"\",IF(AS105=0,0,HLOOKUP(AS$9,CPPE!$A$1:$DB$177,AR105,FALSE)))","v":""},{"$f":"IF(AT105=\"\",\"\",IF(AT105=0,\"\",IF(LandUse!$N98=2,\"\",IF(AT105>=$E$5,AS105,\"\"))))","v":""},97,{"$f":"+CPPE!$A97","v":"Pond Sealing or Lining - Geomembrane or Geosynthetic Clay Liner    "},{"$f":"IF(AW$9=\"\",\"\",IF(AW105=0,0,HLOOKUP(AW$9,CPPE!$A$1:$DB$177,AV105,FALSE)))","v":""},{"$f":"IF(AX105=\"\",\"\",IF(AX105=0,\"\",IF(LandUse!$N98=2,\"\",IF(AX105>=$E$5,AW105,\"\"))))","v":""},97,{"$f":"+CPPE!$A97","v":"Pond Sealing or Lining - Geomembrane or Geosynthetic Clay Liner    "},{"$f":"IF(BA$9=\"\",\"\",IF(BA105=0,0,HLOOKUP(BA$9,CPPE!$A$1:$DB$177,AZ105,FALSE)))","v":""},{"$f":"IF(BB105=\"\",\"\",IF(BB105=0,\"\",IF(LandUse!$N98=2,\"\",IF(BB105>=$E$5,BA105,\"\"))))","v":""},97,{"$f":"+CPPE!$A97","v":"Pond Sealing or Lining - Geomembrane or Geosynthetic Clay Liner    "},{"$f":"IF(BE$9=\"\",\"\",IF(BE105=0,0,HLOOKUP(BE$9,CPPE!$A$1:$DB$177,BD105,FALSE)))","v":""},{"$f":"IF(BF105=\"\",\"\",IF(BF105=0,\"\",IF(LandUse!$N98=2,\"\",IF(BF105>=$E$5,BE105,\"\"))))","v":""},97,{"$f":"+CPPE!$A97","v":"Pond Sealing or Lining - Geomembrane or Geosynthetic Clay Liner    "},{"$f":"IF(BI$9=\"\",\"\",IF(BI105=0,0,HLOOKUP(BI$9,CPPE!$A$1:$DB$177,BH105,FALSE)))","v":""},{"$f":"IF(BJ105=\"\",\"\",IF(BJ105=0,\"\",IF(LandUse!$N98=2,\"\",IF(BJ105>=$E$5,BI105,\"\"))))","v":""},null,"","","","","","","","","",""]
[null,null,null,null,null,null,null,null,null,null,null,null,null,null,null,null,null,null,null,null,null,null,{"$f":"+CPPE!$A98","v":"Pond Sealing or Lining, Compacted Soil Treatment"},98,{"$f":"+CPPE!$A98","v":"Pond Sealing or Lining, Compacted Soil Treatment"},{"$f":"IF(Y$9=\"\",\"\",IF(Y106=0,0,HLOOKUP(Y$9,CPPE!$A$1:$DB$177,X106,FALSE)))","v":0},{"$f":"IF(Z106=\"\",\"\",IF(Z106=0,\"\",IF(LandUse!$N99=2,\"\",IF(Z106>=$E$5,Y106,\"\"))))","v":""},98,{"$f":"+CPPE!$A98","v":"Pond Sealing or Lining, Compacted Soil Treatment"},{"$f":"IF(AC$9=\"\",\"\",IF(AC106=0,0,HLOOKUP(AC$9,CPPE!$A$1:$DB$177,AB106,FALSE)))","v":0},{"$f":"IF(AD106=\"\",\"\",IF(AD106=0,\"\",IF(LandUse!$N99=2,\"\",IF(AD106>=$E$5,AC106,\"\"))))","v":""},98,{"$f":"+CPPE!$A98","v":"Pond Sealing or Lining, Compacted Soil Treatment"},{"$f":"IF(AG$9=\"\",\"\",IF(AG106=0,0,HLOOKUP(AG$9,CPPE!$A$1:$DB$177,AF106,FALSE)))","v":0},{"$f":"IF(AH106=\"\",\"\",IF(AH106=0,\"\",IF(LandUse!$N99=2,\"\",IF(AH106>=$E$5,AG106,\"\"))))","v":""},98,{"$f":"+CPPE!$A98","v":"Pond Sealing or Lining, Compacted Soil Treatment"},{"$f":"IF(AK$9=\"\",\"\",IF(AK106=0,0,HLOOKUP(AK$9,CPPE!$A$1:$DB$177,AJ106,FALSE)))","v":0},{"$f":"IF(AL106=\"\",\"\",IF(AL106=0,\"\",IF(LandUse!$N99=2,\"\",IF(AL106>=$E$5,AK106,\"\"))))","v":""},98,{"$f":"+CPPE!$A98","v":"Pond Sealing or Lining, Compacted Soil Treatment"},{"$f":"IF(AO$9=\"\",\"\",IF(AO106=0,0,HLOOKUP(AO$9,CPPE!$A$1:$DB$177,AN106,FALSE)))","v":""},{"$f":"IF(AP106=\"\",\"\",IF(AP106=0,\"\",IF(LandUse!$N99=2,\"\",IF(AP106>=$E$5,AO106,\"\"))))","v":""},98,{"$f":"+CPPE!$A98","v":"Pond Sealing or Lining, Compacted Soil Treatment"},{"$f":"IF(AS$9=\"\",\"\",IF(AS106=0,0,HLOOKUP(AS$9,CPPE!$A$1:$DB$177,AR106,FALSE)))","v":""},{"$f":"IF(AT106=\"\",\"\",IF(AT106=0,\"\",IF(LandUse!$N99=2,\"\",IF(AT106>=$E$5,AS106,\"\"))))","v":""},98,{"$f":"+CPPE!$A98","v":"Pond Sealing or Lining, Compacted Soil Treatment"},{"$f":"IF(AW$9=\"\",\"\",IF(AW106=0,0,HLOOKUP(AW$9,CPPE!$A$1:$DB$177,AV106,FALSE)))","v":""},{"$f":"IF(AX106=\"\",\"\",IF(AX106=0,\"\",IF(LandUse!$N99=2,\"\",IF(AX106>=$E$5,AW106,\"\"))))","v":""},98,{"$f":"+CPPE!$A98","v":"Pond Sealing or Lining, Compacted Soil Treatment"},{"$f":"IF(BA$9=\"\",\"\",IF(BA106=0,0,HLOOKUP(BA$9,CPPE!$A$1:$DB$177,AZ106,FALSE)))","v":""},{"$f":"IF(BB106=\"\",\"\",IF(BB106=0,\"\",IF(LandUse!$N99=2,\"\",IF(BB106>=$E$5,BA106,\"\"))))","v":""},98,{"$f":"+CPPE!$A98","v":"Pond Sealing or Lining, Compacted Soil Treatment"},{"$f":"IF(BE$9=\"\",\"\",IF(BE106=0,0,HLOOKUP(BE$9,CPPE!$A$1:$DB$177,BD106,FALSE)))","v":""},{"$f":"IF(BF106=\"\",\"\",IF(BF106=0,\"\",IF(LandUse!$N99=2,\"\",IF(BF106>=$E$5,BE106,\"\"))))","v":""},98,{"$f":"+CPPE!$A98","v":"Pond Sealing or Lining, Compacted Soil Treatment"},{"$f":"IF(BI$9=\"\",\"\",IF(BI106=0,0,HLOOKUP(BI$9,CPPE!$A$1:$DB$177,BH106,FALSE)))","v":""},{"$f":"IF(BJ106=\"\",\"\",IF(BJ106=0,\"\",IF(LandUse!$N99=2,\"\",IF(BJ106>=$E$5,BI106,\"\"))))","v":""},null,"","","","","","","","","",""]
[null,null,null,null,null,null,null,null,null,null,null,null,null,null,null,null,null,null,null,null,null,null,{"$f":"+CPPE!$A99","v":"Pond Sealing or Lining, Concrete"},99,{"$f":"+CPPE!$A99","v":"Pond Sealing or Lining, Concrete"},{"$f":"IF(Y$9=\"\",\"\",IF(Y107=0,0,HLOOKUP(Y$9,CPPE!$A$1:$DB$177,X107,FALSE)))","v":0},{"$f":"IF(Z107=\"\",\"\",IF(Z107=0,\"\",IF(LandUse!$N100=2,\"\",IF(Z107>=$E$5,Y107,\"\"))))","v":""},99,{"$f":"+CPPE!$A99","v":"Pond Sealing or Lining, Concrete"},{"$f":"IF(AC$9=\"\",\"\",IF(AC107=0,0,HLOOKUP(AC$9,CPPE!$A$1:$DB$177,AB107,FALSE)))","v":0},{"$f":"IF(AD107=\"\",\"\",IF(AD107=0,\"\",IF(LandUse!$N100=2,\"\",IF(AD107>=$E$5,AC107,\"\"))))","v":""},99,{"$f":"+CPPE!$A99","v":"Pond Sealing or Lining, Concrete"},{"$f":"IF(AG$9=\"\",\"\",IF(AG107=0,0,HLOOKUP(AG$9,CPPE!$A$1:$DB$177,AF107,FALSE)))","v":0},{"$f":"IF(AH107=\"\",\"\",IF(AH107=0,\"\",IF(LandUse!$N100=2,\"\",IF(AH107>=$E$5,AG107,\"\"))))","v":""},99,{"$f":"+CPPE!$A99","v":"Pond Sealing or Lining, Concrete"},{"$f":"IF(AK$9=\"\",\"\",IF(AK107=0,0,HLOOKUP(AK$9,CPPE!$A$1:$DB$177,AJ107,FALSE)))","v":0},{"$f":"IF(AL107=\"\",\"\",IF(AL107=0,\"\",IF(LandUse!$N100=2,\"\",IF(AL107>=$E$5,AK107,\"\"))))","v":""},99,{"$f":"+CPPE!$A99","v":"Pond Sealing or Lining, Concrete"},{"$f":"IF(AO$9=\"\",\"\",IF(AO107=0,0,HLOOKUP(AO$9,CPPE!$A$1:$DB$177,AN107,FALSE)))","v":""},{"$f":"IF(AP107=\"\",\"\",IF(AP107=0,\"\",IF(LandUse!$N100=2,\"\",IF(AP107>=$E$5,AO107,\"\"))))","v":""},99,{"$f":"+CPPE!$A99","v":"Pond Sealing or Lining, Concrete"},{"$f":"IF(AS$9=\"\",\"\",IF(AS107=0,0,HLOOKUP(AS$9,CPPE!$A$1:$DB$177,AR107,FALSE)))","v":""},{"$f":"IF(AT107=\"\",\"\",IF(AT107=0,\"\",IF(LandUse!$N100=2,\"\",IF(AT107>=$E$5,AS107,\"\"))))","v":""},99,{"$f":"+CPPE!$A99","v":"Pond Sealing or Lining, Concrete"},{"$f":"IF(AW$9=\"\",\"\",IF(AW107=0,0,HLOOKUP(AW$9,CPPE!$A$1:$DB$177,AV107,FALSE)))","v":""},{"$f":"IF(AX107=\"\",\"\",IF(AX107=0,\"\",IF(LandUse!$N100=2,\"\",IF(AX107>=$E$5,AW107,\"\"))))","v":""},99,{"$f":"+CPPE!$A99","v":"Pond Sealing or Lining, Concrete"},{"$f":"IF(BA$9=\"\",\"\",IF(BA107=0,0,HLOOKUP(BA$9,CPPE!$A$1:$DB$177,AZ107,FALSE)))","v":""},{"$f":"IF(BB107=\"\",\"\",IF(BB107=0,\"\",IF(LandUse!$N100=2,\"\",IF(BB107>=$E$5,BA107,\"\"))))","v":""},99,{"$f":"+CPPE!$A99","v":"Pond Sealing or Lining, Concrete"},{"$f":"IF(BE$9=\"\",\"\",IF(BE107=0,0,HLOOKUP(BE$9,CPPE!$A$1:$DB$177,BD107,FALSE)))","v":""},{"$f":"IF(BF107=\"\",\"\",IF(BF107=0,\"\",IF(LandUse!$N100=2,\"\",IF(BF107>=$E$5,BE107,\"\"))))","v":""},99,{"$f":"+CPPE!$A99","v":"Pond Sealing or Lining, Concrete"},{"$f":"IF(BI$9=\"\",\"\",IF(BI107=0,0,HLOOKUP(BI$9,CPPE!$A$1:$DB$177,BH107,FALSE)))","v":""},{"$f":"IF(BJ107=\"\",\"\",IF(BJ107=0,\"\",IF(LandUse!$N100=2,\"\",IF(BJ107>=$E$5,BI107,\"\"))))","v":""},null,"","","","","","","","","",""]
[null,null,null,null,null,null,null,null,null,null,null,null,null,null,null,null,null,null,null,null,null,null,{"$f":"+CPPE!$A100","v":"Precision Land Forming and Smoothing"},100,{"$f":"+CPPE!$A100","v":"Precision Land Forming and Smoothing"},{"$f":"IF(Y$9=\"\",\"\",IF(Y108=0,0,HLOOKUP(Y$9,CPPE!$A$1:$DB$177,X108,FALSE)))","v":0},{"$f":"IF(Z108=\"\",\"\",IF(Z108=0,\"\",IF(LandUse!$N101=2,\"\",IF(Z108>=$E$5,Y108,\"\"))))","v":""},100,{"$f":"+CPPE!$A100","v":"Precision Land Forming and Smoothing"},{"$f":"IF(AC$9=\"\",\"\",IF(AC108=0,0,HLOOKUP(AC$9,CPPE!$A$1:$DB$177,AB108,FALSE)))","v":-1},{"$f":"IF(AD108=\"\",\"\",IF(AD108=0,\"\",IF(LandUse!$N101=2,\"\",IF(AD108>=$E$5,AC108,\"\"))))","v":""},100,{"$f":"+CPPE!$A100","v":"Precision Land Forming and Smoothing"},{"$f":"IF(AG$9=\"\",\"\",IF(AG108=0,0,HLOOKUP(AG$9,CPPE!$A$1:$DB$177,AF108,FALSE)))","v":-2},{"$f":"IF(AH108=\"\",\"\",IF(AH108=0,\"\",IF(LandUse!$N101=2,\"\",IF(AH108>=$E$5,AG108,\"\"))))","v":""},100,{"$f":"+CPPE!$A100","v":"Precision Land Forming and Smoothing"},{"$f":"IF(AK$9=\"\",\"\",IF(AK108=0,0,HLOOKUP(AK$9,CPPE!$A$1:$DB$177,AJ108,FALSE)))","v":-3},{"$f":"IF(AL108=\"\",\"\",IF(AL108=0,\"\",IF(LandUse!$N101=2,\"\",IF(AL108>=$E$5,AK108,\"\"))))","v":""},100,{"$f":"+CPPE!$A100","v":"Precision Land Forming and Smoothing"},{"$f":"IF(AO$9=\"\",\"\",IF(AO108=0,0,HLOOKUP(AO$9,CPPE!$A$1:$DB$177,AN108,FALSE)))","v":""},{"$f":"IF(AP108=\"\",\"\",IF(AP108=0,\"\",IF(LandUse!$N101=2,\"\",IF(AP108>=$E$5,AO108,\"\"))))","v":""},100,{"$f":"+CPPE!$A100","v":"Precision Land Forming and Smoothing"},{"$f":"IF(AS$9=\"\",\"\",IF(AS108=0,0,HLOOKUP(AS$9,CPPE!$A$1:$DB$177,AR108,FALSE)))","v":""},{"$f":"IF(AT108=\"\",\"\",IF(AT108=0,\"\",IF(LandUse!$N101=2,\"\",IF(AT108>=$E$5,AS108,\"\"))))","v":""},100,{"$f":"+CPPE!$A100","v":"Precision Land Forming and Smoothing"},{"$f":"IF(AW$9=\"\",\"\",IF(AW108=0,0,HLOOKUP(AW$9,CPPE!$A$1:$DB$177,AV108,FALSE)))","v":""},{"$f":"IF(AX108=\"\",\"\",IF(AX108=0,\"\",IF(LandUse!$N101=2,\"\",IF(AX108>=$E$5,AW108,\"\"))))","v":""},100,{"$f":"+CPPE!$A100","v":"Precision Land Forming and Smoothing"},{"$f":"IF(BA$9=\"\",\"\",IF(BA108=0,0,HLOOKUP(BA$9,CPPE!$A$1:$DB$177,AZ108,FALSE)))","v":""},{"$f":"IF(BB108=\"\",\"\",IF(BB108=0,\"\",IF(LandUse!$N101=2,\"\",IF(BB108>=$E$5,BA108,\"\"))))","v":""},100,{"$f":"+CPPE!$A100","v":"Precision Land Forming and Smoothing"},{"$f":"IF(BE$9=\"\",\"\",IF(BE108=0,0,HLOOKUP(BE$9,CPPE!$A$1:$DB$177,BD108,FALSE)))","v":""},{"$f":"IF(BF108=\"\",\"\",IF(BF108=0,\"\",IF(LandUse!$N101=2,\"\",IF(BF108>=$E$5,BE108,\"\"))))","v":""},100,{"$f":"+CPPE!$A100","v":"Precision Land Forming and Smoothing"},{"$f":"IF(BI$9=\"\",\"\",IF(BI108=0,0,HLOOKUP(BI$9,CPPE!$A$1:$DB$177,BH108,FALSE)))","v":""},{"$f":"IF(BJ108=\"\",\"\",IF(BJ108=0,\"\",IF(LandUse!$N101=2,\"\",IF(BJ108>=$E$5,BI108,\"\"))))","v":""},null,"","","","","","","","","",""]
[null,null,null,null,null,null,null,null,null,null,null,null,null,null,null,null,null,null,null,null,null,null,{"$f":"+CPPE!$A101","v":"Prescribed Burning"},101,{"$f":"+CPPE!$A101","v":"Prescribed Burning"},{"$f":"IF(Y$9=\"\",\"\",IF(Y109=0,0,HLOOKUP(Y$9,CPPE!$A$1:$DB$177,X109,FALSE)))","v":2},{"$f":"IF(Z109=\"\",\"\",IF(Z109=0,\"\",IF(LandUse!$N102=2,\"\",IF(Z109>=$E$5,Y109,\"\"))))","v":""},101,{"$f":"+CPPE!$A101","v":"Prescribed Burning"},{"$f":"IF(AC$9=\"\",\"\",IF(AC109=0,0,HLOOKUP(AC$9,CPPE!$A$1:$DB$177,AB109,FALSE)))","v":0},{"$f":"IF(AD109=\"\",\"\",IF(AD109=0,\"\",IF(LandUse!$N102=2,\"\",IF(AD109>=$E$5,AC109,\"\"))))","v":""},101,{"$f":"+CPPE!$A101","v":"Prescribed Burning"},{"$f":"IF(AG$9=\"\",\"\",IF(AG109=0,0,HLOOKUP(AG$9,CPPE!$A$1:$DB$177,AF109,FALSE)))","v":1},{"$f":"IF(AH109=\"\",\"\",IF(AH109=0,\"\",IF(LandUse!$N102=2,\"\",IF(AH109>=$E$5,AG109,\"\"))))","v":""},101,{"$f":"+CPPE!$A101","v":"Prescribed Burning"},{"$f":"IF(AK$9=\"\",\"\",IF(AK109=0,0,HLOOKUP(AK$9,CPPE!$A$1:$DB$177,AJ109,FALSE)))","v":0},{"$f":"IF(AL109=\"\",\"\",IF(AL109=0,\"\",IF(LandUse!$N102=2,\"\",IF(AL109>=$E$5,AK109,\"\"))))","v":""},101,{"$f":"+CPPE!$A101","v":"Prescribed Burning"},{"$f":"IF(AO$9=\"\",\"\",IF(AO109=0,0,HLOOKUP(AO$9,CPPE!$A$1:$DB$177,AN109,FALSE)))","v":""},{"$f":"IF(AP109=\"\",\"\",IF(AP109=0,\"\",IF(LandUse!$N102=2,\"\",IF(AP109>=$E$5,AO109,\"\"))))","v":""},101,{"$f":"+CPPE!$A101","v":"Prescribed Burning"},{"$f":"IF(AS$9=\"\",\"\",IF(AS109=0,0,HLOOKUP(AS$9,CPPE!$A$1:$DB$177,AR109,FALSE)))","v":""},{"$f":"IF(AT109=\"\",\"\",IF(AT109=0,\"\",IF(LandUse!$N102=2,\"\",IF(AT109>=$E$5,AS109,\"\"))))","v":""},101,{"$f":"+CPPE!$A101","v":"Prescribed Burning"},{"$f":"IF(AW$9=\"\",\"\",IF(AW109=0,0,HLOOKUP(AW$9,CPPE!$A$1:$DB$177,AV109,FALSE)))","v":""},{"$f":"IF(AX109=\"\",\"\",IF(AX109=0,\"\",IF(LandUse!$N102=2,\"\",IF(AX109>=$E$5,AW109,\"\"))))","v":""},101,{"$f":"+CPPE!$A101","v":"Prescribed Burning"},{"$f":"IF(BA$9=\"\",\"\",IF(BA109=0,0,HLOOKUP(BA$9,CPPE!$A$1:$DB$177,AZ109,FALSE)))","v":""},{"$f":"IF(BB109=\"\",\"\",IF(BB109=0,\"\",IF(LandUse!$N102=2,\"\",IF(BB109>=$E$5,BA109,\"\"))))","v":""},101,{"$f":"+CPPE!$A101","v":"Prescribed Burning"},{"$f":"IF(BE$9=\"\",\"\",IF(BE109=0,0,HLOOKUP(BE$9,CPPE!$A$1:$DB$177,BD109,FALSE)))","v":""},{"$f":"IF(BF109=\"\",\"\",IF(BF109=0,\"\",IF(LandUse!$N102=2,\"\",IF(BF109>=$E$5,BE109,\"\"))))","v":""},101,{"$f":"+CPPE!$A101","v":"Prescribed Burning"},{"$f":"IF(BI$9=\"\",\"\",IF(BI109=0,0,HLOOKUP(BI$9,CPPE!$A$1:$DB$177,BH109,FALSE)))","v":""},{"$f":"IF(BJ109=\"\",\"\",IF(BJ109=0,\"\",IF(LandUse!$N102=2,\"\",IF(BJ109>=$E$5,BI109,\"\"))))","v":""},null,"","","","","","","","","",""]
[null,null,null,null,null,null,null,null,null,null,null,null,null,null,null,null,null,null,null,null,null,null,{"$f":"+CPPE!$A102","v":"Prescribed Grazing"},102,{"$f":"+CPPE!$A102","v":"Prescribed Grazing"},{"$f":"IF(Y$9=\"\",\"\",IF(Y110=0,0,HLOOKUP(Y$9,CPPE!$A$1:$DB$177,X110,FALSE)))","v":4},{"$f":"IF(Z110=\"\",\"\",IF(Z110=0,\"\",IF(LandUse!$N103=2,\"\",IF(Z110>=$E$5,Y110,\"\"))))","v":""},102,{"$f":"+CPPE!$A102","v":"Prescribed Grazing"},{"$f":"IF(AC$9=\"\",\"\",IF(AC110=0,0,HLOOKUP(AC$9,CPPE!$A$1:$DB$177,AB110,FALSE)))","v":2},{"$f":"IF(AD110=\"\",\"\",IF(AD110=0,\"\",IF(LandUse!$N103=2,\"\",IF(AD110>=$E$5,AC110,\"\"))))","v":""},102,{"$f":"+CPPE!$A102","v":"Prescribed Grazing"},{"$f":"IF(AG$9=\"\",\"\",IF(AG110=0,0,HLOOKUP(AG$9,CPPE!$A$1:$DB$177,AF110,FALSE)))","v":4},{"$f":"IF(AH110=\"\",\"\",IF(AH110=0,\"\",IF(LandUse!$N103=2,\"\",IF(AH110>=$E$5,AG110,\"\"))))","v":""},102,{"$f":"+CPPE!$A102","v":"Prescribed Grazing"},{"$f":"IF(AK$9=\"\",\"\",IF(AK110=0,0,HLOOKUP(AK$9,CPPE!$A$1:$DB$177,AJ110,FALSE)))","v":2},{"$f":"IF(AL110=\"\",\"\",IF(AL110=0,\"\",IF(LandUse!$N103=2,\"\",IF(AL110>=$E$5,AK110,\"\"))))","v":""},102,{"$f":"+CPPE!$A102","v":"Prescribed Grazing"},{"$f":"IF(AO$9=\"\",\"\",IF(AO110=0,0,HLOOKUP(AO$9,CPPE!$A$1:$DB$177,AN110,FALSE)))","v":""},{"$f":"IF(AP110=\"\",\"\",IF(AP110=0,\"\",IF(LandUse!$N103=2,\"\",IF(AP110>=$E$5,AO110,\"\"))))","v":""},102,{"$f":"+CPPE!$A102","v":"Prescribed Grazing"},{"$f":"IF(AS$9=\"\",\"\",IF(AS110=0,0,HLOOKUP(AS$9,CPPE!$A$1:$DB$177,AR110,FALSE)))","v":""},{"$f":"IF(AT110=\"\",\"\",IF(AT110=0,\"\",IF(LandUse!$N103=2,\"\",IF(AT110>=$E$5,AS110,\"\"))))","v":""},102,{"$f":"+CPPE!$A102","v":"Prescribed Grazing"},{"$f":"IF(AW$9=\"\",\"\",IF(AW110=0,0,HLOOKUP(AW$9,CPPE!$A$1:$DB$177,AV110,FALSE)))","v":""},{"$f":"IF(AX110=\"\",\"\",IF(AX110=0,\"\",IF(LandUse!$N103=2,\"\",IF(AX110>=$E$5,AW110,\"\"))))","v":""},102,{"$f":"+CPPE!$A102","v":"Prescribed Grazing"},{"$f":"IF(BA$9=\"\",\"\",IF(BA110=0,0,HLOOKUP(BA$9,CPPE!$A$1:$DB$177,AZ110,FALSE)))","v":""},{"$f":"IF(BB110=\"\",\"\",IF(BB110=0,\"\",IF(LandUse!$N103=2,\"\",IF(BB110>=$E$5,BA110,\"\"))))","v":""},102,{"$f":"+CPPE!$A102","v":"Prescribed Grazing"},{"$f":"IF(BE$9=\"\",\"\",IF(BE110=0,0,HLOOKUP(BE$9,CPPE!$A$1:$DB$177,BD110,FALSE)))","v":""},{"$f":"IF(BF110=\"\",\"\",IF(BF110=0,\"\",IF(LandUse!$N103=2,\"\",IF(BF110>=$E$5,BE110,\"\"))))","v":""},102,{"$f":"+CPPE!$A102","v":"Prescribed Grazing"},{"$f":"IF(BI$9=\"\",\"\",IF(BI110=0,0,HLOOKUP(BI$9,CPPE!$A$1:$DB$177,BH110,FALSE)))","v":""},{"$f":"IF(BJ110=\"\",\"\",IF(BJ110=0,\"\",IF(LandUse!$N103=2,\"\",IF(BJ110>=$E$5,BI110,\"\"))))","v":""},null,"","","","","","","","","",""]
[null,null,null,null,null,null,null,null,null,null,null,null,null,null,null,null,null,null,null,null,null,null,{"$f":"+CPPE!$A103","v":"Pumping Plant"},103,{"$f":"+CPPE!$A103","v":"Pumping Plant"},{"$f":"IF(Y$9=\"\",\"\",IF(Y111=0,0,HLOOKUP(Y$9,CPPE!$A$1:$DB$177,X111,FALSE)))","v":0},{"$f":"IF(Z111=\"\",\"\",IF(Z111=0,\"\",IF(LandUse!$N104=2,\"\",IF(Z111>=$E$5,Y111,\"\"))))","v":""},103,{"$f":"+CPPE!$A103","v":"Pumping Plant"},{"$f":"IF(AC$9=\"\",\"\",IF(AC111=0,0,HLOOKUP(AC$9,CPPE!$A$1:$DB$177,AB111,FALSE)))","v":0},{"$f":"IF(AD111=\"\",\"\",IF(AD111=0,\"\",IF(LandUse!$N104=2,\"\",IF(AD111>=$E$5,AC111,\"\"))))","v":""},103,{"$f":"+CPPE!$A103","v":"Pumping Plant"},{"$f":"IF(AG$9=\"\",\"\",IF(AG111=0,0,HLOOKUP(AG$9,CPPE!$A$1:$DB$177,AF111,FALSE)))","v":0},{"$f":"IF(AH111=\"\",\"\",IF(AH111=0,\"\",IF(LandUse!$N104=2,\"\",IF(AH111>=$E$5,AG111,\"\"))))","v":""},103,{"$f":"+CPPE!$A103","v":"Pumping Plant"},{"$f":"IF(AK$9=\"\",\"\",IF(AK111=0,0,HLOOKUP(AK$9,CPPE!$A$1:$DB$177,AJ111,FALSE)))","v":0},{"$f":"IF(AL111=\"\",\"\",IF(AL111=0,\"\",IF(LandUse!$N104=2,\"\",IF(AL111>=$E$5,AK111,\"\"))))","v":""},103,{"$f":"+CPPE!$A103","v":"Pumping Plant"},{"$f":"IF(AO$9=\"\",\"\",IF(AO111=0,0,HLOOKUP(AO$9,CPPE!$A$1:$DB$177,AN111,FALSE)))","v":""},{"$f":"IF(AP111=\"\",\"\",IF(AP111=0,\"\",IF(LandUse!$N104=2,\"\",IF(AP111>=$E$5,AO111,\"\"))))","v":""},103,{"$f":"+CPPE!$A103","v":"Pumping Plant"},{"$f":"IF(AS$9=\"\",\"\",IF(AS111=0,0,HLOOKUP(AS$9,CPPE!$A$1:$DB$177,AR111,FALSE)))","v":""},{"$f":"IF(AT111=\"\",\"\",IF(AT111=0,\"\",IF(LandUse!$N104=2,\"\",IF(AT111>=$E$5,AS111,\"\"))))","v":""},103,{"$f":"+CPPE!$A103","v":"Pumping Plant"},{"$f":"IF(AW$9=\"\",\"\",IF(AW111=0,0,HLOOKUP(AW$9,CPPE!$A$1:$DB$177,AV111,FALSE)))","v":""},{"$f":"IF(AX111=\"\",\"\",IF(AX111=0,\"\",IF(LandUse!$N104=2,\"\",IF(AX111>=$E$5,AW111,\"\"))))","v":""},103,{"$f":"+CPPE!$A103","v":"Pumping Plant"},{"$f":"IF(BA$9=\"\",\"\",IF(BA111=0,0,HLOOKUP(BA$9,CPPE!$A$1:$DB$177,AZ111,FALSE)))","v":""},{"$f":"IF(BB111=\"\",\"\",IF(BB111=0,\"\",IF(LandUse!$N104=2,\"\",IF(BB111>=$E$5,BA111,\"\"))))","v":""},103,{"$f":"+CPPE!$A103","v":"Pumping Plant"},{"$f":"IF(BE$9=\"\",\"\",IF(BE111=0,0,HLOOKUP(BE$9,CPPE!$A$1:$DB$177,BD111,FALSE)))","v":""},{"$f":"IF(BF111=\"\",\"\",IF(BF111=0,\"\",IF(LandUse!$N104=2,\"\",IF(BF111>=$E$5,BE111,\"\"))))","v":""},103,{"$f":"+CPPE!$A103","v":"Pumping Plant"},{"$f":"IF(BI$9=\"\",\"\",IF(BI111=0,0,HLOOKUP(BI$9,CPPE!$A$1:$DB$177,BH111,FALSE)))","v":""},{"$f":"IF(BJ111=\"\",\"\",IF(BJ111=0,\"\",IF(LandUse!$N104=2,\"\",IF(BJ111>=$E$5,BI111,\"\"))))","v":""},null,"","","","","","","","","",""]
[null,null,null,null,null,null,null,null,null,null,null,null,null,null,null,null,null,null,null,null,null,null,{"$f":"+CPPE!$A104","v":"Range Planting"},104,{"$f":"+CPPE!$A104","v":"Range Planting"},{"$f":"IF(Y$9=\"\",\"\",IF(Y112=0,0,HLOOKUP(Y$9,CPPE!$A$1:$DB$177,X112,FALSE)))","v":4},{"$f":"IF(Z112=\"\",\"\",IF(Z112=0,\"\",IF(LandUse!$N105=2,\"\",IF(Z112>=$E$5,Y112,\"\"))))","v":""},104,{"$f":"+CPPE!$A104","v":"Range Planting"},{"$f":"IF(AC$9=\"\",\"\",IF(AC112=0,0,HLOOKUP(AC$9,CPPE!$A$1:$DB$177,AB112,FALSE)))","v":4},{"$f":"IF(AD112=\"\",\"\",IF(AD112=0,\"\",IF(LandUse!$N105=2,\"\",IF(AD112>=$E$5,AC112,\"\"))))","v":""},104,{"$f":"+CPPE!$A104","v":"Range Planting"},{"$f":"IF(AG$9=\"\",\"\",IF(AG112=0,0,HLOOKUP(AG$9,CPPE!$A$1:$DB$177,AF112,FALSE)))","v":4},{"$f":"IF(AH112=\"\",\"\",IF(AH112=0,\"\",IF(LandUse!$N105=2,\"\",IF(AH112>=$E$5,AG112,\"\"))))","v":""},104,{"$f":"+CPPE!$A104","v":"Range Planting"},{"$f":"IF(AK$9=\"\",\"\",IF(AK112=0,0,HLOOKUP(AK$9,CPPE!$A$1:$DB$177,AJ112,FALSE)))","v":3},{"$f":"IF(AL112=\"\",\"\",IF(AL112=0,\"\",IF(LandUse!$N105=2,\"\",IF(AL112>=$E$5,AK112,\"\"))))","v":""},104,{"$f":"+CPPE!$A104","v":"Range Planting"},{"$f":"IF(AO$9=\"\",\"\",IF(AO112=0,0,HLOOKUP(AO$9,CPPE!$A$1:$DB$177,AN112,FALSE)))","v":""},{"$f":"IF(AP112=\"\",\"\",IF(AP112=0,\"\",IF(LandUse!$N105=2,\"\",IF(AP112>=$E$5,AO112,\"\"))))","v":""},104,{"$f":"+CPPE!$A104","v":"Range Planting"},{"$f":"IF(AS$9=\"\",\"\",IF(AS112=0,0,HLOOKUP(AS$9,CPPE!$A$1:$DB$177,AR112,FALSE)))","v":""},{"$f":"IF(AT112=\"\",\"\",IF(AT112=0,\"\",IF(LandUse!$N105=2,\"\",IF(AT112>=$E$5,AS112,\"\"))))","v":""},104,{"$f":"+CPPE!$A104","v":"Range Planting"},{"$f":"IF(AW$9=\"\",\"\",IF(AW112=0,0,HLOOKUP(AW$9,CPPE!$A$1:$DB$177,AV112,FALSE)))","v":""},{"$f":"IF(AX112=\"\",\"\",IF(AX112=0,\"\",IF(LandUse!$N105=2,\"\",IF(AX112>=$E$5,AW112,\"\"))))","v":""},104,{"$f":"+CPPE!$A104","v":"Range Planting"},{"$f":"IF(BA$9=\"\",\"\",IF(BA112=0,0,HLOOKUP(BA$9,CPPE!$A$1:$DB$177,AZ112,FALSE)))","v":""},{"$f":"IF(BB112=\"\",\"\",IF(BB112=0,\"\",IF(LandUse!$N105=2,\"\",IF(BB112>=$E$5,BA112,\"\"))))","v":""},104,{"$f":"+CPPE!$A104","v":"Range Planting"},{"$f":"IF(BE$9=\"\",\"\",IF(BE112=0,0,HLOOKUP(BE$9,CPPE!$A$1:$DB$177,BD112,FALSE)))","v":""},{"$f":"IF(BF112=\"\",\"\",IF(BF112=0,\"\",IF(LandUse!$N105=2,\"\",IF(BF112>=$E$5,BE112,\"\"))))","v":""},104,{"$f":"+CPPE!$A104","v":"Range Planting"},{"$f":"IF(BI$9=\"\",\"\",IF(BI112=0,0,HLOOKUP(BI$9,CPPE!$A$1:$DB$177,BH112,FALSE)))","v":""},{"$f":"IF(BJ112=\"\",\"\",IF(BJ112=0,\"\",IF(LandUse!$N105=2,\"\",IF(BJ112>=$E$5,BI112,\"\"))))","v":""},null,"","","","","","","","","",""]
[null,null,null,null,null,null,null,null,null,null,null,null,null,null,null,null,null,null,null,null,null,null,{"$f":"+CPPE!$A105","v":"Recreation Area Improvement"},105,{"$f":"+CPPE!$A105","v":"Recreation Area Improvement"},{"$f":"IF(Y$9=\"\",\"\",IF(Y113=0,0,HLOOKUP(Y$9,CPPE!$A$1:$DB$177,X113,FALSE)))","v":1},{"$f":"IF(Z113=\"\",\"\",IF(Z113=0,\"\",IF(LandUse!$N106=2,\"\",IF(Z113>=$E$5,Y113,\"\"))))","v":""},105,{"$f":"+CPPE!$A105","v":"Recreation Area Improvement"},{"$f":"IF(AC$9=\"\",\"\",IF(AC113=0,0,HLOOKUP(AC$9,CPPE!$A$1:$DB$177,AB113,FALSE)))","v":1},{"$f":"IF(AD113=\"\",\"\",IF(AD113=0,\"\",IF(LandUse!$N106=2,\"\",IF(AD113>=$E$5,AC113,\"\"))))","v":""},105,{"$f":"+CPPE!$A105","v":"Recreation Area Improvement"},{"$f":"IF(AG$9=\"\",\"\",IF(AG113=0,0,HLOOKUP(AG$9,CPPE!$A$1:$DB$177,AF113,FALSE)))","v":1},{"$f":"IF(AH113=\"\",\"\",IF(AH113=0,\"\",IF(LandUse!$N106=2,\"\",IF(AH113>=$E$5,AG113,\"\"))))","v":""},105,{"$f":"+CPPE!$A105","v":"Recreation Area Improvement"},{"$f":"IF(AK$9=\"\",\"\",IF(AK113=0,0,HLOOKUP(AK$9,CPPE!$A$1:$DB$177,AJ113,FALSE)))","v":1},{"$f":"IF(AL113=\"\",\"\",IF(AL113=0,\"\",IF(LandUse!$N106=2,\"\",IF(AL113>=$E$5,AK113,\"\"))))","v":""},105,{"$f":"+CPPE!$A105","v":"Recreation Area Improvement"},{"$f":"IF(AO$9=\"\",\"\",IF(AO113=0,0,HLOOKUP(AO$9,CPPE!$A$1:$DB$177,AN113,FALSE)))","v":""},{"$f":"IF(AP113=\"\",\"\",IF(AP113=0,\"\",IF(LandUse!$N106=2,\"\",IF(AP113>=$E$5,AO113,\"\"))))","v":""},105,{"$f":"+CPPE!$A105","v":"Recreation Area Improvement"},{"$f":"IF(AS$9=\"\",\"\",IF(AS113=0,0,HLOOKUP(AS$9,CPPE!$A$1:$DB$177,AR113,FALSE)))","v":""},{"$f":"IF(AT113=\"\",\"\",IF(AT113=0,\"\",IF(LandUse!$N106=2,\"\",IF(AT113>=$E$5,AS113,\"\"))))","v":""},105,{"$f":"+CPPE!$A105","v":"Recreation Area Improvement"},{"$f":"IF(AW$9=\"\",\"\",IF(AW113=0,0,HLOOKUP(AW$9,CPPE!$A$1:$DB$177,AV113,FALSE)))","v":""},{"$f":"IF(AX113=\"\",\"\",IF(AX113=0,\"\",IF(LandUse!$N106=2,\"\",IF(AX113>=$E$5,AW113,\"\"))))","v":""},105,{"$f":"+CPPE!$A105","v":"Recreation Area Improvement"},{"$f":"IF(BA$9=\"\",\"\",IF(BA113=0,0,HLOOKUP(BA$9,CPPE!$A$1:$DB$177,AZ113,FALSE)))","v":""},{"$f":"IF(BB113=\"\",\"\",IF(BB113=0,\"\",IF(LandUse!$N106=2,\"\",IF(BB113>=$E$5,BA113,\"\"))))","v":""},105,{"$f":"+CPPE!$A105","v":"Recreation Area Improvement"},{"$f":"IF(BE$9=\"\",\"\",IF(BE113=0,0,HLOOKUP(BE$9,CPPE!$A$1:$DB$177,BD113,FALSE)))","v":""},{"$f":"IF(BF113=\"\",\"\",IF(BF113=0,\"\",IF(LandUse!$N106=2,\"\",IF(BF113>=$E$5,BE113,\"\"))))","v":""},105,{"$f":"+CPPE!$A105","v":"Recreation Area Improvement"},{"$f":"IF(BI$9=\"\",\"\",IF(BI113=0,0,HLOOKUP(BI$9,CPPE!$A$1:$DB$177,BH113,FALSE)))","v":""},{"$f":"IF(BJ113=\"\",\"\",IF(BJ113=0,\"\",IF(LandUse!$N106=2,\"\",IF(BJ113>=$E$5,BI113,\"\"))))","v":""},null,"","","","","","","","","",""]
[null,null,null,null,null,null,null,null,null,null,null,null,null,null,null,null,null,null,null,null,null,null,{"$f":"+CPPE!$A106","v":"Recreation Land Improvement and Protection"},106,{"$f":"+CPPE!$A106","v":"Recreation Land Improvement and Protection"},{"$f":"IF(Y$9=\"\",\"\",IF(Y114=0,0,HLOOKUP(Y$9,CPPE!$A$1:$DB$177,X114,FALSE)))","v":0},{"$f":"IF(Z114=\"\",\"\",IF(Z114=0,\"\",IF(LandUse!$N107=2,\"\",IF(Z114>=$E$5,Y114,\"\"))))","v":""},106,{"$f":"+CPPE!$A106","v":"Recreation Land Improvement and Protection"},{"$f":"IF(AC$9=\"\",\"\",IF(AC114=0,0,HLOOKUP(AC$9,CPPE!$A$1:$DB$177,AB114,FALSE)))","v":0},{"$f":"IF(AD114=\"\",\"\",IF(AD114=0,\"\",IF(LandUse!$N107=2,\"\",IF(AD114>=$E$5,AC114,\"\"))))","v":""},106,{"$f":"+CPPE!$A106","v":"Recreation Land Improvement and Protection"},{"$f":"IF(AG$9=\"\",\"\",IF(AG114=0,0,HLOOKUP(AG$9,CPPE!$A$1:$DB$177,AF114,FALSE)))","v":1},{"$f":"IF(AH114=\"\",\"\",IF(AH114=0,\"\",IF(LandUse!$N107=2,\"\",IF(AH114>=$E$5,AG114,\"\"))))","v":""},106,{"$f":"+CPPE!$A106","v":"Recreation Land Improvement and Protection"},{"$f":"IF(AK$9=\"\",\"\",IF(AK114=0,0,HLOOKUP(AK$9,CPPE!$A$1:$DB$177,AJ114,FALSE)))","v":-3},{"$f":"IF(AL114=\"\",\"\",IF(AL114=0,\"\",IF(LandUse!$N107=2,\"\",IF(AL114>=$E$5,AK114,\"\"))))","v":""},106,{"$f":"+CPPE!$A106","v":"Recreation Land Improvement and Protection"},{"$f":"IF(AO$9=\"\",\"\",IF(AO114=0,0,HLOOKUP(AO$9,CPPE!$A$1:$DB$177,AN114,FALSE)))","v":""},{"$f":"IF(AP114=\"\",\"\",IF(AP114=0,\"\",IF(LandUse!$N107=2,\"\",IF(AP114>=$E$5,AO114,\"\"))))","v":""},106,{"$f":"+CPPE!$A106","v":"Recreation Land Improvement and Protection"},{"$f":"IF(AS$9=\"\",\"\",IF(AS114=0,0,HLOOKUP(AS$9,CPPE!$A$1:$DB$177,AR114,FALSE)))","v":""},{"$f":"IF(AT114=\"\",\"\",IF(AT114=0,\"\",IF(LandUse!$N107=2,\"\",IF(AT114>=$E$5,AS114,\"\"))))","v":""},106,{"$f":"+CPPE!$A106","v":"Recreation Land Improvement and Protection"},{"$f":"IF(AW$9=\"\",\"\",IF(AW114=0,0,HLOOKUP(AW$9,CPPE!$A$1:$DB$177,AV114,FALSE)))","v":""},{"$f":"IF(AX114=\"\",\"\",IF(AX114=0,\"\",IF(LandUse!$N107=2,\"\",IF(AX114>=$E$5,AW114,\"\"))))","v":""},106,{"$f":"+CPPE!$A106","v":"Recreation Land Improvement and Protection"},{"$f":"IF(BA$9=\"\",\"\",IF(BA114=0,0,HLOOKUP(BA$9,CPPE!$A$1:$DB$177,AZ114,FALSE)))","v":""},{"$f":"IF(BB114=\"\",\"\",IF(BB114=0,\"\",IF(LandUse!$N107=2,\"\",IF(BB114>=$E$5,BA114,\"\"))))","v":""},106,{"$f":"+CPPE!$A106","v":"Recreation Land Improvement and Protection"},{"$f":"IF(BE$9=\"\",\"\",IF(BE114=0,0,HLOOKUP(BE$9,CPPE!$A$1:$DB$177,BD114,FALSE)))","v":""},{"$f":"IF(BF114=\"\",\"\",IF(BF114=0,\"\",IF(LandUse!$N107=2,\"\",IF(BF114>=$E$5,BE114,\"\"))))","v":""},106,{"$f":"+CPPE!$A106","v":"Recreation Land Improvement and Protection"},{"$f":"IF(BI$9=\"\",\"\",IF(BI114=0,0,HLOOKUP(BI$9,CPPE!$A$1:$DB$177,BH114,FALSE)))","v":""},{"$f":"IF(BJ114=\"\",\"\",IF(BJ114=0,\"\",IF(LandUse!$N107=2,\"\",IF(BJ114>=$E$5,BI114,\"\"))))","v":""},null,"","","","","","","","","",""]
[null,null,null,null,null,null,null,null,null,null,null,null,null,null,null,null,null,null,null,null,null,null,{"$f":"+CPPE!$A107","v":"Residue and Tillage Management, No Till"},107,{"$f":"+CPPE!$A107","v":"Residue and Tillage Management, No Till"},{"$f":"IF(Y$9=\"\",\"\",IF(Y115=0,0,HLOOKUP(Y$9,CPPE!$A$1:$DB$177,X115,FALSE)))","v":5},{"$f":"IF(Z115=\"\",\"\",IF(Z115=0,\"\",IF(LandUse!$N108=2,\"\",IF(Z115>=$E$5,Y115,\"\"))))","v":""},107,{"$f":"+CPPE!$A107","v":"Residue and Tillage Management, No Till"},{"$f":"IF(AC$9=\"\",\"\",IF(AC115=0,0,HLOOKUP(AC$9,CPPE!$A$1:$DB$177,AB115,FALSE)))","v":2},{"$f":"IF(AD115=\"\",\"\",IF(AD115=0,\"\",IF(LandUse!$N108=2,\"\",IF(AD115>=$E$5,AC115,\"\"))))","v":""},107,{"$f":"+CPPE!$A107","v":"Residue and Tillage Management, No Till"},{"$f":"IF(AG$9=\"\",\"\",IF(AG115=0,0,HLOOKUP(AG$9,CPPE!$A$1:$DB$177,AF115,FALSE)))","v":3},{"$f":"IF(AH115=\"\",\"\",IF(AH115=0,\"\",IF(LandUse!$N108=2,\"\",IF(AH115>=$E$5,AG115,\"\"))))","v":""},107,{"$f":"+CPPE!$A107","v":"Residue and Tillage Management, No Till"},{"$f":"IF(AK$9=\"\",\"\",IF(AK115=0,0,HLOOKUP(AK$9,CPPE!$A$1:$DB$177,AJ115,FALSE)))","v":4},{"$f":"IF(AL115=\"\",\"\",IF(AL115=0,\"\",IF(LandUse!$N108=2,\"\",IF(AL115>=$E$5,AK115,\"\"))))","v":""},107,{"$f":"+CPPE!$A107","v":"Residue and Tillage Management, No Till"},{"$f":"IF(AO$9=\"\",\"\",IF(AO115=0,0,HLOOKUP(AO$9,CPPE!$A$1:$DB$177,AN115,FALSE)))","v":""},{"$f":"IF(AP115=\"\",\"\",IF(AP115=0,\"\",IF(LandUse!$N108=2,\"\",IF(AP115>=$E$5,AO115,\"\"))))","v":""},107,{"$f":"+CPPE!$A107","v":"Residue and Tillage Management, No Till"},{"$f":"IF(AS$9=\"\",\"\",IF(AS115=0,0,HLOOKUP(AS$9,CPPE!$A$1:$DB$177,AR115,FALSE)))","v":""},{"$f":"IF(AT115=\"\",\"\",IF(AT115=0,\"\",IF(LandUse!$N108=2,\"\",IF(AT115>=$E$5,AS115,\"\"))))","v":""},107,{"$f":"+CPPE!$A107","v":"Residue and Tillage Management, No Till"},{"$f":"IF(AW$9=\"\",\"\",IF(AW115=0,0,HLOOKUP(AW$9,CPPE!$A$1:$DB$177,AV115,FALSE)))","v":""},{"$f":"IF(AX115=\"\",\"\",IF(AX115=0,\"\",IF(LandUse!$N108=2,\"\",IF(AX115>=$E$5,AW115,\"\"))))","v":""},107,{"$f":"+CPPE!$A107","v":"Residue and Tillage Management, No Till"},{"$f":"IF(BA$9=\"\",\"\",IF(BA115=0,0,HLOOKUP(BA$9,CPPE!$A$1:$DB$177,AZ115,FALSE)))","v":""},{"$f":"IF(BB115=\"\",\"\",IF(BB115=0,\"\",IF(LandUse!$N108=2,\"\",IF(BB115>=$E$5,BA115,\"\"))))","v":""},107,{"$f":"+CPPE!$A107","v":"Residue and Tillage Management, No Till"},{"$f":"IF(BE$9=\"\",\"\",IF(BE115=0,0,HLOOKUP(BE$9,CPPE!$A$1:$DB$177,BD115,FALSE)))","v":""},{"$f":"IF(BF115=\"\",\"\",IF(BF115=0,\"\",IF(LandUse!$N108=2,\"\",IF(BF115>=$E$5,BE115,\"\"))))","v":""},107,{"$f":"+CPPE!$A107","v":"Residue and Tillage Management, No Till"},{"$f":"IF(BI$9=\"\",\"\",IF(BI115=0,0,HLOOKUP(BI$9,CPPE!$A$1:$DB$177,BH115,FALSE)))","v":""},{"$f":"IF(BJ115=\"\",\"\",IF(BJ115=0,\"\",IF(LandUse!$N108=2,\"\",IF(BJ115>=$E$5,BI115,\"\"))))","v":""},null,"","","","","","","","","",""]
[null,null,null,null,null,null,null,null,null,null,null,null,null,null,null,null,null,null,null,null,null,null,{"$f":"+CPPE!$A108","v":"Residue and Tillage Management, Reduced Till"},108,{"$f":"+CPPE!$A108","v":"Residue and Tillage Management, Reduced Till"},{"$f":"IF(Y$9=\"\",\"\",IF(Y116=0,0,HLOOKUP(Y$9,CPPE!$A$1:$DB$177,X116,FALSE)))","v":4},{"$f":"IF(Z116=\"\",\"\",IF(Z116=0,\"\",IF(LandUse!$N109=2,\"\",IF(Z116>=$E$5,Y116,\"\"))))","v":""},108,{"$f":"+CPPE!$A108","v":"Residue and Tillage Management, Reduced Till"},{"$f":"IF(AC$9=\"\",\"\",IF(AC116=0,0,HLOOKUP(AC$9,CPPE!$A$1:$DB$177,AB116,FALSE)))","v":2},{"$f":"IF(AD116=\"\",\"\",IF(AD116=0,\"\",IF(LandUse!$N109=2,\"\",IF(AD116>=$E$5,AC116,\"\"))))","v":""},108,{"$f":"+CPPE!$A108","v":"Residue and Tillage Management, Reduced Till"},{"$f":"IF(AG$9=\"\",\"\",IF(AG116=0,0,HLOOKUP(AG$9,CPPE!$A$1:$DB$177,AF116,FALSE)))","v":2},{"$f":"IF(AH116=\"\",\"\",IF(AH116=0,\"\",IF(LandUse!$N109=2,\"\",IF(AH116>=$E$5,AG116,\"\"))))","v":""},108,{"$f":"+CPPE!$A108","v":"Residue and Tillage Management, Reduced Till"},{"$f":"IF(AK$9=\"\",\"\",IF(AK116=0,0,HLOOKUP(AK$9,CPPE!$A$1:$DB$177,AJ116,FALSE)))","v":2},{"$f":"IF(AL116=\"\",\"\",IF(AL116=0,\"\",IF(LandUse!$N109=2,\"\",IF(AL116>=$E$5,AK116,\"\"))))","v":""},108,{"$f":"+CPPE!$A108","v":"Residue and Tillage Management, Reduced Till"},{"$f":"IF(AO$9=\"\",\"\",IF(AO116=0,0,HLOOKUP(AO$9,CPPE!$A$1:$DB$177,AN116,FALSE)))","v":""},{"$f":"IF(AP116=\"\",\"\",IF(AP116=0,\"\",IF(LandUse!$N109=2,\"\",IF(AP116>=$E$5,AO116,\"\"))))","v":""},108,{"$f":"+CPPE!$A108","v":"Residue and Tillage Management, Reduced Till"},{"$f":"IF(AS$9=\"\",\"\",IF(AS116=0,0,HLOOKUP(AS$9,CPPE!$A$1:$DB$177,AR116,FALSE)))","v":""},{"$f":"IF(AT116=\"\",\"\",IF(AT116=0,\"\",IF(LandUse!$N109=2,\"\",IF(AT116>=$E$5,AS116,\"\"))))","v":""},108,{"$f":"+CPPE!$A108","v":"Residue and Tillage Management, Reduced Till"},{"$f":"IF(AW$9=\"\",\"\",IF(AW116=0,0,HLOOKUP(AW$9,CPPE!$A$1:$DB$177,AV116,FALSE)))","v":""},{"$f":"IF(AX116=\"\",\"\",IF(AX116=0,\"\",IF(LandUse!$N109=2,\"\",IF(AX116>=$E$5,AW116,\"\"))))","v":""},108,{"$f":"+CPPE!$A108","v":"Residue and Tillage Management, Reduced Till"},{"$f":"IF(BA$9=\"\",\"\",IF(BA116=0,0,HLOOKUP(BA$9,CPPE!$A$1:$DB$177,AZ116,FALSE)))","v":""},{"$f":"IF(BB116=\"\",\"\",IF(BB116=0,\"\",IF(LandUse!$N109=2,\"\",IF(BB116>=$E$5,BA116,\"\"))))","v":""},108,{"$f":"+CPPE!$A108","v":"Residue and Tillage Management, Reduced Till"},{"$f":"IF(BE$9=\"\",\"\",IF(BE116=0,0,HLOOKUP(BE$9,CPPE!$A$1:$DB$177,BD116,FALSE)))","v":""},{"$f":"IF(BF116=\"\",\"\",IF(BF116=0,\"\",IF(LandUse!$N109=2,\"\",IF(BF116>=$E$5,BE116,\"\"))))","v":""},108,{"$f":"+CPPE!$A108","v":"Residue and Tillage Management, Reduced Till"},{"$f":"IF(BI$9=\"\",\"\",IF(BI116=0,0,HLOOKUP(BI$9,CPPE!$A$1:$DB$177,BH116,FALSE)))","v":""},{"$f":"IF(BJ116=\"\",\"\",IF(BJ116=0,\"\",IF(LandUse!$N109=2,\"\",IF(BJ116>=$E$5,BI116,\"\"))))","v":""},null,"","","","","","","","","",""]
[null,null,null,null,null,null,null,null,null,null,null,null,null,null,null,null,null,null,null,null,null,null,{"$f":"+CPPE!$A109","v":"Restoration and Management of Rare or Declining Habitats"},109,{"$f":"+CPPE!$A109","v":"Restoration and Management of Rare or Declining Habitats"},{"$f":"IF(Y$9=\"\",\"\",IF(Y117=0,0,HLOOKUP(Y$9,CPPE!$A$1:$DB$177,X117,FALSE)))","v":2},{"$f":"IF(Z117=\"\",\"\",IF(Z117=0,\"\",IF(LandUse!$N110=2,\"\",IF(Z117>=$E$5,Y117,\"\"))))","v":""},109,{"$f":"+CPPE!$A109","v":"Restoration and Management of Rare or Declining Habitats"},{"$f":"IF(AC$9=\"\",\"\",IF(AC117=0,0,HLOOKUP(AC$9,CPPE!$A$1:$DB$177,AB117,FALSE)))","v":0},{"$f":"IF(AD117=\"\",\"\",IF(AD117=0,\"\",IF(LandUse!$N110=2,\"\",IF(AD117>=$E$5,AC117,\"\"))))","v":""},109,{"$f":"+CPPE!$A109","v":"Restoration and Management of Rare or Declining Habitats"},{"$f":"IF(AG$9=\"\",\"\",IF(AG117=0,0,HLOOKUP(AG$9,CPPE!$A$1:$DB$177,AF117,FALSE)))","v":0},{"$f":"IF(AH117=\"\",\"\",IF(AH117=0,\"\",IF(LandUse!$N110=2,\"\",IF(AH117>=$E$5,AG117,\"\"))))","v":""},109,{"$f":"+CPPE!$A109","v":"Restoration and Management of Rare or Declining Habitats"},{"$f":"IF(AK$9=\"\",\"\",IF(AK117=0,0,HLOOKUP(AK$9,CPPE!$A$1:$DB$177,AJ117,FALSE)))","v":0},{"$f":"IF(AL117=\"\",\"\",IF(AL117=0,\"\",IF(LandUse!$N110=2,\"\",IF(AL117>=$E$5,AK117,\"\"))))","v":""},109,{"$f":"+CPPE!$A109","v":"Restoration and Management of Rare or Declining Habitats"},{"$f":"IF(AO$9=\"\",\"\",IF(AO117=0,0,HLOOKUP(AO$9,CPPE!$A$1:$DB$177,AN117,FALSE)))","v":""},{"$f":"IF(AP117=\"\",\"\",IF(AP117=0,\"\",IF(LandUse!$N110=2,\"\",IF(AP117>=$E$5,AO117,\"\"))))","v":""},109,{"$f":"+CPPE!$A109","v":"Restoration and Management of Rare or Declining Habitats"},{"$f":"IF(AS$9=\"\",\"\",IF(AS117=0,0,HLOOKUP(AS$9,CPPE!$A$1:$DB$177,AR117,FALSE)))","v":""},{"$f":"IF(AT117=\"\",\"\",IF(AT117=0,\"\",IF(LandUse!$N110=2,\"\",IF(AT117>=$E$5,AS117,\"\"))))","v":""},109,{"$f":"+CPPE!$A109","v":"Restoration and Management of Rare or Declining Habitats"},{"$f":"IF(AW$9=\"\",\"\",IF(AW117=0,0,HLOOKUP(AW$9,CPPE!$A$1:$DB$177,AV117,FALSE)))","v":""},{"$f":"IF(AX117=\"\",\"\",IF(AX117=0,\"\",IF(LandUse!$N110=2,\"\",IF(AX117>=$E$5,AW117,\"\"))))","v":""},109,{"$f":"+CPPE!$A109","v":"Restoration and Management of Rare or Declining Habitats"},{"$f":"IF(BA$9=\"\",\"\",IF(BA117=0,0,HLOOKUP(BA$9,CPPE!$A$1:$DB$177,AZ117,FALSE)))","v":""},{"$f":"IF(BB117=\"\",\"\",IF(BB117=0,\"\",IF(LandUse!$N110=2,\"\",IF(BB117>=$E$5,BA117,\"\"))))","v":""},109,{"$f":"+CPPE!$A109","v":"Restoration and Management of Rare or Declining Habitats"},{"$f":"IF(BE$9=\"\",\"\",IF(BE117=0,0,HLOOKUP(BE$9,CPPE!$A$1:$DB$177,BD117,FALSE)))","v":""},{"$f":"IF(BF117=\"\",\"\",IF(BF117=0,\"\",IF(LandUse!$N110=2,\"\",IF(BF117>=$E$5,BE117,\"\"))))","v":""},109,{"$f":"+CPPE!$A109","v":"Restoration and Management of Rare or Declining Habitats"},{"$f":"IF(BI$9=\"\",\"\",IF(BI117=0,0,HLOOKUP(BI$9,CPPE!$A$1:$DB$177,BH117,FALSE)))","v":""},{"$f":"IF(BJ117=\"\",\"\",IF(BJ117=0,\"\",IF(LandUse!$N110=2,\"\",IF(BJ117>=$E$5,BI117,\"\"))))","v":""},null,"","","","","","","","","",""]
[null,null,null,null,null,null,null,null,null,null,null,null,null,null,null,null,null,null,null,null,null,null,{"$f":"+CPPE!$A110","v":"Riparian Forest Buffer"},110,{"$f":"+CPPE!$A110","v":"Riparian Forest Buffer"},{"$f":"IF(Y$9=\"\",\"\",IF(Y118=0,0,HLOOKUP(Y$9,CPPE!$A$1:$DB$177,X118,FALSE)))","v":3},{"$f":"IF(Z118=\"\",\"\",IF(Z118=0,\"\",IF(LandUse!$N111=2,\"\",IF(Z118>=$E$5,Y118,\"\"))))","v":""},110,{"$f":"+CPPE!$A110","v":"Riparian Forest Buffer"},{"$f":"IF(AC$9=\"\",\"\",IF(AC118=0,0,HLOOKUP(AC$9,CPPE!$A$1:$DB$177,AB118,FALSE)))","v":2},{"$f":"IF(AD118=\"\",\"\",IF(AD118=0,\"\",IF(LandUse!$N111=2,\"\",IF(AD118>=$E$5,AC118,\"\"))))","v":""},110,{"$f":"+CPPE!$A110","v":"Riparian Forest Buffer"},{"$f":"IF(AG$9=\"\",\"\",IF(AG118=0,0,HLOOKUP(AG$9,CPPE!$A$1:$DB$177,AF118,FALSE)))","v":4},{"$f":"IF(AH118=\"\",\"\",IF(AH118=0,\"\",IF(LandUse!$N111=2,\"\",IF(AH118>=$E$5,AG118,\"\"))))","v":""},110,{"$f":"+CPPE!$A110","v":"Riparian Forest Buffer"},{"$f":"IF(AK$9=\"\",\"\",IF(AK118=0,0,HLOOKUP(AK$9,CPPE!$A$1:$DB$177,AJ118,FALSE)))","v":4},{"$f":"IF(AL118=\"\",\"\",IF(AL118=0,\"\",IF(LandUse!$N111=2,\"\",IF(AL118>=$E$5,AK118,\"\"))))","v":""},110,{"$f":"+CPPE!$A110","v":"Riparian Forest Buffer"},{"$f":"IF(AO$9=\"\",\"\",IF(AO118=0,0,HLOOKUP(AO$9,CPPE!$A$1:$DB$177,AN118,FALSE)))","v":""},{"$f":"IF(AP118=\"\",\"\",IF(AP118=0,\"\",IF(LandUse!$N111=2,\"\",IF(AP118>=$E$5,AO118,\"\"))))","v":""},110,{"$f":"+CPPE!$A110","v":"Riparian Forest Buffer"},{"$f":"IF(AS$9=\"\",\"\",IF(AS118=0,0,HLOOKUP(AS$9,CPPE!$A$1:$DB$177,AR118,FALSE)))","v":""},{"$f":"IF(AT118=\"\",\"\",IF(AT118=0,\"\",IF(LandUse!$N111=2,\"\",IF(AT118>=$E$5,AS118,\"\"))))","v":""},110,{"$f":"+CPPE!$A110","v":"Riparian Forest Buffer"},{"$f":"IF(AW$9=\"\",\"\",IF(AW118=0,0,HLOOKUP(AW$9,CPPE!$A$1:$DB$177,AV118,FALSE)))","v":""},{"$f":"IF(AX118=\"\",\"\",IF(AX118=0,\"\",IF(LandUse!$N111=2,\"\",IF(AX118>=$E$5,AW118,\"\"))))","v":""},110,{"$f":"+CPPE!$A110","v":"Riparian Forest Buffer"},{"$f":"IF(BA$9=\"\",\"\",IF(BA118=0,0,HLOOKUP(BA$9,CPPE!$A$1:$DB$177,AZ118,FALSE)))","v":""},{"$f":"IF(BB118=\"\",\"\",IF(BB118=0,\"\",IF(LandUse!$N111=2,\"\",IF(BB118>=$E$5,BA118,\"\"))))","v":""},110,{"$f":"+CPPE!$A110","v":"Riparian Forest Buffer"},{"$f":"IF(BE$9=\"\",\"\",IF(BE118=0,0,HLOOKUP(BE$9,CPPE!$A$1:$DB$177,BD118,FALSE)))","v":""},{"$f":"IF(BF118=\"\",\"\",IF(BF118=0,\"\",IF(LandUse!$N111=2,\"\",IF(BF118>=$E$5,BE118,\"\"))))","v":""},110,{"$f":"+CPPE!$A110","v":"Riparian Forest Buffer"},{"$f":"IF(BI$9=\"\",\"\",IF(BI118=0,0,HLOOKUP(BI$9,CPPE!$A$1:$DB$177,BH118,FALSE)))","v":""},{"$f":"IF(BJ118=\"\",\"\",IF(BJ118=0,\"\",IF(LandUse!$N111=2,\"\",IF(BJ118>=$E$5,BI118,\"\"))))","v":""},null,"","","","","","","","","",""]
[null,null,null,null,null,null,null,null,null,null,null,null,null,null,null,null,null,null,null,null,null,null,{"$f":"+CPPE!$A111","v":"Riparian Herbaceous Cover"},111,{"$f":"+CPPE!$A111","v":"Riparian Herbaceous Cover"},{"$f":"IF(Y$9=\"\",\"\",IF(Y119=0,0,HLOOKUP(Y$9,CPPE!$A$1:$DB$177,X119,FALSE)))","v":2},{"$f":"IF(Z119=\"\",\"\",IF(Z119=0,\"\",IF(LandUse!$N112=2,\"\",IF(Z119>=$E$5,Y119,\"\"))))","v":""},111,{"$f":"+CPPE!$A111","v":"Riparian Herbaceous Cover"},{"$f":"IF(AC$9=\"\",\"\",IF(AC119=0,0,HLOOKUP(AC$9,CPPE!$A$1:$DB$177,AB119,FALSE)))","v":4},{"$f":"IF(AD119=\"\",\"\",IF(AD119=0,\"\",IF(LandUse!$N112=2,\"\",IF(AD119>=$E$5,AC119,\"\"))))","v":""},111,{"$f":"+CPPE!$A111","v":"Riparian Herbaceous Cover"},{"$f":"IF(AG$9=\"\",\"\",IF(AG119=0,0,HLOOKUP(AG$9,CPPE!$A$1:$DB$177,AF119,FALSE)))","v":4},{"$f":"IF(AH119=\"\",\"\",IF(AH119=0,\"\",IF(LandUse!$N112=2,\"\",IF(AH119>=$E$5,AG119,\"\"))))","v":""},111,{"$f":"+CPPE!$A111","v":"Riparian Herbaceous Cover"},{"$f":"IF(AK$9=\"\",\"\",IF(AK119=0,0,HLOOKUP(AK$9,CPPE!$A$1:$DB$177,AJ119,FALSE)))","v":0},{"$f":"IF(AL119=\"\",\"\",IF(AL119=0,\"\",IF(LandUse!$N112=2,\"\",IF(AL119>=$E$5,AK119,\"\"))))","v":""},111,{"$f":"+CPPE!$A111","v":"Riparian Herbaceous Cover"},{"$f":"IF(AO$9=\"\",\"\",IF(AO119=0,0,HLOOKUP(AO$9,CPPE!$A$1:$DB$177,AN119,FALSE)))","v":""},{"$f":"IF(AP119=\"\",\"\",IF(AP119=0,\"\",IF(LandUse!$N112=2,\"\",IF(AP119>=$E$5,AO119,\"\"))))","v":""},111,{"$f":"+CPPE!$A111","v":"Riparian Herbaceous Cover"},{"$f":"IF(AS$9=\"\",\"\",IF(AS119=0,0,HLOOKUP(AS$9,CPPE!$A$1:$DB$177,AR119,FALSE)))","v":""},{"$f":"IF(AT119=\"\",\"\",IF(AT119=0,\"\",IF(LandUse!$N112=2,\"\",IF(AT119>=$E$5,AS119,\"\"))))","v":""},111,{"$f":"+CPPE!$A111","v":"Riparian Herbaceous Cover"},{"$f":"IF(AW$9=\"\",\"\",IF(AW119=0,0,HLOOKUP(AW$9,CPPE!$A$1:$DB$177,AV119,FALSE)))","v":""},{"$f":"IF(AX119=\"\",\"\",IF(AX119=0,\"\",IF(LandUse!$N112=2,\"\",IF(AX119>=$E$5,AW119,\"\"))))","v":""},111,{"$f":"+CPPE!$A111","v":"Riparian Herbaceous Cover"},{"$f":"IF(BA$9=\"\",\"\",IF(BA119=0,0,HLOOKUP(BA$9,CPPE!$A$1:$DB$177,AZ119,FALSE)))","v":""},{"$f":"IF(BB119=\"\",\"\",IF(BB119=0,\"\",IF(LandUse!$N112=2,\"\",IF(BB119>=$E$5,BA119,\"\"))))","v":""},111,{"$f":"+CPPE!$A111","v":"Riparian Herbaceous Cover"},{"$f":"IF(BE$9=\"\",\"\",IF(BE119=0,0,HLOOKUP(BE$9,CPPE!$A$1:$DB$177,BD119,FALSE)))","v":""},{"$f":"IF(BF119=\"\",\"\",IF(BF119=0,\"\",IF(LandUse!$N112=2,\"\",IF(BF119>=$E$5,BE119,\"\"))))","v":""},111,{"$f":"+CPPE!$A111","v":"Riparian Herbaceous Cover"},{"$f":"IF(BI$9=\"\",\"\",IF(BI119=0,0,HLOOKUP(BI$9,CPPE!$A$1:$DB$177,BH119,FALSE)))","v":""},{"$f":"IF(BJ119=\"\",\"\",IF(BJ119=0,\"\",IF(LandUse!$N112=2,\"\",IF(BJ119>=$E$5,BI119,\"\"))))","v":""},null,"","","","","","","","","",""]
[null,null,null,null,null,null,null,null,null,null,null,null,null,null,null,null,null,null,null,null,null,null,{"$f":"+CPPE!$A112","v":"Road/Trail/Landing Closure and Treatment"},112,{"$f":"+CPPE!$A112","v":"Road/Trail/Landing Closure and Treatment"},{"$f":"IF(Y$9=\"\",\"\",IF(Y120=0,0,HLOOKUP(Y$9,CPPE!$A$1:$DB$177,X120,FALSE)))","v":5},{"$f":"IF(Z120=\"\",\"\",IF(Z120=0,\"\",IF(LandUse!$N113=2,\"\",IF(Z120>=$E$5,Y120,\"\"))))","v":""},112,{"$f":"+CPPE!$A112","v":"Road/Trail/Landing Closure and Treatment"},{"$f":"IF(AC$9=\"\",\"\",IF(AC120=0,0,HLOOKUP(AC$9,CPPE!$A$1:$DB$177,AB120,FALSE)))","v":2},{"$f":"IF(AD120=\"\",\"\",IF(AD120=0,\"\",IF(LandUse!$N113=2,\"\",IF(AD120>=$E$5,AC120,\"\"))))","v":""},112,{"$f":"+CPPE!$A112","v":"Road/Trail/Landing Closure and Treatment"},{"$f":"IF(AG$9=\"\",\"\",IF(AG120=0,0,HLOOKUP(AG$9,CPPE!$A$1:$DB$177,AF120,FALSE)))","v":5},{"$f":"IF(AH120=\"\",\"\",IF(AH120=0,\"\",IF(LandUse!$N113=2,\"\",IF(AH120>=$E$5,AG120,\"\"))))","v":""},112,{"$f":"+CPPE!$A112","v":"Road/Trail/Landing Closure and Treatment"},{"$f":"IF(AK$9=\"\",\"\",IF(AK120=0,0,HLOOKUP(AK$9,CPPE!$A$1:$DB$177,AJ120,FALSE)))","v":3},{"$f":"IF(AL120=\"\",\"\",IF(AL120=0,\"\",IF(LandUse!$N113=2,\"\",IF(AL120>=$E$5,AK120,\"\"))))","v":""},112,{"$f":"+CPPE!$A112","v":"Road/Trail/Landing Closure and Treatment"},{"$f":"IF(AO$9=\"\",\"\",IF(AO120=0,0,HLOOKUP(AO$9,CPPE!$A$1:$DB$177,AN120,FALSE)))","v":""},{"$f":"IF(AP120=\"\",\"\",IF(AP120=0,\"\",IF(LandUse!$N113=2,\"\",IF(AP120>=$E$5,AO120,\"\"))))","v":""},112,{"$f":"+CPPE!$A112","v":"Road/Trail/Landing Closure and Treatment"},{"$f":"IF(AS$9=\"\",\"\",IF(AS120=0,0,HLOOKUP(AS$9,CPPE!$A$1:$DB$177,AR120,FALSE)))","v":""},{"$f":"IF(AT120=\"\",\"\",IF(AT120=0,\"\",IF(LandUse!$N113=2,\"\",IF(AT120>=$E$5,AS120,\"\"))))","v":""},112,{"$f":"+CPPE!$A112","v":"Road/Trail/Landing Closure and Treatment"},{"$f":"IF(AW$9=\"\",\"\",IF(AW120=0,0,HLOOKUP(AW$9,CPPE!$A$1:$DB$177,AV120,FALSE)))","v":""},{"$f":"IF(AX120=\"\",\"\",IF(AX120=0,\"\",IF(LandUse!$N113=2,\"\",IF(AX120>=$E$5,AW120,\"\"))))","v":""},112,{"$f":"+CPPE!$A112","v":"Road/Trail/Landing Closure and Treatment"},{"$f":"IF(BA$9=\"\",\"\",IF(BA120=0,0,HLOOKUP(BA$9,CPPE!$A$1:$DB$177,AZ120,FALSE)))","v":""},{"$f":"IF(BB120=\"\",\"\",IF(BB120=0,\"\",IF(LandUse!$N113=2,\"\",IF(BB120>=$E$5,BA120,\"\"))))","v":""},112,{"$f":"+CPPE!$A112","v":"Road/Trail/Landing Closure and Treatment"},{"$f":"IF(BE$9=\"\",\"\",IF(BE120=0,0,HLOOKUP(BE$9,CPPE!$A$1:$DB$177,BD120,FALSE)))","v":""},{"$f":"IF(BF120=\"\",\"\",IF(BF120=0,\"\",IF(LandUse!$N113=2,\"\",IF(BF120>=$E$5,BE120,\"\"))))","v":""},112,{"$f":"+CPPE!$A112","v":"Road/Trail/Landing Closure and Treatment"},{"$f":"IF(BI$9=\"\",\"\",IF(BI120=0,0,HLOOKUP(BI$9,CPPE!$A$1:$DB$177,BH120,FALSE)))","v":""},{"$f":"IF(BJ120=\"\",\"\",IF(BJ120=0,\"\",IF(LandUse!$N113=2,\"\",IF(BJ120>=$E$5,BI120,\"\"))))","v":""},null,"","","","","","","","","",""]
[null,null,null,null,null,null,null,null,null,null,null,null,null,null,null,null,null,null,null,null,null,null,{"$f":"+CPPE!$A113","v":"Rock Wall Terrace"},113,{"$f":"+CPPE!$A113","v":"Rock Wall Terrace"},{"$f":"IF(Y$9=\"\",\"\",IF(Y121=0,0,HLOOKUP(Y$9,CPPE!$A$1:$DB$177,X121,FALSE)))","v":5},{"$f":"IF(Z121=\"\",\"\",IF(Z121=0,\"\",IF(LandUse!$N114=2,\"\",IF(Z121>=$E$5,Y121,\"\"))))","v":""},113,{"$f":"+CPPE!$A113","v":"Rock Wall Terrace"},{"$f":"IF(AC$9=\"\",\"\",IF(AC121=0,0,HLOOKUP(AC$9,CPPE!$A$1:$DB$177,AB121,FALSE)))","v":0},{"$f":"IF(AD121=\"\",\"\",IF(AD121=0,\"\",IF(LandUse!$N114=2,\"\",IF(AD121>=$E$5,AC121,\"\"))))","v":""},113,{"$f":"+CPPE!$A113","v":"Rock Wall Terrace"},{"$f":"IF(AG$9=\"\",\"\",IF(AG121=0,0,HLOOKUP(AG$9,CPPE!$A$1:$DB$177,AF121,FALSE)))","v":0},{"$f":"IF(AH121=\"\",\"\",IF(AH121=0,\"\",IF(LandUse!$N114=2,\"\",IF(AH121>=$E$5,AG121,\"\"))))","v":""},113,{"$f":"+CPPE!$A113","v":"Rock Wall Terrace"},{"$f":"IF(AK$9=\"\",\"\",IF(AK121=0,0,HLOOKUP(AK$9,CPPE!$A$1:$DB$177,AJ121,FALSE)))","v":1},{"$f":"IF(AL121=\"\",\"\",IF(AL121=0,\"\",IF(LandUse!$N114=2,\"\",IF(AL121>=$E$5,AK121,\"\"))))","v":""},113,{"$f":"+CPPE!$A113","v":"Rock Wall Terrace"},{"$f":"IF(AO$9=\"\",\"\",IF(AO121=0,0,HLOOKUP(AO$9,CPPE!$A$1:$DB$177,AN121,FALSE)))","v":""},{"$f":"IF(AP121=\"\",\"\",IF(AP121=0,\"\",IF(LandUse!$N114=2,\"\",IF(AP121>=$E$5,AO121,\"\"))))","v":""},113,{"$f":"+CPPE!$A113","v":"Rock Wall Terrace"},{"$f":"IF(AS$9=\"\",\"\",IF(AS121=0,0,HLOOKUP(AS$9,CPPE!$A$1:$DB$177,AR121,FALSE)))","v":""},{"$f":"IF(AT121=\"\",\"\",IF(AT121=0,\"\",IF(LandUse!$N114=2,\"\",IF(AT121>=$E$5,AS121,\"\"))))","v":""},113,{"$f":"+CPPE!$A113","v":"Rock Wall Terrace"},{"$f":"IF(AW$9=\"\",\"\",IF(AW121=0,0,HLOOKUP(AW$9,CPPE!$A$1:$DB$177,AV121,FALSE)))","v":""},{"$f":"IF(AX121=\"\",\"\",IF(AX121=0,\"\",IF(LandUse!$N114=2,\"\",IF(AX121>=$E$5,AW121,\"\"))))","v":""},113,{"$f":"+CPPE!$A113","v":"Rock Wall Terrace"},{"$f":"IF(BA$9=\"\",\"\",IF(BA121=0,0,HLOOKUP(BA$9,CPPE!$A$1:$DB$177,AZ121,FALSE)))","v":""},{"$f":"IF(BB121=\"\",\"\",IF(BB121=0,\"\",IF(LandUse!$N114=2,\"\",IF(BB121>=$E$5,BA121,\"\"))))","v":""},113,{"$f":"+CPPE!$A113","v":"Rock Wall Terrace"},{"$f":"IF(BE$9=\"\",\"\",IF(BE121=0,0,HLOOKUP(BE$9,CPPE!$A$1:$DB$177,BD121,FALSE)))","v":""},{"$f":"IF(BF121=\"\",\"\",IF(BF121=0,\"\",IF(LandUse!$N114=2,\"\",IF(BF121>=$E$5,BE121,\"\"))))","v":""},113,{"$f":"+CPPE!$A113","v":"Rock Wall Terrace"},{"$f":"IF(BI$9=\"\",\"\",IF(BI121=0,0,HLOOKUP(BI$9,CPPE!$A$1:$DB$177,BH121,FALSE)))","v":""},{"$f":"IF(BJ121=\"\",\"\",IF(BJ121=0,\"\",IF(LandUse!$N114=2,\"\",IF(BJ121>=$E$5,BI121,\"\"))))","v":""},null,"","","","","","","","","",""]
[null,null,null,null,null,null,null,null,null,null,null,null,null,null,null,null,null,null,null,null,null,null,{"$f":"+CPPE!$A114","v":"Roof Runoff Structure"},114,{"$f":"+CPPE!$A114","v":"Roof Runoff Structure"},{"$f":"IF(Y$9=\"\",\"\",IF(Y122=0,0,HLOOKUP(Y$9,CPPE!$A$1:$DB$177,X122,FALSE)))","v":1},{"$f":"IF(Z122=\"\",\"\",IF(Z122=0,\"\",IF(LandUse!$N115=2,\"\",IF(Z122>=$E$5,Y122,\"\"))))","v":""},114,{"$f":"+CPPE!$A114","v":"Roof Runoff Structure"},{"$f":"IF(AC$9=\"\",\"\",IF(AC122=0,0,HLOOKUP(AC$9,CPPE!$A$1:$DB$177,AB122,FALSE)))","v":0},{"$f":"IF(AD122=\"\",\"\",IF(AD122=0,\"\",IF(LandUse!$N115=2,\"\",IF(AD122>=$E$5,AC122,\"\"))))","v":""},114,{"$f":"+CPPE!$A114","v":"Roof Runoff Structure"},{"$f":"IF(AG$9=\"\",\"\",IF(AG122=0,0,HLOOKUP(AG$9,CPPE!$A$1:$DB$177,AF122,FALSE)))","v":0},{"$f":"IF(AH122=\"\",\"\",IF(AH122=0,\"\",IF(LandUse!$N115=2,\"\",IF(AH122>=$E$5,AG122,\"\"))))","v":""},114,{"$f":"+CPPE!$A114","v":"Roof Runoff Structure"},{"$f":"IF(AK$9=\"\",\"\",IF(AK122=0,0,HLOOKUP(AK$9,CPPE!$A$1:$DB$177,AJ122,FALSE)))","v":0},{"$f":"IF(AL122=\"\",\"\",IF(AL122=0,\"\",IF(LandUse!$N115=2,\"\",IF(AL122>=$E$5,AK122,\"\"))))","v":""},114,{"$f":"+CPPE!$A114","v":"Roof Runoff Structure"},{"$f":"IF(AO$9=\"\",\"\",IF(AO122=0,0,HLOOKUP(AO$9,CPPE!$A$1:$DB$177,AN122,FALSE)))","v":""},{"$f":"IF(AP122=\"\",\"\",IF(AP122=0,\"\",IF(LandUse!$N115=2,\"\",IF(AP122>=$E$5,AO122,\"\"))))","v":""},114,{"$f":"+CPPE!$A114","v":"Roof Runoff Structure"},{"$f":"IF(AS$9=\"\",\"\",IF(AS122=0,0,HLOOKUP(AS$9,CPPE!$A$1:$DB$177,AR122,FALSE)))","v":""},{"$f":"IF(AT122=\"\",\"\",IF(AT122=0,\"\",IF(LandUse!$N115=2,\"\",IF(AT122>=$E$5,AS122,\"\"))))","v":""},114,{"$f":"+CPPE!$A114","v":"Roof Runoff Structure"},{"$f":"IF(AW$9=\"\",\"\",IF(AW122=0,0,HLOOKUP(AW$9,CPPE!$A$1:$DB$177,AV122,FALSE)))","v":""},{"$f":"IF(AX122=\"\",\"\",IF(AX122=0,\"\",IF(LandUse!$N115=2,\"\",IF(AX122>=$E$5,AW122,\"\"))))","v":""},114,{"$f":"+CPPE!$A114","v":"Roof Runoff Structure"},{"$f":"IF(BA$9=\"\",\"\",IF(BA122=0,0,HLOOKUP(BA$9,CPPE!$A$1:$DB$177,AZ122,FALSE)))","v":""},{"$f":"IF(BB122=\"\",\"\",IF(BB122=0,\"\",IF(LandUse!$N115=2,\"\",IF(BB122>=$E$5,BA122,\"\"))))","v":""},114,{"$f":"+CPPE!$A114","v":"Roof Runoff Structure"},{"$f":"IF(BE$9=\"\",\"\",IF(BE122=0,0,HLOOKUP(BE$9,CPPE!$A$1:$DB$177,BD122,FALSE)))","v":""},{"$f":"IF(BF122=\"\",\"\",IF(BF122=0,\"\",IF(LandUse!$N115=2,\"\",IF(BF122>=$E$5,BE122,\"\"))))","v":""},114,{"$f":"+CPPE!$A114","v":"Roof Runoff Structure"},{"$f":"IF(BI$9=\"\",\"\",IF(BI122=0,0,HLOOKUP(BI$9,CPPE!$A$1:$DB$177,BH122,FALSE)))","v":""},{"$f":"IF(BJ122=\"\",\"\",IF(BJ122=0,\"\",IF(LandUse!$N115=2,\"\",IF(BJ122>=$E$5,BI122,\"\"))))","v":""},null,"","","","","","","","","",""]
[null,null,null,null,null,null,null,null,null,null,null,null,null,null,null,null,null,null,null,null,null,null,{"$f":"+CPPE!$A115","v":"Roofs and Covers"},115,{"$f":"+CPPE!$A115","v":"Roofs and Covers"},{"$f":"IF(Y$9=\"\",\"\",IF(Y123=0,0,HLOOKUP(Y$9,CPPE!$A$1:$DB$177,X123,FALSE)))","v":0},{"$f":"IF(Z123=\"\",\"\",IF(Z123=0,\"\",IF(LandUse!$N116=2,\"\",IF(Z123>=$E$5,Y123,\"\"))))","v":""},115,{"$f":"+CPPE!$A115","v":"Roofs and Covers"},{"$f":"IF(AC$9=\"\",\"\",IF(AC123=0,0,HLOOKUP(AC$9,CPPE!$A$1:$DB$177,AB123,FALSE)))","v":0},{"$f":"IF(AD123=\"\",\"\",IF(AD123=0,\"\",IF(LandUse!$N116=2,\"\",IF(AD123>=$E$5,AC123,\"\"))))","v":""},115,{"$f":"+CPPE!$A115","v":"Roofs and Covers"},{"$f":"IF(AG$9=\"\",\"\",IF(AG123=0,0,HLOOKUP(AG$9,CPPE!$A$1:$DB$177,AF123,FALSE)))","v":0},{"$f":"IF(AH123=\"\",\"\",IF(AH123=0,\"\",IF(LandUse!$N116=2,\"\",IF(AH123>=$E$5,AG123,\"\"))))","v":""},115,{"$f":"+CPPE!$A115","v":"Roofs and Covers"},{"$f":"IF(AK$9=\"\",\"\",IF(AK123=0,0,HLOOKUP(AK$9,CPPE!$A$1:$DB$177,AJ123,FALSE)))","v":0},{"$f":"IF(AL123=\"\",\"\",IF(AL123=0,\"\",IF(LandUse!$N116=2,\"\",IF(AL123>=$E$5,AK123,\"\"))))","v":""},115,{"$f":"+CPPE!$A115","v":"Roofs and Covers"},{"$f":"IF(AO$9=\"\",\"\",IF(AO123=0,0,HLOOKUP(AO$9,CPPE!$A$1:$DB$177,AN123,FALSE)))","v":""},{"$f":"IF(AP123=\"\",\"\",IF(AP123=0,\"\",IF(LandUse!$N116=2,\"\",IF(AP123>=$E$5,AO123,\"\"))))","v":""},115,{"$f":"+CPPE!$A115","v":"Roofs and Covers"},{"$f":"IF(AS$9=\"\",\"\",IF(AS123=0,0,HLOOKUP(AS$9,CPPE!$A$1:$DB$177,AR123,FALSE)))","v":""},{"$f":"IF(AT123=\"\",\"\",IF(AT123=0,\"\",IF(LandUse!$N116=2,\"\",IF(AT123>=$E$5,AS123,\"\"))))","v":""},115,{"$f":"+CPPE!$A115","v":"Roofs and Covers"},{"$f":"IF(AW$9=\"\",\"\",IF(AW123=0,0,HLOOKUP(AW$9,CPPE!$A$1:$DB$177,AV123,FALSE)))","v":""},{"$f":"IF(AX123=\"\",\"\",IF(AX123=0,\"\",IF(LandUse!$N116=2,\"\",IF(AX123>=$E$5,AW123,\"\"))))","v":""},115,{"$f":"+CPPE!$A115","v":"Roofs and Covers"},{"$f":"IF(BA$9=\"\",\"\",IF(BA123=0,0,HLOOKUP(BA$9,CPPE!$A$1:$DB$177,AZ123,FALSE)))","v":""},{"$f":"IF(BB123=\"\",\"\",IF(BB123=0,\"\",IF(LandUse!$N116=2,\"\",IF(BB123>=$E$5,BA123,\"\"))))","v":""},115,{"$f":"+CPPE!$A115","v":"Roofs and Covers"},{"$f":"IF(BE$9=\"\",\"\",IF(BE123=0,0,HLOOKUP(BE$9,CPPE!$A$1:$DB$177,BD123,FALSE)))","v":""},{"$f":"IF(BF123=\"\",\"\",IF(BF123=0,\"\",IF(LandUse!$N116=2,\"\",IF(BF123>=$E$5,BE123,\"\"))))","v":""},115,{"$f":"+CPPE!$A115","v":"Roofs and Covers"},{"$f":"IF(BI$9=\"\",\"\",IF(BI123=0,0,HLOOKUP(BI$9,CPPE!$A$1:$DB$177,BH123,FALSE)))","v":""},{"$f":"IF(BJ123=\"\",\"\",IF(BJ123=0,\"\",IF(LandUse!$N116=2,\"\",IF(BJ123>=$E$5,BI123,\"\"))))","v":""},null,{"$f":"IF(B124=\"\",\"\",C124)","v":""},{"$f":"IF(D124=\"\",\"\",E124)","v":""},{"$f":"IF(F124=\"\",\"\",G124)","v":""},{"$f":"IF(H124=\"\",\"\",I124)","v":""},{"$f":"IF(J124=\"\",\"\",K124)","v":""},{"$f":"IF(L124=\"\",\"\",M124)","v":""},{"$f":"IF(N124=\"\",\"\",O124)","v":""},{"$f":"IF(P124=\"\",\"\",Q124)","v":""},{"$f":"IF(R124=\"\",\"\",S124)","v":""},{"$f":"IF(T124=\"\",\"\",U124)","v":""}]
[null,null,null,null,null,null,null,null,null,null,null,null,null,null,null,null,null,null,null,null,null,null,{"$f":"+CPPE!$A116","v":"Row Arrangement"},116,{"$f":"+CPPE!$A116","v":"Row Arrangement"},{"$f":"IF(Y$9=\"\",\"\",IF(Y124=0,0,HLOOKUP(Y$9,CPPE!$A$1:$DB$177,X124,FALSE)))","v":3},{"$f":"IF(Z124=\"\",\"\",IF(Z124=0,\"\",IF(LandUse!$N117=2,\"\",IF(Z124>=$E$5,Y124,\"\"))))","v":""},116,{"$f":"+CPPE!$A116","v":"Row Arrangement"},{"$f":"IF(AC$9=\"\",\"\",IF(AC124=0,0,HLOOKUP(AC$9,CPPE!$A$1:$DB$177,AB124,FALSE)))","v":0},{"$f":"IF(AD124=\"\",\"\",IF(AD124=0,\"\",IF(LandUse!$N117=2,\"\",IF(AD124>=$E$5,AC124,\"\"))))","v":""},116,{"$f":"+CPPE!$A116","v":"Row Arrangement"},{"$f":"IF(AG$9=\"\",\"\",IF(AG124=0,0,HLOOKUP(AG$9,CPPE!$A$1:$DB$177,AF124,FALSE)))","v":1},{"$f":"IF(AH124=\"\",\"\",IF(AH124=0,\"\",IF(LandUse!$N117=2,\"\",IF(AH124>=$E$5,AG124,\"\"))))","v":""},116,{"$f":"+CPPE!$A116","v":"Row Arrangement"},{"$f":"IF(AK$9=\"\",\"\",IF(AK124=0,0,HLOOKUP(AK$9,CPPE!$A$1:$DB$177,AJ124,FALSE)))","v":-3},{"$f":"IF(AL124=\"\",\"\",IF(AL124=0,\"\",IF(LandUse!$N117=2,\"\",IF(AL124>=$E$5,AK124,\"\"))))","v":""},116,{"$f":"+CPPE!$A116","v":"Row Arrangement"},{"$f":"IF(AO$9=\"\",\"\",IF(AO124=0,0,HLOOKUP(AO$9,CPPE!$A$1:$DB$177,AN124,FALSE)))","v":""},{"$f":"IF(AP124=\"\",\"\",IF(AP124=0,\"\",IF(LandUse!$N117=2,\"\",IF(AP124>=$E$5,AO124,\"\"))))","v":""},116,{"$f":"+CPPE!$A116","v":"Row Arrangement"},{"$f":"IF(AS$9=\"\",\"\",IF(AS124=0,0,HLOOKUP(AS$9,CPPE!$A$1:$DB$177,AR124,FALSE)))","v":""},{"$f":"IF(AT124=\"\",\"\",IF(AT124=0,\"\",IF(LandUse!$N117=2,\"\",IF(AT124>=$E$5,AS124,\"\"))))","v":""},116,{"$f":"+CPPE!$A116","v":"Row Arrangement"},{"$f":"IF(AW$9=\"\",\"\",IF(AW124=0,0,HLOOKUP(AW$9,CPPE!$A$1:$DB$177,AV124,FALSE)))","v":""},{"$f":"IF(AX124=\"\",\"\",IF(AX124=0,\"\",IF(LandUse!$N117=2,\"\",IF(AX124>=$E$5,AW124,\"\"))))","v":""},116,{"$f":"+CPPE!$A116","v":"Row Arrangement"},{"$f":"IF(BA$9=\"\",\"\",IF(BA124=0,0,HLOOKUP(BA$9,CPPE!$A$1:$DB$177,AZ124,FALSE)))","v":""},{"$f":"IF(BB124=\"\",\"\",IF(BB124=0,\"\",IF(LandUse!$N117=2,\"\",IF(BB124>=$E$5,BA124,\"\"))))","v":""},116,{"$f":"+CPPE!$A116","v":"Row Arrangement"},{"$f":"IF(BE$9=\"\",\"\",IF(BE124=0,0,HLOOKUP(BE$9,CPPE!$A$1:$DB$177,BD124,FALSE)))","v":""},{"$f":"IF(BF124=\"\",\"\",IF(BF124=0,\"\",IF(LandUse!$N117=2,\"\",IF(BF124>=$E$5,BE124,\"\"))))","v":""},116,{"$f":"+CPPE!$A116","v":"Row Arrangement"},{"$f":"IF(BI$9=\"\",\"\",IF(BI124=0,0,HLOOKUP(BI$9,CPPE!$A$1:$DB$177,BH124,FALSE)))","v":""},{"$f":"IF(BJ124=\"\",\"\",IF(BJ124=0,\"\",IF(LandUse!$N117=2,\"\",IF(BJ124>=$E$5,BI124,\"\"))))","v":""},null,"","","","","","","","","",""]
[null,null,null,null,null,null,null,null,null,null,null,null,null,null,null,null,null,null,null,null,null,null,{"$f":"+CPPE!$A117","v":"Salinity and Sodic Soil Management"},117,{"$f":"+CPPE!$A117","v":"Salinity and Sodic Soil Management"},{"$f":"IF(Y$9=\"\",\"\",IF(Y125=0,0,HLOOKUP(Y$9,CPPE!$A$1:$DB$177,X125,FALSE)))","v":0},{"$f":"IF(Z125=\"\",\"\",IF(Z125=0,\"\",IF(LandUse!$N118=2,\"\",IF(Z125>=$E$5,Y125,\"\"))))","v":""},117,{"$f":"+CPPE!$A117","v":"Salinity and Sodic Soil Management"},{"$f":"IF(AC$9=\"\",\"\",IF(AC125=0,0,HLOOKUP(AC$9,CPPE!$A$1:$DB$177,AB125,FALSE)))","v":0},{"$f":"IF(AD125=\"\",\"\",IF(AD125=0,\"\",IF(LandUse!$N118=2,\"\",IF(AD125>=$E$5,AC125,\"\"))))","v":""},117,{"$f":"+CPPE!$A117","v":"Salinity and Sodic Soil Management"},{"$f":"IF(AG$9=\"\",\"\",IF(AG125=0,0,HLOOKUP(AG$9,CPPE!$A$1:$DB$177,AF125,FALSE)))","v":0},{"$f":"IF(AH125=\"\",\"\",IF(AH125=0,\"\",IF(LandUse!$N118=2,\"\",IF(AH125>=$E$5,AG125,\"\"))))","v":""},117,{"$f":"+CPPE!$A117","v":"Salinity and Sodic Soil Management"},{"$f":"IF(AK$9=\"\",\"\",IF(AK125=0,0,HLOOKUP(AK$9,CPPE!$A$1:$DB$177,AJ125,FALSE)))","v":3},{"$f":"IF(AL125=\"\",\"\",IF(AL125=0,\"\",IF(LandUse!$N118=2,\"\",IF(AL125>=$E$5,AK125,\"\"))))","v":""},117,{"$f":"+CPPE!$A117","v":"Salinity and Sodic Soil Management"},{"$f":"IF(AO$9=\"\",\"\",IF(AO125=0,0,HLOOKUP(AO$9,CPPE!$A$1:$DB$177,AN125,FALSE)))","v":""},{"$f":"IF(AP125=\"\",\"\",IF(AP125=0,\"\",IF(LandUse!$N118=2,\"\",IF(AP125>=$E$5,AO125,\"\"))))","v":""},117,{"$f":"+CPPE!$A117","v":"Salinity and Sodic Soil Management"},{"$f":"IF(AS$9=\"\",\"\",IF(AS125=0,0,HLOOKUP(AS$9,CPPE!$A$1:$DB$177,AR125,FALSE)))","v":""},{"$f":"IF(AT125=\"\",\"\",IF(AT125=0,\"\",IF(LandUse!$N118=2,\"\",IF(AT125>=$E$5,AS125,\"\"))))","v":""},117,{"$f":"+CPPE!$A117","v":"Salinity and Sodic Soil Management"},{"$f":"IF(AW$9=\"\",\"\",IF(AW125=0,0,HLOOKUP(AW$9,CPPE!$A$1:$DB$177,AV125,FALSE)))","v":""},{"$f":"IF(AX125=\"\",\"\",IF(AX125=0,\"\",IF(LandUse!$N118=2,\"\",IF(AX125>=$E$5,AW125,\"\"))))","v":""},117,{"$f":"+CPPE!$A117","v":"Salinity and Sodic Soil Management"},{"$f":"IF(BA$9=\"\",\"\",IF(BA125=0,0,HLOOKUP(BA$9,CPPE!$A$1:$DB$177,AZ125,FALSE)))","v":""},{"$f":"IF(BB125=\"\",\"\",IF(BB125=0,\"\",IF(LandUse!$N118=2,\"\",IF(BB125>=$E$5,BA125,\"\"))))","v":""},117,{"$f":"+CPPE!$A117","v":"Salinity and Sodic Soil Management"},{"$f":"IF(BE$9=\"\",\"\",IF(BE125=0,0,HLOOKUP(BE$9,CPPE!$A$1:$DB$177,BD125,FALSE)))","v":""},{"$f":"IF(BF125=\"\",\"\",IF(BF125=0,\"\",IF(LandUse!$N118=2,\"\",IF(BF125>=$E$5,BE125,\"\"))))","v":""},117,{"$f":"+CPPE!$A117","v":"Salinity and Sodic Soil Management"},{"$f":"IF(BI$9=\"\",\"\",IF(BI125=0,0,HLOOKUP(BI$9,CPPE!$A$1:$DB$177,BH125,FALSE)))","v":""},{"$f":"IF(BJ125=\"\",\"\",IF(BJ125=0,\"\",IF(LandUse!$N118=2,\"\",IF(BJ125>=$E$5,BI125,\"\"))))","v":""},null,"","","","","","","","","",""]
[null,null,null,null,null,null,null,null,null,null,null,null,null,null,null,null,null,null,null,null,null,null,{"$f":"+CPPE!$A118","v":"Saturated Buffer"},118,{"$f":"+CPPE!$A118","v":"Saturated Buffer"},{"$f":"IF(Y$9=\"\",\"\",IF(Y126=0,0,HLOOKUP(Y$9,CPPE!$A$1:$DB$177,X126,FALSE)))","v":0},{"$f":"IF(Z126=\"\",\"\",IF(Z126=0,\"\",IF(LandUse!$N119=2,\"\",IF(Z126>=$E$5,Y126,\"\"))))","v":""},118,{"$f":"+CPPE!$A118","v":"Saturated Buffer"},{"$f":"IF(AC$9=\"\",\"\",IF(AC126=0,0,HLOOKUP(AC$9,CPPE!$A$1:$DB$177,AB126,FALSE)))","v":0},{"$f":"IF(AD126=\"\",\"\",IF(AD126=0,\"\",IF(LandUse!$N119=2,\"\",IF(AD126>=$E$5,AC126,\"\"))))","v":""},118,{"$f":"+CPPE!$A118","v":"Saturated Buffer"},{"$f":"IF(AG$9=\"\",\"\",IF(AG126=0,0,HLOOKUP(AG$9,CPPE!$A$1:$DB$177,AF126,FALSE)))","v":0},{"$f":"IF(AH126=\"\",\"\",IF(AH126=0,\"\",IF(LandUse!$N119=2,\"\",IF(AH126>=$E$5,AG126,\"\"))))","v":""},118,{"$f":"+CPPE!$A118","v":"Saturated Buffer"},{"$f":"IF(AK$9=\"\",\"\",IF(AK126=0,0,HLOOKUP(AK$9,CPPE!$A$1:$DB$177,AJ126,FALSE)))","v":0},{"$f":"IF(AL126=\"\",\"\",IF(AL126=0,\"\",IF(LandUse!$N119=2,\"\",IF(AL126>=$E$5,AK126,\"\"))))","v":""},118,{"$f":"+CPPE!$A118","v":"Saturated Buffer"},{"$f":"IF(AO$9=\"\",\"\",IF(AO126=0,0,HLOOKUP(AO$9,CPPE!$A$1:$DB$177,AN126,FALSE)))","v":""},{"$f":"IF(AP126=\"\",\"\",IF(AP126=0,\"\",IF(LandUse!$N119=2,\"\",IF(AP126>=$E$5,AO126,\"\"))))","v":""},118,{"$f":"+CPPE!$A118","v":"Saturated Buffer"},{"$f":"IF(AS$9=\"\",\"\",IF(AS126=0,0,HLOOKUP(AS$9,CPPE!$A$1:$DB$177,AR126,FALSE)))","v":""},{"$f":"IF(AT126=\"\",\"\",IF(AT126=0,\"\",IF(LandUse!$N119=2,\"\",IF(AT126>=$E$5,AS126,\"\"))))","v":""},118,{"$f":"+CPPE!$A118","v":"Saturated Buffer"},{"$f":"IF(AW$9=\"\",\"\",IF(AW126=0,0,HLOOKUP(AW$9,CPPE!$A$1:$DB$177,AV126,FALSE)))","v":""},{"$f":"IF(AX126=\"\",\"\",IF(AX126=0,\"\",IF(LandUse!$N119=2,\"\",IF(AX126>=$E$5,AW126,\"\"))))","v":""},118,{"$f":"+CPPE!$A118","v":"Saturated Buffer"},{"$f":"IF(BA$9=\"\",\"\",IF(BA126=0,0,HLOOKUP(BA$9,CPPE!$A$1:$DB$177,AZ126,FALSE)))","v":""},{"$f":"IF(BB126=\"\",\"\",IF(BB126=0,\"\",IF(LandUse!$N119=2,\"\",IF(BB126>=$E$5,BA126,\"\"))))","v":""},118,{"$f":"+CPPE!$A118","v":"Saturated Buffer"},{"$f":"IF(BE$9=\"\",\"\",IF(BE126=0,0,HLOOKUP(BE$9,CPPE!$A$1:$DB$177,BD126,FALSE)))","v":""},{"$f":"IF(BF126=\"\",\"\",IF(BF126=0,\"\",IF(LandUse!$N119=2,\"\",IF(BF126>=$E$5,BE126,\"\"))))","v":""},118,{"$f":"+CPPE!$A118","v":"Saturated Buffer"},{"$f":"IF(BI$9=\"\",\"\",IF(BI126=0,0,HLOOKUP(BI$9,CPPE!$A$1:$DB$177,BH126,FALSE)))","v":""},{"$f":"IF(BJ126=\"\",\"\",IF(BJ126=0,\"\",IF(LandUse!$N119=2,\"\",IF(BJ126>=$E$5,BI126,\"\"))))","v":""},null,"","","","","","","","","",""]
[null,null,null,null,null,null,null,null,null,null,null,null,null,null,null,null,null,null,null,null,null,null,{"$f":"+CPPE!$A119","v":"Sediment Basin"},119,{"$f":"+CPPE!$A119","v":"Sediment Basin"},{"$f":"IF(Y$9=\"\",\"\",IF(Y127=0,0,HLOOKUP(Y$9,CPPE!$A$1:$DB$177,X127,FALSE)))","v":0},{"$f":"IF(Z127=\"\",\"\",IF(Z127=0,\"\",IF(LandUse!$N120=2,\"\",IF(Z127>=$E$5,Y127,\"\"))))","v":""},119,{"$f":"+CPPE!$A119","v":"Sediment Basin"},{"$f":"IF(AC$9=\"\",\"\",IF(AC127=0,0,HLOOKUP(AC$9,CPPE!$A$1:$DB$177,AB127,FALSE)))","v":0},{"$f":"IF(AD127=\"\",\"\",IF(AD127=0,\"\",IF(LandUse!$N120=2,\"\",IF(AD127>=$E$5,AC127,\"\"))))","v":""},119,{"$f":"+CPPE!$A119","v":"Sediment Basin"},{"$f":"IF(AG$9=\"\",\"\",IF(AG127=0,0,HLOOKUP(AG$9,CPPE!$A$1:$DB$177,AF127,FALSE)))","v":0},{"$f":"IF(AH127=\"\",\"\",IF(AH127=0,\"\",IF(LandUse!$N120=2,\"\",IF(AH127>=$E$5,AG127,\"\"))))","v":""},119,{"$f":"+CPPE!$A119","v":"Sediment Basin"},{"$f":"IF(AK$9=\"\",\"\",IF(AK127=0,0,HLOOKUP(AK$9,CPPE!$A$1:$DB$177,AJ127,FALSE)))","v":0},{"$f":"IF(AL127=\"\",\"\",IF(AL127=0,\"\",IF(LandUse!$N120=2,\"\",IF(AL127>=$E$5,AK127,\"\"))))","v":""},119,{"$f":"+CPPE!$A119","v":"Sediment Basin"},{"$f":"IF(AO$9=\"\",\"\",IF(AO127=0,0,HLOOKUP(AO$9,CPPE!$A$1:$DB$177,AN127,FALSE)))","v":""},{"$f":"IF(AP127=\"\",\"\",IF(AP127=0,\"\",IF(LandUse!$N120=2,\"\",IF(AP127>=$E$5,AO127,\"\"))))","v":""},119,{"$f":"+CPPE!$A119","v":"Sediment Basin"},{"$f":"IF(AS$9=\"\",\"\",IF(AS127=0,0,HLOOKUP(AS$9,CPPE!$A$1:$DB$177,AR127,FALSE)))","v":""},{"$f":"IF(AT127=\"\",\"\",IF(AT127=0,\"\",IF(LandUse!$N120=2,\"\",IF(AT127>=$E$5,AS127,\"\"))))","v":""},119,{"$f":"+CPPE!$A119","v":"Sediment Basin"},{"$f":"IF(AW$9=\"\",\"\",IF(AW127=0,0,HLOOKUP(AW$9,CPPE!$A$1:$DB$177,AV127,FALSE)))","v":""},{"$f":"IF(AX127=\"\",\"\",IF(AX127=0,\"\",IF(LandUse!$N120=2,\"\",IF(AX127>=$E$5,AW127,\"\"))))","v":""},119,{"$f":"+CPPE!$A119","v":"Sediment Basin"},{"$f":"IF(BA$9=\"\",\"\",IF(BA127=0,0,HLOOKUP(BA$9,CPPE!$A$1:$DB$177,AZ127,FALSE)))","v":""},{"$f":"IF(BB127=\"\",\"\",IF(BB127=0,\"\",IF(LandUse!$N120=2,\"\",IF(BB127>=$E$5,BA127,\"\"))))","v":""},119,{"$f":"+CPPE!$A119","v":"Sediment Basin"},{"$f":"IF(BE$9=\"\",\"\",IF(BE127=0,0,HLOOKUP(BE$9,CPPE!$A$1:$DB$177,BD127,FALSE)))","v":""},{"$f":"IF(BF127=\"\",\"\",IF(BF127=0,\"\",IF(LandUse!$N120=2,\"\",IF(BF127>=$E$5,BE127,\"\"))))","v":""},119,{"$f":"+CPPE!$A119","v":"Sediment Basin"},{"$f":"IF(BI$9=\"\",\"\",IF(BI127=0,0,HLOOKUP(BI$9,CPPE!$A$1:$DB$177,BH127,FALSE)))","v":""},{"$f":"IF(BJ127=\"\",\"\",IF(BJ127=0,\"\",IF(LandUse!$N120=2,\"\",IF(BJ127>=$E$5,BI127,\"\"))))","v":""},null,"","","","","","","","","",""]
[null,null,null,null,null,null,null,null,null,null,null,null,null,null,null,null,null,null,null,null,null,null,{"$f":"+CPPE!$A120","v":"Shallow Water Development and Management"},120,{"$f":"+CPPE!$A120","v":"Shallow Water Development and Management"},{"$f":"IF(Y$9=\"\",\"\",IF(Y128=0,0,HLOOKUP(Y$9,CPPE!$A$1:$DB$177,X128,FALSE)))","v":0},{"$f":"IF(Z128=\"\",\"\",IF(Z128=0,\"\",IF(LandUse!$N121=2,\"\",IF(Z128>=$E$5,Y128,\"\"))))","v":""},120,{"$f":"+CPPE!$A120","v":"Shallow Water Development and Management"},{"$f":"IF(AC$9=\"\",\"\",IF(AC128=0,0,HLOOKUP(AC$9,CPPE!$A$1:$DB$177,AB128,FALSE)))","v":0},{"$f":"IF(AD128=\"\",\"\",IF(AD128=0,\"\",IF(LandUse!$N121=2,\"\",IF(AD128>=$E$5,AC128,\"\"))))","v":""},120,{"$f":"+CPPE!$A120","v":"Shallow Water Development and Management"},{"$f":"IF(AG$9=\"\",\"\",IF(AG128=0,0,HLOOKUP(AG$9,CPPE!$A$1:$DB$177,AF128,FALSE)))","v":1},{"$f":"IF(AH128=\"\",\"\",IF(AH128=0,\"\",IF(LandUse!$N121=2,\"\",IF(AH128>=$E$5,AG128,\"\"))))","v":""},120,{"$f":"+CPPE!$A120","v":"Shallow Water Development and Management"},{"$f":"IF(AK$9=\"\",\"\",IF(AK128=0,0,HLOOKUP(AK$9,CPPE!$A$1:$DB$177,AJ128,FALSE)))","v":0},{"$f":"IF(AL128=\"\",\"\",IF(AL128=0,\"\",IF(LandUse!$N121=2,\"\",IF(AL128>=$E$5,AK128,\"\"))))","v":""},120,{"$f":"+CPPE!$A120","v":"Shallow Water Development and Management"},{"$f":"IF(AO$9=\"\",\"\",IF(AO128=0,0,HLOOKUP(AO$9,CPPE!$A$1:$DB$177,AN128,FALSE)))","v":""},{"$f":"IF(AP128=\"\",\"\",IF(AP128=0,\"\",IF(LandUse!$N121=2,\"\",IF(AP128>=$E$5,AO128,\"\"))))","v":""},120,{"$f":"+CPPE!$A120","v":"Shallow Water Development and Management"},{"$f":"IF(AS$9=\"\",\"\",IF(AS128=0,0,HLOOKUP(AS$9,CPPE!$A$1:$DB$177,AR128,FALSE)))","v":""},{"$f":"IF(AT128=\"\",\"\",IF(AT128=0,\"\",IF(LandUse!$N121=2,\"\",IF(AT128>=$E$5,AS128,\"\"))))","v":""},120,{"$f":"+CPPE!$A120","v":"Shallow Water Development and Management"},{"$f":"IF(AW$9=\"\",\"\",IF(AW128=0,0,HLOOKUP(AW$9,CPPE!$A$1:$DB$177,AV128,FALSE)))","v":""},{"$f":"IF(AX128=\"\",\"\",IF(AX128=0,\"\",IF(LandUse!$N121=2,\"\",IF(AX128>=$E$5,AW128,\"\"))))","v":""},120,{"$f":"+CPPE!$A120","v":"Shallow Water Development and Management"},{"$f":"IF(BA$9=\"\",\"\",IF(BA128=0,0,HLOOKUP(BA$9,CPPE!$A$1:$DB$177,AZ128,FALSE)))","v":""},{"$f":"IF(BB128=\"\",\"\",IF(BB128=0,\"\",IF(LandUse!$N121=2,\"\",IF(BB128>=$E$5,BA128,\"\"))))","v":""},120,{"$f":"+CPPE!$A120","v":"Shallow Water Development and Management"},{"$f":"IF(BE$9=\"\",\"\",IF(BE128=0,0,HLOOKUP(BE$9,CPPE!$A$1:$DB$177,BD128,FALSE)))","v":""},{"$f":"IF(BF128=\"\",\"\",IF(BF128=0,\"\",IF(LandUse!$N121=2,\"\",IF(BF128>=$E$5,BE128,\"\"))))","v":""},120,{"$f":"+CPPE!$A120","v":"Shallow Water Development and Management"},{"$f":"IF(BI$9=\"\",\"\",IF(BI128=0,0,HLOOKUP(BI$9,CPPE!$A$1:$DB$177,BH128,FALSE)))","v":""},{"$f":"IF(BJ128=\"\",\"\",IF(BJ128=0,\"\",IF(LandUse!$N121=2,\"\",IF(BJ128>=$E$5,BI128,\"\"))))","v":""},null,"","","","","","","","","",""]
[null,null,null,null,null,null,null,null,null,null,null,null,null,null,null,null,null,null,null,null,null,null,{"$f":"+CPPE!$A121","v":"Short Term Storage of Animal Waste and Byproducts"},121,{"$f":"+CPPE!$A121","v":"Short Term Storage of Animal Waste and Byproducts"},{"$f":"IF(Y$9=\"\",\"\",IF(Y129=0,0,HLOOKUP(Y$9,CPPE!$A$1:$DB$177,X129,FALSE)))","v":0},{"$f":"IF(Z129=\"\",\"\",IF(Z129=0,\"\",IF(LandUse!$N122=2,\"\",IF(Z129>=$E$5,Y129,\"\"))))","v":""},121,{"$f":"+CPPE!$A121","v":"Short Term Storage of Animal Waste and Byproducts"},{"$f":"IF(AC$9=\"\",\"\",IF(AC129=0,0,HLOOKUP(AC$9,CPPE!$A$1:$DB$177,AB129,FALSE)))","v":1},{"$f":"IF(AD129=\"\",\"\",IF(AD129=0,\"\",IF(LandUse!$N122=2,\"\",IF(AD129>=$E$5,AC129,\"\"))))","v":""},121,{"$f":"+CPPE!$A121","v":"Short Term Storage of Animal Waste and Byproducts"},{"$f":"IF(AG$9=\"\",\"\",IF(AG129=0,0,HLOOKUP(AG$9,CPPE!$A$1:$DB$177,AF129,FALSE)))","v":1},{"$f":"IF(AH129=\"\",\"\",IF(AH129=0,\"\",IF(LandUse!$N122=2,\"\",IF(AH129>=$E$5,AG129,\"\"))))","v":""},121,{"$f":"+CPPE!$A121","v":"Short Term Storage of Animal Waste and Byproducts"},{"$f":"IF(AK$9=\"\",\"\",IF(AK129=0,0,HLOOKUP(AK$9,CPPE!$A$1:$DB$177,AJ129,FALSE)))","v":0},{"$f":"IF(AL129=\"\",\"\",IF(AL129=0,\"\",IF(LandUse!$N122=2,\"\",IF(AL129>=$E$5,AK129,\"\"))))","v":""},121,{"$f":"+CPPE!$A121","v":"Short Term Storage of Animal Waste and Byproducts"},{"$f":"IF(AO$9=\"\",\"\",IF(AO129=0,0,HLOOKUP(AO$9,CPPE!$A$1:$DB$177,AN129,FALSE)))","v":""},{"$f":"IF(AP129=\"\",\"\",IF(AP129=0,\"\",IF(LandUse!$N122=2,\"\",IF(AP129>=$E$5,AO129,\"\"))))","v":""},121,{"$f":"+CPPE!$A121","v":"Short Term Storage of Animal Waste and Byproducts"},{"$f":"IF(AS$9=\"\",\"\",IF(AS129=0,0,HLOOKUP(AS$9,CPPE!$A$1:$DB$177,AR129,FALSE)))","v":""},{"$f":"IF(AT129=\"\",\"\",IF(AT129=0,\"\",IF(LandUse!$N122=2,\"\",IF(AT129>=$E$5,AS129,\"\"))))","v":""},121,{"$f":"+CPPE!$A121","v":"Short Term Storage of Animal Waste and Byproducts"},{"$f":"IF(AW$9=\"\",\"\",IF(AW129=0,0,HLOOKUP(AW$9,CPPE!$A$1:$DB$177,AV129,FALSE)))","v":""},{"$f":"IF(AX129=\"\",\"\",IF(AX129=0,\"\",IF(LandUse!$N122=2,\"\",IF(AX129>=$E$5,AW129,\"\"))))","v":""},121,{"$f":"+CPPE!$A121","v":"Short Term Storage of Animal Waste and Byproducts"},{"$f":"IF(BA$9=\"\",\"\",IF(BA129=0,0,HLOOKUP(BA$9,CPPE!$A$1:$DB$177,AZ129,FALSE)))","v":""},{"$f":"IF(BB129=\"\",\"\",IF(BB129=0,\"\",IF(LandUse!$N122=2,\"\",IF(BB129>=$E$5,BA129,\"\"))))","v":""},121,{"$f":"+CPPE!$A121","v":"Short Term Storage of Animal Waste and Byproducts"},{"$f":"IF(BE$9=\"\",\"\",IF(BE129=0,0,HLOOKUP(BE$9,CPPE!$A$1:$DB$177,BD129,FALSE)))","v":""},{"$f":"IF(BF129=\"\",\"\",IF(BF129=0,\"\",IF(LandUse!$N122=2,\"\",IF(BF129>=$E$5,BE129,\"\"))))","v":""},121,{"$f":"+CPPE!$A121","v":"Short Term Storage of Animal Waste and Byproducts"},{"$f":"IF(BI$9=\"\",\"\",IF(BI129=0,0,HLOOKUP(BI$9,CPPE!$A$1:$DB$177,BH129,FALSE)))","v":""},{"$f":"IF(BJ129=\"\",\"\",IF(BJ129=0,\"\",IF(LandUse!$N122=2,\"\",IF(BJ129>=$E$5,BI129,\"\"))))","v":""},null,"","","","","","","","","",""]
[null,null,null,null,null,null,null,null,null,null,null,null,null,null,null,null,null,null,null,null,null,null,{"$f":"+CPPE!$A122","v":"Silvopasture"},122,{"$f":"+CPPE!$A122","v":"Silvopasture"},{"$f":"IF(Y$9=\"\",\"\",IF(Y130=0,0,HLOOKUP(Y$9,CPPE!$A$1:$DB$177,X130,FALSE)))","v":4},{"$f":"IF(Z130=\"\",\"\",IF(Z130=0,\"\",IF(LandUse!$N123=2,\"\",IF(Z130>=$E$5,Y130,\"\"))))","v":""},122,{"$f":"+CPPE!$A122","v":"Silvopasture"},{"$f":"IF(AC$9=\"\",\"\",IF(AC130=0,0,HLOOKUP(AC$9,CPPE!$A$1:$DB$177,AB130,FALSE)))","v":0},{"$f":"IF(AD130=\"\",\"\",IF(AD130=0,\"\",IF(LandUse!$N123=2,\"\",IF(AD130>=$E$5,AC130,\"\"))))","v":""},122,{"$f":"+CPPE!$A122","v":"Silvopasture"},{"$f":"IF(AG$9=\"\",\"\",IF(AG130=0,0,HLOOKUP(AG$9,CPPE!$A$1:$DB$177,AF130,FALSE)))","v":3},{"$f":"IF(AH130=\"\",\"\",IF(AH130=0,\"\",IF(LandUse!$N123=2,\"\",IF(AH130>=$E$5,AG130,\"\"))))","v":""},122,{"$f":"+CPPE!$A122","v":"Silvopasture"},{"$f":"IF(AK$9=\"\",\"\",IF(AK130=0,0,HLOOKUP(AK$9,CPPE!$A$1:$DB$177,AJ130,FALSE)))","v":2},{"$f":"IF(AL130=\"\",\"\",IF(AL130=0,\"\",IF(LandUse!$N123=2,\"\",IF(AL130>=$E$5,AK130,\"\"))))","v":""},122,{"$f":"+CPPE!$A122","v":"Silvopasture"},{"$f":"IF(AO$9=\"\",\"\",IF(AO130=0,0,HLOOKUP(AO$9,CPPE!$A$1:$DB$177,AN130,FALSE)))","v":""},{"$f":"IF(AP130=\"\",\"\",IF(AP130=0,\"\",IF(LandUse!$N123=2,\"\",IF(AP130>=$E$5,AO130,\"\"))))","v":""},122,{"$f":"+CPPE!$A122","v":"Silvopasture"},{"$f":"IF(AS$9=\"\",\"\",IF(AS130=0,0,HLOOKUP(AS$9,CPPE!$A$1:$DB$177,AR130,FALSE)))","v":""},{"$f":"IF(AT130=\"\",\"\",IF(AT130=0,\"\",IF(LandUse!$N123=2,\"\",IF(AT130>=$E$5,AS130,\"\"))))","v":""},122,{"$f":"+CPPE!$A122","v":"Silvopasture"},{"$f":"IF(AW$9=\"\",\"\",IF(AW130=0,0,HLOOKUP(AW$9,CPPE!$A$1:$DB$177,AV130,FALSE)))","v":""},{"$f":"IF(AX130=\"\",\"\",IF(AX130=0,\"\",IF(LandUse!$N123=2,\"\",IF(AX130>=$E$5,AW130,\"\"))))","v":""},122,{"$f":"+CPPE!$A122","v":"Silvopasture"},{"$f":"IF(BA$9=\"\",\"\",IF(BA130=0,0,HLOOKUP(BA$9,CPPE!$A$1:$DB$177,AZ130,FALSE)))","v":""},{"$f":"IF(BB130=\"\",\"\",IF(BB130=0,\"\",IF(LandUse!$N123=2,\"\",IF(BB130>=$E$5,BA130,\"\"))))","v":""},122,{"$f":"+CPPE!$A122","v":"Silvopasture"},{"$f":"IF(BE$9=\"\",\"\",IF(BE130=0,0,HLOOKUP(BE$9,CPPE!$A$1:$DB$177,BD130,FALSE)))","v":""},{"$f":"IF(BF130=\"\",\"\",IF(BF130=0,\"\",IF(LandUse!$N123=2,\"\",IF(BF130>=$E$5,BE130,\"\"))))","v":""},122,{"$f":"+CPPE!$A122","v":"Silvopasture"},{"$f":"IF(BI$9=\"\",\"\",IF(BI130=0,0,HLOOKUP(BI$9,CPPE!$A$1:$DB$177,BH130,FALSE)))","v":""},{"$f":"IF(BJ130=\"\",\"\",IF(BJ130=0,\"\",IF(LandUse!$N123=2,\"\",IF(BJ130>=$E$5,BI130,\"\"))))","v":""},null,"","","","","","","","","",""]
[null,null,null,null,null,null,null,null,null,null,null,null,null,null,null,null,null,null,null,null,null,null,{"$f":"+CPPE!$A123","v":"Sinkhole Treatment"},123,{"$f":"+CPPE!$A123","v":"Sinkhole Treatment"},{"$f":"IF(Y$9=\"\",\"\",IF(Y131=0,0,HLOOKUP(Y$9,CPPE!$A$1:$DB$177,X131,FALSE)))","v":0},{"$f":"IF(Z131=\"\",\"\",IF(Z131=0,\"\",IF(LandUse!$N124=2,\"\",IF(Z131>=$E$5,Y131,\"\"))))","v":""},123,{"$f":"+CPPE!$A123","v":"Sinkhole Treatment"},{"$f":"IF(AC$9=\"\",\"\",IF(AC131=0,0,HLOOKUP(AC$9,CPPE!$A$1:$DB$177,AB131,FALSE)))","v":0},{"$f":"IF(AD131=\"\",\"\",IF(AD131=0,\"\",IF(LandUse!$N124=2,\"\",IF(AD131>=$E$5,AC131,\"\"))))","v":""},123,{"$f":"+CPPE!$A123","v":"Sinkhole Treatment"},{"$f":"IF(AG$9=\"\",\"\",IF(AG131=0,0,HLOOKUP(AG$9,CPPE!$A$1:$DB$177,AF131,FALSE)))","v":0},{"$f":"IF(AH131=\"\",\"\",IF(AH131=0,\"\",IF(LandUse!$N124=2,\"\",IF(AH131>=$E$5,AG131,\"\"))))","v":""},123,{"$f":"+CPPE!$A123","v":"Sinkhole Treatment"},{"$f":"IF(AK$9=\"\",\"\",IF(AK131=0,0,HLOOKUP(AK$9,CPPE!$A$1:$DB$177,AJ131,FALSE)))","v":0},{"$f":"IF(AL131=\"\",\"\",IF(AL131=0,\"\",IF(LandUse!$N124=2,\"\",IF(AL131>=$E$5,AK131,\"\"))))","v":""},123,{"$f":"+CPPE!$A123","v":"Sinkhole Treatment"},{"$f":"IF(AO$9=\"\",\"\",IF(AO131=0,0,HLOOKUP(AO$9,CPPE!$A$1:$DB$177,AN131,FALSE)))","v":""},{"$f":"IF(AP131=\"\",\"\",IF(AP131=0,\"\",IF(LandUse!$N124=2,\"\",IF(AP131>=$E$5,AO131,\"\"))))","v":""},123,{"$f":"+CPPE!$A123","v":"Sinkhole Treatment"},{"$f":"IF(AS$9=\"\",\"\",IF(AS131=0,0,HLOOKUP(AS$9,CPPE!$A$1:$DB$177,AR131,FALSE)))","v":""},{"$f":"IF(AT131=\"\",\"\",IF(AT131=0,\"\",IF(LandUse!$N124=2,\"\",IF(AT131>=$E$5,AS131,\"\"))))","v":""},123,{"$f":"+CPPE!$A123","v":"Sinkhole Treatment"},{"$f":"IF(AW$9=\"\",\"\",IF(AW131=0,0,HLOOKUP(AW$9,CPPE!$A$1:$DB$177,AV131,FALSE)))","v":""},{"$f":"IF(AX131=\"\",\"\",IF(AX131=0,\"\",IF(LandUse!$N124=2,\"\",IF(AX131>=$E$5,AW131,\"\"))))","v":""},123,{"$f":"+CPPE!$A123","v":"Sinkhole Treatment"},{"$f":"IF(BA$9=\"\",\"\",IF(BA131=0,0,HLOOKUP(BA$9,CPPE!$A$1:$DB$177,AZ131,FALSE)))","v":""},{"$f":"IF(BB131=\"\",\"\",IF(BB131=0,\"\",IF(LandUse!$N124=2,\"\",IF(BB131>=$E$5,BA131,\"\"))))","v":""},123,{"$f":"+CPPE!$A123","v":"Sinkhole Treatment"},{"$f":"IF(BE$9=\"\",\"\",IF(BE131=0,0,HLOOKUP(BE$9,CPPE!$A$1:$DB$177,BD131,FALSE)))","v":""},{"$f":"IF(BF131=\"\",\"\",IF(BF131=0,\"\",IF(LandUse!$N124=2,\"\",IF(BF131>=$E$5,BE131,\"\"))))","v":""},123,{"$f":"+CPPE!$A123","v":"Sinkhole Treatment"},{"$f":"IF(BI$9=\"\",\"\",IF(BI131=0,0,HLOOKUP(BI$9,CPPE!$A$1:$DB$177,BH131,FALSE)))","v":""},{"$f":"IF(BJ131=\"\",\"\",IF(BJ131=0,\"\",IF(LandUse!$N124=2,\"\",IF(BJ131>=$E$5,BI131,\"\"))))","v":""},null,"","","","","","","","","",""]
[null,null,null,null,null,null,null,null,null,null,null,null,null,null,null,null,null,null,null,null,null,null,{"$f":"+CPPE!$A124","v":"Soil Carbon Amendment"},124,{"$f":"+CPPE!$A124","v":"Soil Carbon Amendment"},{"$f":"IF(Y$9=\"\",\"\",IF(Y132=0,0,HLOOKUP(Y$9,CPPE!$A$1:$DB$177,X132,FALSE)))","v":0},{"$f":"IF(Z132=\"\",\"\",IF(Z132=0,\"\",IF(LandUse!$N125=2,\"\",IF(Z132>=$E$5,Y132,\"\"))))","v":""},124,{"$f":"+CPPE!$A124","v":"Soil Carbon Amendment"},{"$f":"IF(AC$9=\"\",\"\",IF(AC132=0,0,HLOOKUP(AC$9,CPPE!$A$1:$DB$177,AB132,FALSE)))","v":1},{"$f":"IF(AD132=\"\",\"\",IF(AD132=0,\"\",IF(LandUse!$N125=2,\"\",IF(AD132>=$E$5,AC132,\"\"))))","v":""},124,{"$f":"+CPPE!$A124","v":"Soil Carbon Amendment"},{"$f":"IF(AG$9=\"\",\"\",IF(AG132=0,0,HLOOKUP(AG$9,CPPE!$A$1:$DB$177,AF132,FALSE)))","v":4},{"$f":"IF(AH132=\"\",\"\",IF(AH132=0,\"\",IF(LandUse!$N125=2,\"\",IF(AH132>=$E$5,AG132,\"\"))))","v":""},124,{"$f":"+CPPE!$A124","v":"Soil Carbon Amendment"},{"$f":"IF(AK$9=\"\",\"\",IF(AK132=0,0,HLOOKUP(AK$9,CPPE!$A$1:$DB$177,AJ132,FALSE)))","v":4},{"$f":"IF(AL132=\"\",\"\",IF(AL132=0,\"\",IF(LandUse!$N125=2,\"\",IF(AL132>=$E$5,AK132,\"\"))))","v":""},124,{"$f":"+CPPE!$A124","v":"Soil Carbon Amendment"},{"$f":"IF(AO$9=\"\",\"\",IF(AO132=0,0,HLOOKUP(AO$9,CPPE!$A$1:$DB$177,AN132,FALSE)))","v":""},{"$f":"IF(AP132=\"\",\"\",IF(AP132=0,\"\",IF(LandUse!$N125=2,\"\",IF(AP132>=$E$5,AO132,\"\"))))","v":""},124,{"$f":"+CPPE!$A124","v":"Soil Carbon Amendment"},{"$f":"IF(AS$9=\"\",\"\",IF(AS132=0,0,HLOOKUP(AS$9,CPPE!$A$1:$DB$177,AR132,FALSE)))","v":""},{"$f":"IF(AT132=\"\",\"\",IF(AT132=0,\"\",IF(LandUse!$N125=2,\"\",IF(AT132>=$E$5,AS132,\"\"))))","v":""},124,{"$f":"+CPPE!$A124","v":"Soil Carbon Amendment"},{"$f":"IF(AW$9=\"\",\"\",IF(AW132=0,0,HLOOKUP(AW$9,CPPE!$A$1:$DB$177,AV132,FALSE)))","v":""},{"$f":"IF(AX132=\"\",\"\",IF(AX132=0,\"\",IF(LandUse!$N125=2,\"\",IF(AX132>=$E$5,AW132,\"\"))))","v":""},124,{"$f":"+CPPE!$A124","v":"Soil Carbon Amendment"},{"$f":"IF(BA$9=\"\",\"\",IF(BA132=0,0,HLOOKUP(BA$9,CPPE!$A$1:$DB$177,AZ132,FALSE)))","v":""},{"$f":"IF(BB132=\"\",\"\",IF(BB132=0,\"\",IF(LandUse!$N125=2,\"\",IF(BB132>=$E$5,BA132,\"\"))))","v":""},124,{"$f":"+CPPE!$A124","v":"Soil Carbon Amendment"},{"$f":"IF(BE$9=\"\",\"\",IF(BE132=0,0,HLOOKUP(BE$9,CPPE!$A$1:$DB$177,BD132,FALSE)))","v":""},{"$f":"IF(BF132=\"\",\"\",IF(BF132=0,\"\",IF(LandUse!$N125=2,\"\",IF(BF132>=$E$5,BE132,\"\"))))","v":""},124,{"$f":"+CPPE!$A124","v":"Soil Carbon Amendment"},{"$f":"IF(BI$9=\"\",\"\",IF(BI132=0,0,HLOOKUP(BI$9,CPPE!$A$1:$DB$177,BH132,FALSE)))","v":""},{"$f":"IF(BJ132=\"\",\"\",IF(BJ132=0,\"\",IF(LandUse!$N125=2,\"\",IF(BJ132>=$E$5,BI132,\"\"))))","v":""},null,"","","","","","","","","",""]
[null,null,null,null,null,null,null,null,null,null,null,null,null,null,null,null,null,null,null,null,null,null,{"$f":"+CPPE!$A125","v":"Spoil Disposal"},125,{"$f":"+CPPE!$A125","v":"Spoil Disposal"},{"$f":"IF(Y$9=\"\",\"\",IF(Y133=0,0,HLOOKUP(Y$9,CPPE!$A$1:$DB$177,X133,FALSE)))","v":0},{"$f":"IF(Z133=\"\",\"\",IF(Z133=0,\"\",IF(LandUse!$N126=2,\"\",IF(Z133>=$E$5,Y133,\"\"))))","v":""},125,{"$f":"+CPPE!$A125","v":"Spoil Disposal"},{"$f":"IF(AC$9=\"\",\"\",IF(AC133=0,0,HLOOKUP(AC$9,CPPE!$A$1:$DB$177,AB133,FALSE)))","v":-1},{"$f":"IF(AD133=\"\",\"\",IF(AD133=0,\"\",IF(LandUse!$N126=2,\"\",IF(AD133>=$E$5,AC133,\"\"))))","v":""},125,{"$f":"+CPPE!$A125","v":"Spoil Disposal"},{"$f":"IF(AG$9=\"\",\"\",IF(AG133=0,0,HLOOKUP(AG$9,CPPE!$A$1:$DB$177,AF133,FALSE)))","v":1},{"$f":"IF(AH133=\"\",\"\",IF(AH133=0,\"\",IF(LandUse!$N126=2,\"\",IF(AH133>=$E$5,AG133,\"\"))))","v":""},125,{"$f":"+CPPE!$A125","v":"Spoil Disposal"},{"$f":"IF(AK$9=\"\",\"\",IF(AK133=0,0,HLOOKUP(AK$9,CPPE!$A$1:$DB$177,AJ133,FALSE)))","v":0},{"$f":"IF(AL133=\"\",\"\",IF(AL133=0,\"\",IF(LandUse!$N126=2,\"\",IF(AL133>=$E$5,AK133,\"\"))))","v":""},125,{"$f":"+CPPE!$A125","v":"Spoil Disposal"},{"$f":"IF(AO$9=\"\",\"\",IF(AO133=0,0,HLOOKUP(AO$9,CPPE!$A$1:$DB$177,AN133,FALSE)))","v":""},{"$f":"IF(AP133=\"\",\"\",IF(AP133=0,\"\",IF(LandUse!$N126=2,\"\",IF(AP133>=$E$5,AO133,\"\"))))","v":""},125,{"$f":"+CPPE!$A125","v":"Spoil Disposal"},{"$f":"IF(AS$9=\"\",\"\",IF(AS133=0,0,HLOOKUP(AS$9,CPPE!$A$1:$DB$177,AR133,FALSE)))","v":""},{"$f":"IF(AT133=\"\",\"\",IF(AT133=0,\"\",IF(LandUse!$N126=2,\"\",IF(AT133>=$E$5,AS133,\"\"))))","v":""},125,{"$f":"+CPPE!$A125","v":"Spoil Disposal"},{"$f":"IF(AW$9=\"\",\"\",IF(AW133=0,0,HLOOKUP(AW$9,CPPE!$A$1:$DB$177,AV133,FALSE)))","v":""},{"$f":"IF(AX133=\"\",\"\",IF(AX133=0,\"\",IF(LandUse!$N126=2,\"\",IF(AX133>=$E$5,AW133,\"\"))))","v":""},125,{"$f":"+CPPE!$A125","v":"Spoil Disposal"},{"$f":"IF(BA$9=\"\",\"\",IF(BA133=0,0,HLOOKUP(BA$9,CPPE!$A$1:$DB$177,AZ133,FALSE)))","v":""},{"$f":"IF(BB133=\"\",\"\",IF(BB133=0,\"\",IF(LandUse!$N126=2,\"\",IF(BB133>=$E$5,BA133,\"\"))))","v":""},125,{"$f":"+CPPE!$A125","v":"Spoil Disposal"},{"$f":"IF(BE$9=\"\",\"\",IF(BE133=0,0,HLOOKUP(BE$9,CPPE!$A$1:$DB$177,BD133,FALSE)))","v":""},{"$f":"IF(BF133=\"\",\"\",IF(BF133=0,\"\",IF(LandUse!$N126=2,\"\",IF(BF133>=$E$5,BE133,\"\"))))","v":""},125,{"$f":"+CPPE!$A125","v":"Spoil Disposal"},{"$f":"IF(BI$9=\"\",\"\",IF(BI133=0,0,HLOOKUP(BI$9,CPPE!$A$1:$DB$177,BH133,FALSE)))","v":""},{"$f":"IF(BJ133=\"\",\"\",IF(BJ133=0,\"\",IF(LandUse!$N126=2,\"\",IF(BJ133>=$E$5,BI133,\"\"))))","v":""},null,"","","","","","","","","",""]
[null,null,null,null,null,null,null,null,null,null,null,null,null,null,null,null,null,null,null,null,null,null,{"$f":"+CPPE!$A126","v":"Spring Development"},126,{"$f":"+CPPE!$A126","v":"Spring Development"},{"$f":"IF(Y$9=\"\",\"\",IF(Y134=0,0,HLOOKUP(Y$9,CPPE!$A$1:$DB$177,X134,FALSE)))","v":0},{"$f":"IF(Z134=\"\",\"\",IF(Z134=0,\"\",IF(LandUse!$N127=2,\"\",IF(Z134>=$E$5,Y134,\"\"))))","v":""},126,{"$f":"+CPPE!$A126","v":"Spring Development"},{"$f":"IF(AC$9=\"\",\"\",IF(AC134=0,0,HLOOKUP(AC$9,CPPE!$A$1:$DB$177,AB134,FALSE)))","v":-1},{"$f":"IF(AD134=\"\",\"\",IF(AD134=0,\"\",IF(LandUse!$N127=2,\"\",IF(AD134>=$E$5,AC134,\"\"))))","v":""},126,{"$f":"+CPPE!$A126","v":"Spring Development"},{"$f":"IF(AG$9=\"\",\"\",IF(AG134=0,0,HLOOKUP(AG$9,CPPE!$A$1:$DB$177,AF134,FALSE)))","v":0},{"$f":"IF(AH134=\"\",\"\",IF(AH134=0,\"\",IF(LandUse!$N127=2,\"\",IF(AH134>=$E$5,AG134,\"\"))))","v":""},126,{"$f":"+CPPE!$A126","v":"Spring Development"},{"$f":"IF(AK$9=\"\",\"\",IF(AK134=0,0,HLOOKUP(AK$9,CPPE!$A$1:$DB$177,AJ134,FALSE)))","v":0},{"$f":"IF(AL134=\"\",\"\",IF(AL134=0,\"\",IF(LandUse!$N127=2,\"\",IF(AL134>=$E$5,AK134,\"\"))))","v":""},126,{"$f":"+CPPE!$A126","v":"Spring Development"},{"$f":"IF(AO$9=\"\",\"\",IF(AO134=0,0,HLOOKUP(AO$9,CPPE!$A$1:$DB$177,AN134,FALSE)))","v":""},{"$f":"IF(AP134=\"\",\"\",IF(AP134=0,\"\",IF(LandUse!$N127=2,\"\",IF(AP134>=$E$5,AO134,\"\"))))","v":""},126,{"$f":"+CPPE!$A126","v":"Spring Development"},{"$f":"IF(AS$9=\"\",\"\",IF(AS134=0,0,HLOOKUP(AS$9,CPPE!$A$1:$DB$177,AR134,FALSE)))","v":""},{"$f":"IF(AT134=\"\",\"\",IF(AT134=0,\"\",IF(LandUse!$N127=2,\"\",IF(AT134>=$E$5,AS134,\"\"))))","v":""},126,{"$f":"+CPPE!$A126","v":"Spring Development"},{"$f":"IF(AW$9=\"\",\"\",IF(AW134=0,0,HLOOKUP(AW$9,CPPE!$A$1:$DB$177,AV134,FALSE)))","v":""},{"$f":"IF(AX134=\"\",\"\",IF(AX134=0,\"\",IF(LandUse!$N127=2,\"\",IF(AX134>=$E$5,AW134,\"\"))))","v":""},126,{"$f":"+CPPE!$A126","v":"Spring Development"},{"$f":"IF(BA$9=\"\",\"\",IF(BA134=0,0,HLOOKUP(BA$9,CPPE!$A$1:$DB$177,AZ134,FALSE)))","v":""},{"$f":"IF(BB134=\"\",\"\",IF(BB134=0,\"\",IF(LandUse!$N127=2,\"\",IF(BB134>=$E$5,BA134,\"\"))))","v":""},126,{"$f":"+CPPE!$A126","v":"Spring Development"},{"$f":"IF(BE$9=\"\",\"\",IF(BE134=0,0,HLOOKUP(BE$9,CPPE!$A$1:$DB$177,BD134,FALSE)))","v":""},{"$f":"IF(BF134=\"\",\"\",IF(BF134=0,\"\",IF(LandUse!$N127=2,\"\",IF(BF134>=$E$5,BE134,\"\"))))","v":""},126,{"$f":"+CPPE!$A126","v":"Spring Development"},{"$f":"IF(BI$9=\"\",\"\",IF(BI134=0,0,HLOOKUP(BI$9,CPPE!$A$1:$DB$177,BH134,FALSE)))","v":""},{"$f":"IF(BJ134=\"\",\"\",IF(BJ134=0,\"\",IF(LandUse!$N127=2,\"\",IF(BJ134>=$E$5,BI134,\"\"))))","v":""},null,"","","","","","","","","",""]
[null,null,null,null,null,null,null,null,null,null,null,null,null,null,null,null,null,null,null,null,null,null,{"$f":"+CPPE!$A127","v":"Sprinkler System"},127,{"$f":"+CPPE!$A127","v":"Sprinkler System"},{"$f":"IF(Y$9=\"\",\"\",IF(Y135=0,0,HLOOKUP(Y$9,CPPE!$A$1:$DB$177,X135,FALSE)))","v":0},{"$f":"IF(Z135=\"\",\"\",IF(Z135=0,\"\",IF(LandUse!$N128=2,\"\",IF(Z135>=$E$5,Y135,\"\"))))","v":""},127,{"$f":"+CPPE!$A127","v":"Sprinkler System"},{"$f":"IF(AC$9=\"\",\"\",IF(AC135=0,0,HLOOKUP(AC$9,CPPE!$A$1:$DB$177,AB135,FALSE)))","v":-1},{"$f":"IF(AD135=\"\",\"\",IF(AD135=0,\"\",IF(LandUse!$N128=2,\"\",IF(AD135>=$E$5,AC135,\"\"))))","v":""},127,{"$f":"+CPPE!$A127","v":"Sprinkler System"},{"$f":"IF(AG$9=\"\",\"\",IF(AG135=0,0,HLOOKUP(AG$9,CPPE!$A$1:$DB$177,AF135,FALSE)))","v":0},{"$f":"IF(AH135=\"\",\"\",IF(AH135=0,\"\",IF(LandUse!$N128=2,\"\",IF(AH135>=$E$5,AG135,\"\"))))","v":""},127,{"$f":"+CPPE!$A127","v":"Sprinkler System"},{"$f":"IF(AK$9=\"\",\"\",IF(AK135=0,0,HLOOKUP(AK$9,CPPE!$A$1:$DB$177,AJ135,FALSE)))","v":0},{"$f":"IF(AL135=\"\",\"\",IF(AL135=0,\"\",IF(LandUse!$N128=2,\"\",IF(AL135>=$E$5,AK135,\"\"))))","v":""},127,{"$f":"+CPPE!$A127","v":"Sprinkler System"},{"$f":"IF(AO$9=\"\",\"\",IF(AO135=0,0,HLOOKUP(AO$9,CPPE!$A$1:$DB$177,AN135,FALSE)))","v":""},{"$f":"IF(AP135=\"\",\"\",IF(AP135=0,\"\",IF(LandUse!$N128=2,\"\",IF(AP135>=$E$5,AO135,\"\"))))","v":""},127,{"$f":"+CPPE!$A127","v":"Sprinkler System"},{"$f":"IF(AS$9=\"\",\"\",IF(AS135=0,0,HLOOKUP(AS$9,CPPE!$A$1:$DB$177,AR135,FALSE)))","v":""},{"$f":"IF(AT135=\"\",\"\",IF(AT135=0,\"\",IF(LandUse!$N128=2,\"\",IF(AT135>=$E$5,AS135,\"\"))))","v":""},127,{"$f":"+CPPE!$A127","v":"Sprinkler System"},{"$f":"IF(AW$9=\"\",\"\",IF(AW135=0,0,HLOOKUP(AW$9,CPPE!$A$1:$DB$177,AV135,FALSE)))","v":""},{"$f":"IF(AX135=\"\",\"\",IF(AX135=0,\"\",IF(LandUse!$N128=2,\"\",IF(AX135>=$E$5,AW135,\"\"))))","v":""},127,{"$f":"+CPPE!$A127","v":"Sprinkler System"},{"$f":"IF(BA$9=\"\",\"\",IF(BA135=0,0,HLOOKUP(BA$9,CPPE!$A$1:$DB$177,AZ135,FALSE)))","v":""},{"$f":"IF(BB135=\"\",\"\",IF(BB135=0,\"\",IF(LandUse!$N128=2,\"\",IF(BB135>=$E$5,BA135,\"\"))))","v":""},127,{"$f":"+CPPE!$A127","v":"Sprinkler System"},{"$f":"IF(BE$9=\"\",\"\",IF(BE135=0,0,HLOOKUP(BE$9,CPPE!$A$1:$DB$177,BD135,FALSE)))","v":""},{"$f":"IF(BF135=\"\",\"\",IF(BF135=0,\"\",IF(LandUse!$N128=2,\"\",IF(BF135>=$E$5,BE135,\"\"))))","v":""},127,{"$f":"+CPPE!$A127","v":"Sprinkler System"},{"$f":"IF(BI$9=\"\",\"\",IF(BI135=0,0,HLOOKUP(BI$9,CPPE!$A$1:$DB$177,BH135,FALSE)))","v":""},{"$f":"IF(BJ135=\"\",\"\",IF(BJ135=0,\"\",IF(LandUse!$N128=2,\"\",IF(BJ135>=$E$5,BI135,\"\"))))","v":""},null,"","","","","","","","","",""]
[null,null,null,null,null,null,null,null,null,null,null,null,null,null,null,null,null,null,null,null,null,null,{"$f":"+CPPE!$A128","v":"Stormwater Runoff Control"},128,{"$f":"+CPPE!$A128","v":"Stormwater Runoff Control"},{"$f":"IF(Y$9=\"\",\"\",IF(Y136=0,0,HLOOKUP(Y$9,CPPE!$A$1:$DB$177,X136,FALSE)))","v":0},{"$f":"IF(Z136=\"\",\"\",IF(Z136=0,\"\",IF(LandUse!$N129=2,\"\",IF(Z136>=$E$5,Y136,\"\"))))","v":""},128,{"$f":"+CPPE!$A128","v":"Stormwater Runoff Control"},{"$f":"IF(AC$9=\"\",\"\",IF(AC136=0,0,HLOOKUP(AC$9,CPPE!$A$1:$DB$177,AB136,FALSE)))","v":1},{"$f":"IF(AD136=\"\",\"\",IF(AD136=0,\"\",IF(LandUse!$N129=2,\"\",IF(AD136>=$E$5,AC136,\"\"))))","v":""},128,{"$f":"+CPPE!$A128","v":"Stormwater Runoff Control"},{"$f":"IF(AG$9=\"\",\"\",IF(AG136=0,0,HLOOKUP(AG$9,CPPE!$A$1:$DB$177,AF136,FALSE)))","v":0},{"$f":"IF(AH136=\"\",\"\",IF(AH136=0,\"\",IF(LandUse!$N129=2,\"\",IF(AH136>=$E$5,AG136,\"\"))))","v":""},128,{"$f":"+CPPE!$A128","v":"Stormwater Runoff Control"},{"$f":"IF(AK$9=\"\",\"\",IF(AK136=0,0,HLOOKUP(AK$9,CPPE!$A$1:$DB$177,AJ136,FALSE)))","v":0},{"$f":"IF(AL136=\"\",\"\",IF(AL136=0,\"\",IF(LandUse!$N129=2,\"\",IF(AL136>=$E$5,AK136,\"\"))))","v":""},128,{"$f":"+CPPE!$A128","v":"Stormwater Runoff Control"},{"$f":"IF(AO$9=\"\",\"\",IF(AO136=0,0,HLOOKUP(AO$9,CPPE!$A$1:$DB$177,AN136,FALSE)))","v":""},{"$f":"IF(AP136=\"\",\"\",IF(AP136=0,\"\",IF(LandUse!$N129=2,\"\",IF(AP136>=$E$5,AO136,\"\"))))","v":""},128,{"$f":"+CPPE!$A128","v":"Stormwater Runoff Control"},{"$f":"IF(AS$9=\"\",\"\",IF(AS136=0,0,HLOOKUP(AS$9,CPPE!$A$1:$DB$177,AR136,FALSE)))","v":""},{"$f":"IF(AT136=\"\",\"\",IF(AT136=0,\"\",IF(LandUse!$N129=2,\"\",IF(AT136>=$E$5,AS136,\"\"))))","v":""},128,{"$f":"+CPPE!$A128","v":"Stormwater Runoff Control"},{"$f":"IF(AW$9=\"\",\"\",IF(AW136=0,0,HLOOKUP(AW$9,CPPE!$A$1:$DB$177,AV136,FALSE)))","v":""},{"$f":"IF(AX136=\"\",\"\",IF(AX136=0,\"\",IF(LandUse!$N129=2,\"\",IF(AX136>=$E$5,AW136,\"\"))))","v":""},128,{"$f":"+CPPE!$A128","v":"Stormwater Runoff Control"},{"$f":"IF(BA$9=\"\",\"\",IF(BA136=0,0,HLOOKUP(BA$9,CPPE!$A$1:$DB$177,AZ136,FALSE)))","v":""},{"$f":"IF(BB136=\"\",\"\",IF(BB136=0,\"\",IF(LandUse!$N129=2,\"\",IF(BB136>=$E$5,BA136,\"\"))))","v":""},128,{"$f":"+CPPE!$A128","v":"Stormwater Runoff Control"},{"$f":"IF(BE$9=\"\",\"\",IF(BE136=0,0,HLOOKUP(BE$9,CPPE!$A$1:$DB$177,BD136,FALSE)))","v":""},{"$f":"IF(BF136=\"\",\"\",IF(BF136=0,\"\",IF(LandUse!$N129=2,\"\",IF(BF136>=$E$5,BE136,\"\"))))","v":""},128,{"$f":"+CPPE!$A128","v":"Stormwater Runoff Control"},{"$f":"IF(BI$9=\"\",\"\",IF(BI136=0,0,HLOOKUP(BI$9,CPPE!$A$1:$DB$177,BH136,FALSE)))","v":""},{"$f":"IF(BJ136=\"\",\"\",IF(BJ136=0,\"\",IF(LandUse!$N129=2,\"\",IF(BJ136>=$E$5,BI136,\"\"))))","v":""},null,"","","","","","","","","",""]
[null,null,null,null,null,null,null,null,null,null,null,null,null,null,null,null,null,null,null,null,null,null,{"$f":"+CPPE!$A129","v":"Stream Crossing"},129,{"$f":"+CPPE!$A129","v":"Stream Crossing"},{"$f":"IF(Y$9=\"\",\"\",IF(Y137=0,0,HLOOKUP(Y$9,CPPE!$A$1:$DB$177,X137,FALSE)))","v":0},{"$f":"IF(Z137=\"\",\"\",IF(Z137=0,\"\",IF(LandUse!$N130=2,\"\",IF(Z137>=$E$5,Y137,\"\"))))","v":""},129,{"$f":"+CPPE!$A129","v":"Stream Crossing"},{"$f":"IF(AC$9=\"\",\"\",IF(AC137=0,0,HLOOKUP(AC$9,CPPE!$A$1:$DB$177,AB137,FALSE)))","v":0},{"$f":"IF(AD137=\"\",\"\",IF(AD137=0,\"\",IF(LandUse!$N130=2,\"\",IF(AD137>=$E$5,AC137,\"\"))))","v":""},129,{"$f":"+CPPE!$A129","v":"Stream Crossing"},{"$f":"IF(AG$9=\"\",\"\",IF(AG137=0,0,HLOOKUP(AG$9,CPPE!$A$1:$DB$177,AF137,FALSE)))","v":0},{"$f":"IF(AH137=\"\",\"\",IF(AH137=0,\"\",IF(LandUse!$N130=2,\"\",IF(AH137>=$E$5,AG137,\"\"))))","v":""},129,{"$f":"+CPPE!$A129","v":"Stream Crossing"},{"$f":"IF(AK$9=\"\",\"\",IF(AK137=0,0,HLOOKUP(AK$9,CPPE!$A$1:$DB$177,AJ137,FALSE)))","v":0},{"$f":"IF(AL137=\"\",\"\",IF(AL137=0,\"\",IF(LandUse!$N130=2,\"\",IF(AL137>=$E$5,AK137,\"\"))))","v":""},129,{"$f":"+CPPE!$A129","v":"Stream Crossing"},{"$f":"IF(AO$9=\"\",\"\",IF(AO137=0,0,HLOOKUP(AO$9,CPPE!$A$1:$DB$177,AN137,FALSE)))","v":""},{"$f":"IF(AP137=\"\",\"\",IF(AP137=0,\"\",IF(LandUse!$N130=2,\"\",IF(AP137>=$E$5,AO137,\"\"))))","v":""},129,{"$f":"+CPPE!$A129","v":"Stream Crossing"},{"$f":"IF(AS$9=\"\",\"\",IF(AS137=0,0,HLOOKUP(AS$9,CPPE!$A$1:$DB$177,AR137,FALSE)))","v":""},{"$f":"IF(AT137=\"\",\"\",IF(AT137=0,\"\",IF(LandUse!$N130=2,\"\",IF(AT137>=$E$5,AS137,\"\"))))","v":""},129,{"$f":"+CPPE!$A129","v":"Stream Crossing"},{"$f":"IF(AW$9=\"\",\"\",IF(AW137=0,0,HLOOKUP(AW$9,CPPE!$A$1:$DB$177,AV137,FALSE)))","v":""},{"$f":"IF(AX137=\"\",\"\",IF(AX137=0,\"\",IF(LandUse!$N130=2,\"\",IF(AX137>=$E$5,AW137,\"\"))))","v":""},129,{"$f":"+CPPE!$A129","v":"Stream Crossing"},{"$f":"IF(BA$9=\"\",\"\",IF(BA137=0,0,HLOOKUP(BA$9,CPPE!$A$1:$DB$177,AZ137,FALSE)))","v":""},{"$f":"IF(BB137=\"\",\"\",IF(BB137=0,\"\",IF(LandUse!$N130=2,\"\",IF(BB137>=$E$5,BA137,\"\"))))","v":""},129,{"$f":"+CPPE!$A129","v":"Stream Crossing"},{"$f":"IF(BE$9=\"\",\"\",IF(BE137=0,0,HLOOKUP(BE$9,CPPE!$A$1:$DB$177,BD137,FALSE)))","v":""},{"$f":"IF(BF137=\"\",\"\",IF(BF137=0,\"\",IF(LandUse!$N130=2,\"\",IF(BF137>=$E$5,BE137,\"\"))))","v":""},129,{"$f":"+CPPE!$A129","v":"Stream Crossing"},{"$f":"IF(BI$9=\"\",\"\",IF(BI137=0,0,HLOOKUP(BI$9,CPPE!$A$1:$DB$177,BH137,FALSE)))","v":""},{"$f":"IF(BJ137=\"\",\"\",IF(BJ137=0,\"\",IF(LandUse!$N130=2,\"\",IF(BJ137>=$E$5,BI137,\"\"))))","v":""},null,"","","","","","","","","",""]
[null,null,null,null,null,null,null,null,null,null,null,null,null,null,null,null,null,null,null,null,null,null,{"$f":"+CPPE!$A130","v":"Stream Habitat Improvement and Management"},130,{"$f":"+CPPE!$A130","v":"Stream Habitat Improvement and Management"},{"$f":"IF(Y$9=\"\",\"\",IF(Y138=0,0,HLOOKUP(Y$9,CPPE!$A$1:$DB$177,X138,FALSE)))","v":0},{"$f":"IF(Z138=\"\",\"\",IF(Z138=0,\"\",IF(LandUse!$N131=2,\"\",IF(Z138>=$E$5,Y138,\"\"))))","v":""},130,{"$f":"+CPPE!$A130","v":"Stream Habitat Improvement and Management"},{"$f":"IF(AC$9=\"\",\"\",IF(AC138=0,0,HLOOKUP(AC$9,CPPE!$A$1:$DB$177,AB138,FALSE)))","v":0},{"$f":"IF(AD138=\"\",\"\",IF(AD138=0,\"\",IF(LandUse!$N131=2,\"\",IF(AD138>=$E$5,AC138,\"\"))))","v":""},130,{"$f":"+CPPE!$A130","v":"Stream Habitat Improvement and Management"},{"$f":"IF(AG$9=\"\",\"\",IF(AG138=0,0,HLOOKUP(AG$9,CPPE!$A$1:$DB$177,AF138,FALSE)))","v":0},{"$f":"IF(AH138=\"\",\"\",IF(AH138=0,\"\",IF(LandUse!$N131=2,\"\",IF(AH138>=$E$5,AG138,\"\"))))","v":""},130,{"$f":"+CPPE!$A130","v":"Stream Habitat Improvement and Management"},{"$f":"IF(AK$9=\"\",\"\",IF(AK138=0,0,HLOOKUP(AK$9,CPPE!$A$1:$DB$177,AJ138,FALSE)))","v":0},{"$f":"IF(AL138=\"\",\"\",IF(AL138=0,\"\",IF(LandUse!$N131=2,\"\",IF(AL138>=$E$5,AK138,\"\"))))","v":""},130,{"$f":"+CPPE!$A130","v":"Stream Habitat Improvement and Management"},{"$f":"IF(AO$9=\"\",\"\",IF(AO138=0,0,HLOOKUP(AO$9,CPPE!$A$1:$DB$177,AN138,FALSE)))","v":""},{"$f":"IF(AP138=\"\",\"\",IF(AP138=0,\"\",IF(LandUse!$N131=2,\"\",IF(AP138>=$E$5,AO138,\"\"))))","v":""},130,{"$f":"+CPPE!$A130","v":"Stream Habitat Improvement and Management"},{"$f":"IF(AS$9=\"\",\"\",IF(AS138=0,0,HLOOKUP(AS$9,CPPE!$A$1:$DB$177,AR138,FALSE)))","v":""},{"$f":"IF(AT138=\"\",\"\",IF(AT138=0,\"\",IF(LandUse!$N131=2,\"\",IF(AT138>=$E$5,AS138,\"\"))))","v":""},130,{"$f":"+CPPE!$A130","v":"Stream Habitat Improvement and Management"},{"$f":"IF(AW$9=\"\",\"\",IF(AW138=0,0,HLOOKUP(AW$9,CPPE!$A$1:$DB$177,AV138,FALSE)))","v":""},{"$f":"IF(AX138=\"\",\"\",IF(AX138=0,\"\",IF(LandUse!$N131=2,\"\",IF(AX138>=$E$5,AW138,\"\"))))","v":""},130,{"$f":"+CPPE!$A130","v":"Stream Habitat Improvement and Management"},{"$f":"IF(BA$9=\"\",\"\",IF(BA138=0,0,HLOOKUP(BA$9,CPPE!$A$1:$DB$177,AZ138,FALSE)))","v":""},{"$f":"IF(BB138=\"\",\"\",IF(BB138=0,\"\",IF(LandUse!$N131=2,\"\",IF(BB138>=$E$5,BA138,\"\"))))","v":""},130,{"$f":"+CPPE!$A130","v":"Stream Habitat Improvement and Management"},{"$f":"IF(BE$9=\"\",\"\",IF(BE138=0,0,HLOOKUP(BE$9,CPPE!$A$1:$DB$177,BD138,FALSE)))","v":""},{"$f":"IF(BF138=\"\",\"\",IF(BF138=0,\"\",IF(LandUse!$N131=2,\"\",IF(BF138>=$E$5,BE138,\"\"))))","v":""},130,{"$f":"+CPPE!$A130","v":"Stream Habitat Improvement and Management"},{"$f":"IF(BI$9=\"\",\"\",IF(BI138=0,0,HLOOKUP(BI$9,CPPE!$A$1:$DB$177,BH138,FALSE)))","v":""},{"$f":"IF(BJ138=\"\",\"\",IF(BJ138=0,\"\",IF(LandUse!$N131=2,\"\",IF(BJ138>=$E$5,BI138,\"\"))))","v":""},null,"","","","","","","","","",""]
[null,null,null,null,null,null,null,null,null,null,null,null,null,null,null,null,null,null,null,null,null,null,{"$f":"+CPPE!$A131","v":"Streambank and Shoreline Protection"},131,{"$f":"+CPPE!$A131","v":"Streambank and Shoreline Protection"},{"$f":"IF(Y$9=\"\",\"\",IF(Y139=0,0,HLOOKUP(Y$9,CPPE!$A$1:$DB$177,X139,FALSE)))","v":0},{"$f":"IF(Z139=\"\",\"\",IF(Z139=0,\"\",IF(LandUse!$N132=2,\"\",IF(Z139>=$E$5,Y139,\"\"))))","v":""},131,{"$f":"+CPPE!$A131","v":"Streambank and Shoreline Protection"},{"$f":"IF(AC$9=\"\",\"\",IF(AC139=0,0,HLOOKUP(AC$9,CPPE!$A$1:$DB$177,AB139,FALSE)))","v":0},{"$f":"IF(AD139=\"\",\"\",IF(AD139=0,\"\",IF(LandUse!$N132=2,\"\",IF(AD139>=$E$5,AC139,\"\"))))","v":""},131,{"$f":"+CPPE!$A131","v":"Streambank and Shoreline Protection"},{"$f":"IF(AG$9=\"\",\"\",IF(AG139=0,0,HLOOKUP(AG$9,CPPE!$A$1:$DB$177,AF139,FALSE)))","v":0},{"$f":"IF(AH139=\"\",\"\",IF(AH139=0,\"\",IF(LandUse!$N132=2,\"\",IF(AH139>=$E$5,AG139,\"\"))))","v":""},131,{"$f":"+CPPE!$A131","v":"Streambank and Shoreline Protection"},{"$f":"IF(AK$9=\"\",\"\",IF(AK139=0,0,HLOOKUP(AK$9,CPPE!$A$1:$DB$177,AJ139,FALSE)))","v":2},{"$f":"IF(AL139=\"\",\"\",IF(AL139=0,\"\",IF(LandUse!$N132=2,\"\",IF(AL139>=$E$5,AK139,\"\"))))","v":""},131,{"$f":"+CPPE!$A131","v":"Streambank and Shoreline Protection"},{"$f":"IF(AO$9=\"\",\"\",IF(AO139=0,0,HLOOKUP(AO$9,CPPE!$A$1:$DB$177,AN139,FALSE)))","v":""},{"$f":"IF(AP139=\"\",\"\",IF(AP139=0,\"\",IF(LandUse!$N132=2,\"\",IF(AP139>=$E$5,AO139,\"\"))))","v":""},131,{"$f":"+CPPE!$A131","v":"Streambank and Shoreline Protection"},{"$f":"IF(AS$9=\"\",\"\",IF(AS139=0,0,HLOOKUP(AS$9,CPPE!$A$1:$DB$177,AR139,FALSE)))","v":""},{"$f":"IF(AT139=\"\",\"\",IF(AT139=0,\"\",IF(LandUse!$N132=2,\"\",IF(AT139>=$E$5,AS139,\"\"))))","v":""},131,{"$f":"+CPPE!$A131","v":"Streambank and Shoreline Protection"},{"$f":"IF(AW$9=\"\",\"\",IF(AW139=0,0,HLOOKUP(AW$9,CPPE!$A$1:$DB$177,AV139,FALSE)))","v":""},{"$f":"IF(AX139=\"\",\"\",IF(AX139=0,\"\",IF(LandUse!$N132=2,\"\",IF(AX139>=$E$5,AW139,\"\"))))","v":""},131,{"$f":"+CPPE!$A131","v":"Streambank and Shoreline Protection"},{"$f":"IF(BA$9=\"\",\"\",IF(BA139=0,0,HLOOKUP(BA$9,CPPE!$A$1:$DB$177,AZ139,FALSE)))","v":""},{"$f":"IF(BB139=\"\",\"\",IF(BB139=0,\"\",IF(LandUse!$N132=2,\"\",IF(BB139>=$E$5,BA139,\"\"))))","v":""},131,{"$f":"+CPPE!$A131","v":"Streambank and Shoreline Protection"},{"$f":"IF(BE$9=\"\",\"\",IF(BE139=0,0,HLOOKUP(BE$9,CPPE!$A$1:$DB$177,BD139,FALSE)))","v":""},{"$f":"IF(BF139=\"\",\"\",IF(BF139=0,\"\",IF(LandUse!$N132=2,\"\",IF(BF139>=$E$5,BE139,\"\"))))","v":""},131,{"$f":"+CPPE!$A131","v":"Streambank and Shoreline Protection"},{"$f":"IF(BI$9=\"\",\"\",IF(BI139=0,0,HLOOKUP(BI$9,CPPE!$A$1:$DB$177,BH139,FALSE)))","v":""},{"$f":"IF(BJ139=\"\",\"\",IF(BJ139=0,\"\",IF(LandUse!$N132=2,\"\",IF(BJ139>=$E$5,BI139,\"\"))))","v":""},null,"","","","","","","","","",""]
[null,null,null,null,null,null,null,null,null,null,null,null,null,null,null,null,null,null,null,null,null,null,{"$f":"+CPPE!$A132","v":"Stripcropping"},132,{"$f":"+CPPE!$A132","v":"Stripcropping"},{"$f":"IF(Y$9=\"\",\"\",IF(Y140=0,0,HLOOKUP(Y$9,CPPE!$A$1:$DB$177,X140,FALSE)))","v":4},{"$f":"IF(Z140=\"\",\"\",IF(Z140=0,\"\",IF(LandUse!$N133=2,\"\",IF(Z140>=$E$5,Y140,\"\"))))","v":""},132,{"$f":"+CPPE!$A132","v":"Stripcropping"},{"$f":"IF(AC$9=\"\",\"\",IF(AC140=0,0,HLOOKUP(AC$9,CPPE!$A$1:$DB$177,AB140,FALSE)))","v":0},{"$f":"IF(AD140=\"\",\"\",IF(AD140=0,\"\",IF(LandUse!$N133=2,\"\",IF(AD140>=$E$5,AC140,\"\"))))","v":""},132,{"$f":"+CPPE!$A132","v":"Stripcropping"},{"$f":"IF(AG$9=\"\",\"\",IF(AG140=0,0,HLOOKUP(AG$9,CPPE!$A$1:$DB$177,AF140,FALSE)))","v":2},{"$f":"IF(AH140=\"\",\"\",IF(AH140=0,\"\",IF(LandUse!$N133=2,\"\",IF(AH140>=$E$5,AG140,\"\"))))","v":""},132,{"$f":"+CPPE!$A132","v":"Stripcropping"},{"$f":"IF(AK$9=\"\",\"\",IF(AK140=0,0,HLOOKUP(AK$9,CPPE!$A$1:$DB$177,AJ140,FALSE)))","v":0},{"$f":"IF(AL140=\"\",\"\",IF(AL140=0,\"\",IF(LandUse!$N133=2,\"\",IF(AL140>=$E$5,AK140,\"\"))))","v":""},132,{"$f":"+CPPE!$A132","v":"Stripcropping"},{"$f":"IF(AO$9=\"\",\"\",IF(AO140=0,0,HLOOKUP(AO$9,CPPE!$A$1:$DB$177,AN140,FALSE)))","v":""},{"$f":"IF(AP140=\"\",\"\",IF(AP140=0,\"\",IF(LandUse!$N133=2,\"\",IF(AP140>=$E$5,AO140,\"\"))))","v":""},132,{"$f":"+CPPE!$A132","v":"Stripcropping"},{"$f":"IF(AS$9=\"\",\"\",IF(AS140=0,0,HLOOKUP(AS$9,CPPE!$A$1:$DB$177,AR140,FALSE)))","v":""},{"$f":"IF(AT140=\"\",\"\",IF(AT140=0,\"\",IF(LandUse!$N133=2,\"\",IF(AT140>=$E$5,AS140,\"\"))))","v":""},132,{"$f":"+CPPE!$A132","v":"Stripcropping"},{"$f":"IF(AW$9=\"\",\"\",IF(AW140=0,0,HLOOKUP(AW$9,CPPE!$A$1:$DB$177,AV140,FALSE)))","v":""},{"$f":"IF(AX140=\"\",\"\",IF(AX140=0,\"\",IF(LandUse!$N133=2,\"\",IF(AX140>=$E$5,AW140,\"\"))))","v":""},132,{"$f":"+CPPE!$A132","v":"Stripcropping"},{"$f":"IF(BA$9=\"\",\"\",IF(BA140=0,0,HLOOKUP(BA$9,CPPE!$A$1:$DB$177,AZ140,FALSE)))","v":""},{"$f":"IF(BB140=\"\",\"\",IF(BB140=0,\"\",IF(LandUse!$N133=2,\"\",IF(BB140>=$E$5,BA140,\"\"))))","v":""},132,{"$f":"+CPPE!$A132","v":"Stripcropping"},{"$f":"IF(BE$9=\"\",\"\",IF(BE140=0,0,HLOOKUP(BE$9,CPPE!$A$1:$DB$177,BD140,FALSE)))","v":""},{"$f":"IF(BF140=\"\",\"\",IF(BF140=0,\"\",IF(LandUse!$N133=2,\"\",IF(BF140>=$E$5,BE140,\"\"))))","v":""},132,{"$f":"+CPPE!$A132","v":"Stripcropping"},{"$f":"IF(BI$9=\"\",\"\",IF(BI140=0,0,HLOOKUP(BI$9,CPPE!$A$1:$DB$177,BH140,FALSE)))","v":""},{"$f":"IF(BJ140=\"\",\"\",IF(BJ140=0,\"\",IF(LandUse!$N133=2,\"\",IF(BJ140>=$E$5,BI140,\"\"))))","v":""},null,"","","","","","","","","",""]
[null,null,null,null,null,null,null,null,null,null,null,null,null,null,null,null,null,null,null,null,null,null,{"$f":"+CPPE!$A133","v":"Structure for Water Control"},133,{"$f":"+CPPE!$A133","v":"Structure for Water Control"},{"$f":"IF(Y$9=\"\",\"\",IF(Y141=0,0,HLOOKUP(Y$9,CPPE!$A$1:$DB$177,X141,FALSE)))","v":0},{"$f":"IF(Z141=\"\",\"\",IF(Z141=0,\"\",IF(LandUse!$N134=2,\"\",IF(Z141>=$E$5,Y141,\"\"))))","v":""},133,{"$f":"+CPPE!$A133","v":"Structure for Water Control"},{"$f":"IF(AC$9=\"\",\"\",IF(AC141=0,0,HLOOKUP(AC$9,CPPE!$A$1:$DB$177,AB141,FALSE)))","v":0},{"$f":"IF(AD141=\"\",\"\",IF(AD141=0,\"\",IF(LandUse!$N134=2,\"\",IF(AD141>=$E$5,AC141,\"\"))))","v":""},133,{"$f":"+CPPE!$A133","v":"Structure for Water Control"},{"$f":"IF(AG$9=\"\",\"\",IF(AG141=0,0,HLOOKUP(AG$9,CPPE!$A$1:$DB$177,AF141,FALSE)))","v":0},{"$f":"IF(AH141=\"\",\"\",IF(AH141=0,\"\",IF(LandUse!$N134=2,\"\",IF(AH141>=$E$5,AG141,\"\"))))","v":""},133,{"$f":"+CPPE!$A133","v":"Structure for Water Control"},{"$f":"IF(AK$9=\"\",\"\",IF(AK141=0,0,HLOOKUP(AK$9,CPPE!$A$1:$DB$177,AJ141,FALSE)))","v":0},{"$f":"IF(AL141=\"\",\"\",IF(AL141=0,\"\",IF(LandUse!$N134=2,\"\",IF(AL141>=$E$5,AK141,\"\"))))","v":""},133,{"$f":"+CPPE!$A133","v":"Structure for Water Control"},{"$f":"IF(AO$9=\"\",\"\",IF(AO141=0,0,HLOOKUP(AO$9,CPPE!$A$1:$DB$177,AN141,FALSE)))","v":""},{"$f":"IF(AP141=\"\",\"\",IF(AP141=0,\"\",IF(LandUse!$N134=2,\"\",IF(AP141>=$E$5,AO141,\"\"))))","v":""},133,{"$f":"+CPPE!$A133","v":"Structure for Water Control"},{"$f":"IF(AS$9=\"\",\"\",IF(AS141=0,0,HLOOKUP(AS$9,CPPE!$A$1:$DB$177,AR141,FALSE)))","v":""},{"$f":"IF(AT141=\"\",\"\",IF(AT141=0,\"\",IF(LandUse!$N134=2,\"\",IF(AT141>=$E$5,AS141,\"\"))))","v":""},133,{"$f":"+CPPE!$A133","v":"Structure for Water Control"},{"$f":"IF(AW$9=\"\",\"\",IF(AW141=0,0,HLOOKUP(AW$9,CPPE!$A$1:$DB$177,AV141,FALSE)))","v":""},{"$f":"IF(AX141=\"\",\"\",IF(AX141=0,\"\",IF(LandUse!$N134=2,\"\",IF(AX141>=$E$5,AW141,\"\"))))","v":""},133,{"$f":"+CPPE!$A133","v":"Structure for Water Control"},{"$f":"IF(BA$9=\"\",\"\",IF(BA141=0,0,HLOOKUP(BA$9,CPPE!$A$1:$DB$177,AZ141,FALSE)))","v":""},{"$f":"IF(BB141=\"\",\"\",IF(BB141=0,\"\",IF(LandUse!$N134=2,\"\",IF(BB141>=$E$5,BA141,\"\"))))","v":""},133,{"$f":"+CPPE!$A133","v":"Structure for Water Control"},{"$f":"IF(BE$9=\"\",\"\",IF(BE141=0,0,HLOOKUP(BE$9,CPPE!$A$1:$DB$177,BD141,FALSE)))","v":""},{"$f":"IF(BF141=\"\",\"\",IF(BF141=0,\"\",IF(LandUse!$N134=2,\"\",IF(BF141>=$E$5,BE141,\"\"))))","v":""},133,{"$f":"+CPPE!$A133","v":"Structure for Water Control"},{"$f":"IF(BI$9=\"\",\"\",IF(BI141=0,0,HLOOKUP(BI$9,CPPE!$A$1:$DB$177,BH141,FALSE)))","v":""},{"$f":"IF(BJ141=\"\",\"\",IF(BJ141=0,\"\",IF(LandUse!$N134=2,\"\",IF(BJ141>=$E$5,BI141,\"\"))))","v":""},null,"","","","","","","","","",""]
[null,null,null,null,null,null,null,null,null,null,null,null,null,null,null,null,null,null,null,null,null,null,{"$f":"+CPPE!$A134","v":"Structures for Wildlife"},134,{"$f":"+CPPE!$A134","v":"Structures for Wildlife"},{"$f":"IF(Y$9=\"\",\"\",IF(Y142=0,0,HLOOKUP(Y$9,CPPE!$A$1:$DB$177,X142,FALSE)))","v":0},{"$f":"IF(Z142=\"\",\"\",IF(Z142=0,\"\",IF(LandUse!$N135=2,\"\",IF(Z142>=$E$5,Y142,\"\"))))","v":""},134,{"$f":"+CPPE!$A134","v":"Structures for Wildlife"},{"$f":"IF(AC$9=\"\",\"\",IF(AC142=0,0,HLOOKUP(AC$9,CPPE!$A$1:$DB$177,AB142,FALSE)))","v":0},{"$f":"IF(AD142=\"\",\"\",IF(AD142=0,\"\",IF(LandUse!$N135=2,\"\",IF(AD142>=$E$5,AC142,\"\"))))","v":""},134,{"$f":"+CPPE!$A134","v":"Structures for Wildlife"},{"$f":"IF(AG$9=\"\",\"\",IF(AG142=0,0,HLOOKUP(AG$9,CPPE!$A$1:$DB$177,AF142,FALSE)))","v":0},{"$f":"IF(AH142=\"\",\"\",IF(AH142=0,\"\",IF(LandUse!$N135=2,\"\",IF(AH142>=$E$5,AG142,\"\"))))","v":""},134,{"$f":"+CPPE!$A134","v":"Structures for Wildlife"},{"$f":"IF(AK$9=\"\",\"\",IF(AK142=0,0,HLOOKUP(AK$9,CPPE!$A$1:$DB$177,AJ142,FALSE)))","v":0},{"$f":"IF(AL142=\"\",\"\",IF(AL142=0,\"\",IF(LandUse!$N135=2,\"\",IF(AL142>=$E$5,AK142,\"\"))))","v":""},134,{"$f":"+CPPE!$A134","v":"Structures for Wildlife"},{"$f":"IF(AO$9=\"\",\"\",IF(AO142=0,0,HLOOKUP(AO$9,CPPE!$A$1:$DB$177,AN142,FALSE)))","v":""},{"$f":"IF(AP142=\"\",\"\",IF(AP142=0,\"\",IF(LandUse!$N135=2,\"\",IF(AP142>=$E$5,AO142,\"\"))))","v":""},134,{"$f":"+CPPE!$A134","v":"Structures for Wildlife"},{"$f":"IF(AS$9=\"\",\"\",IF(AS142=0,0,HLOOKUP(AS$9,CPPE!$A$1:$DB$177,AR142,FALSE)))","v":""},{"$f":"IF(AT142=\"\",\"\",IF(AT142=0,\"\",IF(LandUse!$N135=2,\"\",IF(AT142>=$E$5,AS142,\"\"))))","v":""},134,{"$f":"+CPPE!$A134","v":"Structures for Wildlife"},{"$f":"IF(AW$9=\"\",\"\",IF(AW142=0,0,HLOOKUP(AW$9,CPPE!$A$1:$DB$177,AV142,FALSE)))","v":""},{"$f":"IF(AX142=\"\",\"\",IF(AX142=0,\"\",IF(LandUse!$N135=2,\"\",IF(AX142>=$E$5,AW142,\"\"))))","v":""},134,{"$f":"+CPPE!$A134","v":"Structures for Wildlife"},{"$f":"IF(BA$9=\"\",\"\",IF(BA142=0,0,HLOOKUP(BA$9,CPPE!$A$1:$DB$177,AZ142,FALSE)))","v":""},{"$f":"IF(BB142=\"\",\"\",IF(BB142=0,\"\",IF(LandUse!$N135=2,\"\",IF(BB142>=$E$5,BA142,\"\"))))","v":""},134,{"$f":"+CPPE!$A134","v":"Structures for Wildlife"},{"$f":"IF(BE$9=\"\",\"\",IF(BE142=0,0,HLOOKUP(BE$9,CPPE!$A$1:$DB$177,BD142,FALSE)))","v":""},{"$f":"IF(BF142=\"\",\"\",IF(BF142=0,\"\",IF(LandUse!$N135=2,\"\",IF(BF142>=$E$5,BE142,\"\"))))","v":""},134,{"$f":"+CPPE!$A134","v":"Structures for Wildlife"},{"$f":"IF(BI$9=\"\",\"\",IF(BI142=0,0,HLOOKUP(BI$9,CPPE!$A$1:$DB$177,BH142,FALSE)))","v":""},{"$f":"IF(BJ142=\"\",\"\",IF(BJ142=0,\"\",IF(LandUse!$N135=2,\"\",IF(BJ142>=$E$5,BI142,\"\"))))","v":""},null,"","","","","","","","","",""]
[null,null,null,null,null,null,null,null,null,null,null,null,null,null,null,null,null,null,null,null,null,null,{"$f":"+CPPE!$A135","v":"Subsurface Drain"},135,{"$f":"+CPPE!$A135","v":"Subsurface Drain"},{"$f":"IF(Y$9=\"\",\"\",IF(Y143=0,0,HLOOKUP(Y$9,CPPE!$A$1:$DB$177,X143,FALSE)))","v":4},{"$f":"IF(Z143=\"\",\"\",IF(Z143=0,\"\",IF(LandUse!$N136=2,\"\",IF(Z143>=$E$5,Y143,\"\"))))","v":""},135,{"$f":"+CPPE!$A135","v":"Subsurface Drain"},{"$f":"IF(AC$9=\"\",\"\",IF(AC143=0,0,HLOOKUP(AC$9,CPPE!$A$1:$DB$177,AB143,FALSE)))","v":2},{"$f":"IF(AD143=\"\",\"\",IF(AD143=0,\"\",IF(LandUse!$N136=2,\"\",IF(AD143>=$E$5,AC143,\"\"))))","v":""},135,{"$f":"+CPPE!$A135","v":"Subsurface Drain"},{"$f":"IF(AG$9=\"\",\"\",IF(AG143=0,0,HLOOKUP(AG$9,CPPE!$A$1:$DB$177,AF143,FALSE)))","v":-2},{"$f":"IF(AH143=\"\",\"\",IF(AH143=0,\"\",IF(LandUse!$N136=2,\"\",IF(AH143>=$E$5,AG143,\"\"))))","v":""},135,{"$f":"+CPPE!$A135","v":"Subsurface Drain"},{"$f":"IF(AK$9=\"\",\"\",IF(AK143=0,0,HLOOKUP(AK$9,CPPE!$A$1:$DB$177,AJ143,FALSE)))","v":0},{"$f":"IF(AL143=\"\",\"\",IF(AL143=0,\"\",IF(LandUse!$N136=2,\"\",IF(AL143>=$E$5,AK143,\"\"))))","v":""},135,{"$f":"+CPPE!$A135","v":"Subsurface Drain"},{"$f":"IF(AO$9=\"\",\"\",IF(AO143=0,0,HLOOKUP(AO$9,CPPE!$A$1:$DB$177,AN143,FALSE)))","v":""},{"$f":"IF(AP143=\"\",\"\",IF(AP143=0,\"\",IF(LandUse!$N136=2,\"\",IF(AP143>=$E$5,AO143,\"\"))))","v":""},135,{"$f":"+CPPE!$A135","v":"Subsurface Drain"},{"$f":"IF(AS$9=\"\",\"\",IF(AS143=0,0,HLOOKUP(AS$9,CPPE!$A$1:$DB$177,AR143,FALSE)))","v":""},{"$f":"IF(AT143=\"\",\"\",IF(AT143=0,\"\",IF(LandUse!$N136=2,\"\",IF(AT143>=$E$5,AS143,\"\"))))","v":""},135,{"$f":"+CPPE!$A135","v":"Subsurface Drain"},{"$f":"IF(AW$9=\"\",\"\",IF(AW143=0,0,HLOOKUP(AW$9,CPPE!$A$1:$DB$177,AV143,FALSE)))","v":""},{"$f":"IF(AX143=\"\",\"\",IF(AX143=0,\"\",IF(LandUse!$N136=2,\"\",IF(AX143>=$E$5,AW143,\"\"))))","v":""},135,{"$f":"+CPPE!$A135","v":"Subsurface Drain"},{"$f":"IF(BA$9=\"\",\"\",IF(BA143=0,0,HLOOKUP(BA$9,CPPE!$A$1:$DB$177,AZ143,FALSE)))","v":""},{"$f":"IF(BB143=\"\",\"\",IF(BB143=0,\"\",IF(LandUse!$N136=2,\"\",IF(BB143>=$E$5,BA143,\"\"))))","v":""},135,{"$f":"+CPPE!$A135","v":"Subsurface Drain"},{"$f":"IF(BE$9=\"\",\"\",IF(BE143=0,0,HLOOKUP(BE$9,CPPE!$A$1:$DB$177,BD143,FALSE)))","v":""},{"$f":"IF(BF143=\"\",\"\",IF(BF143=0,\"\",IF(LandUse!$N136=2,\"\",IF(BF143>=$E$5,BE143,\"\"))))","v":""},135,{"$f":"+CPPE!$A135","v":"Subsurface Drain"},{"$f":"IF(BI$9=\"\",\"\",IF(BI143=0,0,HLOOKUP(BI$9,CPPE!$A$1:$DB$177,BH143,FALSE)))","v":""},{"$f":"IF(BJ143=\"\",\"\",IF(BJ143=0,\"\",IF(LandUse!$N136=2,\"\",IF(BJ143>=$E$5,BI143,\"\"))))","v":""},null,"","","","","","","","","",""]
[null,null,null,null,null,null,null,null,null,null,null,null,null,null,null,null,null,null,null,null,null,null,{"$f":"+CPPE!$A136","v":"Surface Drainage, Field Ditch"},136,{"$f":"+CPPE!$A136","v":"Surface Drainage, Field Ditch"},{"$f":"IF(Y$9=\"\",\"\",IF(Y144=0,0,HLOOKUP(Y$9,CPPE!$A$1:$DB$177,X144,FALSE)))","v":1},{"$f":"IF(Z144=\"\",\"\",IF(Z144=0,\"\",IF(LandUse!$N137=2,\"\",IF(Z144>=$E$5,Y144,\"\"))))","v":""},136,{"$f":"+CPPE!$A136","v":"Surface Drainage, Field Ditch"},{"$f":"IF(AC$9=\"\",\"\",IF(AC144=0,0,HLOOKUP(AC$9,CPPE!$A$1:$DB$177,AB144,FALSE)))","v":1},{"$f":"IF(AD144=\"\",\"\",IF(AD144=0,\"\",IF(LandUse!$N137=2,\"\",IF(AD144>=$E$5,AC144,\"\"))))","v":""},136,{"$f":"+CPPE!$A136","v":"Surface Drainage, Field Ditch"},{"$f":"IF(AG$9=\"\",\"\",IF(AG144=0,0,HLOOKUP(AG$9,CPPE!$A$1:$DB$177,AF144,FALSE)))","v":-2},{"$f":"IF(AH144=\"\",\"\",IF(AH144=0,\"\",IF(LandUse!$N137=2,\"\",IF(AH144>=$E$5,AG144,\"\"))))","v":""},136,{"$f":"+CPPE!$A136","v":"Surface Drainage, Field Ditch"},{"$f":"IF(AK$9=\"\",\"\",IF(AK144=0,0,HLOOKUP(AK$9,CPPE!$A$1:$DB$177,AJ144,FALSE)))","v":0},{"$f":"IF(AL144=\"\",\"\",IF(AL144=0,\"\",IF(LandUse!$N137=2,\"\",IF(AL144>=$E$5,AK144,\"\"))))","v":""},136,{"$f":"+CPPE!$A136","v":"Surface Drainage, Field Ditch"},{"$f":"IF(AO$9=\"\",\"\",IF(AO144=0,0,HLOOKUP(AO$9,CPPE!$A$1:$DB$177,AN144,FALSE)))","v":""},{"$f":"IF(AP144=\"\",\"\",IF(AP144=0,\"\",IF(LandUse!$N137=2,\"\",IF(AP144>=$E$5,AO144,\"\"))))","v":""},136,{"$f":"+CPPE!$A136","v":"Surface Drainage, Field Ditch"},{"$f":"IF(AS$9=\"\",\"\",IF(AS144=0,0,HLOOKUP(AS$9,CPPE!$A$1:$DB$177,AR144,FALSE)))","v":""},{"$f":"IF(AT144=\"\",\"\",IF(AT144=0,\"\",IF(LandUse!$N137=2,\"\",IF(AT144>=$E$5,AS144,\"\"))))","v":""},136,{"$f":"+CPPE!$A136","v":"Surface Drainage, Field Ditch"},{"$f":"IF(AW$9=\"\",\"\",IF(AW144=0,0,HLOOKUP(AW$9,CPPE!$A$1:$DB$177,AV144,FALSE)))","v":""},{"$f":"IF(AX144=\"\",\"\",IF(AX144=0,\"\",IF(LandUse!$N137=2,\"\",IF(AX144>=$E$5,AW144,\"\"))))","v":""},136,{"$f":"+CPPE!$A136","v":"Surface Drainage, Field Ditch"},{"$f":"IF(BA$9=\"\",\"\",IF(BA144=0,0,HLOOKUP(BA$9,CPPE!$A$1:$DB$177,AZ144,FALSE)))","v":""},{"$f":"IF(BB144=\"\",\"\",IF(BB144=0,\"\",IF(LandUse!$N137=2,\"\",IF(BB144>=$E$5,BA144,\"\"))))","v":""},136,{"$f":"+CPPE!$A136","v":"Surface Drainage, Field Ditch"},{"$f":"IF(BE$9=\"\",\"\",IF(BE144=0,0,HLOOKUP(BE$9,CPPE!$A$1:$DB$177,BD144,FALSE)))","v":""},{"$f":"IF(BF144=\"\",\"\",IF(BF144=0,\"\",IF(LandUse!$N137=2,\"\",IF(BF144>=$E$5,BE144,\"\"))))","v":""},136,{"$f":"+CPPE!$A136","v":"Surface Drainage, Field Ditch"},{"$f":"IF(BI$9=\"\",\"\",IF(BI144=0,0,HLOOKUP(BI$9,CPPE!$A$1:$DB$177,BH144,FALSE)))","v":""},{"$f":"IF(BJ144=\"\",\"\",IF(BJ144=0,\"\",IF(LandUse!$N137=2,\"\",IF(BJ144>=$E$5,BI144,\"\"))))","v":""},null,"","","","","","","","","",""]
[null,null,null,null,null,null,null,null,null,null,null,null,null,null,null,null,null,null,null,null,null,null,{"$f":"+CPPE!$A137","v":"Surface Drainage, Main or Lateral"},137,{"$f":"+CPPE!$A137","v":"Surface Drainage, Main or Lateral"},{"$f":"IF(Y$9=\"\",\"\",IF(Y145=0,0,HLOOKUP(Y$9,CPPE!$A$1:$DB$177,X145,FALSE)))","v":0},{"$f":"IF(Z145=\"\",\"\",IF(Z145=0,\"\",IF(LandUse!$N138=2,\"\",IF(Z145>=$E$5,Y145,\"\"))))","v":""},137,{"$f":"+CPPE!$A137","v":"Surface Drainage, Main or Lateral"},{"$f":"IF(AC$9=\"\",\"\",IF(AC145=0,0,HLOOKUP(AC$9,CPPE!$A$1:$DB$177,AB145,FALSE)))","v":0},{"$f":"IF(AD145=\"\",\"\",IF(AD145=0,\"\",IF(LandUse!$N138=2,\"\",IF(AD145>=$E$5,AC145,\"\"))))","v":""},137,{"$f":"+CPPE!$A137","v":"Surface Drainage, Main or Lateral"},{"$f":"IF(AG$9=\"\",\"\",IF(AG145=0,0,HLOOKUP(AG$9,CPPE!$A$1:$DB$177,AF145,FALSE)))","v":0},{"$f":"IF(AH145=\"\",\"\",IF(AH145=0,\"\",IF(LandUse!$N138=2,\"\",IF(AH145>=$E$5,AG145,\"\"))))","v":""},137,{"$f":"+CPPE!$A137","v":"Surface Drainage, Main or Lateral"},{"$f":"IF(AK$9=\"\",\"\",IF(AK145=0,0,HLOOKUP(AK$9,CPPE!$A$1:$DB$177,AJ145,FALSE)))","v":0},{"$f":"IF(AL145=\"\",\"\",IF(AL145=0,\"\",IF(LandUse!$N138=2,\"\",IF(AL145>=$E$5,AK145,\"\"))))","v":""},137,{"$f":"+CPPE!$A137","v":"Surface Drainage, Main or Lateral"},{"$f":"IF(AO$9=\"\",\"\",IF(AO145=0,0,HLOOKUP(AO$9,CPPE!$A$1:$DB$177,AN145,FALSE)))","v":""},{"$f":"IF(AP145=\"\",\"\",IF(AP145=0,\"\",IF(LandUse!$N138=2,\"\",IF(AP145>=$E$5,AO145,\"\"))))","v":""},137,{"$f":"+CPPE!$A137","v":"Surface Drainage, Main or Lateral"},{"$f":"IF(AS$9=\"\",\"\",IF(AS145=0,0,HLOOKUP(AS$9,CPPE!$A$1:$DB$177,AR145,FALSE)))","v":""},{"$f":"IF(AT145=\"\",\"\",IF(AT145=0,\"\",IF(LandUse!$N138=2,\"\",IF(AT145>=$E$5,AS145,\"\"))))","v":""},137,{"$f":"+CPPE!$A137","v":"Surface Drainage, Main or Lateral"},{"$f":"IF(AW$9=\"\",\"\",IF(AW145=0,0,HLOOKUP(AW$9,CPPE!$A$1:$DB$177,AV145,FALSE)))","v":""},{"$f":"IF(AX145=\"\",\"\",IF(AX145=0,\"\",IF(LandUse!$N138=2,\"\",IF(AX145>=$E$5,AW145,\"\"))))","v":""},137,{"$f":"+CPPE!$A137","v":"Surface Drainage, Main or Lateral"},{"$f":"IF(BA$9=\"\",\"\",IF(BA145=0,0,HLOOKUP(BA$9,CPPE!$A$1:$DB$177,AZ145,FALSE)))","v":""},{"$f":"IF(BB145=\"\",\"\",IF(BB145=0,\"\",IF(LandUse!$N138=2,\"\",IF(BB145>=$E$5,BA145,\"\"))))","v":""},137,{"$f":"+CPPE!$A137","v":"Surface Drainage, Main or Lateral"},{"$f":"IF(BE$9=\"\",\"\",IF(BE145=0,0,HLOOKUP(BE$9,CPPE!$A$1:$DB$177,BD145,FALSE)))","v":""},{"$f":"IF(BF145=\"\",\"\",IF(BF145=0,\"\",IF(LandUse!$N138=2,\"\",IF(BF145>=$E$5,BE145,\"\"))))","v":""},137,{"$f":"+CPPE!$A137","v":"Surface Drainage, Main or Lateral"},{"$f":"IF(BI$9=\"\",\"\",IF(BI145=0,0,HLOOKUP(BI$9,CPPE!$A$1:$DB$177,BH145,FALSE)))","v":""},{"$f":"IF(BJ145=\"\",\"\",IF(BJ145=0,\"\",IF(LandUse!$N138=2,\"\",IF(BJ145>=$E$5,BI145,\"\"))))","v":""},null,"","","","","","","","","",""]
[null,null,null,null,null,null,null,null,null,null,null,null,null,null,null,null,null,null,null,null,null,null,{"$f":"+CPPE!$A138","v":"Surface Roughening"},138,{"$f":"+CPPE!$A138","v":"Surface Roughening"},{"$f":"IF(Y$9=\"\",\"\",IF(Y146=0,0,HLOOKUP(Y$9,CPPE!$A$1:$DB$177,X146,FALSE)))","v":0},{"$f":"IF(Z146=\"\",\"\",IF(Z146=0,\"\",IF(LandUse!$N139=2,\"\",IF(Z146>=$E$5,Y146,\"\"))))","v":""},138,{"$f":"+CPPE!$A138","v":"Surface Roughening"},{"$f":"IF(AC$9=\"\",\"\",IF(AC146=0,0,HLOOKUP(AC$9,CPPE!$A$1:$DB$177,AB146,FALSE)))","v":0},{"$f":"IF(AD146=\"\",\"\",IF(AD146=0,\"\",IF(LandUse!$N139=2,\"\",IF(AD146>=$E$5,AC146,\"\"))))","v":""},138,{"$f":"+CPPE!$A138","v":"Surface Roughening"},{"$f":"IF(AG$9=\"\",\"\",IF(AG146=0,0,HLOOKUP(AG$9,CPPE!$A$1:$DB$177,AF146,FALSE)))","v":0},{"$f":"IF(AH146=\"\",\"\",IF(AH146=0,\"\",IF(LandUse!$N139=2,\"\",IF(AH146>=$E$5,AG146,\"\"))))","v":""},138,{"$f":"+CPPE!$A138","v":"Surface Roughening"},{"$f":"IF(AK$9=\"\",\"\",IF(AK146=0,0,HLOOKUP(AK$9,CPPE!$A$1:$DB$177,AJ146,FALSE)))","v":0},{"$f":"IF(AL146=\"\",\"\",IF(AL146=0,\"\",IF(LandUse!$N139=2,\"\",IF(AL146>=$E$5,AK146,\"\"))))","v":""},138,{"$f":"+CPPE!$A138","v":"Surface Roughening"},{"$f":"IF(AO$9=\"\",\"\",IF(AO146=0,0,HLOOKUP(AO$9,CPPE!$A$1:$DB$177,AN146,FALSE)))","v":""},{"$f":"IF(AP146=\"\",\"\",IF(AP146=0,\"\",IF(LandUse!$N139=2,\"\",IF(AP146>=$E$5,AO146,\"\"))))","v":""},138,{"$f":"+CPPE!$A138","v":"Surface Roughening"},{"$f":"IF(AS$9=\"\",\"\",IF(AS146=0,0,HLOOKUP(AS$9,CPPE!$A$1:$DB$177,AR146,FALSE)))","v":""},{"$f":"IF(AT146=\"\",\"\",IF(AT146=0,\"\",IF(LandUse!$N139=2,\"\",IF(AT146>=$E$5,AS146,\"\"))))","v":""},138,{"$f":"+CPPE!$A138","v":"Surface Roughening"},{"$f":"IF(AW$9=\"\",\"\",IF(AW146=0,0,HLOOKUP(AW$9,CPPE!$A$1:$DB$177,AV146,FALSE)))","v":""},{"$f":"IF(AX146=\"\",\"\",IF(AX146=0,\"\",IF(LandUse!$N139=2,\"\",IF(AX146>=$E$5,AW146,\"\"))))","v":""},138,{"$f":"+CPPE!$A138","v":"Surface Roughening"},{"$f":"IF(BA$9=\"\",\"\",IF(BA146=0,0,HLOOKUP(BA$9,CPPE!$A$1:$DB$177,AZ146,FALSE)))","v":""},{"$f":"IF(BB146=\"\",\"\",IF(BB146=0,\"\",IF(LandUse!$N139=2,\"\",IF(BB146>=$E$5,BA146,\"\"))))","v":""},138,{"$f":"+CPPE!$A138","v":"Surface Roughening"},{"$f":"IF(BE$9=\"\",\"\",IF(BE146=0,0,HLOOKUP(BE$9,CPPE!$A$1:$DB$177,BD146,FALSE)))","v":""},{"$f":"IF(BF146=\"\",\"\",IF(BF146=0,\"\",IF(LandUse!$N139=2,\"\",IF(BF146>=$E$5,BE146,\"\"))))","v":""},138,{"$f":"+CPPE!$A138","v":"Surface Roughening"},{"$f":"IF(BI$9=\"\",\"\",IF(BI146=0,0,HLOOKUP(BI$9,CPPE!$A$1:$DB$177,BH146,FALSE)))","v":""},{"$f":"IF(BJ146=\"\",\"\",IF(BJ146=0,\"\",IF(LandUse!$N139=2,\"\",IF(BJ146>=$E$5,BI146,\"\"))))","v":""},null,"","","","","","","","","",""]
[null,null,null,null,null,null,null,null,null,null,null,null,null,null,null,null,null,null,null,null,null,null,{"$f":"+CPPE!$A139","v":"Terrace"},139,{"$f":"+CPPE!$A139","v":"Terrace"},{"$f":"IF(Y$9=\"\",\"\",IF(Y147=0,0,HLOOKUP(Y$9,CPPE!$A$1:$DB$177,X147,FALSE)))","v":5},{"$f":"IF(Z147=\"\",\"\",IF(Z147=0,\"\",IF(LandUse!$N140=2,\"\",IF(Z147>=$E$5,Y147,\"\"))))","v":""},139,{"$f":"+CPPE!$A139","v":"Terrace"},{"$f":"IF(AC$9=\"\",\"\",IF(AC147=0,0,HLOOKUP(AC$9,CPPE!$A$1:$DB$177,AB147,FALSE)))","v":-1},{"$f":"IF(AD147=\"\",\"\",IF(AD147=0,\"\",IF(LandUse!$N140=2,\"\",IF(AD147>=$E$5,AC147,\"\"))))","v":""},139,{"$f":"+CPPE!$A139","v":"Terrace"},{"$f":"IF(AG$9=\"\",\"\",IF(AG147=0,0,HLOOKUP(AG$9,CPPE!$A$1:$DB$177,AF147,FALSE)))","v":2},{"$f":"IF(AH147=\"\",\"\",IF(AH147=0,\"\",IF(LandUse!$N140=2,\"\",IF(AH147>=$E$5,AG147,\"\"))))","v":""},139,{"$f":"+CPPE!$A139","v":"Terrace"},{"$f":"IF(AK$9=\"\",\"\",IF(AK147=0,0,HLOOKUP(AK$9,CPPE!$A$1:$DB$177,AJ147,FALSE)))","v":1},{"$f":"IF(AL147=\"\",\"\",IF(AL147=0,\"\",IF(LandUse!$N140=2,\"\",IF(AL147>=$E$5,AK147,\"\"))))","v":""},139,{"$f":"+CPPE!$A139","v":"Terrace"},{"$f":"IF(AO$9=\"\",\"\",IF(AO147=0,0,HLOOKUP(AO$9,CPPE!$A$1:$DB$177,AN147,FALSE)))","v":""},{"$f":"IF(AP147=\"\",\"\",IF(AP147=0,\"\",IF(LandUse!$N140=2,\"\",IF(AP147>=$E$5,AO147,\"\"))))","v":""},139,{"$f":"+CPPE!$A139","v":"Terrace"},{"$f":"IF(AS$9=\"\",\"\",IF(AS147=0,0,HLOOKUP(AS$9,CPPE!$A$1:$DB$177,AR147,FALSE)))","v":""},{"$f":"IF(AT147=\"\",\"\",IF(AT147=0,\"\",IF(LandUse!$N140=2,\"\",IF(AT147>=$E$5,AS147,\"\"))))","v":""},139,{"$f":"+CPPE!$A139","v":"Terrace"},{"$f":"IF(AW$9=\"\",\"\",IF(AW147=0,0,HLOOKUP(AW$9,CPPE!$A$1:$DB$177,AV147,FALSE)))","v":""},{"$f":"IF(AX147=\"\",\"\",IF(AX147=0,\"\",IF(LandUse!$N140=2,\"\",IF(AX147>=$E$5,AW147,\"\"))))","v":""},139,{"$f":"+CPPE!$A139","v":"Terrace"},{"$f":"IF(BA$9=\"\",\"\",IF(BA147=0,0,HLOOKUP(BA$9,CPPE!$A$1:$DB$177,AZ147,FALSE)))","v":""},{"$f":"IF(BB147=\"\",\"\",IF(BB147=0,\"\",IF(LandUse!$N140=2,\"\",IF(BB147>=$E$5,BA147,\"\"))))","v":""},139,{"$f":"+CPPE!$A139","v":"Terrace"},{"$f":"IF(BE$9=\"\",\"\",IF(BE147=0,0,HLOOKUP(BE$9,CPPE!$A$1:$DB$177,BD147,FALSE)))","v":""},{"$f":"IF(BF147=\"\",\"\",IF(BF147=0,\"\",IF(LandUse!$N140=2,\"\",IF(BF147>=$E$5,BE147,\"\"))))","v":""},139,{"$f":"+CPPE!$A139","v":"Terrace"},{"$f":"IF(BI$9=\"\",\"\",IF(BI147=0,0,HLOOKUP(BI$9,CPPE!$A$1:$DB$177,BH147,FALSE)))","v":""},{"$f":"IF(BJ147=\"\",\"\",IF(BJ147=0,\"\",IF(LandUse!$N140=2,\"\",IF(BJ147>=$E$5,BI147,\"\"))))","v":""},null,"","","","","","","","","",""]
[null,null,null,null,null,null,null,null,null,null,null,null,null,null,null,null,null,null,null,null,null,null,{"$f":"+CPPE!$A140","v":"Trails and Walkways"},140,{"$f":"+CPPE!$A140","v":"Trails and Walkways"},{"$f":"IF(Y$9=\"\",\"\",IF(Y148=0,0,HLOOKUP(Y$9,CPPE!$A$1:$DB$177,X148,FALSE)))","v":1},{"$f":"IF(Z148=\"\",\"\",IF(Z148=0,\"\",IF(LandUse!$N141=2,\"\",IF(Z148>=$E$5,Y148,\"\"))))","v":""},140,{"$f":"+CPPE!$A140","v":"Trails and Walkways"},{"$f":"IF(AC$9=\"\",\"\",IF(AC148=0,0,HLOOKUP(AC$9,CPPE!$A$1:$DB$177,AB148,FALSE)))","v":2},{"$f":"IF(AD148=\"\",\"\",IF(AD148=0,\"\",IF(LandUse!$N141=2,\"\",IF(AD148>=$E$5,AC148,\"\"))))","v":""},140,{"$f":"+CPPE!$A140","v":"Trails and Walkways"},{"$f":"IF(AG$9=\"\",\"\",IF(AG148=0,0,HLOOKUP(AG$9,CPPE!$A$1:$DB$177,AF148,FALSE)))","v":0},{"$f":"IF(AH148=\"\",\"\",IF(AH148=0,\"\",IF(LandUse!$N141=2,\"\",IF(AH148>=$E$5,AG148,\"\"))))","v":""},140,{"$f":"+CPPE!$A140","v":"Trails and Walkways"},{"$f":"IF(AK$9=\"\",\"\",IF(AK148=0,0,HLOOKUP(AK$9,CPPE!$A$1:$DB$177,AJ148,FALSE)))","v":-1},{"$f":"IF(AL148=\"\",\"\",IF(AL148=0,\"\",IF(LandUse!$N141=2,\"\",IF(AL148>=$E$5,AK148,\"\"))))","v":""},140,{"$f":"+CPPE!$A140","v":"Trails and Walkways"},{"$f":"IF(AO$9=\"\",\"\",IF(AO148=0,0,HLOOKUP(AO$9,CPPE!$A$1:$DB$177,AN148,FALSE)))","v":""},{"$f":"IF(AP148=\"\",\"\",IF(AP148=0,\"\",IF(LandUse!$N141=2,\"\",IF(AP148>=$E$5,AO148,\"\"))))","v":""},140,{"$f":"+CPPE!$A140","v":"Trails and Walkways"},{"$f":"IF(AS$9=\"\",\"\",IF(AS148=0,0,HLOOKUP(AS$9,CPPE!$A$1:$DB$177,AR148,FALSE)))","v":""},{"$f":"IF(AT148=\"\",\"\",IF(AT148=0,\"\",IF(LandUse!$N141=2,\"\",IF(AT148>=$E$5,AS148,\"\"))))","v":""},140,{"$f":"+CPPE!$A140","v":"Trails and Walkways"},{"$f":"IF(AW$9=\"\",\"\",IF(AW148=0,0,HLOOKUP(AW$9,CPPE!$A$1:$DB$177,AV148,FALSE)))","v":""},{"$f":"IF(AX148=\"\",\"\",IF(AX148=0,\"\",IF(LandUse!$N141=2,\"\",IF(AX148>=$E$5,AW148,\"\"))))","v":""},140,{"$f":"+CPPE!$A140","v":"Trails and Walkways"},{"$f":"IF(BA$9=\"\",\"\",IF(BA148=0,0,HLOOKUP(BA$9,CPPE!$A$1:$DB$177,AZ148,FALSE)))","v":""},{"$f":"IF(BB148=\"\",\"\",IF(BB148=0,\"\",IF(LandUse!$N141=2,\"\",IF(BB148>=$E$5,BA148,\"\"))))","v":""},140,{"$f":"+CPPE!$A140","v":"Trails and Walkways"},{"$f":"IF(BE$9=\"\",\"\",IF(BE148=0,0,HLOOKUP(BE$9,CPPE!$A$1:$DB$177,BD148,FALSE)))","v":""},{"$f":"IF(BF148=\"\",\"\",IF(BF148=0,\"\",IF(LandUse!$N141=2,\"\",IF(BF148>=$E$5,BE148,\"\"))))","v":""},140,{"$f":"+CPPE!$A140","v":"Trails and Walkways"},{"$f":"IF(BI$9=\"\",\"\",IF(BI148=0,0,HLOOKUP(BI$9,CPPE!$A$1:$DB$177,BH148,FALSE)))","v":""},{"$f":"IF(BJ148=\"\",\"\",IF(BJ148=0,\"\",IF(LandUse!$N141=2,\"\",IF(BJ148>=$E$5,BI148,\"\"))))","v":""},null,"","","","","","","","","",""]
[null,null,null,null,null,null,null,null,null,null,null,null,null,null,null,null,null,null,null,null,null,null,{"$f":"+CPPE!$A141","v":"Tree/Shrub Establishment"},141,{"$f":"+CPPE!$A141","v":"Tree/Shrub Establishment"},{"$f":"IF(Y$9=\"\",\"\",IF(Y149=0,0,HLOOKUP(Y$9,CPPE!$A$1:$DB$177,X149,FALSE)))","v":5},{"$f":"IF(Z149=\"\",\"\",IF(Z149=0,\"\",IF(LandUse!$N142=2,\"\",IF(Z149>=$E$5,Y149,\"\"))))","v":""},141,{"$f":"+CPPE!$A141","v":"Tree/Shrub Establishment"},{"$f":"IF(AC$9=\"\",\"\",IF(AC149=0,0,HLOOKUP(AC$9,CPPE!$A$1:$DB$177,AB149,FALSE)))","v":2},{"$f":"IF(AD149=\"\",\"\",IF(AD149=0,\"\",IF(LandUse!$N142=2,\"\",IF(AD149>=$E$5,AC149,\"\"))))","v":""},141,{"$f":"+CPPE!$A141","v":"Tree/Shrub Establishment"},{"$f":"IF(AG$9=\"\",\"\",IF(AG149=0,0,HLOOKUP(AG$9,CPPE!$A$1:$DB$177,AF149,FALSE)))","v":4},{"$f":"IF(AH149=\"\",\"\",IF(AH149=0,\"\",IF(LandUse!$N142=2,\"\",IF(AH149>=$E$5,AG149,\"\"))))","v":""},141,{"$f":"+CPPE!$A141","v":"Tree/Shrub Establishment"},{"$f":"IF(AK$9=\"\",\"\",IF(AK149=0,0,HLOOKUP(AK$9,CPPE!$A$1:$DB$177,AJ149,FALSE)))","v":5},{"$f":"IF(AL149=\"\",\"\",IF(AL149=0,\"\",IF(LandUse!$N142=2,\"\",IF(AL149>=$E$5,AK149,\"\"))))","v":""},141,{"$f":"+CPPE!$A141","v":"Tree/Shrub Establishment"},{"$f":"IF(AO$9=\"\",\"\",IF(AO149=0,0,HLOOKUP(AO$9,CPPE!$A$1:$DB$177,AN149,FALSE)))","v":""},{"$f":"IF(AP149=\"\",\"\",IF(AP149=0,\"\",IF(LandUse!$N142=2,\"\",IF(AP149>=$E$5,AO149,\"\"))))","v":""},141,{"$f":"+CPPE!$A141","v":"Tree/Shrub Establishment"},{"$f":"IF(AS$9=\"\",\"\",IF(AS149=0,0,HLOOKUP(AS$9,CPPE!$A$1:$DB$177,AR149,FALSE)))","v":""},{"$f":"IF(AT149=\"\",\"\",IF(AT149=0,\"\",IF(LandUse!$N142=2,\"\",IF(AT149>=$E$5,AS149,\"\"))))","v":""},141,{"$f":"+CPPE!$A141","v":"Tree/Shrub Establishment"},{"$f":"IF(AW$9=\"\",\"\",IF(AW149=0,0,HLOOKUP(AW$9,CPPE!$A$1:$DB$177,AV149,FALSE)))","v":""},{"$f":"IF(AX149=\"\",\"\",IF(AX149=0,\"\",IF(LandUse!$N142=2,\"\",IF(AX149>=$E$5,AW149,\"\"))))","v":""},141,{"$f":"+CPPE!$A141","v":"Tree/Shrub Establishment"},{"$f":"IF(BA$9=\"\",\"\",IF(BA149=0,0,HLOOKUP(BA$9,CPPE!$A$1:$DB$177,AZ149,FALSE)))","v":""},{"$f":"IF(BB149=\"\",\"\",IF(BB149=0,\"\",IF(LandUse!$N142=2,\"\",IF(BB149>=$E$5,BA149,\"\"))))","v":""},141,{"$f":"+CPPE!$A141","v":"Tree/Shrub Establishment"},{"$f":"IF(BE$9=\"\",\"\",IF(BE149=0,0,HLOOKUP(BE$9,CPPE!$A$1:$DB$177,BD149,FALSE)))","v":""},{"$f":"IF(BF149=\"\",\"\",IF(BF149=0,\"\",IF(LandUse!$N142=2,\"\",IF(BF149>=$E$5,BE149,\"\"))))","v":""},141,{"$f":"+CPPE!$A141","v":"Tree/Shrub Establishment"},{"$f":"IF(BI$9=\"\",\"\",IF(BI149=0,0,HLOOKUP(BI$9,CPPE!$A$1:$DB$177,BH149,FALSE)))","v":""},{"$f":"IF(BJ149=\"\",\"\",IF(BJ149=0,\"\",IF(LandUse!$N142=2,\"\",IF(BJ149>=$E$5,BI149,\"\"))))","v":""},null,"","","","","","","","","",""]
[null,null,null,null,null,null,null,null,null,null,null,null,null,null,null,null,null,null,null,null,null,null,{"$f":"+CPPE!$A142","v":"Tree/Shrub Pruning"},142,{"$f":"+CPPE!$A142","v":"Tree/Shrub Pruning"},{"$f":"IF(Y$9=\"\",\"\",IF(Y150=0,0,HLOOKUP(Y$9,CPPE!$A$1:$DB$177,X150,FALSE)))","v":1},{"$f":"IF(Z150=\"\",\"\",IF(Z150=0,\"\",IF(LandUse!$N143=2,\"\",IF(Z150>=$E$5,Y150,\"\"))))","v":""},142,{"$f":"+CPPE!$A142","v":"Tree/Shrub Pruning"},{"$f":"IF(AC$9=\"\",\"\",IF(AC150=0,0,HLOOKUP(AC$9,CPPE!$A$1:$DB$177,AB150,FALSE)))","v":0},{"$f":"IF(AD150=\"\",\"\",IF(AD150=0,\"\",IF(LandUse!$N143=2,\"\",IF(AD150>=$E$5,AC150,\"\"))))","v":""},142,{"$f":"+CPPE!$A142","v":"Tree/Shrub Pruning"},{"$f":"IF(AG$9=\"\",\"\",IF(AG150=0,0,HLOOKUP(AG$9,CPPE!$A$1:$DB$177,AF150,FALSE)))","v":1},{"$f":"IF(AH150=\"\",\"\",IF(AH150=0,\"\",IF(LandUse!$N143=2,\"\",IF(AH150>=$E$5,AG150,\"\"))))","v":""},142,{"$f":"+CPPE!$A142","v":"Tree/Shrub Pruning"},{"$f":"IF(AK$9=\"\",\"\",IF(AK150=0,0,HLOOKUP(AK$9,CPPE!$A$1:$DB$177,AJ150,FALSE)))","v":1},{"$f":"IF(AL150=\"\",\"\",IF(AL150=0,\"\",IF(LandUse!$N143=2,\"\",IF(AL150>=$E$5,AK150,\"\"))))","v":""},142,{"$f":"+CPPE!$A142","v":"Tree/Shrub Pruning"},{"$f":"IF(AO$9=\"\",\"\",IF(AO150=0,0,HLOOKUP(AO$9,CPPE!$A$1:$DB$177,AN150,FALSE)))","v":""},{"$f":"IF(AP150=\"\",\"\",IF(AP150=0,\"\",IF(LandUse!$N143=2,\"\",IF(AP150>=$E$5,AO150,\"\"))))","v":""},142,{"$f":"+CPPE!$A142","v":"Tree/Shrub Pruning"},{"$f":"IF(AS$9=\"\",\"\",IF(AS150=0,0,HLOOKUP(AS$9,CPPE!$A$1:$DB$177,AR150,FALSE)))","v":""},{"$f":"IF(AT150=\"\",\"\",IF(AT150=0,\"\",IF(LandUse!$N143=2,\"\",IF(AT150>=$E$5,AS150,\"\"))))","v":""},142,{"$f":"+CPPE!$A142","v":"Tree/Shrub Pruning"},{"$f":"IF(AW$9=\"\",\"\",IF(AW150=0,0,HLOOKUP(AW$9,CPPE!$A$1:$DB$177,AV150,FALSE)))","v":""},{"$f":"IF(AX150=\"\",\"\",IF(AX150=0,\"\",IF(LandUse!$N143=2,\"\",IF(AX150>=$E$5,AW150,\"\"))))","v":""},142,{"$f":"+CPPE!$A142","v":"Tree/Shrub Pruning"},{"$f":"IF(BA$9=\"\",\"\",IF(BA150=0,0,HLOOKUP(BA$9,CPPE!$A$1:$DB$177,AZ150,FALSE)))","v":""},{"$f":"IF(BB150=\"\",\"\",IF(BB150=0,\"\",IF(LandUse!$N143=2,\"\",IF(BB150>=$E$5,BA150,\"\"))))","v":""},142,{"$f":"+CPPE!$A142","v":"Tree/Shrub Pruning"},{"$f":"IF(BE$9=\"\",\"\",IF(BE150=0,0,HLOOKUP(BE$9,CPPE!$A$1:$DB$177,BD150,FALSE)))","v":""},{"$f":"IF(BF150=\"\",\"\",IF(BF150=0,\"\",IF(LandUse!$N143=2,\"\",IF(BF150>=$E$5,BE150,\"\"))))","v":""},142,{"$f":"+CPPE!$A142","v":"Tree/Shrub Pruning"},{"$f":"IF(BI$9=\"\",\"\",IF(BI150=0,0,HLOOKUP(BI$9,CPPE!$A$1:$DB$177,BH150,FALSE)))","v":""},{"$f":"IF(BJ150=\"\",\"\",IF(BJ150=0,\"\",IF(LandUse!$N143=2,\"\",IF(BJ150>=$E$5,BI150,\"\"))))","v":""},null,"","","","","","","","","",""]
[null,null,null,null,null,null,null,null,null,null,null,null,null,null,null,null,null,null,null,null,null,null,{"$f":"+CPPE!$A143","v":"Tree/Shrub Site Preparation"},143,{"$f":"+CPPE!$A143","v":"Tree/Shrub Site Preparation"},{"$f":"IF(Y$9=\"\",\"\",IF(Y151=0,0,HLOOKUP(Y$9,CPPE!$A$1:$DB$177,X151,FALSE)))","v":-1},{"$f":"IF(Z151=\"\",\"\",IF(Z151=0,\"\",IF(LandUse!$N144=2,\"\",IF(Z151>=$E$5,Y151,\"\"))))","v":""},143,{"$f":"+CPPE!$A143","v":"Tree/Shrub Site Preparation"},{"$f":"IF(AC$9=\"\",\"\",IF(AC151=0,0,HLOOKUP(AC$9,CPPE!$A$1:$DB$177,AB151,FALSE)))","v":-1},{"$f":"IF(AD151=\"\",\"\",IF(AD151=0,\"\",IF(LandUse!$N144=2,\"\",IF(AD151>=$E$5,AC151,\"\"))))","v":""},143,{"$f":"+CPPE!$A143","v":"Tree/Shrub Site Preparation"},{"$f":"IF(AG$9=\"\",\"\",IF(AG151=0,0,HLOOKUP(AG$9,CPPE!$A$1:$DB$177,AF151,FALSE)))","v":-2},{"$f":"IF(AH151=\"\",\"\",IF(AH151=0,\"\",IF(LandUse!$N144=2,\"\",IF(AH151>=$E$5,AG151,\"\"))))","v":""},143,{"$f":"+CPPE!$A143","v":"Tree/Shrub Site Preparation"},{"$f":"IF(AK$9=\"\",\"\",IF(AK151=0,0,HLOOKUP(AK$9,CPPE!$A$1:$DB$177,AJ151,FALSE)))","v":-1},{"$f":"IF(AL151=\"\",\"\",IF(AL151=0,\"\",IF(LandUse!$N144=2,\"\",IF(AL151>=$E$5,AK151,\"\"))))","v":""},143,{"$f":"+CPPE!$A143","v":"Tree/Shrub Site Preparation"},{"$f":"IF(AO$9=\"\",\"\",IF(AO151=0,0,HLOOKUP(AO$9,CPPE!$A$1:$DB$177,AN151,FALSE)))","v":""},{"$f":"IF(AP151=\"\",\"\",IF(AP151=0,\"\",IF(LandUse!$N144=2,\"\",IF(AP151>=$E$5,AO151,\"\"))))","v":""},143,{"$f":"+CPPE!$A143","v":"Tree/Shrub Site Preparation"},{"$f":"IF(AS$9=\"\",\"\",IF(AS151=0,0,HLOOKUP(AS$9,CPPE!$A$1:$DB$177,AR151,FALSE)))","v":""},{"$f":"IF(AT151=\"\",\"\",IF(AT151=0,\"\",IF(LandUse!$N144=2,\"\",IF(AT151>=$E$5,AS151,\"\"))))","v":""},143,{"$f":"+CPPE!$A143","v":"Tree/Shrub Site Preparation"},{"$f":"IF(AW$9=\"\",\"\",IF(AW151=0,0,HLOOKUP(AW$9,CPPE!$A$1:$DB$177,AV151,FALSE)))","v":""},{"$f":"IF(AX151=\"\",\"\",IF(AX151=0,\"\",IF(LandUse!$N144=2,\"\",IF(AX151>=$E$5,AW151,\"\"))))","v":""},143,{"$f":"+CPPE!$A143","v":"Tree/Shrub Site Preparation"},{"$f":"IF(BA$9=\"\",\"\",IF(BA151=0,0,HLOOKUP(BA$9,CPPE!$A$1:$DB$177,AZ151,FALSE)))","v":""},{"$f":"IF(BB151=\"\",\"\",IF(BB151=0,\"\",IF(LandUse!$N144=2,\"\",IF(BB151>=$E$5,BA151,\"\"))))","v":""},143,{"$f":"+CPPE!$A143","v":"Tree/Shrub Site Preparation"},{"$f":"IF(BE$9=\"\",\"\",IF(BE151=0,0,HLOOKUP(BE$9,CPPE!$A$1:$DB$177,BD151,FALSE)))","v":""},{"$f":"IF(BF151=\"\",\"\",IF(BF151=0,\"\",IF(LandUse!$N144=2,\"\",IF(BF151>=$E$5,BE151,\"\"))))","v":""},143,{"$f":"+CPPE!$A143","v":"Tree/Shrub Site Preparation"},{"$f":"IF(BI$9=\"\",\"\",IF(BI151=0,0,HLOOKUP(BI$9,CPPE!$A$1:$DB$177,BH151,FALSE)))","v":""},{"$f":"IF(BJ151=\"\",\"\",IF(BJ151=0,\"\",IF(LandUse!$N144=2,\"\",IF(BJ151>=$E$5,BI151,\"\"))))","v":""},null,"","","","","","","","","",""]
[null,null,null,null,null,null,null,null,null,null,null,null,null,null,null,null,null,null,null,null,null,null,{"$f":"+CPPE!$A144","v":"Underground Outlet"},144,{"$f":"+CPPE!$A144","v":"Underground Outlet"},{"$f":"IF(Y$9=\"\",\"\",IF(Y152=0,0,HLOOKUP(Y$9,CPPE!$A$1:$DB$177,X152,FALSE)))","v":0},{"$f":"IF(Z152=\"\",\"\",IF(Z152=0,\"\",IF(LandUse!$N145=2,\"\",IF(Z152>=$E$5,Y152,\"\"))))","v":""},144,{"$f":"+CPPE!$A144","v":"Underground Outlet"},{"$f":"IF(AC$9=\"\",\"\",IF(AC152=0,0,HLOOKUP(AC$9,CPPE!$A$1:$DB$177,AB152,FALSE)))","v":0},{"$f":"IF(AD152=\"\",\"\",IF(AD152=0,\"\",IF(LandUse!$N145=2,\"\",IF(AD152>=$E$5,AC152,\"\"))))","v":""},144,{"$f":"+CPPE!$A144","v":"Underground Outlet"},{"$f":"IF(AG$9=\"\",\"\",IF(AG152=0,0,HLOOKUP(AG$9,CPPE!$A$1:$DB$177,AF152,FALSE)))","v":0},{"$f":"IF(AH152=\"\",\"\",IF(AH152=0,\"\",IF(LandUse!$N145=2,\"\",IF(AH152>=$E$5,AG152,\"\"))))","v":""},144,{"$f":"+CPPE!$A144","v":"Underground Outlet"},{"$f":"IF(AK$9=\"\",\"\",IF(AK152=0,0,HLOOKUP(AK$9,CPPE!$A$1:$DB$177,AJ152,FALSE)))","v":0},{"$f":"IF(AL152=\"\",\"\",IF(AL152=0,\"\",IF(LandUse!$N145=2,\"\",IF(AL152>=$E$5,AK152,\"\"))))","v":""},144,{"$f":"+CPPE!$A144","v":"Underground Outlet"},{"$f":"IF(AO$9=\"\",\"\",IF(AO152=0,0,HLOOKUP(AO$9,CPPE!$A$1:$DB$177,AN152,FALSE)))","v":""},{"$f":"IF(AP152=\"\",\"\",IF(AP152=0,\"\",IF(LandUse!$N145=2,\"\",IF(AP152>=$E$5,AO152,\"\"))))","v":""},144,{"$f":"+CPPE!$A144","v":"Underground Outlet"},{"$f":"IF(AS$9=\"\",\"\",IF(AS152=0,0,HLOOKUP(AS$9,CPPE!$A$1:$DB$177,AR152,FALSE)))","v":""},{"$f":"IF(AT152=\"\",\"\",IF(AT152=0,\"\",IF(LandUse!$N145=2,\"\",IF(AT152>=$E$5,AS152,\"\"))))","v":""},144,{"$f":"+CPPE!$A144","v":"Underground Outlet"},{"$f":"IF(AW$9=\"\",\"\",IF(AW152=0,0,HLOOKUP(AW$9,CPPE!$A$1:$DB$177,AV152,FALSE)))","v":""},{"$f":"IF(AX152=\"\",\"\",IF(AX152=0,\"\",IF(LandUse!$N145=2,\"\",IF(AX152>=$E$5,AW152,\"\"))))","v":""},144,{"$f":"+CPPE!$A144","v":"Underground Outlet"},{"$f":"IF(BA$9=\"\",\"\",IF(BA152=0,0,HLOOKUP(BA$9,CPPE!$A$1:$DB$177,AZ152,FALSE)))","v":""},{"$f":"IF(BB152=\"\",\"\",IF(BB152=0,\"\",IF(LandUse!$N145=2,\"\",IF(BB152>=$E$5,BA152,\"\"))))","v":""},144,{"$f":"+CPPE!$A144","v":"Underground Outlet"},{"$f":"IF(BE$9=\"\",\"\",IF(BE152=0,0,HLOOKUP(BE$9,CPPE!$A$1:$DB$177,BD152,FALSE)))","v":""},{"$f":"IF(BF152=\"\",\"\",IF(BF152=0,\"\",IF(LandUse!$N145=2,\"\",IF(BF152>=$E$5,BE152,\"\"))))","v":""},144,{"$f":"+CPPE!$A144","v":"Underground Outlet"},{"$f":"IF(BI$9=\"\",\"\",IF(BI152=0,0,HLOOKUP(BI$9,CPPE!$A$1:$DB$177,BH152,FALSE)))","v":""},{"$f":"IF(BJ152=\"\",\"\",IF(BJ152=0,\"\",IF(LandUse!$N145=2,\"\",IF(BJ152>=$E$5,BI152,\"\"))))","v":""},null,"","","","","","","","","",""]
[null,null,null,null,null,null,null,null,null,null,null,null,null,null,null,null,null,null,null,null,null,null,{"$f":"+CPPE!$A145","v":"Upland Wildlife Habitat Management"},145,{"$f":"+CPPE!$A145","v":"Upland Wildlife Habitat Management"},{"$f":"IF(Y$9=\"\",\"\",IF(Y153=0,0,HLOOKUP(Y$9,CPPE!$A$1:$DB$177,X153,FALSE)))","v":3},{"$f":"IF(Z153=\"\",\"\",IF(Z153=0,\"\",IF(LandUse!$N146=2,\"\",IF(Z153>=$E$5,Y153,\"\"))))","v":""},145,{"$f":"+CPPE!$A145","v":"Upland Wildlife Habitat Management"},{"$f":"IF(AC$9=\"\",\"\",IF(AC153=0,0,HLOOKUP(AC$9,CPPE!$A$1:$DB$177,AB153,FALSE)))","v":0},{"$f":"IF(AD153=\"\",\"\",IF(AD153=0,\"\",IF(LandUse!$N146=2,\"\",IF(AD153>=$E$5,AC153,\"\"))))","v":""},145,{"$f":"+CPPE!$A145","v":"Upland Wildlife Habitat Management"},{"$f":"IF(AG$9=\"\",\"\",IF(AG153=0,0,HLOOKUP(AG$9,CPPE!$A$1:$DB$177,AF153,FALSE)))","v":0},{"$f":"IF(AH153=\"\",\"\",IF(AH153=0,\"\",IF(LandUse!$N146=2,\"\",IF(AH153>=$E$5,AG153,\"\"))))","v":""},145,{"$f":"+CPPE!$A145","v":"Upland Wildlife Habitat Management"},{"$f":"IF(AK$9=\"\",\"\",IF(AK153=0,0,HLOOKUP(AK$9,CPPE!$A$1:$DB$177,AJ153,FALSE)))","v":0},{"$f":"IF(AL153=\"\",\"\",IF(AL153=0,\"\",IF(LandUse!$N146=2,\"\",IF(AL153>=$E$5,AK153,\"\"))))","v":""},145,{"$f":"+CPPE!$A145","v":"Upland Wildlife Habitat Management"},{"$f":"IF(AO$9=\"\",\"\",IF(AO153=0,0,HLOOKUP(AO$9,CPPE!$A$1:$DB$177,AN153,FALSE)))","v":""},{"$f":"IF(AP153=\"\",\"\",IF(AP153=0,\"\",IF(LandUse!$N146=2,\"\",IF(AP153>=$E$5,AO153,\"\"))))","v":""},145,{"$f":"+CPPE!$A145","v":"Upland Wildlife Habitat Management"},{"$f":"IF(AS$9=\"\",\"\",IF(AS153=0,0,HLOOKUP(AS$9,CPPE!$A$1:$DB$177,AR153,FALSE)))","v":""},{"$f":"IF(AT153=\"\",\"\",IF(AT153=0,\"\",IF(LandUse!$N146=2,\"\",IF(AT153>=$E$5,AS153,\"\"))))","v":""},145,{"$f":"+CPPE!$A145","v":"Upland Wildlife Habitat Management"},{"$f":"IF(AW$9=\"\",\"\",IF(AW153=0,0,HLOOKUP(AW$9,CPPE!$A$1:$DB$177,AV153,FALSE)))","v":""},{"$f":"IF(AX153=\"\",\"\",IF(AX153=0,\"\",IF(LandUse!$N146=2,\"\",IF(AX153>=$E$5,AW153,\"\"))))","v":""},145,{"$f":"+CPPE!$A145","v":"Upland Wildlife Habitat Management"},{"$f":"IF(BA$9=\"\",\"\",IF(BA153=0,0,HLOOKUP(BA$9,CPPE!$A$1:$DB$177,AZ153,FALSE)))","v":""},{"$f":"IF(BB153=\"\",\"\",IF(BB153=0,\"\",IF(LandUse!$N146=2,\"\",IF(BB153>=$E$5,BA153,\"\"))))","v":""},145,{"$f":"+CPPE!$A145","v":"Upland Wildlife Habitat Management"},{"$f":"IF(BE$9=\"\",\"\",IF(BE153=0,0,HLOOKUP(BE$9,CPPE!$A$1:$DB$177,BD153,FALSE)))","v":""},{"$f":"IF(BF153=\"\",\"\",IF(BF153=0,\"\",IF(LandUse!$N146=2,\"\",IF(BF153>=$E$5,BE153,\"\"))))","v":""},145,{"$f":"+CPPE!$A145","v":"Upland Wildlife Habitat Management"},{"$f":"IF(BI$9=\"\",\"\",IF(BI153=0,0,HLOOKUP(BI$9,CPPE!$A$1:$DB$177,BH153,FALSE)))","v":""},{"$f":"IF(BJ153=\"\",\"\",IF(BJ153=0,\"\",IF(LandUse!$N146=2,\"\",IF(BJ153>=$E$5,BI153,\"\"))))","v":""},null,"","","","","","","","","",""]
[null,null,null,null,null,null,null,null,null,null,null,null,null,null,null,null,null,null,null,null,null,null,{"$f":"+CPPE!$A146","v":"Vegetated Treatment Area "},146,{"$f":"+CPPE!$A146","v":"Vegetated Treatment Area "},{"$f":"IF(Y$9=\"\",\"\",IF(Y154=0,0,HLOOKUP(Y$9,CPPE!$A$1:$DB$177,X154,FALSE)))","v":4},{"$f":"IF(Z154=\"\",\"\",IF(Z154=0,\"\",IF(LandUse!$N147=2,\"\",IF(Z154>=$E$5,Y154,\"\"))))","v":""},146,{"$f":"+CPPE!$A146","v":"Vegetated Treatment Area "},{"$f":"IF(AC$9=\"\",\"\",IF(AC154=0,0,HLOOKUP(AC$9,CPPE!$A$1:$DB$177,AB154,FALSE)))","v":3},{"$f":"IF(AD154=\"\",\"\",IF(AD154=0,\"\",IF(LandUse!$N147=2,\"\",IF(AD154>=$E$5,AC154,\"\"))))","v":""},146,{"$f":"+CPPE!$A146","v":"Vegetated Treatment Area "},{"$f":"IF(AG$9=\"\",\"\",IF(AG154=0,0,HLOOKUP(AG$9,CPPE!$A$1:$DB$177,AF154,FALSE)))","v":3},{"$f":"IF(AH154=\"\",\"\",IF(AH154=0,\"\",IF(LandUse!$N147=2,\"\",IF(AH154>=$E$5,AG154,\"\"))))","v":""},146,{"$f":"+CPPE!$A146","v":"Vegetated Treatment Area "},{"$f":"IF(AK$9=\"\",\"\",IF(AK154=0,0,HLOOKUP(AK$9,CPPE!$A$1:$DB$177,AJ154,FALSE)))","v":0},{"$f":"IF(AL154=\"\",\"\",IF(AL154=0,\"\",IF(LandUse!$N147=2,\"\",IF(AL154>=$E$5,AK154,\"\"))))","v":""},146,{"$f":"+CPPE!$A146","v":"Vegetated Treatment Area "},{"$f":"IF(AO$9=\"\",\"\",IF(AO154=0,0,HLOOKUP(AO$9,CPPE!$A$1:$DB$177,AN154,FALSE)))","v":""},{"$f":"IF(AP154=\"\",\"\",IF(AP154=0,\"\",IF(LandUse!$N147=2,\"\",IF(AP154>=$E$5,AO154,\"\"))))","v":""},146,{"$f":"+CPPE!$A146","v":"Vegetated Treatment Area "},{"$f":"IF(AS$9=\"\",\"\",IF(AS154=0,0,HLOOKUP(AS$9,CPPE!$A$1:$DB$177,AR154,FALSE)))","v":""},{"$f":"IF(AT154=\"\",\"\",IF(AT154=0,\"\",IF(LandUse!$N147=2,\"\",IF(AT154>=$E$5,AS154,\"\"))))","v":""},146,{"$f":"+CPPE!$A146","v":"Vegetated Treatment Area "},{"$f":"IF(AW$9=\"\",\"\",IF(AW154=0,0,HLOOKUP(AW$9,CPPE!$A$1:$DB$177,AV154,FALSE)))","v":""},{"$f":"IF(AX154=\"\",\"\",IF(AX154=0,\"\",IF(LandUse!$N147=2,\"\",IF(AX154>=$E$5,AW154,\"\"))))","v":""},146,{"$f":"+CPPE!$A146","v":"Vegetated Treatment Area "},{"$f":"IF(BA$9=\"\",\"\",IF(BA154=0,0,HLOOKUP(BA$9,CPPE!$A$1:$DB$177,AZ154,FALSE)))","v":""},{"$f":"IF(BB154=\"\",\"\",IF(BB154=0,\"\",IF(LandUse!$N147=2,\"\",IF(BB154>=$E$5,BA154,\"\"))))","v":""},146,{"$f":"+CPPE!$A146","v":"Vegetated Treatment Area "},{"$f":"IF(BE$9=\"\",\"\",IF(BE154=0,0,HLOOKUP(BE$9,CPPE!$A$1:$DB$177,BD154,FALSE)))","v":""},{"$f":"IF(BF154=\"\",\"\",IF(BF154=0,\"\",IF(LandUse!$N147=2,\"\",IF(BF154>=$E$5,BE154,\"\"))))","v":""},146,{"$f":"+CPPE!$A146","v":"Vegetated Treatment Area "},{"$f":"IF(BI$9=\"\",\"\",IF(BI154=0,0,HLOOKUP(BI$9,CPPE!$A$1:$DB$177,BH154,FALSE)))","v":""},{"$f":"IF(BJ154=\"\",\"\",IF(BJ154=0,\"\",IF(LandUse!$N147=2,\"\",IF(BJ154>=$E$5,BI154,\"\"))))","v":""},null,"","","","","","","","","",""]
[null,null,null,null,null,null,null,null,null,null,null,null,null,null,null,null,null,null,null,null,null,null,{"$f":"+CPPE!$A147","v":"Vegetative Barrier"},147,{"$f":"+CPPE!$A147","v":"Vegetative Barrier"},{"$f":"IF(Y$9=\"\",\"\",IF(Y155=0,0,HLOOKUP(Y$9,CPPE!$A$1:$DB$177,X155,FALSE)))","v":5},{"$f":"IF(Z155=\"\",\"\",IF(Z155=0,\"\",IF(LandUse!$N148=2,\"\",IF(Z155>=$E$5,Y155,\"\"))))","v":""},147,{"$f":"+CPPE!$A147","v":"Vegetative Barrier"},{"$f":"IF(AC$9=\"\",\"\",IF(AC155=0,0,HLOOKUP(AC$9,CPPE!$A$1:$DB$177,AB155,FALSE)))","v":0},{"$f":"IF(AD155=\"\",\"\",IF(AD155=0,\"\",IF(LandUse!$N148=2,\"\",IF(AD155>=$E$5,AC155,\"\"))))","v":""},147,{"$f":"+CPPE!$A147","v":"Vegetative Barrier"},{"$f":"IF(AG$9=\"\",\"\",IF(AG155=0,0,HLOOKUP(AG$9,CPPE!$A$1:$DB$177,AF155,FALSE)))","v":0},{"$f":"IF(AH155=\"\",\"\",IF(AH155=0,\"\",IF(LandUse!$N148=2,\"\",IF(AH155>=$E$5,AG155,\"\"))))","v":""},147,{"$f":"+CPPE!$A147","v":"Vegetative Barrier"},{"$f":"IF(AK$9=\"\",\"\",IF(AK155=0,0,HLOOKUP(AK$9,CPPE!$A$1:$DB$177,AJ155,FALSE)))","v":0},{"$f":"IF(AL155=\"\",\"\",IF(AL155=0,\"\",IF(LandUse!$N148=2,\"\",IF(AL155>=$E$5,AK155,\"\"))))","v":""},147,{"$f":"+CPPE!$A147","v":"Vegetative Barrier"},{"$f":"IF(AO$9=\"\",\"\",IF(AO155=0,0,HLOOKUP(AO$9,CPPE!$A$1:$DB$177,AN155,FALSE)))","v":""},{"$f":"IF(AP155=\"\",\"\",IF(AP155=0,\"\",IF(LandUse!$N148=2,\"\",IF(AP155>=$E$5,AO155,\"\"))))","v":""},147,{"$f":"+CPPE!$A147","v":"Vegetative Barrier"},{"$f":"IF(AS$9=\"\",\"\",IF(AS155=0,0,HLOOKUP(AS$9,CPPE!$A$1:$DB$177,AR155,FALSE)))","v":""},{"$f":"IF(AT155=\"\",\"\",IF(AT155=0,\"\",IF(LandUse!$N148=2,\"\",IF(AT155>=$E$5,AS155,\"\"))))","v":""},147,{"$f":"+CPPE!$A147","v":"Vegetative Barrier"},{"$f":"IF(AW$9=\"\",\"\",IF(AW155=0,0,HLOOKUP(AW$9,CPPE!$A$1:$DB$177,AV155,FALSE)))","v":""},{"$f":"IF(AX155=\"\",\"\",IF(AX155=0,\"\",IF(LandUse!$N148=2,\"\",IF(AX155>=$E$5,AW155,\"\"))))","v":""},147,{"$f":"+CPPE!$A147","v":"Vegetative Barrier"},{"$f":"IF(BA$9=\"\",\"\",IF(BA155=0,0,HLOOKUP(BA$9,CPPE!$A$1:$DB$177,AZ155,FALSE)))","v":""},{"$f":"IF(BB155=\"\",\"\",IF(BB155=0,\"\",IF(LandUse!$N148=2,\"\",IF(BB155>=$E$5,BA155,\"\"))))","v":""},147,{"$f":"+CPPE!$A147","v":"Vegetative Barrier"},{"$f":"IF(BE$9=\"\",\"\",IF(BE155=0,0,HLOOKUP(BE$9,CPPE!$A$1:$DB$177,BD155,FALSE)))","v":""},{"$f":"IF(BF155=\"\",\"\",IF(BF155=0,\"\",IF(LandUse!$N148=2,\"\",IF(BF155>=$E$5,BE155,\"\"))))","v":""},147,{"$f":"+CPPE!$A147","v":"Vegetative Barrier"},{"$f":"IF(BI$9=\"\",\"\",IF(BI155=0,0,HLOOKUP(BI$9,CPPE!$A$1:$DB$177,BH155,FALSE)))","v":""},{"$f":"IF(BJ155=\"\",\"\",IF(BJ155=0,\"\",IF(LandUse!$N148=2,\"\",IF(BJ155>=$E$5,BI155,\"\"))))","v":""},null,{"$f":"IF(B156=\"\",\"\",C156)","v":""},{"$f":"IF(D156=\"\",\"\",E156)","v":""},{"$f":"IF(F156=\"\",\"\",G156)","v":""},{"$f":"IF(H156=\"\",\"\",I156)","v":""},{"$f":"IF(J156=\"\",\"\",K156)","v":""},{"$f":"IF(L156=\"\",\"\",M156)","v":""},{"$f":"IF(N156=\"\",\"\",O156)","v":""},{"$f":"IF(P156=\"\",\"\",Q156)","v":""},{"$f":"IF(R156=\"\",\"\",S156)","v":""},{"$f":"IF(T156=\"\",\"\",U156)","v":""}]
[null,null,null,null,null,null,null,null,null,null,null,null,null,null,null,null,null,null,null,null,null,null,{"$f":"+CPPE!$A148","v":"Vertical Drain"},148,{"$f":"+CPPE!$A148","v":"Vertical Drain"},{"$f":"IF(Y$9=\"\",\"\",IF(Y156=0,0,HLOOKUP(Y$9,CPPE!$A$1:$DB$177,X156,FALSE)))","v":0},{"$f":"IF(Z156=\"\",\"\",IF(Z156=0,\"\",IF(LandUse!$N149=2,\"\",IF(Z156>=$E$5,Y156,\"\"))))","v":""},148,{"$f":"+CPPE!$A148","v":"Vertical Drain"},{"$f":"IF(AC$9=\"\",\"\",IF(AC156=0,0,HLOOKUP(AC$9,CPPE!$A$1:$DB$177,AB156,FALSE)))","v":0},{"$f":"IF(AD156=\"\",\"\",IF(AD156=0,\"\",IF(LandUse!$N149=2,\"\",IF(AD156>=$E$5,AC156,\"\"))))","v":""},148,{"$f":"+CPPE!$A148","v":"Vertical Drain"},{"$f":"IF(AG$9=\"\",\"\",IF(AG156=0,0,HLOOKUP(AG$9,CPPE!$A$1:$DB$177,AF156,FALSE)))","v":0},{"$f":"IF(AH156=\"\",\"\",IF(AH156=0,\"\",IF(LandUse!$N149=2,\"\",IF(AH156>=$E$5,AG156,\"\"))))","v":""},148,{"$f":"+CPPE!$A148","v":"Vertical Drain"},{"$f":"IF(AK$9=\"\",\"\",IF(AK156=0,0,HLOOKUP(AK$9,CPPE!$A$1:$DB$177,AJ156,FALSE)))","v":0},{"$f":"IF(AL156=\"\",\"\",IF(AL156=0,\"\",IF(LandUse!$N149=2,\"\",IF(AL156>=$E$5,AK156,\"\"))))","v":""},148,{"$f":"+CPPE!$A148","v":"Vertical Drain"},{"$f":"IF(AO$9=\"\",\"\",IF(AO156=0,0,HLOOKUP(AO$9,CPPE!$A$1:$DB$177,AN156,FALSE)))","v":""},{"$f":"IF(AP156=\"\",\"\",IF(AP156=0,\"\",IF(LandUse!$N149=2,\"\",IF(AP156>=$E$5,AO156,\"\"))))","v":""},148,{"$f":"+CPPE!$A148","v":"Vertical Drain"},{"$f":"IF(AS$9=\"\",\"\",IF(AS156=0,0,HLOOKUP(AS$9,CPPE!$A$1:$DB$177,AR156,FALSE)))","v":""},{"$f":"IF(AT156=\"\",\"\",IF(AT156=0,\"\",IF(LandUse!$N149=2,\"\",IF(AT156>=$E$5,AS156,\"\"))))","v":""},148,{"$f":"+CPPE!$A148","v":"Vertical Drain"},{"$f":"IF(AW$9=\"\",\"\",IF(AW156=0,0,HLOOKUP(AW$9,CPPE!$A$1:$DB$177,AV156,FALSE)))","v":""},{"$f":"IF(AX156=\"\",\"\",IF(AX156=0,\"\",IF(LandUse!$N149=2,\"\",IF(AX156>=$E$5,AW156,\"\"))))","v":""},148,{"$f":"+CPPE!$A148","v":"Vertical Drain"},{"$f":"IF(BA$9=\"\",\"\",IF(BA156=0,0,HLOOKUP(BA$9,CPPE!$A$1:$DB$177,AZ156,FALSE)))","v":""},{"$f":"IF(BB156=\"\",\"\",IF(BB156=0,\"\",IF(LandUse!$N149=2,\"\",IF(BB156>=$E$5,BA156,\"\"))))","v":""},148,{"$f":"+CPPE!$A148","v":"Vertical Drain"},{"$f":"IF(BE$9=\"\",\"\",IF(BE156=0,0,HLOOKUP(BE$9,CPPE!$A$1:$DB$177,BD156,FALSE)))","v":""},{"$f":"IF(BF156=\"\",\"\",IF(BF156=0,\"\",IF(LandUse!$N149=2,\"\",IF(BF156>=$E$5,BE156,\"\"))))","v":""},148,{"$f":"+CPPE!$A148","v":"Vertical Drain"},{"$f":"IF(BI$9=\"\",\"\",IF(BI156=0,0,HLOOKUP(BI$9,CPPE!$A$1:$DB$177,BH156,FALSE)))","v":""},{"$f":"IF(BJ156=\"\",\"\",IF(BJ156=0,\"\",IF(LandUse!$N149=2,\"\",IF(BJ156>=$E$5,BI156,\"\"))))","v":""},null,"","","","","","","","","",""]
[null,null,null,null,null,null,null,null,null,null,null,null,null,null,null,null,null,null,null,null,null,null,{"$f":"+CPPE!$A149","v":"Waste Facility Closure"},149,{"$f":"+CPPE!$A149","v":"Waste Facility Closure"},{"$f":"IF(Y$9=\"\",\"\",IF(Y157=0,0,HLOOKUP(Y$9,CPPE!$A$1:$DB$177,X157,FALSE)))","v":0},{"$f":"IF(Z157=\"\",\"\",IF(Z157=0,\"\",IF(LandUse!$N150=2,\"\",IF(Z157>=$E$5,Y157,\"\"))))","v":""},149,{"$f":"+CPPE!$A149","v":"Waste Facility Closure"},{"$f":"IF(AC$9=\"\",\"\",IF(AC157=0,0,HLOOKUP(AC$9,CPPE!$A$1:$DB$177,AB157,FALSE)))","v":0},{"$f":"IF(AD157=\"\",\"\",IF(AD157=0,\"\",IF(LandUse!$N150=2,\"\",IF(AD157>=$E$5,AC157,\"\"))))","v":""},149,{"$f":"+CPPE!$A149","v":"Waste Facility Closure"},{"$f":"IF(AG$9=\"\",\"\",IF(AG157=0,0,HLOOKUP(AG$9,CPPE!$A$1:$DB$177,AF157,FALSE)))","v":0},{"$f":"IF(AH157=\"\",\"\",IF(AH157=0,\"\",IF(LandUse!$N150=2,\"\",IF(AH157>=$E$5,AG157,\"\"))))","v":""},149,{"$f":"+CPPE!$A149","v":"Waste Facility Closure"},{"$f":"IF(AK$9=\"\",\"\",IF(AK157=0,0,HLOOKUP(AK$9,CPPE!$A$1:$DB$177,AJ157,FALSE)))","v":0},{"$f":"IF(AL157=\"\",\"\",IF(AL157=0,\"\",IF(LandUse!$N150=2,\"\",IF(AL157>=$E$5,AK157,\"\"))))","v":""},149,{"$f":"+CPPE!$A149","v":"Waste Facility Closure"},{"$f":"IF(AO$9=\"\",\"\",IF(AO157=0,0,HLOOKUP(AO$9,CPPE!$A$1:$DB$177,AN157,FALSE)))","v":""},{"$f":"IF(AP157=\"\",\"\",IF(AP157=0,\"\",IF(LandUse!$N150=2,\"\",IF(AP157>=$E$5,AO157,\"\"))))","v":""},149,{"$f":"+CPPE!$A149","v":"Waste Facility Closure"},{"$f":"IF(AS$9=\"\",\"\",IF(AS157=0,0,HLOOKUP(AS$9,CPPE!$A$1:$DB$177,AR157,FALSE)))","v":""},{"$f":"IF(AT157=\"\",\"\",IF(AT157=0,\"\",IF(LandUse!$N150=2,\"\",IF(AT157>=$E$5,AS157,\"\"))))","v":""},149,{"$f":"+CPPE!$A149","v":"Waste Facility Closure"},{"$f":"IF(AW$9=\"\",\"\",IF(AW157=0,0,HLOOKUP(AW$9,CPPE!$A$1:$DB$177,AV157,FALSE)))","v":""},{"$f":"IF(AX157=\"\",\"\",IF(AX157=0,\"\",IF(LandUse!$N150=2,\"\",IF(AX157>=$E$5,AW157,\"\"))))","v":""},149,{"$f":"+CPPE!$A149","v":"Waste Facility Closure"},{"$f":"IF(BA$9=\"\",\"\",IF(BA157=0,0,HLOOKUP(BA$9,CPPE!$A$1:$DB$177,AZ157,FALSE)))","v":""},{"$f":"IF(BB157=\"\",\"\",IF(BB157=0,\"\",IF(LandUse!$N150=2,\"\",IF(BB157>=$E$5,BA157,\"\"))))","v":""},149,{"$f":"+CPPE!$A149","v":"Waste Facility Closure"},{"$f":"IF(BE$9=\"\",\"\",IF(BE157=0,0,HLOOKUP(BE$9,CPPE!$A$1:$DB$177,BD157,FALSE)))","v":""},{"$f":"IF(BF157=\"\",\"\",IF(BF157=0,\"\",IF(LandUse!$N150=2,\"\",IF(BF157>=$E$5,BE157,\"\"))))","v":""},149,{"$f":"+CPPE!$A149","v":"Waste Facility Closure"},{"$f":"IF(BI$9=\"\",\"\",IF(BI157=0,0,HLOOKUP(BI$9,CPPE!$A$1:$DB$177,BH157,FALSE)))","v":""},{"$f":"IF(BJ157=\"\",\"\",IF(BJ157=0,\"\",IF(LandUse!$N150=2,\"\",IF(BJ157>=$E$5,BI157,\"\"))))","v":""},null,"","","","","","","","","",""]
[null,null,null,null,null,null,null,null,null,null,null,null,null,null,null,null,null,null,null,null,null,null,{"$f":"+CPPE!$A150","v":"Waste Recycling"},150,{"$f":"+CPPE!$A150","v":"Waste Recycling"},{"$f":"IF(Y$9=\"\",\"\",IF(Y158=0,0,HLOOKUP(Y$9,CPPE!$A$1:$DB$177,X158,FALSE)))","v":0},{"$f":"IF(Z158=\"\",\"\",IF(Z158=0,\"\",IF(LandUse!$N151=2,\"\",IF(Z158>=$E$5,Y158,\"\"))))","v":""},150,{"$f":"+CPPE!$A150","v":"Waste Recycling"},{"$f":"IF(AC$9=\"\",\"\",IF(AC158=0,0,HLOOKUP(AC$9,CPPE!$A$1:$DB$177,AB158,FALSE)))","v":0},{"$f":"IF(AD158=\"\",\"\",IF(AD158=0,\"\",IF(LandUse!$N151=2,\"\",IF(AD158>=$E$5,AC158,\"\"))))","v":""},150,{"$f":"+CPPE!$A150","v":"Waste Recycling"},{"$f":"IF(AG$9=\"\",\"\",IF(AG158=0,0,HLOOKUP(AG$9,CPPE!$A$1:$DB$177,AF158,FALSE)))","v":1},{"$f":"IF(AH158=\"\",\"\",IF(AH158=0,\"\",IF(LandUse!$N151=2,\"\",IF(AH158>=$E$5,AG158,\"\"))))","v":""},150,{"$f":"+CPPE!$A150","v":"Waste Recycling"},{"$f":"IF(AK$9=\"\",\"\",IF(AK158=0,0,HLOOKUP(AK$9,CPPE!$A$1:$DB$177,AJ158,FALSE)))","v":0},{"$f":"IF(AL158=\"\",\"\",IF(AL158=0,\"\",IF(LandUse!$N151=2,\"\",IF(AL158>=$E$5,AK158,\"\"))))","v":""},150,{"$f":"+CPPE!$A150","v":"Waste Recycling"},{"$f":"IF(AO$9=\"\",\"\",IF(AO158=0,0,HLOOKUP(AO$9,CPPE!$A$1:$DB$177,AN158,FALSE)))","v":""},{"$f":"IF(AP158=\"\",\"\",IF(AP158=0,\"\",IF(LandUse!$N151=2,\"\",IF(AP158>=$E$5,AO158,\"\"))))","v":""},150,{"$f":"+CPPE!$A150","v":"Waste Recycling"},{"$f":"IF(AS$9=\"\",\"\",IF(AS158=0,0,HLOOKUP(AS$9,CPPE!$A$1:$DB$177,AR158,FALSE)))","v":""},{"$f":"IF(AT158=\"\",\"\",IF(AT158=0,\"\",IF(LandUse!$N151=2,\"\",IF(AT158>=$E$5,AS158,\"\"))))","v":""},150,{"$f":"+CPPE!$A150","v":"Waste Recycling"},{"$f":"IF(AW$9=\"\",\"\",IF(AW158=0,0,HLOOKUP(AW$9,CPPE!$A$1:$DB$177,AV158,FALSE)))","v":""},{"$f":"IF(AX158=\"\",\"\",IF(AX158=0,\"\",IF(LandUse!$N151=2,\"\",IF(AX158>=$E$5,AW158,\"\"))))","v":""},150,{"$f":"+CPPE!$A150","v":"Waste Recycling"},{"$f":"IF(BA$9=\"\",\"\",IF(BA158=0,0,HLOOKUP(BA$9,CPPE!$A$1:$DB$177,AZ158,FALSE)))","v":""},{"$f":"IF(BB158=\"\",\"\",IF(BB158=0,\"\",IF(LandUse!$N151=2,\"\",IF(BB158>=$E$5,BA158,\"\"))))","v":""},150,{"$f":"+CPPE!$A150","v":"Waste Recycling"},{"$f":"IF(BE$9=\"\",\"\",IF(BE158=0,0,HLOOKUP(BE$9,CPPE!$A$1:$DB$177,BD158,FALSE)))","v":""},{"$f":"IF(BF158=\"\",\"\",IF(BF158=0,\"\",IF(LandUse!$N151=2,\"\",IF(BF158>=$E$5,BE158,\"\"))))","v":""},150,{"$f":"+CPPE!$A150","v":"Waste Recycling"},{"$f":"IF(BI$9=\"\",\"\",IF(BI158=0,0,HLOOKUP(BI$9,CPPE!$A$1:$DB$177,BH158,FALSE)))","v":""},{"$f":"IF(BJ158=\"\",\"\",IF(BJ158=0,\"\",IF(LandUse!$N151=2,\"\",IF(BJ158>=$E$5,BI158,\"\"))))","v":""},null,"","","","","","","","","",""]
[null,null,null,null,null,null,null,null,null,null,null,null,null,null,null,null,null,null,null,null,null,null,{"$f":"+CPPE!$A151","v":"Waste Separation Facility (no)"},151,{"$f":"+CPPE!$A151","v":"Waste Separation Facility (no)"},{"$f":"IF(Y$9=\"\",\"\",IF(Y159=0,0,HLOOKUP(Y$9,CPPE!$A$1:$DB$177,X159,FALSE)))","v":0},{"$f":"IF(Z159=\"\",\"\",IF(Z159=0,\"\",IF(LandUse!$N152=2,\"\",IF(Z159>=$E$5,Y159,\"\"))))","v":""},151,{"$f":"+CPPE!$A151","v":"Waste Separation Facility (no)"},{"$f":"IF(AC$9=\"\",\"\",IF(AC159=0,0,HLOOKUP(AC$9,CPPE!$A$1:$DB$177,AB159,FALSE)))","v":0},{"$f":"IF(AD159=\"\",\"\",IF(AD159=0,\"\",IF(LandUse!$N152=2,\"\",IF(AD159>=$E$5,AC159,\"\"))))","v":""},151,{"$f":"+CPPE!$A151","v":"Waste Separation Facility (no)"},{"$f":"IF(AG$9=\"\",\"\",IF(AG159=0,0,HLOOKUP(AG$9,CPPE!$A$1:$DB$177,AF159,FALSE)))","v":1},{"$f":"IF(AH159=\"\",\"\",IF(AH159=0,\"\",IF(LandUse!$N152=2,\"\",IF(AH159>=$E$5,AG159,\"\"))))","v":""},151,{"$f":"+CPPE!$A151","v":"Waste Separation Facility (no)"},{"$f":"IF(AK$9=\"\",\"\",IF(AK159=0,0,HLOOKUP(AK$9,CPPE!$A$1:$DB$177,AJ159,FALSE)))","v":0},{"$f":"IF(AL159=\"\",\"\",IF(AL159=0,\"\",IF(LandUse!$N152=2,\"\",IF(AL159>=$E$5,AK159,\"\"))))","v":""},151,{"$f":"+CPPE!$A151","v":"Waste Separation Facility (no)"},{"$f":"IF(AO$9=\"\",\"\",IF(AO159=0,0,HLOOKUP(AO$9,CPPE!$A$1:$DB$177,AN159,FALSE)))","v":""},{"$f":"IF(AP159=\"\",\"\",IF(AP159=0,\"\",IF(LandUse!$N152=2,\"\",IF(AP159>=$E$5,AO159,\"\"))))","v":""},151,{"$f":"+CPPE!$A151","v":"Waste Separation Facility (no)"},{"$f":"IF(AS$9=\"\",\"\",IF(AS159=0,0,HLOOKUP(AS$9,CPPE!$A$1:$DB$177,AR159,FALSE)))","v":""},{"$f":"IF(AT159=\"\",\"\",IF(AT159=0,\"\",IF(LandUse!$N152=2,\"\",IF(AT159>=$E$5,AS159,\"\"))))","v":""},151,{"$f":"+CPPE!$A151","v":"Waste Separation Facility (no)"},{"$f":"IF(AW$9=\"\",\"\",IF(AW159=0,0,HLOOKUP(AW$9,CPPE!$A$1:$DB$177,AV159,FALSE)))","v":""},{"$f":"IF(AX159=\"\",\"\",IF(AX159=0,\"\",IF(LandUse!$N152=2,\"\",IF(AX159>=$E$5,AW159,\"\"))))","v":""},151,{"$f":"+CPPE!$A151","v":"Waste Separation Facility (no)"},{"$f":"IF(BA$9=\"\",\"\",IF(BA159=0,0,HLOOKUP(BA$9,CPPE!$A$1:$DB$177,AZ159,FALSE)))","v":""},{"$f":"IF(BB159=\"\",\"\",IF(BB159=0,\"\",IF(LandUse!$N152=2,\"\",IF(BB159>=$E$5,BA159,\"\"))))","v":""},151,{"$f":"+CPPE!$A151","v":"Waste Separation Facility (no)"},{"$f":"IF(BE$9=\"\",\"\",IF(BE159=0,0,HLOOKUP(BE$9,CPPE!$A$1:$DB$177,BD159,FALSE)))","v":""},{"$f":"IF(BF159=\"\",\"\",IF(BF159=0,\"\",IF(LandUse!$N152=2,\"\",IF(BF159>=$E$5,BE159,\"\"))))","v":""},151,{"$f":"+CPPE!$A151","v":"Waste Separation Facility (no)"},{"$f":"IF(BI$9=\"\",\"\",IF(BI159=0,0,HLOOKUP(BI$9,CPPE!$A$1:$DB$177,BH159,FALSE)))","v":""},{"$f":"IF(BJ159=\"\",\"\",IF(BJ159=0,\"\",IF(LandUse!$N152=2,\"\",IF(BJ159>=$E$5,BI159,\"\"))))","v":""},null,"","","","","","","","","",""]
[null,null,null,null,null,null,null,null,null,null,null,null,null,null,null,null,null,null,null,null,null,null,{"$f":"+CPPE!$A152","v":"Waste Storage Facility"},152,{"$f":"+CPPE!$A152","v":"Waste Storage Facility"},{"$f":"IF(Y$9=\"\",\"\",IF(Y160=0,0,HLOOKUP(Y$9,CPPE!$A$1:$DB$177,X160,FALSE)))","v":0},{"$f":"IF(Z160=\"\",\"\",IF(Z160=0,\"\",IF(LandUse!$N153=2,\"\",IF(Z160>=$E$5,Y160,\"\"))))","v":""},152,{"$f":"+CPPE!$A152","v":"Waste Storage Facility"},{"$f":"IF(AC$9=\"\",\"\",IF(AC160=0,0,HLOOKUP(AC$9,CPPE!$A$1:$DB$177,AB160,FALSE)))","v":1},{"$f":"IF(AD160=\"\",\"\",IF(AD160=0,\"\",IF(LandUse!$N153=2,\"\",IF(AD160>=$E$5,AC160,\"\"))))","v":""},152,{"$f":"+CPPE!$A152","v":"Waste Storage Facility"},{"$f":"IF(AG$9=\"\",\"\",IF(AG160=0,0,HLOOKUP(AG$9,CPPE!$A$1:$DB$177,AF160,FALSE)))","v":1},{"$f":"IF(AH160=\"\",\"\",IF(AH160=0,\"\",IF(LandUse!$N153=2,\"\",IF(AH160>=$E$5,AG160,\"\"))))","v":""},152,{"$f":"+CPPE!$A152","v":"Waste Storage Facility"},{"$f":"IF(AK$9=\"\",\"\",IF(AK160=0,0,HLOOKUP(AK$9,CPPE!$A$1:$DB$177,AJ160,FALSE)))","v":0},{"$f":"IF(AL160=\"\",\"\",IF(AL160=0,\"\",IF(LandUse!$N153=2,\"\",IF(AL160>=$E$5,AK160,\"\"))))","v":""},152,{"$f":"+CPPE!$A152","v":"Waste Storage Facility"},{"$f":"IF(AO$9=\"\",\"\",IF(AO160=0,0,HLOOKUP(AO$9,CPPE!$A$1:$DB$177,AN160,FALSE)))","v":""},{"$f":"IF(AP160=\"\",\"\",IF(AP160=0,\"\",IF(LandUse!$N153=2,\"\",IF(AP160>=$E$5,AO160,\"\"))))","v":""},152,{"$f":"+CPPE!$A152","v":"Waste Storage Facility"},{"$f":"IF(AS$9=\"\",\"\",IF(AS160=0,0,HLOOKUP(AS$9,CPPE!$A$1:$DB$177,AR160,FALSE)))","v":""},{"$f":"IF(AT160=\"\",\"\",IF(AT160=0,\"\",IF(LandUse!$N153=2,\"\",IF(AT160>=$E$5,AS160,\"\"))))","v":""},152,{"$f":"+CPPE!$A152","v":"Waste Storage Facility"},{"$f":"IF(AW$9=\"\",\"\",IF(AW160=0,0,HLOOKUP(AW$9,CPPE!$A$1:$DB$177,AV160,FALSE)))","v":""},{"$f":"IF(AX160=\"\",\"\",IF(AX160=0,\"\",IF(LandUse!$N153=2,\"\",IF(AX160>=$E$5,AW160,\"\"))))","v":""},152,{"$f":"+CPPE!$A152","v":"Waste Storage Facility"},{"$f":"IF(BA$9=\"\",\"\",IF(BA160=0,0,HLOOKUP(BA$9,CPPE!$A$1:$DB$177,AZ160,FALSE)))","v":""},{"$f":"IF(BB160=\"\",\"\",IF(BB160=0,\"\",IF(LandUse!$N153=2,\"\",IF(BB160>=$E$5,BA160,\"\"))))","v":""},152,{"$f":"+CPPE!$A152","v":"Waste Storage Facility"},{"$f":"IF(BE$9=\"\",\"\",IF(BE160=0,0,HLOOKUP(BE$9,CPPE!$A$1:$DB$177,BD160,FALSE)))","v":""},{"$f":"IF(BF160=\"\",\"\",IF(BF160=0,\"\",IF(LandUse!$N153=2,\"\",IF(BF160>=$E$5,BE160,\"\"))))","v":""},152,{"$f":"+CPPE!$A152","v":"Waste Storage Facility"},{"$f":"IF(BI$9=\"\",\"\",IF(BI160=0,0,HLOOKUP(BI$9,CPPE!$A$1:$DB$177,BH160,FALSE)))","v":""},{"$f":"IF(BJ160=\"\",\"\",IF(BJ160=0,\"\",IF(LandUse!$N153=2,\"\",IF(BJ160>=$E$5,BI160,\"\"))))","v":""},null,"","","","","","","","","",""]
[null,null,null,null,null,null,null,null,null,null,null,null,null,null,null,null,null,null,null,null,null,null,{"$f":"+CPPE!$A153","v":"Waste Transfer"},153,{"$f":"+CPPE!$A153","v":"Waste Transfer"},{"$f":"IF(Y$9=\"\",\"\",IF(Y161=0,0,HLOOKUP(Y$9,CPPE!$A$1:$DB$177,X161,FALSE)))","v":-1},{"$f":"IF(Z161=\"\",\"\",IF(Z161=0,\"\",IF(LandUse!$N154=2,\"\",IF(Z161>=$E$5,Y161,\"\"))))","v":""},153,{"$f":"+CPPE!$A153","v":"Waste Transfer"},{"$f":"IF(AC$9=\"\",\"\",IF(AC161=0,0,HLOOKUP(AC$9,CPPE!$A$1:$DB$177,AB161,FALSE)))","v":-1},{"$f":"IF(AD161=\"\",\"\",IF(AD161=0,\"\",IF(LandUse!$N154=2,\"\",IF(AD161>=$E$5,AC161,\"\"))))","v":""},153,{"$f":"+CPPE!$A153","v":"Waste Transfer"},{"$f":"IF(AG$9=\"\",\"\",IF(AG161=0,0,HLOOKUP(AG$9,CPPE!$A$1:$DB$177,AF161,FALSE)))","v":0},{"$f":"IF(AH161=\"\",\"\",IF(AH161=0,\"\",IF(LandUse!$N154=2,\"\",IF(AH161>=$E$5,AG161,\"\"))))","v":""},153,{"$f":"+CPPE!$A153","v":"Waste Transfer"},{"$f":"IF(AK$9=\"\",\"\",IF(AK161=0,0,HLOOKUP(AK$9,CPPE!$A$1:$DB$177,AJ161,FALSE)))","v":0},{"$f":"IF(AL161=\"\",\"\",IF(AL161=0,\"\",IF(LandUse!$N154=2,\"\",IF(AL161>=$E$5,AK161,\"\"))))","v":""},153,{"$f":"+CPPE!$A153","v":"Waste Transfer"},{"$f":"IF(AO$9=\"\",\"\",IF(AO161=0,0,HLOOKUP(AO$9,CPPE!$A$1:$DB$177,AN161,FALSE)))","v":""},{"$f":"IF(AP161=\"\",\"\",IF(AP161=0,\"\",IF(LandUse!$N154=2,\"\",IF(AP161>=$E$5,AO161,\"\"))))","v":""},153,{"$f":"+CPPE!$A153","v":"Waste Transfer"},{"$f":"IF(AS$9=\"\",\"\",IF(AS161=0,0,HLOOKUP(AS$9,CPPE!$A$1:$DB$177,AR161,FALSE)))","v":""},{"$f":"IF(AT161=\"\",\"\",IF(AT161=0,\"\",IF(LandUse!$N154=2,\"\",IF(AT161>=$E$5,AS161,\"\"))))","v":""},153,{"$f":"+CPPE!$A153","v":"Waste Transfer"},{"$f":"IF(AW$9=\"\",\"\",IF(AW161=0,0,HLOOKUP(AW$9,CPPE!$A$1:$DB$177,AV161,FALSE)))","v":""},{"$f":"IF(AX161=\"\",\"\",IF(AX161=0,\"\",IF(LandUse!$N154=2,\"\",IF(AX161>=$E$5,AW161,\"\"))))","v":""},153,{"$f":"+CPPE!$A153","v":"Waste Transfer"},{"$f":"IF(BA$9=\"\",\"\",IF(BA161=0,0,HLOOKUP(BA$9,CPPE!$A$1:$DB$177,AZ161,FALSE)))","v":""},{"$f":"IF(BB161=\"\",\"\",IF(BB161=0,\"\",IF(LandUse!$N154=2,\"\",IF(BB161>=$E$5,BA161,\"\"))))","v":""},153,{"$f":"+CPPE!$A153","v":"Waste Transfer"},{"$f":"IF(BE$9=\"\",\"\",IF(BE161=0,0,HLOOKUP(BE$9,CPPE!$A$1:$DB$177,BD161,FALSE)))","v":""},{"$f":"IF(BF161=\"\",\"\",IF(BF161=0,\"\",IF(LandUse!$N154=2,\"\",IF(BF161>=$E$5,BE161,\"\"))))","v":""},153,{"$f":"+CPPE!$A153","v":"Waste Transfer"},{"$f":"IF(BI$9=\"\",\"\",IF(BI161=0,0,HLOOKUP(BI$9,CPPE!$A$1:$DB$177,BH161,FALSE)))","v":""},{"$f":"IF(BJ161=\"\",\"\",IF(BJ161=0,\"\",IF(LandUse!$N154=2,\"\",IF(BJ161>=$E$5,BI161,\"\"))))","v":""},null,"","","","","","","","","",""]
[null,null,null,null,null,null,null,null,null,null,null,null,null,null,null,null,null,null,null,null,null,null,{"$f":"+CPPE!$A154","v":"Waste Treatment"},154,{"$f":"+CPPE!$A154","v":"Waste Treatment"},{"$f":"IF(Y$9=\"\",\"\",IF(Y162=0,0,HLOOKUP(Y$9,CPPE!$A$1:$DB$177,X162,FALSE)))","v":0},{"$f":"IF(Z162=\"\",\"\",IF(Z162=0,\"\",IF(LandUse!$N155=2,\"\",IF(Z162>=$E$5,Y162,\"\"))))","v":""},154,{"$f":"+CPPE!$A154","v":"Waste Treatment"},{"$f":"IF(AC$9=\"\",\"\",IF(AC162=0,0,HLOOKUP(AC$9,CPPE!$A$1:$DB$177,AB162,FALSE)))","v":1},{"$f":"IF(AD162=\"\",\"\",IF(AD162=0,\"\",IF(LandUse!$N155=2,\"\",IF(AD162>=$E$5,AC162,\"\"))))","v":""},154,{"$f":"+CPPE!$A154","v":"Waste Treatment"},{"$f":"IF(AG$9=\"\",\"\",IF(AG162=0,0,HLOOKUP(AG$9,CPPE!$A$1:$DB$177,AF162,FALSE)))","v":1},{"$f":"IF(AH162=\"\",\"\",IF(AH162=0,\"\",IF(LandUse!$N155=2,\"\",IF(AH162>=$E$5,AG162,\"\"))))","v":""},154,{"$f":"+CPPE!$A154","v":"Waste Treatment"},{"$f":"IF(AK$9=\"\",\"\",IF(AK162=0,0,HLOOKUP(AK$9,CPPE!$A$1:$DB$177,AJ162,FALSE)))","v":0},{"$f":"IF(AL162=\"\",\"\",IF(AL162=0,\"\",IF(LandUse!$N155=2,\"\",IF(AL162>=$E$5,AK162,\"\"))))","v":""},154,{"$f":"+CPPE!$A154","v":"Waste Treatment"},{"$f":"IF(AO$9=\"\",\"\",IF(AO162=0,0,HLOOKUP(AO$9,CPPE!$A$1:$DB$177,AN162,FALSE)))","v":""},{"$f":"IF(AP162=\"\",\"\",IF(AP162=0,\"\",IF(LandUse!$N155=2,\"\",IF(AP162>=$E$5,AO162,\"\"))))","v":""},154,{"$f":"+CPPE!$A154","v":"Waste Treatment"},{"$f":"IF(AS$9=\"\",\"\",IF(AS162=0,0,HLOOKUP(AS$9,CPPE!$A$1:$DB$177,AR162,FALSE)))","v":""},{"$f":"IF(AT162=\"\",\"\",IF(AT162=0,\"\",IF(LandUse!$N155=2,\"\",IF(AT162>=$E$5,AS162,\"\"))))","v":""},154,{"$f":"+CPPE!$A154","v":"Waste Treatment"},{"$f":"IF(AW$9=\"\",\"\",IF(AW162=0,0,HLOOKUP(AW$9,CPPE!$A$1:$DB$177,AV162,FALSE)))","v":""},{"$f":"IF(AX162=\"\",\"\",IF(AX162=0,\"\",IF(LandUse!$N155=2,\"\",IF(AX162>=$E$5,AW162,\"\"))))","v":""},154,{"$f":"+CPPE!$A154","v":"Waste Treatment"},{"$f":"IF(BA$9=\"\",\"\",IF(BA162=0,0,HLOOKUP(BA$9,CPPE!$A$1:$DB$177,AZ162,FALSE)))","v":""},{"$f":"IF(BB162=\"\",\"\",IF(BB162=0,\"\",IF(LandUse!$N155=2,\"\",IF(BB162>=$E$5,BA162,\"\"))))","v":""},154,{"$f":"+CPPE!$A154","v":"Waste Treatment"},{"$f":"IF(BE$9=\"\",\"\",IF(BE162=0,0,HLOOKUP(BE$9,CPPE!$A$1:$DB$177,BD162,FALSE)))","v":""},{"$f":"IF(BF162=\"\",\"\",IF(BF162=0,\"\",IF(LandUse!$N155=2,\"\",IF(BF162>=$E$5,BE162,\"\"))))","v":""},154,{"$f":"+CPPE!$A154","v":"Waste Treatment"},{"$f":"IF(BI$9=\"\",\"\",IF(BI162=0,0,HLOOKUP(BI$9,CPPE!$A$1:$DB$177,BH162,FALSE)))","v":""},{"$f":"IF(BJ162=\"\",\"\",IF(BJ162=0,\"\",IF(LandUse!$N155=2,\"\",IF(BJ162>=$E$5,BI162,\"\"))))","v":""},null,"","","","","","","","","",""]
[null,null,null,null,null,null,null,null,null,null,null,null,null,null,null,null,null,null,null,null,null,null,{"$f":"+CPPE!$A155","v":"Waste Treatment Lagoon"},155,{"$f":"+CPPE!$A155","v":"Waste Treatment Lagoon"},{"$f":"IF(Y$9=\"\",\"\",IF(Y163=0,0,HLOOKUP(Y$9,CPPE!$A$1:$DB$177,X163,FALSE)))","v":0},{"$f":"IF(Z163=\"\",\"\",IF(Z163=0,\"\",IF(LandUse!$N156=2,\"\",IF(Z163>=$E$5,Y163,\"\"))))","v":""},155,{"$f":"+CPPE!$A155","v":"Waste Treatment Lagoon"},{"$f":"IF(AC$9=\"\",\"\",IF(AC163=0,0,HLOOKUP(AC$9,CPPE!$A$1:$DB$177,AB163,FALSE)))","v":1},{"$f":"IF(AD163=\"\",\"\",IF(AD163=0,\"\",IF(LandUse!$N156=2,\"\",IF(AD163>=$E$5,AC163,\"\"))))","v":""},155,{"$f":"+CPPE!$A155","v":"Waste Treatment Lagoon"},{"$f":"IF(AG$9=\"\",\"\",IF(AG163=0,0,HLOOKUP(AG$9,CPPE!$A$1:$DB$177,AF163,FALSE)))","v":1},{"$f":"IF(AH163=\"\",\"\",IF(AH163=0,\"\",IF(LandUse!$N156=2,\"\",IF(AH163>=$E$5,AG163,\"\"))))","v":""},155,{"$f":"+CPPE!$A155","v":"Waste Treatment Lagoon"},{"$f":"IF(AK$9=\"\",\"\",IF(AK163=0,0,HLOOKUP(AK$9,CPPE!$A$1:$DB$177,AJ163,FALSE)))","v":0},{"$f":"IF(AL163=\"\",\"\",IF(AL163=0,\"\",IF(LandUse!$N156=2,\"\",IF(AL163>=$E$5,AK163,\"\"))))","v":""},155,{"$f":"+CPPE!$A155","v":"Waste Treatment Lagoon"},{"$f":"IF(AO$9=\"\",\"\",IF(AO163=0,0,HLOOKUP(AO$9,CPPE!$A$1:$DB$177,AN163,FALSE)))","v":""},{"$f":"IF(AP163=\"\",\"\",IF(AP163=0,\"\",IF(LandUse!$N156=2,\"\",IF(AP163>=$E$5,AO163,\"\"))))","v":""},155,{"$f":"+CPPE!$A155","v":"Waste Treatment Lagoon"},{"$f":"IF(AS$9=\"\",\"\",IF(AS163=0,0,HLOOKUP(AS$9,CPPE!$A$1:$DB$177,AR163,FALSE)))","v":""},{"$f":"IF(AT163=\"\",\"\",IF(AT163=0,\"\",IF(LandUse!$N156=2,\"\",IF(AT163>=$E$5,AS163,\"\"))))","v":""},155,{"$f":"+CPPE!$A155","v":"Waste Treatment Lagoon"},{"$f":"IF(AW$9=\"\",\"\",IF(AW163=0,0,HLOOKUP(AW$9,CPPE!$A$1:$DB$177,AV163,FALSE)))","v":""},{"$f":"IF(AX163=\"\",\"\",IF(AX163=0,\"\",IF(LandUse!$N156=2,\"\",IF(AX163>=$E$5,AW163,\"\"))))","v":""},155,{"$f":"+CPPE!$A155","v":"Waste Treatment Lagoon"},{"$f":"IF(BA$9=\"\",\"\",IF(BA163=0,0,HLOOKUP(BA$9,CPPE!$A$1:$DB$177,AZ163,FALSE)))","v":""},{"$f":"IF(BB163=\"\",\"\",IF(BB163=0,\"\",IF(LandUse!$N156=2,\"\",IF(BB163>=$E$5,BA163,\"\"))))","v":""},155,{"$f":"+CPPE!$A155","v":"Waste Treatment Lagoon"},{"$f":"IF(BE$9=\"\",\"\",IF(BE163=0,0,HLOOKUP(BE$9,CPPE!$A$1:$DB$177,BD163,FALSE)))","v":""},{"$f":"IF(BF163=\"\",\"\",IF(BF163=0,\"\",IF(LandUse!$N156=2,\"\",IF(BF163>=$E$5,BE163,\"\"))))","v":""},155,{"$f":"+CPPE!$A155","v":"Waste Treatment Lagoon"},{"$f":"IF(BI$9=\"\",\"\",IF(BI163=0,0,HLOOKUP(BI$9,CPPE!$A$1:$DB$177,BH163,FALSE)))","v":""},{"$f":"IF(BJ163=\"\",\"\",IF(BJ163=0,\"\",IF(LandUse!$N156=2,\"\",IF(BJ163>=$E$5,BI163,\"\"))))","v":""},null,"","","","","","","","","",""]
[null,null,null,null,null,null,null,null,null,null,null,null,null,null,null,null,null,null,null,null,null,null,{"$f":"+CPPE!$A156","v":"Water and Sediment Control Basin"},156,{"$f":"+CPPE!$A156","v":"Water and Sediment Control Basin"},{"$f":"IF(Y$9=\"\",\"\",IF(Y164=0,0,HLOOKUP(Y$9,CPPE!$A$1:$DB$177,X164,FALSE)))","v":0},{"$f":"IF(Z164=\"\",\"\",IF(Z164=0,\"\",IF(LandUse!$N157=2,\"\",IF(Z164>=$E$5,Y164,\"\"))))","v":""},156,{"$f":"+CPPE!$A156","v":"Water and Sediment Control Basin"},{"$f":"IF(AC$9=\"\",\"\",IF(AC164=0,0,HLOOKUP(AC$9,CPPE!$A$1:$DB$177,AB164,FALSE)))","v":0},{"$f":"IF(AD164=\"\",\"\",IF(AD164=0,\"\",IF(LandUse!$N157=2,\"\",IF(AD164>=$E$5,AC164,\"\"))))","v":""},156,{"$f":"+CPPE!$A156","v":"Water and Sediment Control Basin"},{"$f":"IF(AG$9=\"\",\"\",IF(AG164=0,0,HLOOKUP(AG$9,CPPE!$A$1:$DB$177,AF164,FALSE)))","v":0},{"$f":"IF(AH164=\"\",\"\",IF(AH164=0,\"\",IF(LandUse!$N157=2,\"\",IF(AH164>=$E$5,AG164,\"\"))))","v":""},156,{"$f":"+CPPE!$A156","v":"Water and Sediment Control Basin"},{"$f":"IF(AK$9=\"\",\"\",IF(AK164=0,0,HLOOKUP(AK$9,CPPE!$A$1:$DB$177,AJ164,FALSE)))","v":0},{"$f":"IF(AL164=\"\",\"\",IF(AL164=0,\"\",IF(LandUse!$N157=2,\"\",IF(AL164>=$E$5,AK164,\"\"))))","v":""},156,{"$f":"+CPPE!$A156","v":"Water and Sediment Control Basin"},{"$f":"IF(AO$9=\"\",\"\",IF(AO164=0,0,HLOOKUP(AO$9,CPPE!$A$1:$DB$177,AN164,FALSE)))","v":""},{"$f":"IF(AP164=\"\",\"\",IF(AP164=0,\"\",IF(LandUse!$N157=2,\"\",IF(AP164>=$E$5,AO164,\"\"))))","v":""},156,{"$f":"+CPPE!$A156","v":"Water and Sediment Control Basin"},{"$f":"IF(AS$9=\"\",\"\",IF(AS164=0,0,HLOOKUP(AS$9,CPPE!$A$1:$DB$177,AR164,FALSE)))","v":""},{"$f":"IF(AT164=\"\",\"\",IF(AT164=0,\"\",IF(LandUse!$N157=2,\"\",IF(AT164>=$E$5,AS164,\"\"))))","v":""},156,{"$f":"+CPPE!$A156","v":"Water and Sediment Control Basin"},{"$f":"IF(AW$9=\"\",\"\",IF(AW164=0,0,HLOOKUP(AW$9,CPPE!$A$1:$DB$177,AV164,FALSE)))","v":""},{"$f":"IF(AX164=\"\",\"\",IF(AX164=0,\"\",IF(LandUse!$N157=2,\"\",IF(AX164>=$E$5,AW164,\"\"))))","v":""},156,{"$f":"+CPPE!$A156","v":"Water and Sediment Control Basin"},{"$f":"IF(BA$9=\"\",\"\",IF(BA164=0,0,HLOOKUP(BA$9,CPPE!$A$1:$DB$177,AZ164,FALSE)))","v":""},{"$f":"IF(BB164=\"\",\"\",IF(BB164=0,\"\",IF(LandUse!$N157=2,\"\",IF(BB164>=$E$5,BA164,\"\"))))","v":""},156,{"$f":"+CPPE!$A156","v":"Water and Sediment Control Basin"},{"$f":"IF(BE$9=\"\",\"\",IF(BE164=0,0,HLOOKUP(BE$9,CPPE!$A$1:$DB$177,BD164,FALSE)))","v":""},{"$f":"IF(BF164=\"\",\"\",IF(BF164=0,\"\",IF(LandUse!$N157=2,\"\",IF(BF164>=$E$5,BE164,\"\"))))","v":""},156,{"$f":"+CPPE!$A156","v":"Water and Sediment Control Basin"},{"$f":"IF(BI$9=\"\",\"\",IF(BI164=0,0,HLOOKUP(BI$9,CPPE!$A$1:$DB$177,BH164,FALSE)))","v":""},{"$f":"IF(BJ164=\"\",\"\",IF(BJ164=0,\"\",IF(LandUse!$N157=2,\"\",IF(BJ164>=$E$5,BI164,\"\"))))","v":""},null,{"$f":"IF(B166=\"\",\"\",C166)","v":""},{"$f":"IF(D166=\"\",\"\",E166)","v":""},{"$f":"IF(F166=\"\",\"\",G166)","v":""},{"$f":"IF(H166=\"\",\"\",I166)","v":""},{"$f":"IF(J166=\"\",\"\",K166)","v":""},{"$f":"IF(L166=\"\",\"\",M166)","v":""},{"$f":"IF(N166=\"\",\"\",O166)","v":""},{"$f":"IF(P166=\"\",\"\",Q166)","v":""},{"$f":"IF(R166=\"\",\"\",S166)","v":""},{"$f":"IF(T166=\"\",\"\",U166)","v":""}]
[null,null,null,null,null,null,null,null,null,null,null,null,null,null,null,null,null,null,null,null,null,null,{"$f":"+CPPE!$A157","v":"Water Harvesting Catchment"},157,{"$f":"+CPPE!$A157","v":"Water Harvesting Catchment"},{"$f":"IF(Y$9=\"\",\"\",IF(Y165=0,0,HLOOKUP(Y$9,CPPE!$A$1:$DB$177,X165,FALSE)))","v":0},{"$f":"IF(Z165=\"\",\"\",IF(Z165=0,\"\",IF(LandUse!$N158=2,\"\",IF(Z165>=$E$5,Y165,\"\"))))","v":""},157,{"$f":"+CPPE!$A157","v":"Water Harvesting Catchment"},{"$f":"IF(AC$9=\"\",\"\",IF(AC165=0,0,HLOOKUP(AC$9,CPPE!$A$1:$DB$177,AB165,FALSE)))","v":0},{"$f":"IF(AD165=\"\",\"\",IF(AD165=0,\"\",IF(LandUse!$N158=2,\"\",IF(AD165>=$E$5,AC165,\"\"))))","v":""},157,{"$f":"+CPPE!$A157","v":"Water Harvesting Catchment"},{"$f":"IF(AG$9=\"\",\"\",IF(AG165=0,0,HLOOKUP(AG$9,CPPE!$A$1:$DB$177,AF165,FALSE)))","v":0},{"$f":"IF(AH165=\"\",\"\",IF(AH165=0,\"\",IF(LandUse!$N158=2,\"\",IF(AH165>=$E$5,AG165,\"\"))))","v":""},157,{"$f":"+CPPE!$A157","v":"Water Harvesting Catchment"},{"$f":"IF(AK$9=\"\",\"\",IF(AK165=0,0,HLOOKUP(AK$9,CPPE!$A$1:$DB$177,AJ165,FALSE)))","v":0},{"$f":"IF(AL165=\"\",\"\",IF(AL165=0,\"\",IF(LandUse!$N158=2,\"\",IF(AL165>=$E$5,AK165,\"\"))))","v":""},157,{"$f":"+CPPE!$A157","v":"Water Harvesting Catchment"},{"$f":"IF(AO$9=\"\",\"\",IF(AO165=0,0,HLOOKUP(AO$9,CPPE!$A$1:$DB$177,AN165,FALSE)))","v":""},{"$f":"IF(AP165=\"\",\"\",IF(AP165=0,\"\",IF(LandUse!$N158=2,\"\",IF(AP165>=$E$5,AO165,\"\"))))","v":""},157,{"$f":"+CPPE!$A157","v":"Water Harvesting Catchment"},{"$f":"IF(AS$9=\"\",\"\",IF(AS165=0,0,HLOOKUP(AS$9,CPPE!$A$1:$DB$177,AR165,FALSE)))","v":""},{"$f":"IF(AT165=\"\",\"\",IF(AT165=0,\"\",IF(LandUse!$N158=2,\"\",IF(AT165>=$E$5,AS165,\"\"))))","v":""},157,{"$f":"+CPPE!$A157","v":"Water Harvesting Catchment"},{"$f":"IF(AW$9=\"\",\"\",IF(AW165=0,0,HLOOKUP(AW$9,CPPE!$A$1:$DB$177,AV165,FALSE)))","v":""},{"$f":"IF(AX165=\"\",\"\",IF(AX165=0,\"\",IF(LandUse!$N158=2,\"\",IF(AX165>=$E$5,AW165,\"\"))))","v":""},157,{"$f":"+CPPE!$A157","v":"Water Harvesting Catchment"},{"$f":"IF(BA$9=\"\",\"\",IF(BA165=0,0,HLOOKUP(BA$9,CPPE!$A$1:$DB$177,AZ165,FALSE)))","v":""},{"$f":"IF(BB165=\"\",\"\",IF(BB165=0,\"\",IF(LandUse!$N158=2,\"\",IF(BB165>=$E$5,BA165,\"\"))))","v":""},157,{"$f":"+CPPE!$A157","v":"Water Harvesting Catchment"},{"$f":"IF(BE$9=\"\",\"\",IF(BE165=0,0,HLOOKUP(BE$9,CPPE!$A$1:$DB$177,BD165,FALSE)))","v":""},{"$f":"IF(BF165=\"\",\"\",IF(BF165=0,\"\",IF(LandUse!$N158=2,\"\",IF(BF165>=$E$5,BE165,\"\"))))","v":""},157,{"$f":"+CPPE!$A157","v":"Water Harvesting Catchment"},{"$f":"IF(BI$9=\"\",\"\",IF(BI165=0,0,HLOOKUP(BI$9,CPPE!$A$1:$DB$177,BH165,FALSE)))","v":""},{"$f":"IF(BJ165=\"\",\"\",IF(BJ165=0,\"\",IF(LandUse!$N158=2,\"\",IF(BJ165>=$E$5,BI165,\"\"))))","v":""},null,"","","","","","","","","",""]
[null,null,null,null,null,null,null,null,null,null,null,null,null,null,null,null,null,null,null,null,null,null,{"$f":"+CPPE!$A158","v":"Water Well"},158,{"$f":"+CPPE!$A158","v":"Water Well"},{"$f":"IF(Y$9=\"\",\"\",IF(Y166=0,0,HLOOKUP(Y$9,CPPE!$A$1:$DB$177,X166,FALSE)))","v":2},{"$f":"IF(Z166=\"\",\"\",IF(Z166=0,\"\",IF(LandUse!$N159=2,\"\",IF(Z166>=$E$5,Y166,\"\"))))","v":""},158,{"$f":"+CPPE!$A158","v":"Water Well"},{"$f":"IF(AC$9=\"\",\"\",IF(AC166=0,0,HLOOKUP(AC$9,CPPE!$A$1:$DB$177,AB166,FALSE)))","v":0},{"$f":"IF(AD166=\"\",\"\",IF(AD166=0,\"\",IF(LandUse!$N159=2,\"\",IF(AD166>=$E$5,AC166,\"\"))))","v":""},158,{"$f":"+CPPE!$A158","v":"Water Well"},{"$f":"IF(AG$9=\"\",\"\",IF(AG166=0,0,HLOOKUP(AG$9,CPPE!$A$1:$DB$177,AF166,FALSE)))","v":0},{"$f":"IF(AH166=\"\",\"\",IF(AH166=0,\"\",IF(LandUse!$N159=2,\"\",IF(AH166>=$E$5,AG166,\"\"))))","v":""},158,{"$f":"+CPPE!$A158","v":"Water Well"},{"$f":"IF(AK$9=\"\",\"\",IF(AK166=0,0,HLOOKUP(AK$9,CPPE!$A$1:$DB$177,AJ166,FALSE)))","v":0},{"$f":"IF(AL166=\"\",\"\",IF(AL166=0,\"\",IF(LandUse!$N159=2,\"\",IF(AL166>=$E$5,AK166,\"\"))))","v":""},158,{"$f":"+CPPE!$A158","v":"Water Well"},{"$f":"IF(AO$9=\"\",\"\",IF(AO166=0,0,HLOOKUP(AO$9,CPPE!$A$1:$DB$177,AN166,FALSE)))","v":""},{"$f":"IF(AP166=\"\",\"\",IF(AP166=0,\"\",IF(LandUse!$N159=2,\"\",IF(AP166>=$E$5,AO166,\"\"))))","v":""},158,{"$f":"+CPPE!$A158","v":"Water Well"},{"$f":"IF(AS$9=\"\",\"\",IF(AS166=0,0,HLOOKUP(AS$9,CPPE!$A$1:$DB$177,AR166,FALSE)))","v":""},{"$f":"IF(AT166=\"\",\"\",IF(AT166=0,\"\",IF(LandUse!$N159=2,\"\",IF(AT166>=$E$5,AS166,\"\"))))","v":""},158,{"$f":"+CPPE!$A158","v":"Water Well"},{"$f":"IF(AW$9=\"\",\"\",IF(AW166=0,0,HLOOKUP(AW$9,CPPE!$A$1:$DB$177,AV166,FALSE)))","v":""},{"$f":"IF(AX166=\"\",\"\",IF(AX166=0,\"\",IF(LandUse!$N159=2,\"\",IF(AX166>=$E$5,AW166,\"\"))))","v":""},158,{"$f":"+CPPE!$A158","v":"Water Well"},{"$f":"IF(BA$9=\"\",\"\",IF(BA166=0,0,HLOOKUP(BA$9,CPPE!$A$1:$DB$177,AZ166,FALSE)))","v":""},{"$f":"IF(BB166=\"\",\"\",IF(BB166=0,\"\",IF(LandUse!$N159=2,\"\",IF(BB166>=$E$5,BA166,\"\"))))","v":""},158,{"$f":"+CPPE!$A158","v":"Water Well"},{"$f":"IF(BE$9=\"\",\"\",IF(BE166=0,0,HLOOKUP(BE$9,CPPE!$A$1:$DB$177,BD166,FALSE)))","v":""},{"$f":"IF(BF166=\"\",\"\",IF(BF166=0,\"\",IF(LandUse!$N159=2,\"\",IF(BF166>=$E$5,BE166,\"\"))))","v":""},158,{"$f":"+CPPE!$A158","v":"Water Well"},{"$f":"IF(BI$9=\"\",\"\",IF(BI166=0,0,HLOOKUP(BI$9,CPPE!$A$1:$DB$177,BH166,FALSE)))","v":""},{"$f":"IF(BJ166=\"\",\"\",IF(BJ166=0,\"\",IF(LandUse!$N159=2,\"\",IF(BJ166>=$E$5,BI166,\"\"))))","v":""},null,"","","","","","","","","",""]
[null,null,null,null,null,null,null,null,null,null,null,null,null,null,null,null,null,null,null,null,null,null,{"$f":"+CPPE!$A159","v":"Watering Facility"},159,{"$f":"+CPPE!$A159","v":"Watering Facility"},{"$f":"IF(Y$9=\"\",\"\",IF(Y167=0,0,HLOOKUP(Y$9,CPPE!$A$1:$DB$177,X167,FALSE)))","v":2},{"$f":"IF(Z167=\"\",\"\",IF(Z167=0,\"\",IF(LandUse!$N160=2,\"\",IF(Z167>=$E$5,Y167,\"\"))))","v":""},159,{"$f":"+CPPE!$A159","v":"Watering Facility"},{"$f":"IF(AC$9=\"\",\"\",IF(AC167=0,0,HLOOKUP(AC$9,CPPE!$A$1:$DB$177,AB167,FALSE)))","v":0},{"$f":"IF(AD167=\"\",\"\",IF(AD167=0,\"\",IF(LandUse!$N160=2,\"\",IF(AD167>=$E$5,AC167,\"\"))))","v":""},159,{"$f":"+CPPE!$A159","v":"Watering Facility"},{"$f":"IF(AG$9=\"\",\"\",IF(AG167=0,0,HLOOKUP(AG$9,CPPE!$A$1:$DB$177,AF167,FALSE)))","v":0},{"$f":"IF(AH167=\"\",\"\",IF(AH167=0,\"\",IF(LandUse!$N160=2,\"\",IF(AH167>=$E$5,AG167,\"\"))))","v":""},159,{"$f":"+CPPE!$A159","v":"Watering Facility"},{"$f":"IF(AK$9=\"\",\"\",IF(AK167=0,0,HLOOKUP(AK$9,CPPE!$A$1:$DB$177,AJ167,FALSE)))","v":0},{"$f":"IF(AL167=\"\",\"\",IF(AL167=0,\"\",IF(LandUse!$N160=2,\"\",IF(AL167>=$E$5,AK167,\"\"))))","v":""},159,{"$f":"+CPPE!$A159","v":"Watering Facility"},{"$f":"IF(AO$9=\"\",\"\",IF(AO167=0,0,HLOOKUP(AO$9,CPPE!$A$1:$DB$177,AN167,FALSE)))","v":""},{"$f":"IF(AP167=\"\",\"\",IF(AP167=0,\"\",IF(LandUse!$N160=2,\"\",IF(AP167>=$E$5,AO167,\"\"))))","v":""},159,{"$f":"+CPPE!$A159","v":"Watering Facility"},{"$f":"IF(AS$9=\"\",\"\",IF(AS167=0,0,HLOOKUP(AS$9,CPPE!$A$1:$DB$177,AR167,FALSE)))","v":""},{"$f":"IF(AT167=\"\",\"\",IF(AT167=0,\"\",IF(LandUse!$N160=2,\"\",IF(AT167>=$E$5,AS167,\"\"))))","v":""},159,{"$f":"+CPPE!$A159","v":"Watering Facility"},{"$f":"IF(AW$9=\"\",\"\",IF(AW167=0,0,HLOOKUP(AW$9,CPPE!$A$1:$DB$177,AV167,FALSE)))","v":""},{"$f":"IF(AX167=\"\",\"\",IF(AX167=0,\"\",IF(LandUse!$N160=2,\"\",IF(AX167>=$E$5,AW167,\"\"))))","v":""},159,{"$f":"+CPPE!$A159","v":"Watering Facility"},{"$f":"IF(BA$9=\"\",\"\",IF(BA167=0,0,HLOOKUP(BA$9,CPPE!$A$1:$DB$177,AZ167,FALSE)))","v":""},{"$f":"IF(BB167=\"\",\"\",IF(BB167=0,\"\",IF(LandUse!$N160=2,\"\",IF(BB167>=$E$5,BA167,\"\"))))","v":""},159,{"$f":"+CPPE!$A159","v":"Watering Facility"},{"$f":"IF(BE$9=\"\",\"\",IF(BE167=0,0,HLOOKUP(BE$9,CPPE!$A$1:$DB$177,BD167,FALSE)))","v":""},{"$f":"IF(BF167=\"\",\"\",IF(BF167=0,\"\",IF(LandUse!$N160=2,\"\",IF(BF167>=$E$5,BE167,\"\"))))","v":""},159,{"$f":"+CPPE!$A159","v":"Watering Facility"},{"$f":"IF(BI$9=\"\",\"\",IF(BI167=0,0,HLOOKUP(BI$9,CPPE!$A$1:$DB$177,BH167,FALSE)))","v":""},{"$f":"IF(BJ167=\"\",\"\",IF(BJ167=0,\"\",IF(LandUse!$N160=2,\"\",IF(BJ167>=$E$5,BI167,\"\"))))","v":""},null,"","","","","","","","","",""]
[null,null,null,null,null,null,null,null,null,null,null,null,null,null,null,null,null,null,null,null,null,null,{"$f":"+CPPE!$A160","v":"Waterspreading"},160,{"$f":"+CPPE!$A160","v":"Waterspreading"},{"$f":"IF(Y$9=\"\",\"\",IF(Y168=0,0,HLOOKUP(Y$9,CPPE!$A$1:$DB$177,X168,FALSE)))","v":0},{"$f":"IF(Z168=\"\",\"\",IF(Z168=0,\"\",IF(LandUse!$N161=2,\"\",IF(Z168>=$E$5,Y168,\"\"))))","v":""},160,{"$f":"+CPPE!$A160","v":"Waterspreading"},{"$f":"IF(AC$9=\"\",\"\",IF(AC168=0,0,HLOOKUP(AC$9,CPPE!$A$1:$DB$177,AB168,FALSE)))","v":0},{"$f":"IF(AD168=\"\",\"\",IF(AD168=0,\"\",IF(LandUse!$N161=2,\"\",IF(AD168>=$E$5,AC168,\"\"))))","v":""},160,{"$f":"+CPPE!$A160","v":"Waterspreading"},{"$f":"IF(AG$9=\"\",\"\",IF(AG168=0,0,HLOOKUP(AG$9,CPPE!$A$1:$DB$177,AF168,FALSE)))","v":1},{"$f":"IF(AH168=\"\",\"\",IF(AH168=0,\"\",IF(LandUse!$N161=2,\"\",IF(AH168>=$E$5,AG168,\"\"))))","v":""},160,{"$f":"+CPPE!$A160","v":"Waterspreading"},{"$f":"IF(AK$9=\"\",\"\",IF(AK168=0,0,HLOOKUP(AK$9,CPPE!$A$1:$DB$177,AJ168,FALSE)))","v":0},{"$f":"IF(AL168=\"\",\"\",IF(AL168=0,\"\",IF(LandUse!$N161=2,\"\",IF(AL168>=$E$5,AK168,\"\"))))","v":""},160,{"$f":"+CPPE!$A160","v":"Waterspreading"},{"$f":"IF(AO$9=\"\",\"\",IF(AO168=0,0,HLOOKUP(AO$9,CPPE!$A$1:$DB$177,AN168,FALSE)))","v":""},{"$f":"IF(AP168=\"\",\"\",IF(AP168=0,\"\",IF(LandUse!$N161=2,\"\",IF(AP168>=$E$5,AO168,\"\"))))","v":""},160,{"$f":"+CPPE!$A160","v":"Waterspreading"},{"$f":"IF(AS$9=\"\",\"\",IF(AS168=0,0,HLOOKUP(AS$9,CPPE!$A$1:$DB$177,AR168,FALSE)))","v":""},{"$f":"IF(AT168=\"\",\"\",IF(AT168=0,\"\",IF(LandUse!$N161=2,\"\",IF(AT168>=$E$5,AS168,\"\"))))","v":""},160,{"$f":"+CPPE!$A160","v":"Waterspreading"},{"$f":"IF(AW$9=\"\",\"\",IF(AW168=0,0,HLOOKUP(AW$9,CPPE!$A$1:$DB$177,AV168,FALSE)))","v":""},{"$f":"IF(AX168=\"\",\"\",IF(AX168=0,\"\",IF(LandUse!$N161=2,\"\",IF(AX168>=$E$5,AW168,\"\"))))","v":""},160,{"$f":"+CPPE!$A160","v":"Waterspreading"},{"$f":"IF(BA$9=\"\",\"\",IF(BA168=0,0,HLOOKUP(BA$9,CPPE!$A$1:$DB$177,AZ168,FALSE)))","v":""},{"$f":"IF(BB168=\"\",\"\",IF(BB168=0,\"\",IF(LandUse!$N161=2,\"\",IF(BB168>=$E$5,BA168,\"\"))))","v":""},160,{"$f":"+CPPE!$A160","v":"Waterspreading"},{"$f":"IF(BE$9=\"\",\"\",IF(BE168=0,0,HLOOKUP(BE$9,CPPE!$A$1:$DB$177,BD168,FALSE)))","v":""},{"$f":"IF(BF168=\"\",\"\",IF(BF168=0,\"\",IF(LandUse!$N161=2,\"\",IF(BF168>=$E$5,BE168,\"\"))))","v":""},160,{"$f":"+CPPE!$A160","v":"Waterspreading"},{"$f":"IF(BI$9=\"\",\"\",IF(BI168=0,0,HLOOKUP(BI$9,CPPE!$A$1:$DB$177,BH168,FALSE)))","v":""},{"$f":"IF(BJ168=\"\",\"\",IF(BJ168=0,\"\",IF(LandUse!$N161=2,\"\",IF(BJ168>=$E$5,BI168,\"\"))))","v":""},null,"","","","","","","","","",""]
[null,null,null,null,null,null,null,null,null,null,null,null,null,null,null,null,null,null,null,null,null,null,{"$f":"+CPPE!$A161","v":"Well Decommissioning"},161,{"$f":"+CPPE!$A161","v":"Well Decommissioning"},{"$f":"IF(Y$9=\"\",\"\",IF(Y169=0,0,HLOOKUP(Y$9,CPPE!$A$1:$DB$177,X169,FALSE)))","v":0},{"$f":"IF(Z169=\"\",\"\",IF(Z169=0,\"\",IF(LandUse!$N162=2,\"\",IF(Z169>=$E$5,Y169,\"\"))))","v":""},161,{"$f":"+CPPE!$A161","v":"Well Decommissioning"},{"$f":"IF(AC$9=\"\",\"\",IF(AC169=0,0,HLOOKUP(AC$9,CPPE!$A$1:$DB$177,AB169,FALSE)))","v":0},{"$f":"IF(AD169=\"\",\"\",IF(AD169=0,\"\",IF(LandUse!$N162=2,\"\",IF(AD169>=$E$5,AC169,\"\"))))","v":""},161,{"$f":"+CPPE!$A161","v":"Well Decommissioning"},{"$f":"IF(AG$9=\"\",\"\",IF(AG169=0,0,HLOOKUP(AG$9,CPPE!$A$1:$DB$177,AF169,FALSE)))","v":0},{"$f":"IF(AH169=\"\",\"\",IF(AH169=0,\"\",IF(LandUse!$N162=2,\"\",IF(AH169>=$E$5,AG169,\"\"))))","v":""},161,{"$f":"+CPPE!$A161","v":"Well Decommissioning"},{"$f":"IF(AK$9=\"\",\"\",IF(AK169=0,0,HLOOKUP(AK$9,CPPE!$A$1:$DB$177,AJ169,FALSE)))","v":0},{"$f":"IF(AL169=\"\",\"\",IF(AL169=0,\"\",IF(LandUse!$N162=2,\"\",IF(AL169>=$E$5,AK169,\"\"))))","v":""},161,{"$f":"+CPPE!$A161","v":"Well Decommissioning"},{"$f":"IF(AO$9=\"\",\"\",IF(AO169=0,0,HLOOKUP(AO$9,CPPE!$A$1:$DB$177,AN169,FALSE)))","v":""},{"$f":"IF(AP169=\"\",\"\",IF(AP169=0,\"\",IF(LandUse!$N162=2,\"\",IF(AP169>=$E$5,AO169,\"\"))))","v":""},161,{"$f":"+CPPE!$A161","v":"Well Decommissioning"},{"$f":"IF(AS$9=\"\",\"\",IF(AS169=0,0,HLOOKUP(AS$9,CPPE!$A$1:$DB$177,AR169,FALSE)))","v":""},{"$f":"IF(AT169=\"\",\"\",IF(AT169=0,\"\",IF(LandUse!$N162=2,\"\",IF(AT169>=$E$5,AS169,\"\"))))","v":""},161,{"$f":"+CPPE!$A161","v":"Well Decommissioning"},{"$f":"IF(AW$9=\"\",\"\",IF(AW169=0,0,HLOOKUP(AW$9,CPPE!$A$1:$DB$177,AV169,FALSE)))","v":""},{"$f":"IF(AX169=\"\",\"\",IF(AX169=0,\"\",IF(LandUse!$N162=2,\"\",IF(AX169>=$E$5,AW169,\"\"))))","v":""},161,{"$f":"+CPPE!$A161","v":"Well Decommissioning"},{"$f":"IF(BA$9=\"\",\"\",IF(BA169=0,0,HLOOKUP(BA$9,CPPE!$A$1:$DB$177,AZ169,FALSE)))","v":""},{"$f":"IF(BB169=\"\",\"\",IF(BB169=0,\"\",IF(LandUse!$N162=2,\"\",IF(BB169>=$E$5,BA169,\"\"))))","v":""},161,{"$f":"+CPPE!$A161","v":"Well Decommissioning"},{"$f":"IF(BE$9=\"\",\"\",IF(BE169=0,0,HLOOKUP(BE$9,CPPE!$A$1:$DB$177,BD169,FALSE)))","v":""},{"$f":"IF(BF169=\"\",\"\",IF(BF169=0,\"\",IF(LandUse!$N162=2,\"\",IF(BF169>=$E$5,BE169,\"\"))))","v":""},161,{"$f":"+CPPE!$A161","v":"Well Decommissioning"},{"$f":"IF(BI$9=\"\",\"\",IF(BI169=0,0,HLOOKUP(BI$9,CPPE!$A$1:$DB$177,BH169,FALSE)))","v":""},{"$f":"IF(BJ169=\"\",\"\",IF(BJ169=0,\"\",IF(LandUse!$N162=2,\"\",IF(BJ169>=$E$5,BI169,\"\"))))","v":""},null,"","","","","","","","","",""]
[null,null,null,null,null,null,null,null,null,null,null,null,null,null,null,null,null,null,null,null,null,null,{"$f":"+CPPE!$A162","v":"Wetland Creation"},162,{"$f":"+CPPE!$A162","v":"Wetland Creation"},{"$f":"IF(Y$9=\"\",\"\",IF(Y170=0,0,HLOOKUP(Y$9,CPPE!$A$1:$DB$177,X170,FALSE)))","v":0},{"$f":"IF(Z170=\"\",\"\",IF(Z170=0,\"\",IF(LandUse!$N163=2,\"\",IF(Z170>=$E$5,Y170,\"\"))))","v":""},162,{"$f":"+CPPE!$A162","v":"Wetland Creation"},{"$f":"IF(AC$9=\"\",\"\",IF(AC170=0,0,HLOOKUP(AC$9,CPPE!$A$1:$DB$177,AB170,FALSE)))","v":0},{"$f":"IF(AD170=\"\",\"\",IF(AD170=0,\"\",IF(LandUse!$N163=2,\"\",IF(AD170>=$E$5,AC170,\"\"))))","v":""},162,{"$f":"+CPPE!$A162","v":"Wetland Creation"},{"$f":"IF(AG$9=\"\",\"\",IF(AG170=0,0,HLOOKUP(AG$9,CPPE!$A$1:$DB$177,AF170,FALSE)))","v":2},{"$f":"IF(AH170=\"\",\"\",IF(AH170=0,\"\",IF(LandUse!$N163=2,\"\",IF(AH170>=$E$5,AG170,\"\"))))","v":""},162,{"$f":"+CPPE!$A162","v":"Wetland Creation"},{"$f":"IF(AK$9=\"\",\"\",IF(AK170=0,0,HLOOKUP(AK$9,CPPE!$A$1:$DB$177,AJ170,FALSE)))","v":0},{"$f":"IF(AL170=\"\",\"\",IF(AL170=0,\"\",IF(LandUse!$N163=2,\"\",IF(AL170>=$E$5,AK170,\"\"))))","v":""},162,{"$f":"+CPPE!$A162","v":"Wetland Creation"},{"$f":"IF(AO$9=\"\",\"\",IF(AO170=0,0,HLOOKUP(AO$9,CPPE!$A$1:$DB$177,AN170,FALSE)))","v":""},{"$f":"IF(AP170=\"\",\"\",IF(AP170=0,\"\",IF(LandUse!$N163=2,\"\",IF(AP170>=$E$5,AO170,\"\"))))","v":""},162,{"$f":"+CPPE!$A162","v":"Wetland Creation"},{"$f":"IF(AS$9=\"\",\"\",IF(AS170=0,0,HLOOKUP(AS$9,CPPE!$A$1:$DB$177,AR170,FALSE)))","v":""},{"$f":"IF(AT170=\"\",\"\",IF(AT170=0,\"\",IF(LandUse!$N163=2,\"\",IF(AT170>=$E$5,AS170,\"\"))))","v":""},162,{"$f":"+CPPE!$A162","v":"Wetland Creation"},{"$f":"IF(AW$9=\"\",\"\",IF(AW170=0,0,HLOOKUP(AW$9,CPPE!$A$1:$DB$177,AV170,FALSE)))","v":""},{"$f":"IF(AX170=\"\",\"\",IF(AX170=0,\"\",IF(LandUse!$N163=2,\"\",IF(AX170>=$E$5,AW170,\"\"))))","v":""},162,{"$f":"+CPPE!$A162","v":"Wetland Creation"},{"$f":"IF(BA$9=\"\",\"\",IF(BA170=0,0,HLOOKUP(BA$9,CPPE!$A$1:$DB$177,AZ170,FALSE)))","v":""},{"$f":"IF(BB170=\"\",\"\",IF(BB170=0,\"\",IF(LandUse!$N163=2,\"\",IF(BB170>=$E$5,BA170,\"\"))))","v":""},162,{"$f":"+CPPE!$A162","v":"Wetland Creation"},{"$f":"IF(BE$9=\"\",\"\",IF(BE170=0,0,HLOOKUP(BE$9,CPPE!$A$1:$DB$177,BD170,FALSE)))","v":""},{"$f":"IF(BF170=\"\",\"\",IF(BF170=0,\"\",IF(LandUse!$N163=2,\"\",IF(BF170>=$E$5,BE170,\"\"))))","v":""},162,{"$f":"+CPPE!$A162","v":"Wetland Creation"},{"$f":"IF(BI$9=\"\",\"\",IF(BI170=0,0,HLOOKUP(BI$9,CPPE!$A$1:$DB$177,BH170,FALSE)))","v":""},{"$f":"IF(BJ170=\"\",\"\",IF(BJ170=0,\"\",IF(LandUse!$N163=2,\"\",IF(BJ170>=$E$5,BI170,\"\"))))","v":""},null,"","","","","","","","","",""]
[null,null,null,null,null,null,null,null,null,null,null,null,null,null,null,null,null,null,null,null,null,null,{"$f":"+CPPE!$A163","v":"Wetland Enhancement"},163,{"$f":"+CPPE!$A163","v":"Wetland Enhancement"},{"$f":"IF(Y$9=\"\",\"\",IF(Y171=0,0,HLOOKUP(Y$9,CPPE!$A$1:$DB$177,X171,FALSE)))","v":0},{"$f":"IF(Z171=\"\",\"\",IF(Z171=0,\"\",IF(LandUse!$N164=2,\"\",IF(Z171>=$E$5,Y171,\"\"))))","v":""},163,{"$f":"+CPPE!$A163","v":"Wetland Enhancement"},{"$f":"IF(AC$9=\"\",\"\",IF(AC171=0,0,HLOOKUP(AC$9,CPPE!$A$1:$DB$177,AB171,FALSE)))","v":0},{"$f":"IF(AD171=\"\",\"\",IF(AD171=0,\"\",IF(LandUse!$N164=2,\"\",IF(AD171>=$E$5,AC171,\"\"))))","v":""},163,{"$f":"+CPPE!$A163","v":"Wetland Enhancement"},{"$f":"IF(AG$9=\"\",\"\",IF(AG171=0,0,HLOOKUP(AG$9,CPPE!$A$1:$DB$177,AF171,FALSE)))","v":1},{"$f":"IF(AH171=\"\",\"\",IF(AH171=0,\"\",IF(LandUse!$N164=2,\"\",IF(AH171>=$E$5,AG171,\"\"))))","v":""},163,{"$f":"+CPPE!$A163","v":"Wetland Enhancement"},{"$f":"IF(AK$9=\"\",\"\",IF(AK171=0,0,HLOOKUP(AK$9,CPPE!$A$1:$DB$177,AJ171,FALSE)))","v":0},{"$f":"IF(AL171=\"\",\"\",IF(AL171=0,\"\",IF(LandUse!$N164=2,\"\",IF(AL171>=$E$5,AK171,\"\"))))","v":""},163,{"$f":"+CPPE!$A163","v":"Wetland Enhancement"},{"$f":"IF(AO$9=\"\",\"\",IF(AO171=0,0,HLOOKUP(AO$9,CPPE!$A$1:$DB$177,AN171,FALSE)))","v":""},{"$f":"IF(AP171=\"\",\"\",IF(AP171=0,\"\",IF(LandUse!$N164=2,\"\",IF(AP171>=$E$5,AO171,\"\"))))","v":""},163,{"$f":"+CPPE!$A163","v":"Wetland Enhancement"},{"$f":"IF(AS$9=\"\",\"\",IF(AS171=0,0,HLOOKUP(AS$9,CPPE!$A$1:$DB$177,AR171,FALSE)))","v":""},{"$f":"IF(AT171=\"\",\"\",IF(AT171=0,\"\",IF(LandUse!$N164=2,\"\",IF(AT171>=$E$5,AS171,\"\"))))","v":""},163,{"$f":"+CPPE!$A163","v":"Wetland Enhancement"},{"$f":"IF(AW$9=\"\",\"\",IF(AW171=0,0,HLOOKUP(AW$9,CPPE!$A$1:$DB$177,AV171,FALSE)))","v":""},{"$f":"IF(AX171=\"\",\"\",IF(AX171=0,\"\",IF(LandUse!$N164=2,\"\",IF(AX171>=$E$5,AW171,\"\"))))","v":""},163,{"$f":"+CPPE!$A163","v":"Wetland Enhancement"},{"$f":"IF(BA$9=\"\",\"\",IF(BA171=0,0,HLOOKUP(BA$9,CPPE!$A$1:$DB$177,AZ171,FALSE)))","v":""},{"$f":"IF(BB171=\"\",\"\",IF(BB171=0,\"\",IF(LandUse!$N164=2,\"\",IF(BB171>=$E$5,BA171,\"\"))))","v":""},163,{"$f":"+CPPE!$A163","v":"Wetland Enhancement"},{"$f":"IF(BE$9=\"\",\"\",IF(BE171=0,0,HLOOKUP(BE$9,CPPE!$A$1:$DB$177,BD171,FALSE)))","v":""},{"$f":"IF(BF171=\"\",\"\",IF(BF171=0,\"\",IF(LandUse!$N164=2,\"\",IF(BF171>=$E$5,BE171,\"\"))))","v":""},163,{"$f":"+CPPE!$A163","v":"Wetland Enhancement"},{"$f":"IF(BI$9=\"\",\"\",IF(BI171=0,0,HLOOKUP(BI$9,CPPE!$A$1:$DB$177,BH171,FALSE)))","v":""},{"$f":"IF(BJ171=\"\",\"\",IF(BJ171=0,\"\",IF(LandUse!$N164=2,\"\",IF(BJ171>=$E$5,BI171,\"\"))))","v":""},null,"","","","","","","","","",""]
[null,null,null,null,null,null,null,null,null,null,null,null,null,null,null,null,null,null,null,null,null,null,{"$f":"+CPPE!$A164","v":"Wetland Restoration"},164,{"$f":"+CPPE!$A164","v":"Wetland Restoration"},{"$f":"IF(Y$9=\"\",\"\",IF(Y172=0,0,HLOOKUP(Y$9,CPPE!$A$1:$DB$177,X172,FALSE)))","v":0},{"$f":"IF(Z172=\"\",\"\",IF(Z172=0,\"\",IF(LandUse!$N165=2,\"\",IF(Z172>=$E$5,Y172,\"\"))))","v":""},164,{"$f":"+CPPE!$A164","v":"Wetland Restoration"},{"$f":"IF(AC$9=\"\",\"\",IF(AC172=0,0,HLOOKUP(AC$9,CPPE!$A$1:$DB$177,AB172,FALSE)))","v":0},{"$f":"IF(AD172=\"\",\"\",IF(AD172=0,\"\",IF(LandUse!$N165=2,\"\",IF(AD172>=$E$5,AC172,\"\"))))","v":""},164,{"$f":"+CPPE!$A164","v":"Wetland Restoration"},{"$f":"IF(AG$9=\"\",\"\",IF(AG172=0,0,HLOOKUP(AG$9,CPPE!$A$1:$DB$177,AF172,FALSE)))","v":1},{"$f":"IF(AH172=\"\",\"\",IF(AH172=0,\"\",IF(LandUse!$N165=2,\"\",IF(AH172>=$E$5,AG172,\"\"))))","v":""},164,{"$f":"+CPPE!$A164","v":"Wetland Restoration"},{"$f":"IF(AK$9=\"\",\"\",IF(AK172=0,0,HLOOKUP(AK$9,CPPE!$A$1:$DB$177,AJ172,FALSE)))","v":0},{"$f":"IF(AL172=\"\",\"\",IF(AL172=0,\"\",IF(LandUse!$N165=2,\"\",IF(AL172>=$E$5,AK172,\"\"))))","v":""},164,{"$f":"+CPPE!$A164","v":"Wetland Restoration"},{"$f":"IF(AO$9=\"\",\"\",IF(AO172=0,0,HLOOKUP(AO$9,CPPE!$A$1:$DB$177,AN172,FALSE)))","v":""},{"$f":"IF(AP172=\"\",\"\",IF(AP172=0,\"\",IF(LandUse!$N165=2,\"\",IF(AP172>=$E$5,AO172,\"\"))))","v":""},164,{"$f":"+CPPE!$A164","v":"Wetland Restoration"},{"$f":"IF(AS$9=\"\",\"\",IF(AS172=0,0,HLOOKUP(AS$9,CPPE!$A$1:$DB$177,AR172,FALSE)))","v":""},{"$f":"IF(AT172=\"\",\"\",IF(AT172=0,\"\",IF(LandUse!$N165=2,\"\",IF(AT172>=$E$5,AS172,\"\"))))","v":""},164,{"$f":"+CPPE!$A164","v":"Wetland Restoration"},{"$f":"IF(AW$9=\"\",\"\",IF(AW172=0,0,HLOOKUP(AW$9,CPPE!$A$1:$DB$177,AV172,FALSE)))","v":""},{"$f":"IF(AX172=\"\",\"\",IF(AX172=0,\"\",IF(LandUse!$N165=2,\"\",IF(AX172>=$E$5,AW172,\"\"))))","v":""},164,{"$f":"+CPPE!$A164","v":"Wetland Restoration"},{"$f":"IF(BA$9=\"\",\"\",IF(BA172=0,0,HLOOKUP(BA$9,CPPE!$A$1:$DB$177,AZ172,FALSE)))","v":""},{"$f":"IF(BB172=\"\",\"\",IF(BB172=0,\"\",IF(LandUse!$N165=2,\"\",IF(BB172>=$E$5,BA172,\"\"))))","v":""},164,{"$f":"+CPPE!$A164","v":"Wetland Restoration"},{"$f":"IF(BE$9=\"\",\"\",IF(BE172=0,0,HLOOKUP(BE$9,CPPE!$A$1:$DB$177,BD172,FALSE)))","v":""},{"$f":"IF(BF172=\"\",\"\",IF(BF172=0,\"\",IF(LandUse!$N165=2,\"\",IF(BF172>=$E$5,BE172,\"\"))))","v":""},164,{"$f":"+CPPE!$A164","v":"Wetland Restoration"},{"$f":"IF(BI$9=\"\",\"\",IF(BI172=0,0,HLOOKUP(BI$9,CPPE!$A$1:$DB$177,BH172,FALSE)))","v":""},{"$f":"IF(BJ172=\"\",\"\",IF(BJ172=0,\"\",IF(LandUse!$N165=2,\"\",IF(BJ172>=$E$5,BI172,\"\"))))","v":""},null,"","","","","","","","","",""]
[null,null,null,null,null,null,null,null,null,null,null,null,null,null,null,null,null,null,null,null,null,null,{"$f":"+CPPE!$A165","v":"Wetland Wildlife Habitat Management"},165,{"$f":"+CPPE!$A165","v":"Wetland Wildlife Habitat Management"},{"$f":"IF(Y$9=\"\",\"\",IF(Y173=0,0,HLOOKUP(Y$9,CPPE!$A$1:$DB$177,X173,FALSE)))","v":0},{"$f":"IF(Z173=\"\",\"\",IF(Z173=0,\"\",IF(LandUse!$N166=2,\"\",IF(Z173>=$E$5,Y173,\"\"))))","v":""},165,{"$f":"+CPPE!$A165","v":"Wetland Wildlife Habitat Management"},{"$f":"IF(AC$9=\"\",\"\",IF(AC173=0,0,HLOOKUP(AC$9,CPPE!$A$1:$DB$177,AB173,FALSE)))","v":0},{"$f":"IF(AD173=\"\",\"\",IF(AD173=0,\"\",IF(LandUse!$N166=2,\"\",IF(AD173>=$E$5,AC173,\"\"))))","v":""},165,{"$f":"+CPPE!$A165","v":"Wetland Wildlife Habitat Management"},{"$f":"IF(AG$9=\"\",\"\",IF(AG173=0,0,HLOOKUP(AG$9,CPPE!$A$1:$DB$177,AF173,FALSE)))","v":0},{"$f":"IF(AH173=\"\",\"\",IF(AH173=0,\"\",IF(LandUse!$N166=2,\"\",IF(AH173>=$E$5,AG173,\"\"))))","v":""},165,{"$f":"+CPPE!$A165","v":"Wetland Wildlife Habitat Management"},{"$f":"IF(AK$9=\"\",\"\",IF(AK173=0,0,HLOOKUP(AK$9,CPPE!$A$1:$DB$177,AJ173,FALSE)))","v":0},{"$f":"IF(AL173=\"\",\"\",IF(AL173=0,\"\",IF(LandUse!$N166=2,\"\",IF(AL173>=$E$5,AK173,\"\"))))","v":""},165,{"$f":"+CPPE!$A165","v":"Wetland Wildlife Habitat Management"},{"$f":"IF(AO$9=\"\",\"\",IF(AO173=0,0,HLOOKUP(AO$9,CPPE!$A$1:$DB$177,AN173,FALSE)))","v":""},{"$f":"IF(AP173=\"\",\"\",IF(AP173=0,\"\",IF(LandUse!$N166=2,\"\",IF(AP173>=$E$5,AO173,\"\"))))","v":""},165,{"$f":"+CPPE!$A165","v":"Wetland Wildlife Habitat Management"},{"$f":"IF(AS$9=\"\",\"\",IF(AS173=0,0,HLOOKUP(AS$9,CPPE!$A$1:$DB$177,AR173,FALSE)))","v":""},{"$f":"IF(AT173=\"\",\"\",IF(AT173=0,\"\",IF(LandUse!$N166=2,\"\",IF(AT173>=$E$5,AS173,\"\"))))","v":""},165,{"$f":"+CPPE!$A165","v":"Wetland Wildlife Habitat Management"},{"$f":"IF(AW$9=\"\",\"\",IF(AW173=0,0,HLOOKUP(AW$9,CPPE!$A$1:$DB$177,AV173,FALSE)))","v":""},{"$f":"IF(AX173=\"\",\"\",IF(AX173=0,\"\",IF(LandUse!$N166=2,\"\",IF(AX173>=$E$5,AW173,\"\"))))","v":""},165,{"$f":"+CPPE!$A165","v":"Wetland Wildlife Habitat Management"},{"$f":"IF(BA$9=\"\",\"\",IF(BA173=0,0,HLOOKUP(BA$9,CPPE!$A$1:$DB$177,AZ173,FALSE)))","v":""},{"$f":"IF(BB173=\"\",\"\",IF(BB173=0,\"\",IF(LandUse!$N166=2,\"\",IF(BB173>=$E$5,BA173,\"\"))))","v":""},165,{"$f":"+CPPE!$A165","v":"Wetland Wildlife Habitat Management"},{"$f":"IF(BE$9=\"\",\"\",IF(BE173=0,0,HLOOKUP(BE$9,CPPE!$A$1:$DB$177,BD173,FALSE)))","v":""},{"$f":"IF(BF173=\"\",\"\",IF(BF173=0,\"\",IF(LandUse!$N166=2,\"\",IF(BF173>=$E$5,BE173,\"\"))))","v":""},165,{"$f":"+CPPE!$A165","v":"Wetland Wildlife Habitat Management"},{"$f":"IF(BI$9=\"\",\"\",IF(BI173=0,0,HLOOKUP(BI$9,CPPE!$A$1:$DB$177,BH173,FALSE)))","v":""},{"$f":"IF(BJ173=\"\",\"\",IF(BJ173=0,\"\",IF(LandUse!$N166=2,\"\",IF(BJ173>=$E$5,BI173,\"\"))))","v":""},null,"","","","","","","","","",""]
[null,null,null,null,null,null,null,null,null,null,null,null,null,null,null,null,null,null,null,null,null,null,{"$f":"+CPPE!$A166","v":"Wildlife Habitat Planting"},166,{"$f":"+CPPE!$A166","v":"Wildlife Habitat Planting"},{"$f":"IF(Y$9=\"\",\"\",IF(Y174=0,0,HLOOKUP(Y$9,CPPE!$A$1:$DB$177,X174,FALSE)))","v":2},{"$f":"IF(Z174=\"\",\"\",IF(Z174=0,\"\",IF(LandUse!$N167=2,\"\",IF(Z174>=$E$5,Y174,\"\"))))","v":""},166,{"$f":"+CPPE!$A166","v":"Wildlife Habitat Planting"},{"$f":"IF(AC$9=\"\",\"\",IF(AC174=0,0,HLOOKUP(AC$9,CPPE!$A$1:$DB$177,AB174,FALSE)))","v":0},{"$f":"IF(AD174=\"\",\"\",IF(AD174=0,\"\",IF(LandUse!$N167=2,\"\",IF(AD174>=$E$5,AC174,\"\"))))","v":""},166,{"$f":"+CPPE!$A166","v":"Wildlife Habitat Planting"},{"$f":"IF(AG$9=\"\",\"\",IF(AG174=0,0,HLOOKUP(AG$9,CPPE!$A$1:$DB$177,AF174,FALSE)))","v":0},{"$f":"IF(AH174=\"\",\"\",IF(AH174=0,\"\",IF(LandUse!$N167=2,\"\",IF(AH174>=$E$5,AG174,\"\"))))","v":""},166,{"$f":"+CPPE!$A166","v":"Wildlife Habitat Planting"},{"$f":"IF(AK$9=\"\",\"\",IF(AK174=0,0,HLOOKUP(AK$9,CPPE!$A$1:$DB$177,AJ174,FALSE)))","v":0},{"$f":"IF(AL174=\"\",\"\",IF(AL174=0,\"\",IF(LandUse!$N167=2,\"\",IF(AL174>=$E$5,AK174,\"\"))))","v":""},166,{"$f":"+CPPE!$A166","v":"Wildlife Habitat Planting"},{"$f":"IF(AO$9=\"\",\"\",IF(AO174=0,0,HLOOKUP(AO$9,CPPE!$A$1:$DB$177,AN174,FALSE)))","v":""},{"$f":"IF(AP174=\"\",\"\",IF(AP174=0,\"\",IF(LandUse!$N167=2,\"\",IF(AP174>=$E$5,AO174,\"\"))))","v":""},166,{"$f":"+CPPE!$A166","v":"Wildlife Habitat Planting"},{"$f":"IF(AS$9=\"\",\"\",IF(AS174=0,0,HLOOKUP(AS$9,CPPE!$A$1:$DB$177,AR174,FALSE)))","v":""},{"$f":"IF(AT174=\"\",\"\",IF(AT174=0,\"\",IF(LandUse!$N167=2,\"\",IF(AT174>=$E$5,AS174,\"\"))))","v":""},166,{"$f":"+CPPE!$A166","v":"Wildlife Habitat Planting"},{"$f":"IF(AW$9=\"\",\"\",IF(AW174=0,0,HLOOKUP(AW$9,CPPE!$A$1:$DB$177,AV174,FALSE)))","v":""},{"$f":"IF(AX174=\"\",\"\",IF(AX174=0,\"\",IF(LandUse!$N167=2,\"\",IF(AX174>=$E$5,AW174,\"\"))))","v":""},166,{"$f":"+CPPE!$A166","v":"Wildlife Habitat Planting"},{"$f":"IF(BA$9=\"\",\"\",IF(BA174=0,0,HLOOKUP(BA$9,CPPE!$A$1:$DB$177,AZ174,FALSE)))","v":""},{"$f":"IF(BB174=\"\",\"\",IF(BB174=0,\"\",IF(LandUse!$N167=2,\"\",IF(BB174>=$E$5,BA174,\"\"))))","v":""},166,{"$f":"+CPPE!$A166","v":"Wildlife Habitat Planting"},{"$f":"IF(BE$9=\"\",\"\",IF(BE174=0,0,HLOOKUP(BE$9,CPPE!$A$1:$DB$177,BD174,FALSE)))","v":""},{"$f":"IF(BF174=\"\",\"\",IF(BF174=0,\"\",IF(LandUse!$N167=2,\"\",IF(BF174>=$E$5,BE174,\"\"))))","v":""},166,{"$f":"+CPPE!$A166","v":"Wildlife Habitat Planting"},{"$f":"IF(BI$9=\"\",\"\",IF(BI174=0,0,HLOOKUP(BI$9,CPPE!$A$1:$DB$177,BH174,FALSE)))","v":""},{"$f":"IF(BJ174=\"\",\"\",IF(BJ174=0,\"\",IF(LandUse!$N167=2,\"\",IF(BJ174>=$E$5,BI174,\"\"))))","v":""},null,"","","","","","","","","",""]
[null,null,null,null,null,null,null,null,null,null,null,null,null,null,null,null,null,null,null,null,null,null,{"$f":"+CPPE!$A167","v":"Windbreak/Shelterbelt Establishment and Renovation"},167,{"$f":"+CPPE!$A167","v":"Windbreak/Shelterbelt Establishment and Renovation"},{"$f":"IF(Y$9=\"\",\"\",IF(Y175=0,0,HLOOKUP(Y$9,CPPE!$A$1:$DB$177,X175,FALSE)))","v":1},{"$f":"IF(Z175=\"\",\"\",IF(Z175=0,\"\",IF(LandUse!$N168=2,\"\",IF(Z175>=$E$5,Y175,\"\"))))","v":""},167,{"$f":"+CPPE!$A167","v":"Windbreak/Shelterbelt Establishment and Renovation"},{"$f":"IF(AC$9=\"\",\"\",IF(AC175=0,0,HLOOKUP(AC$9,CPPE!$A$1:$DB$177,AB175,FALSE)))","v":2},{"$f":"IF(AD175=\"\",\"\",IF(AD175=0,\"\",IF(LandUse!$N168=2,\"\",IF(AD175>=$E$5,AC175,\"\"))))","v":""},167,{"$f":"+CPPE!$A167","v":"Windbreak/Shelterbelt Establishment and Renovation"},{"$f":"IF(AG$9=\"\",\"\",IF(AG175=0,0,HLOOKUP(AG$9,CPPE!$A$1:$DB$177,AF175,FALSE)))","v":4},{"$f":"IF(AH175=\"\",\"\",IF(AH175=0,\"\",IF(LandUse!$N168=2,\"\",IF(AH175>=$E$5,AG175,\"\"))))","v":""},167,{"$f":"+CPPE!$A167","v":"Windbreak/Shelterbelt Establishment and Renovation"},{"$f":"IF(AK$9=\"\",\"\",IF(AK175=0,0,HLOOKUP(AK$9,CPPE!$A$1:$DB$177,AJ175,FALSE)))","v":4},{"$f":"IF(AL175=\"\",\"\",IF(AL175=0,\"\",IF(LandUse!$N168=2,\"\",IF(AL175>=$E$5,AK175,\"\"))))","v":""},167,{"$f":"+CPPE!$A167","v":"Windbreak/Shelterbelt Establishment and Renovation"},{"$f":"IF(AO$9=\"\",\"\",IF(AO175=0,0,HLOOKUP(AO$9,CPPE!$A$1:$DB$177,AN175,FALSE)))","v":""},{"$f":"IF(AP175=\"\",\"\",IF(AP175=0,\"\",IF(LandUse!$N168=2,\"\",IF(AP175>=$E$5,AO175,\"\"))))","v":""},167,{"$f":"+CPPE!$A167","v":"Windbreak/Shelterbelt Establishment and Renovation"},{"$f":"IF(AS$9=\"\",\"\",IF(AS175=0,0,HLOOKUP(AS$9,CPPE!$A$1:$DB$177,AR175,FALSE)))","v":""},{"$f":"IF(AT175=\"\",\"\",IF(AT175=0,\"\",IF(LandUse!$N168=2,\"\",IF(AT175>=$E$5,AS175,\"\"))))","v":""},167,{"$f":"+CPPE!$A167","v":"Windbreak/Shelterbelt Establishment and Renovation"},{"$f":"IF(AW$9=\"\",\"\",IF(AW175=0,0,HLOOKUP(AW$9,CPPE!$A$1:$DB$177,AV175,FALSE)))","v":""},{"$f":"IF(AX175=\"\",\"\",IF(AX175=0,\"\",IF(LandUse!$N168=2,\"\",IF(AX175>=$E$5,AW175,\"\"))))","v":""},167,{"$f":"+CPPE!$A167","v":"Windbreak/Shelterbelt Establishment and Renovation"},{"$f":"IF(BA$9=\"\",\"\",IF(BA175=0,0,HLOOKUP(BA$9,CPPE!$A$1:$DB$177,AZ175,FALSE)))","v":""},{"$f":"IF(BB175=\"\",\"\",IF(BB175=0,\"\",IF(LandUse!$N168=2,\"\",IF(BB175>=$E$5,BA175,\"\"))))","v":""},167,{"$f":"+CPPE!$A167","v":"Windbreak/Shelterbelt Establishment and Renovation"},{"$f":"IF(BE$9=\"\",\"\",IF(BE175=0,0,HLOOKUP(BE$9,CPPE!$A$1:$DB$177,BD175,FALSE)))","v":""},{"$f":"IF(BF175=\"\",\"\",IF(BF175=0,\"\",IF(LandUse!$N168=2,\"\",IF(BF175>=$E$5,BE175,\"\"))))","v":""},167,{"$f":"+CPPE!$A167","v":"Windbreak/Shelterbelt Establishment and Renovation"},{"$f":"IF(BI$9=\"\",\"\",IF(BI175=0,0,HLOOKUP(BI$9,CPPE!$A$1:$DB$177,BH175,FALSE)))","v":""},{"$f":"IF(BJ175=\"\",\"\",IF(BJ175=0,\"\",IF(LandUse!$N168=2,\"\",IF(BJ175>=$E$5,BI175,\"\"))))","v":""},null,"","","","","","","","","",""]
[null,null,null,null,null,null,null,null,null,null,null,null,null,null,null,null,null,null,null,null,null,null,{"$f":"+CPPE!$A168","v":"Woody Residue Treatment"},168,{"$f":"+CPPE!$A168","v":"Woody Residue Treatment"},{"$f":"IF(Y$9=\"\",\"\",IF(Y176=0,0,HLOOKUP(Y$9,CPPE!$A$1:$DB$177,X176,FALSE)))","v":1},{"$f":"IF(Z176=\"\",\"\",IF(Z176=0,\"\",IF(LandUse!$N169=2,\"\",IF(Z176>=$E$5,Y176,\"\"))))","v":""},168,{"$f":"+CPPE!$A168","v":"Woody Residue Treatment"},{"$f":"IF(AC$9=\"\",\"\",IF(AC176=0,0,HLOOKUP(AC$9,CPPE!$A$1:$DB$177,AB176,FALSE)))","v":-2},{"$f":"IF(AD176=\"\",\"\",IF(AD176=0,\"\",IF(LandUse!$N169=2,\"\",IF(AD176>=$E$5,AC176,\"\"))))","v":""},168,{"$f":"+CPPE!$A168","v":"Woody Residue Treatment"},{"$f":"IF(AG$9=\"\",\"\",IF(AG176=0,0,HLOOKUP(AG$9,CPPE!$A$1:$DB$177,AF176,FALSE)))","v":-1},{"$f":"IF(AH176=\"\",\"\",IF(AH176=0,\"\",IF(LandUse!$N169=2,\"\",IF(AH176>=$E$5,AG176,\"\"))))","v":""},168,{"$f":"+CPPE!$A168","v":"Woody Residue Treatment"},{"$f":"IF(AK$9=\"\",\"\",IF(AK176=0,0,HLOOKUP(AK$9,CPPE!$A$1:$DB$177,AJ176,FALSE)))","v":1},{"$f":"IF(AL176=\"\",\"\",IF(AL176=0,\"\",IF(LandUse!$N169=2,\"\",IF(AL176>=$E$5,AK176,\"\"))))","v":""},168,{"$f":"+CPPE!$A168","v":"Woody Residue Treatment"},{"$f":"IF(AO$9=\"\",\"\",IF(AO176=0,0,HLOOKUP(AO$9,CPPE!$A$1:$DB$177,AN176,FALSE)))","v":""},{"$f":"IF(AP176=\"\",\"\",IF(AP176=0,\"\",IF(LandUse!$N169=2,\"\",IF(AP176>=$E$5,AO176,\"\"))))","v":""},168,{"$f":"+CPPE!$A168","v":"Woody Residue Treatment"},{"$f":"IF(AS$9=\"\",\"\",IF(AS176=0,0,HLOOKUP(AS$9,CPPE!$A$1:$DB$177,AR176,FALSE)))","v":""},{"$f":"IF(AT176=\"\",\"\",IF(AT176=0,\"\",IF(LandUse!$N169=2,\"\",IF(AT176>=$E$5,AS176,\"\"))))","v":""},168,{"$f":"+CPPE!$A168","v":"Woody Residue Treatment"},{"$f":"IF(AW$9=\"\",\"\",IF(AW176=0,0,HLOOKUP(AW$9,CPPE!$A$1:$DB$177,AV176,FALSE)))","v":""},{"$f":"IF(AX176=\"\",\"\",IF(AX176=0,\"\",IF(LandUse!$N169=2,\"\",IF(AX176>=$E$5,AW176,\"\"))))","v":""},168,{"$f":"+CPPE!$A168","v":"Woody Residue Treatment"},{"$f":"IF(BA$9=\"\",\"\",IF(BA176=0,0,HLOOKUP(BA$9,CPPE!$A$1:$DB$177,AZ176,FALSE)))","v":""},{"$f":"IF(BB176=\"\",\"\",IF(BB176=0,\"\",IF(LandUse!$N169=2,\"\",IF(BB176>=$E$5,BA176,\"\"))))","v":""},168,{"$f":"+CPPE!$A168","v":"Woody Residue Treatment"},{"$f":"IF(BE$9=\"\",\"\",IF(BE176=0,0,HLOOKUP(BE$9,CPPE!$A$1:$DB$177,BD176,FALSE)))","v":""},{"$f":"IF(BF176=\"\",\"\",IF(BF176=0,\"\",IF(LandUse!$N169=2,\"\",IF(BF176>=$E$5,BE176,\"\"))))","v":""},168,{"$f":"+CPPE!$A168","v":"Woody Residue Treatment"},{"$f":"IF(BI$9=\"\",\"\",IF(BI176=0,0,HLOOKUP(BI$9,CPPE!$A$1:$DB$177,BH176,FALSE)))","v":""},{"$f":"IF(BJ176=\"\",\"\",IF(BJ176=0,\"\",IF(LandUse!$N169=2,\"\",IF(BJ176>=$E$5,BI176,\"\"))))","v":""},null,"","","","","","","","","",""]
[null,null,null,null,null,null,null,null,null,null,null,null,null,null,null,null,null,null,null,null,null,null,{"$f":"+CPPE!$A169","v":0},169,{"$f":"+CPPE!$A169","v":0},{"$f":"IF(Y$9=\"\",\"\",IF(Y177=0,0,HLOOKUP(Y$9,CPPE!$A$1:$DB$177,X177,FALSE)))","v":0},{"$f":"IF(Z177=\"\",\"\",IF(Z177=0,\"\",IF(LandUse!$N170=2,\"\",IF(Z177>=$E$5,Y177,\"\"))))","v":""},169,{"$f":"+CPPE!$A169","v":0},{"$f":"IF(AC$9=\"\",\"\",IF(AC177=0,0,HLOOKUP(AC$9,CPPE!$A$1:$DB$177,AB177,FALSE)))","v":0},{"$f":"IF(AD177=\"\",\"\",IF(AD177=0,\"\",IF(LandUse!$N170=2,\"\",IF(AD177>=$E$5,AC177,\"\"))))","v":""},169,{"$f":"+CPPE!$A169","v":0},{"$f":"IF(AG$9=\"\",\"\",IF(AG177=0,0,HLOOKUP(AG$9,CPPE!$A$1:$DB$177,AF177,FALSE)))","v":0},{"$f":"IF(AH177=\"\",\"\",IF(AH177=0,\"\",IF(LandUse!$N170=2,\"\",IF(AH177>=$E$5,AG177,\"\"))))","v":""},169,{"$f":"+CPPE!$A169","v":0},{"$f":"IF(AK$9=\"\",\"\",IF(AK177=0,0,HLOOKUP(AK$9,CPPE!$A$1:$DB$177,AJ177,FALSE)))","v":0},{"$f":"IF(AL177=\"\",\"\",IF(AL177=0,\"\",IF(LandUse!$N170=2,\"\",IF(AL177>=$E$5,AK177,\"\"))))","v":""},169,{"$f":"+CPPE!$A169","v":0},{"$f":"IF(AO$9=\"\",\"\",IF(AO177=0,0,HLOOKUP(AO$9,CPPE!$A$1:$DB$177,AN177,FALSE)))","v":""},{"$f":"IF(AP177=\"\",\"\",IF(AP177=0,\"\",IF(LandUse!$N170=2,\"\",IF(AP177>=$E$5,AO177,\"\"))))","v":""},169,{"$f":"+CPPE!$A169","v":0},{"$f":"IF(AS$9=\"\",\"\",IF(AS177=0,0,HLOOKUP(AS$9,CPPE!$A$1:$DB$177,AR177,FALSE)))","v":""},{"$f":"IF(AT177=\"\",\"\",IF(AT177=0,\"\",IF(LandUse!$N170=2,\"\",IF(AT177>=$E$5,AS177,\"\"))))","v":""},169,{"$f":"+CPPE!$A169","v":0},{"$f":"IF(AW$9=\"\",\"\",IF(AW177=0,0,HLOOKUP(AW$9,CPPE!$A$1:$DB$177,AV177,FALSE)))","v":""},{"$f":"IF(AX177=\"\",\"\",IF(AX177=0,\"\",IF(LandUse!$N170=2,\"\",IF(AX177>=$E$5,AW177,\"\"))))","v":""},169,{"$f":"+CPPE!$A169","v":0},{"$f":"IF(BA$9=\"\",\"\",IF(BA177=0,0,HLOOKUP(BA$9,CPPE!$A$1:$DB$177,AZ177,FALSE)))","v":""},{"$f":"IF(BB177=\"\",\"\",IF(BB177=0,\"\",IF(LandUse!$N170=2,\"\",IF(BB177>=$E$5,BA177,\"\"))))","v":""},169,{"$f":"+CPPE!$A169","v":0},{"$f":"IF(BE$9=\"\",\"\",IF(BE177=0,0,HLOOKUP(BE$9,CPPE!$A$1:$DB$177,BD177,FALSE)))","v":""},{"$f":"IF(BF177=\"\",\"\",IF(BF177=0,\"\",IF(LandUse!$N170=2,\"\",IF(BF177>=$E$5,BE177,\"\"))))","v":""},169,{"$f":"+CPPE!$A169","v":0},{"$f":"IF(BI$9=\"\",\"\",IF(BI177=0,0,HLOOKUP(BI$9,CPPE!$A$1:$DB$177,BH177,FALSE)))","v":""},{"$f":"IF(BJ177=\"\",\"\",IF(BJ177=0,\"\",IF(LandUse!$N170=2,\"\",IF(BJ177>=$E$5,BI177,\"\"))))","v":""},null,"","","","","","","","","",""]
[null,null,null,null,null,null,null,null,null,null,null,null,null,null,null,null,null,null,null,null,null,null,{"$f":"+CPPE!$A170","v":0},170,{"$f":"+CPPE!$A170","v":0},{"$f":"IF(Y$9=\"\",\"\",IF(Y178=0,0,HLOOKUP(Y$9,CPPE!$A$1:$DB$177,X178,FALSE)))","v":0},{"$f":"IF(Z178=\"\",\"\",IF(Z178=0,\"\",IF(LandUse!$N171=2,\"\",IF(Z178>=$E$5,Y178,\"\"))))","v":""},170,{"$f":"+CPPE!$A170","v":0},{"$f":"IF(AC$9=\"\",\"\",IF(AC178=0,0,HLOOKUP(AC$9,CPPE!$A$1:$DB$177,AB178,FALSE)))","v":0},{"$f":"IF(AD178=\"\",\"\",IF(AD178=0,\"\",IF(LandUse!$N171=2,\"\",IF(AD178>=$E$5,AC178,\"\"))))","v":""},170,{"$f":"+CPPE!$A170","v":0},{"$f":"IF(AG$9=\"\",\"\",IF(AG178=0,0,HLOOKUP(AG$9,CPPE!$A$1:$DB$177,AF178,FALSE)))","v":0},{"$f":"IF(AH178=\"\",\"\",IF(AH178=0,\"\",IF(LandUse!$N171=2,\"\",IF(AH178>=$E$5,AG178,\"\"))))","v":""},170,{"$f":"+CPPE!$A170","v":0},{"$f":"IF(AK$9=\"\",\"\",IF(AK178=0,0,HLOOKUP(AK$9,CPPE!$A$1:$DB$177,AJ178,FALSE)))","v":0},{"$f":"IF(AL178=\"\",\"\",IF(AL178=0,\"\",IF(LandUse!$N171=2,\"\",IF(AL178>=$E$5,AK178,\"\"))))","v":""},170,{"$f":"+CPPE!$A170","v":0},{"$f":"IF(AO$9=\"\",\"\",IF(AO178=0,0,HLOOKUP(AO$9,CPPE!$A$1:$DB$177,AN178,FALSE)))","v":""},{"$f":"IF(AP178=\"\",\"\",IF(AP178=0,\"\",IF(LandUse!$N171=2,\"\",IF(AP178>=$E$5,AO178,\"\"))))","v":""},170,{"$f":"+CPPE!$A170","v":0},{"$f":"IF(AS$9=\"\",\"\",IF(AS178=0,0,HLOOKUP(AS$9,CPPE!$A$1:$DB$177,AR178,FALSE)))","v":""},{"$f":"IF(AT178=\"\",\"\",IF(AT178=0,\"\",IF(LandUse!$N171=2,\"\",IF(AT178>=$E$5,AS178,\"\"))))","v":""},170,{"$f":"+CPPE!$A170","v":0},{"$f":"IF(AW$9=\"\",\"\",IF(AW178=0,0,HLOOKUP(AW$9,CPPE!$A$1:$DB$177,AV178,FALSE)))","v":""},{"$f":"IF(AX178=\"\",\"\",IF(AX178=0,\"\",IF(LandUse!$N171=2,\"\",IF(AX178>=$E$5,AW178,\"\"))))","v":""},170,{"$f":"+CPPE!$A170","v":0},{"$f":"IF(BA$9=\"\",\"\",IF(BA178=0,0,HLOOKUP(BA$9,CPPE!$A$1:$DB$177,AZ178,FALSE)))","v":""},{"$f":"IF(BB178=\"\",\"\",IF(BB178=0,\"\",IF(LandUse!$N171=2,\"\",IF(BB178>=$E$5,BA178,\"\"))))","v":""},170,{"$f":"+CPPE!$A170","v":0},{"$f":"IF(BE$9=\"\",\"\",IF(BE178=0,0,HLOOKUP(BE$9,CPPE!$A$1:$DB$177,BD178,FALSE)))","v":""},{"$f":"IF(BF178=\"\",\"\",IF(BF178=0,\"\",IF(LandUse!$N171=2,\"\",IF(BF178>=$E$5,BE178,\"\"))))","v":""},170,{"$f":"+CPPE!$A170","v":0},{"$f":"IF(BI$9=\"\",\"\",IF(BI178=0,0,HLOOKUP(BI$9,CPPE!$A$1:$DB$177,BH178,FALSE)))","v":""},{"$f":"IF(BJ178=\"\",\"\",IF(BJ178=0,\"\",IF(LandUse!$N171=2,\"\",IF(BJ178>=$E$5,BI178,\"\"))))","v":""},null,"","","","","","","","","",""]
[null,null,null,null,null,null,null,null,null,null,null,null,null,null,null,null,null,null,null,null,null,null,{"$f":"+CPPE!$A171","v":0},171,{"$f":"+CPPE!$A171","v":0},{"$f":"IF(Y$9=\"\",\"\",IF(Y179=0,0,HLOOKUP(Y$9,CPPE!$A$1:$DB$177,X179,FALSE)))","v":0},{"$f":"IF(Z179=\"\",\"\",IF(Z179=0,\"\",IF(LandUse!$N172=2,\"\",IF(Z179>=$E$5,Y179,\"\"))))","v":""},171,{"$f":"+CPPE!$A171","v":0},{"$f":"IF(AC$9=\"\",\"\",IF(AC179=0,0,HLOOKUP(AC$9,CPPE!$A$1:$DB$177,AB179,FALSE)))","v":0},{"$f":"IF(AD179=\"\",\"\",IF(AD179=0,\"\",IF(LandUse!$N172=2,\"\",IF(AD179>=$E$5,AC179,\"\"))))","v":""},171,{"$f":"+CPPE!$A171","v":0},{"$f":"IF(AG$9=\"\",\"\",IF(AG179=0,0,HLOOKUP(AG$9,CPPE!$A$1:$DB$177,AF179,FALSE)))","v":0},{"$f":"IF(AH179=\"\",\"\",IF(AH179=0,\"\",IF(LandUse!$N172=2,\"\",IF(AH179>=$E$5,AG179,\"\"))))","v":""},171,{"$f":"+CPPE!$A171","v":0},{"$f":"IF(AK$9=\"\",\"\",IF(AK179=0,0,HLOOKUP(AK$9,CPPE!$A$1:$DB$177,AJ179,FALSE)))","v":0},{"$f":"IF(AL179=\"\",\"\",IF(AL179=0,\"\",IF(LandUse!$N172=2,\"\",IF(AL179>=$E$5,AK179,\"\"))))","v":""},171,{"$f":"+CPPE!$A171","v":0},{"$f":"IF(AO$9=\"\",\"\",IF(AO179=0,0,HLOOKUP(AO$9,CPPE!$A$1:$DB$177,AN179,FALSE)))","v":""},{"$f":"IF(AP179=\"\",\"\",IF(AP179=0,\"\",IF(LandUse!$N172=2,\"\",IF(AP179>=$E$5,AO179,\"\"))))","v":""},171,{"$f":"+CPPE!$A171","v":0},{"$f":"IF(AS$9=\"\",\"\",IF(AS179=0,0,HLOOKUP(AS$9,CPPE!$A$1:$DB$177,AR179,FALSE)))","v":""},{"$f":"IF(AT179=\"\",\"\",IF(AT179=0,\"\",IF(LandUse!$N172=2,\"\",IF(AT179>=$E$5,AS179,\"\"))))","v":""},171,{"$f":"+CPPE!$A171","v":0},{"$f":"IF(AW$9=\"\",\"\",IF(AW179=0,0,HLOOKUP(AW$9,CPPE!$A$1:$DB$177,AV179,FALSE)))","v":""},{"$f":"IF(AX179=\"\",\"\",IF(AX179=0,\"\",IF(LandUse!$N172=2,\"\",IF(AX179>=$E$5,AW179,\"\"))))","v":""},171,{"$f":"+CPPE!$A171","v":0},{"$f":"IF(BA$9=\"\",\"\",IF(BA179=0,0,HLOOKUP(BA$9,CPPE!$A$1:$DB$177,AZ179,FALSE)))","v":""},{"$f":"IF(BB179=\"\",\"\",IF(BB179=0,\"\",IF(LandUse!$N172=2,\"\",IF(BB179>=$E$5,BA179,\"\"))))","v":""},171,{"$f":"+CPPE!$A171","v":0},{"$f":"IF(BE$9=\"\",\"\",IF(BE179=0,0,HLOOKUP(BE$9,CPPE!$A$1:$DB$177,BD179,FALSE)))","v":""},{"$f":"IF(BF179=\"\",\"\",IF(BF179=0,\"\",IF(LandUse!$N172=2,\"\",IF(BF179>=$E$5,BE179,\"\"))))","v":""},171,{"$f":"+CPPE!$A171","v":0},{"$f":"IF(BI$9=\"\",\"\",IF(BI179=0,0,HLOOKUP(BI$9,CPPE!$A$1:$DB$177,BH179,FALSE)))","v":""},{"$f":"IF(BJ179=\"\",\"\",IF(BJ179=0,\"\",IF(LandUse!$N172=2,\"\",IF(BJ179>=$E$5,BI179,\"\"))))","v":""},null,"","","","","","","","","",""]
[null,null,null,null,null,null,null,null,null,null,null,null,null,null,null,null,null,null,null,null,null,null,{"$f":"+CPPE!$A172","v":0},172,{"$f":"+CPPE!$A172","v":0},{"$f":"IF(Y$9=\"\",\"\",IF(Y180=0,0,HLOOKUP(Y$9,CPPE!$A$1:$DB$177,X180,FALSE)))","v":0},{"$f":"IF(Z180=\"\",\"\",IF(Z180=0,\"\",IF(LandUse!$N173=2,\"\",IF(Z180>=$E$5,Y180,\"\"))))","v":""},172,{"$f":"+CPPE!$A172","v":0},{"$f":"IF(AC$9=\"\",\"\",IF(AC180=0,0,HLOOKUP(AC$9,CPPE!$A$1:$DB$177,AB180,FALSE)))","v":0},{"$f":"IF(AD180=\"\",\"\",IF(AD180=0,\"\",IF(LandUse!$N173=2,\"\",IF(AD180>=$E$5,AC180,\"\"))))","v":""},172,{"$f":"+CPPE!$A172","v":0},{"$f":"IF(AG$9=\"\",\"\",IF(AG180=0,0,HLOOKUP(AG$9,CPPE!$A$1:$DB$177,AF180,FALSE)))","v":0},{"$f":"IF(AH180=\"\",\"\",IF(AH180=0,\"\",IF(LandUse!$N173=2,\"\",IF(AH180>=$E$5,AG180,\"\"))))","v":""},172,{"$f":"+CPPE!$A172","v":0},{"$f":"IF(AK$9=\"\",\"\",IF(AK180=0,0,HLOOKUP(AK$9,CPPE!$A$1:$DB$177,AJ180,FALSE)))","v":0},{"$f":"IF(AL180=\"\",\"\",IF(AL180=0,\"\",IF(LandUse!$N173=2,\"\",IF(AL180>=$E$5,AK180,\"\"))))","v":""},172,{"$f":"+CPPE!$A172","v":0},{"$f":"IF(AO$9=\"\",\"\",IF(AO180=0,0,HLOOKUP(AO$9,CPPE!$A$1:$DB$177,AN180,FALSE)))","v":""},{"$f":"IF(AP180=\"\",\"\",IF(AP180=0,\"\",IF(LandUse!$N173=2,\"\",IF(AP180>=$E$5,AO180,\"\"))))","v":""},172,{"$f":"+CPPE!$A172","v":0},{"$f":"IF(AS$9=\"\",\"\",IF(AS180=0,0,HLOOKUP(AS$9,CPPE!$A$1:$DB$177,AR180,FALSE)))","v":""},{"$f":"IF(AT180=\"\",\"\",IF(AT180=0,\"\",IF(LandUse!$N173=2,\"\",IF(AT180>=$E$5,AS180,\"\"))))","v":""},172,{"$f":"+CPPE!$A172","v":0},{"$f":"IF(AW$9=\"\",\"\",IF(AW180=0,0,HLOOKUP(AW$9,CPPE!$A$1:$DB$177,AV180,FALSE)))","v":""},{"$f":"IF(AX180=\"\",\"\",IF(AX180=0,\"\",IF(LandUse!$N173=2,\"\",IF(AX180>=$E$5,AW180,\"\"))))","v":""},172,{"$f":"+CPPE!$A172","v":0},{"$f":"IF(BA$9=\"\",\"\",IF(BA180=0,0,HLOOKUP(BA$9,CPPE!$A$1:$DB$177,AZ180,FALSE)))","v":""},{"$f":"IF(BB180=\"\",\"\",IF(BB180=0,\"\",IF(LandUse!$N173=2,\"\",IF(BB180>=$E$5,BA180,\"\"))))","v":""},172,{"$f":"+CPPE!$A172","v":0},{"$f":"IF(BE$9=\"\",\"\",IF(BE180=0,0,HLOOKUP(BE$9,CPPE!$A$1:$DB$177,BD180,FALSE)))","v":""},{"$f":"IF(BF180=\"\",\"\",IF(BF180=0,\"\",IF(LandUse!$N173=2,\"\",IF(BF180>=$E$5,BE180,\"\"))))","v":""},172,{"$f":"+CPPE!$A172","v":0},{"$f":"IF(BI$9=\"\",\"\",IF(BI180=0,0,HLOOKUP(BI$9,CPPE!$A$1:$DB$177,BH180,FALSE)))","v":""},{"$f":"IF(BJ180=\"\",\"\",IF(BJ180=0,\"\",IF(LandUse!$N173=2,\"\",IF(BJ180>=$E$5,BI180,\"\"))))","v":""},null,"","","","","","","","","",""]
[null,null,null,null,null,null,null,null,null,null,null,null,null,null,null,null,null,null,null,null,null,null,{"$f":"+CPPE!$A173","v":0},173,{"$f":"+CPPE!$A173","v":0},{"$f":"IF(Y$9=\"\",\"\",IF(Y181=0,0,HLOOKUP(Y$9,CPPE!$A$1:$DB$177,X181,FALSE)))","v":0},{"$f":"IF(Z181=\"\",\"\",IF(Z181=0,\"\",IF(LandUse!$N174=2,\"\",IF(Z181>=$E$5,Y181,\"\"))))","v":""},173,{"$f":"+CPPE!$A173","v":0},{"$f":"IF(AC$9=\"\",\"\",IF(AC181=0,0,HLOOKUP(AC$9,CPPE!$A$1:$DB$177,AB181,FALSE)))","v":0},{"$f":"IF(AD181=\"\",\"\",IF(AD181=0,\"\",IF(LandUse!$N174=2,\"\",IF(AD181>=$E$5,AC181,\"\"))))","v":""},173,{"$f":"+CPPE!$A173","v":0},{"$f":"IF(AG$9=\"\",\"\",IF(AG181=0,0,HLOOKUP(AG$9,CPPE!$A$1:$DB$177,AF181,FALSE)))","v":0},{"$f":"IF(AH181=\"\",\"\",IF(AH181=0,\"\",IF(LandUse!$N174=2,\"\",IF(AH181>=$E$5,AG181,\"\"))))","v":""},173,{"$f":"+CPPE!$A173","v":0},{"$f":"IF(AK$9=\"\",\"\",IF(AK181=0,0,HLOOKUP(AK$9,CPPE!$A$1:$DB$177,AJ181,FALSE)))","v":0},{"$f":"IF(AL181=\"\",\"\",IF(AL181=0,\"\",IF(LandUse!$N174=2,\"\",IF(AL181>=$E$5,AK181,\"\"))))","v":""},173,{"$f":"+CPPE!$A173","v":0},{"$f":"IF(AO$9=\"\",\"\",IF(AO181=0,0,HLOOKUP(AO$9,CPPE!$A$1:$DB$177,AN181,FALSE)))","v":""},{"$f":"IF(AP181=\"\",\"\",IF(AP181=0,\"\",IF(LandUse!$N174=2,\"\",IF(AP181>=$E$5,AO181,\"\"))))","v":""},173,{"$f":"+CPPE!$A173","v":0},{"$f":"IF(AS$9=\"\",\"\",IF(AS181=0,0,HLOOKUP(AS$9,CPPE!$A$1:$DB$177,AR181,FALSE)))","v":""},{"$f":"IF(AT181=\"\",\"\",IF(AT181=0,\"\",IF(LandUse!$N174=2,\"\",IF(AT181>=$E$5,AS181,\"\"))))","v":""},173,{"$f":"+CPPE!$A173","v":0},{"$f":"IF(AW$9=\"\",\"\",IF(AW181=0,0,HLOOKUP(AW$9,CPPE!$A$1:$DB$177,AV181,FALSE)))","v":""},{"$f":"IF(AX181=\"\",\"\",IF(AX181=0,\"\",IF(LandUse!$N174=2,\"\",IF(AX181>=$E$5,AW181,\"\"))))","v":""},173,{"$f":"+CPPE!$A173","v":0},{"$f":"IF(BA$9=\"\",\"\",IF(BA181=0,0,HLOOKUP(BA$9,CPPE!$A$1:$DB$177,AZ181,FALSE)))","v":""},{"$f":"IF(BB181=\"\",\"\",IF(BB181=0,\"\",IF(LandUse!$N174=2,\"\",IF(BB181>=$E$5,BA181,\"\"))))","v":""},173,{"$f":"+CPPE!$A173","v":0},{"$f":"IF(BE$9=\"\",\"\",IF(BE181=0,0,HLOOKUP(BE$9,CPPE!$A$1:$DB$177,BD181,FALSE)))","v":""},{"$f":"IF(BF181=\"\",\"\",IF(BF181=0,\"\",IF(LandUse!$N174=2,\"\",IF(BF181>=$E$5,BE181,\"\"))))","v":""},173,{"$f":"+CPPE!$A173","v":0},{"$f":"IF(BI$9=\"\",\"\",IF(BI181=0,0,HLOOKUP(BI$9,CPPE!$A$1:$DB$177,BH181,FALSE)))","v":""},{"$f":"IF(BJ181=\"\",\"\",IF(BJ181=0,\"\",IF(LandUse!$N174=2,\"\",IF(BJ181>=$E$5,BI181,\"\"))))","v":""},null,"","","","","","","","","",""]
[null,null,null,null,null,null,null,null,null,null,null,null,null,null,null,null,null,null,null,null,null,null,{"$f":"+CPPE!$A174","v":0},174,{"$f":"+CPPE!$A174","v":0},{"$f":"IF(Y$9=\"\",\"\",IF(Y182=0,0,HLOOKUP(Y$9,CPPE!$A$1:$DB$177,X182,FALSE)))","v":0},{"$f":"IF(Z182=\"\",\"\",IF(Z182=0,\"\",IF(LandUse!$N175=2,\"\",IF(Z182>=$E$5,Y182,\"\"))))","v":""},174,{"$f":"+CPPE!$A174","v":0},{"$f":"IF(AC$9=\"\",\"\",IF(AC182=0,0,HLOOKUP(AC$9,CPPE!$A$1:$DB$177,AB182,FALSE)))","v":0},{"$f":"IF(AD182=\"\",\"\",IF(AD182=0,\"\",IF(LandUse!$N175=2,\"\",IF(AD182>=$E$5,AC182,\"\"))))","v":""},174,{"$f":"+CPPE!$A174","v":0},{"$f":"IF(AG$9=\"\",\"\",IF(AG182=0,0,HLOOKUP(AG$9,CPPE!$A$1:$DB$177,AF182,FALSE)))","v":0},{"$f":"IF(AH182=\"\",\"\",IF(AH182=0,\"\",IF(LandUse!$N175=2,\"\",IF(AH182>=$E$5,AG182,\"\"))))","v":""},174,{"$f":"+CPPE!$A174","v":0},{"$f":"IF(AK$9=\"\",\"\",IF(AK182=0,0,HLOOKUP(AK$9,CPPE!$A$1:$DB$177,AJ182,FALSE)))","v":0},{"$f":"IF(AL182=\"\",\"\",IF(AL182=0,\"\",IF(LandUse!$N175=2,\"\",IF(AL182>=$E$5,AK182,\"\"))))","v":""},174,{"$f":"+CPPE!$A174","v":0},{"$f":"IF(AO$9=\"\",\"\",IF(AO182=0,0,HLOOKUP(AO$9,CPPE!$A$1:$DB$177,AN182,FALSE)))","v":""},{"$f":"IF(AP182=\"\",\"\",IF(AP182=0,\"\",IF(LandUse!$N175=2,\"\",IF(AP182>=$E$5,AO182,\"\"))))","v":""},174,{"$f":"+CPPE!$A174","v":0},{"$f":"IF(AS$9=\"\",\"\",IF(AS182=0,0,HLOOKUP(AS$9,CPPE!$A$1:$DB$177,AR182,FALSE)))","v":""},{"$f":"IF(AT182=\"\",\"\",IF(AT182=0,\"\",IF(LandUse!$N175=2,\"\",IF(AT182>=$E$5,AS182,\"\"))))","v":""},174,{"$f":"+CPPE!$A174","v":0},{"$f":"IF(AW$9=\"\",\"\",IF(AW182=0,0,HLOOKUP(AW$9,CPPE!$A$1:$DB$177,AV182,FALSE)))","v":""},{"$f":"IF(AX182=\"\",\"\",IF(AX182=0,\"\",IF(LandUse!$N175=2,\"\",IF(AX182>=$E$5,AW182,\"\"))))","v":""},174,{"$f":"+CPPE!$A174","v":0},{"$f":"IF(BA$9=\"\",\"\",IF(BA182=0,0,HLOOKUP(BA$9,CPPE!$A$1:$DB$177,AZ182,FALSE)))","v":""},{"$f":"IF(BB182=\"\",\"\",IF(BB182=0,\"\",IF(LandUse!$N175=2,\"\",IF(BB182>=$E$5,BA182,\"\"))))","v":""},174,{"$f":"+CPPE!$A174","v":0},{"$f":"IF(BE$9=\"\",\"\",IF(BE182=0,0,HLOOKUP(BE$9,CPPE!$A$1:$DB$177,BD182,FALSE)))","v":""},{"$f":"IF(BF182=\"\",\"\",IF(BF182=0,\"\",IF(LandUse!$N175=2,\"\",IF(BF182>=$E$5,BE182,\"\"))))","v":""},174,{"$f":"+CPPE!$A174","v":0},{"$f":"IF(BI$9=\"\",\"\",IF(BI182=0,0,HLOOKUP(BI$9,CPPE!$A$1:$DB$177,BH182,FALSE)))","v":""},{"$f":"IF(BJ182=\"\",\"\",IF(BJ182=0,\"\",IF(LandUse!$N175=2,\"\",IF(BJ182>=$E$5,BI182,\"\"))))","v":""},null,"","","","","","","","","",""]
[null,null,null,null,null,null,null,null,null,null,null,null,null,null,null,null,null,null,null,null,null,null,{"$f":"+CPPE!$A175","v":0},175,{"$f":"+CPPE!$A175","v":0},{"$f":"IF(Y$9=\"\",\"\",IF(Y183=0,0,HLOOKUP(Y$9,CPPE!$A$1:$DB$177,X183,FALSE)))","v":0},{"$f":"IF(Z183=\"\",\"\",IF(Z183=0,\"\",IF(LandUse!$N176=2,\"\",IF(Z183>=$E$5,Y183,\"\"))))","v":""},175,{"$f":"+CPPE!$A175","v":0},{"$f":"IF(AC$9=\"\",\"\",IF(AC183=0,0,HLOOKUP(AC$9,CPPE!$A$1:$DB$177,AB183,FALSE)))","v":0},{"$f":"IF(AD183=\"\",\"\",IF(AD183=0,\"\",IF(LandUse!$N176=2,\"\",IF(AD183>=$E$5,AC183,\"\"))))","v":""},175,{"$f":"+CPPE!$A175","v":0},{"$f":"IF(AG$9=\"\",\"\",IF(AG183=0,0,HLOOKUP(AG$9,CPPE!$A$1:$DB$177,AF183,FALSE)))","v":0},{"$f":"IF(AH183=\"\",\"\",IF(AH183=0,\"\",IF(LandUse!$N176=2,\"\",IF(AH183>=$E$5,AG183,\"\"))))","v":""},175,{"$f":"+CPPE!$A175","v":0},{"$f":"IF(AK$9=\"\",\"\",IF(AK183=0,0,HLOOKUP(AK$9,CPPE!$A$1:$DB$177,AJ183,FALSE)))","v":0},{"$f":"IF(AL183=\"\",\"\",IF(AL183=0,\"\",IF(LandUse!$N176=2,\"\",IF(AL183>=$E$5,AK183,\"\"))))","v":""},175,{"$f":"+CPPE!$A175","v":0},{"$f":"IF(AO$9=\"\",\"\",IF(AO183=0,0,HLOOKUP(AO$9,CPPE!$A$1:$DB$177,AN183,FALSE)))","v":""},{"$f":"IF(AP183=\"\",\"\",IF(AP183=0,\"\",IF(LandUse!$N176=2,\"\",IF(AP183>=$E$5,AO183,\"\"))))","v":""},175,{"$f":"+CPPE!$A175","v":0},{"$f":"IF(AS$9=\"\",\"\",IF(AS183=0,0,HLOOKUP(AS$9,CPPE!$A$1:$DB$177,AR183,FALSE)))","v":""},{"$f":"IF(AT183=\"\",\"\",IF(AT183=0,\"\",IF(LandUse!$N176=2,\"\",IF(AT183>=$E$5,AS183,\"\"))))","v":""},175,{"$f":"+CPPE!$A175","v":0},{"$f":"IF(AW$9=\"\",\"\",IF(AW183=0,0,HLOOKUP(AW$9,CPPE!$A$1:$DB$177,AV183,FALSE)))","v":""},{"$f":"IF(AX183=\"\",\"\",IF(AX183=0,\"\",IF(LandUse!$N176=2,\"\",IF(AX183>=$E$5,AW183,\"\"))))","v":""},175,{"$f":"+CPPE!$A175","v":0},{"$f":"IF(BA$9=\"\",\"\",IF(BA183=0,0,HLOOKUP(BA$9,CPPE!$A$1:$DB$177,AZ183,FALSE)))","v":""},{"$f":"IF(BB183=\"\",\"\",IF(BB183=0,\"\",IF(LandUse!$N176=2,\"\",IF(BB183>=$E$5,BA183,\"\"))))","v":""},175,{"$f":"+CPPE!$A175","v":0},{"$f":"IF(BE$9=\"\",\"\",IF(BE183=0,0,HLOOKUP(BE$9,CPPE!$A$1:$DB$177,BD183,FALSE)))","v":""},{"$f":"IF(BF183=\"\",\"\",IF(BF183=0,\"\",IF(LandUse!$N176=2,\"\",IF(BF183>=$E$5,BE183,\"\"))))","v":""},175,{"$f":"+CPPE!$A175","v":0},{"$f":"IF(BI$9=\"\",\"\",IF(BI183=0,0,HLOOKUP(BI$9,CPPE!$A$1:$DB$177,BH183,FALSE)))","v":""},{"$f":"IF(BJ183=\"\",\"\",IF(BJ183=0,\"\",IF(LandUse!$N176=2,\"\",IF(BJ183>=$E$5,BI183,\"\"))))","v":""},null,"","","","","","","","","",""]
[null,null,null,null,null,null,null,null,null,null,null,null,null,null,null,null,null,null,null,null,null,null,{"$f":"+CPPE!$A176","v":0},176,{"$f":"+CPPE!$A176","v":0},{"$f":"IF(Y$9=\"\",\"\",IF(Y184=0,0,HLOOKUP(Y$9,CPPE!$A$1:$DB$177,X184,FALSE)))","v":0},{"$f":"IF(Z184=\"\",\"\",IF(Z184=0,\"\",IF(LandUse!$N177=2,\"\",IF(Z184>=$E$5,Y184,\"\"))))","v":""},176,{"$f":"+CPPE!$A176","v":0},{"$f":"IF(AC$9=\"\",\"\",IF(AC184=0,0,HLOOKUP(AC$9,CPPE!$A$1:$DB$177,AB184,FALSE)))","v":0},{"$f":"IF(AD184=\"\",\"\",IF(AD184=0,\"\",IF(LandUse!$N177=2,\"\",IF(AD184>=$E$5,AC184,\"\"))))","v":""},176,{"$f":"+CPPE!$A176","v":0},{"$f":"IF(AG$9=\"\",\"\",IF(AG184=0,0,HLOOKUP(AG$9,CPPE!$A$1:$DB$177,AF184,FALSE)))","v":0},{"$f":"IF(AH184=\"\",\"\",IF(AH184=0,\"\",IF(LandUse!$N177=2,\"\",IF(AH184>=$E$5,AG184,\"\"))))","v":""},176,{"$f":"+CPPE!$A176","v":0},{"$f":"IF(AK$9=\"\",\"\",IF(AK184=0,0,HLOOKUP(AK$9,CPPE!$A$1:$DB$177,AJ184,FALSE)))","v":0},{"$f":"IF(AL184=\"\",\"\",IF(AL184=0,\"\",IF(LandUse!$N177=2,\"\",IF(AL184>=$E$5,AK184,\"\"))))","v":""},176,{"$f":"+CPPE!$A176","v":0},{"$f":"IF(AO$9=\"\",\"\",IF(AO184=0,0,HLOOKUP(AO$9,CPPE!$A$1:$DB$177,AN184,FALSE)))","v":""},{"$f":"IF(AP184=\"\",\"\",IF(AP184=0,\"\",IF(LandUse!$N177=2,\"\",IF(AP184>=$E$5,AO184,\"\"))))","v":""},176,{"$f":"+CPPE!$A176","v":0},{"$f":"IF(AS$9=\"\",\"\",IF(AS184=0,0,HLOOKUP(AS$9,CPPE!$A$1:$DB$177,AR184,FALSE)))","v":""},{"$f":"IF(AT184=\"\",\"\",IF(AT184=0,\"\",IF(LandUse!$N177=2,\"\",IF(AT184>=$E$5,AS184,\"\"))))","v":""},176,{"$f":"+CPPE!$A176","v":0},{"$f":"IF(AW$9=\"\",\"\",IF(AW184=0,0,HLOOKUP(AW$9,CPPE!$A$1:$DB$177,AV184,FALSE)))","v":""},{"$f":"IF(AX184=\"\",\"\",IF(AX184=0,\"\",IF(LandUse!$N177=2,\"\",IF(AX184>=$E$5,AW184,\"\"))))","v":""},176,{"$f":"+CPPE!$A176","v":0},{"$f":"IF(BA$9=\"\",\"\",IF(BA184=0,0,HLOOKUP(BA$9,CPPE!$A$1:$DB$177,AZ184,FALSE)))","v":""},{"$f":"IF(BB184=\"\",\"\",IF(BB184=0,\"\",IF(LandUse!$N177=2,\"\",IF(BB184>=$E$5,BA184,\"\"))))","v":""},176,{"$f":"+CPPE!$A176","v":0},{"$f":"IF(BE$9=\"\",\"\",IF(BE184=0,0,HLOOKUP(BE$9,CPPE!$A$1:$DB$177,BD184,FALSE)))","v":""},{"$f":"IF(BF184=\"\",\"\",IF(BF184=0,\"\",IF(LandUse!$N177=2,\"\",IF(BF184>=$E$5,BE184,\"\"))))","v":""},176,{"$f":"+CPPE!$A176","v":0},{"$f":"IF(BI$9=\"\",\"\",IF(BI184=0,0,HLOOKUP(BI$9,CPPE!$A$1:$DB$177,BH184,FALSE)))","v":""},{"$f":"IF(BJ184=\"\",\"\",IF(BJ184=0,\"\",IF(LandUse!$N177=2,\"\",IF(BJ184>=$E$5,BI184,\"\"))))","v":""},null,"","","","","","","","","",""]
[null,null,null,null,null,null,null,null,null,null,null,null,null,null,null,null,null,null,null,null,null,null,null,null,null,null,{"$f":"IF(Z185=\"NA\",\"NA\",IF(Z185>=$E$5,Y185,\"\"))","v":""},null,null,null,null,null,null,null,null,null,null,null,null,null,null,null,null,null,null,null,null,null,null,null,null,null,null,null,null,null,null,null,null,null,null,null,null,null,"","","","","","","","","",""]
[null,null,null,null,null,null,null,null,null,null,null,null,null,null,null,null,null,null,null,null,null,null,null,null,null,null,"",null,null,null,null,null,null,null,null,null,null,null,null,null,null,null,null,null,null,null,null,null,null,null,null,null,null,null,null,null,null,null,null,null,null,null,null,null,"","","","","","","","","",""]
[null,null,null,null,null,null,null,null,null,null,null,null,null,null,null,null,null,null,null,null,null,null,null,null,null,null,"",null,null,null,null,null,null,null,null,null,null,null,null,null,null,null,null,null,null,null,null,null,null,null,null,null,null,null,null,null,null,null,null,null,null,null,null,null,"","","","","","","","","","",null,""]
[null,null,null,null,null,null,null,null,null,null,null,null,null,null,null,null,null,null,null,null,null,null,null,null,null,null,"",null,null,null,null,null,null,null,null,null,null,null,null,null,null,null,null,null,null,null,null,null,null,null,null,null,null,null,null,null,null,null,null,null,null,null,null,null,"","","","","","","","","","",null,""]
[null,null,null,null,null,null,null,null,null,null,null,null,null,null,null,null,null,null,null,null,null,null,null,null,null,null,"",null,null,null,null,null,null,null,null,null,null,null,null,null,null,null,null,null,null,null,null,null,null,null,null,null,null,null,null,null,null,null,null,null,null,null,null,null,"","","","","","","","","","",null,""]
[null,null,null,null,null,null,null,null,null,null,null,null,null,null,null,null,null,null,null,null,null,null,null,null,null,null,"",null,null,null,null,null,null,null,null,null,null,null,null,null,null,null,null,null,null,null,null,null,null,null,null,null,null,null,null,null,null,null,null,null,null,null,null,null,"","","","","","","","","","",null,""]
[null,null,null,null,null,null,null,null,null,null,null,null,null,null,null,null,null,null,null,null,null,null,null,null,null,null,"",null,null,null,null,null,null,null,null,null,null,null,null,null,null,null,null,null,null,null,null,null,null,null,null,null,null,null,null,null,null,null,null,null,null,null,null,null,"","","","","","","","","","",null,""]
[null,null,null,null,null,null,null,null,null,null,null,null,null,null,null,null,null,null,null,null,null,null,null,null,null,null,"",null,null,null,null,null,null,null,null,null,null,null,null,null,null,null,null,null,null,null,null,null,null,null,null,null,null,null,null,null,null,null,null,null,null,null,null,null,"","","","","","","","","","",null,""]
[null,null,null,null,null,null,null,null,null,null,null,null,null,null,null,null,null,null,null,null,null,null,null,null,null,null,"",null,null,null,null,null,null,null,null,null,null,null,null,null,null,null,null,null,null,null,null,null,null,null,null,null,null,null,null,null,null,null,null,null,null,null,null,null,"","","","","","","","","","",null,""]
[null,null,null,null,null,null,null,null,null,null,null,null,null,null,null,null,null,null,null,null,null,null,null,null,null,null,"",null,null,null,null,null,null,null,null,null,null,null,null,null,null,null,null,null,null,null,null,null,null,null,null,null,null,null,null,null,null,null,null,null,null,null,null,null,"","","","","","","","","","",null,""]
[null,null,null,null,null,null,null,null,null,null,null,null,null,null,null,null,null,null,null,null,null,null,null,null,null,null,"",null,null,null,null,null,null,null,null,null,null,null,null,null,null,null,null,null,null,null,null,null,null,null,null,null,null,null,null,null,null,null,null,null,null,null,null,null,"","","","","","","","","","",null,""]
[null,null,null,null,null,null,null,null,null,null,null,null,null,null,null,null,null,null,null,null,null,null,null,null,null,null,"",null,null,null,null,null,null,null,null,null,null,null,null,null,null,null,null,null,null,null,null,null,null,null,null,null,null,null,null,null,null,null,null,null,null,null,null,null,"","","","","","","","","","",null,""]
[null,null,null,null,null,null,null,null,null,null,null,null,null,null,null,null,null,null,null,null,null,null,null,null,null,null,"",null,null,null,null,null,null,null,null,null,null,null,null,null,null,null,null,null,null,null,null,null,null,null,null,null,null,null,null,null,null,null,null,null,null,null,null,null,"","","","","","","","","","",null,""]
[null,null,null,null,null,null,null,null,null,null,null,null,null,null,null,null,null,null,null,null,null,null,null,null,null,null,null,null,null,null,null,null,null,null,null,null,null,null,null,null,null,null,null,null,null,null,null,null,null,null,null,null,null,null,null,null,null,null,null,null,null,null,null,null,null,null,null,null,null,null,null,null,null,null,null,""]
[null,null,null,null,null,null,null,null,null,null,null,null,null,null,null,null,null,null,null,null,null,null,null,null,null,null,null,null,null,null,null,null,null,null,null,null,null,null,null,null,null,null,null,null,null,null,null,null,null,null,null,null,null,null,null,null,null,null,null,null,null,null,null,null,null,null,null,null,null,null,null,null,null,null,null,""]
[null,null,null,null,null,null,null,null,null,null,null,null,null,null,null,null,null,null,null,null,null,null,null,null,null,null,null,null,null,null,null,null,null,null,null,null,null,null,null,null,null,null,null,null,null,null,null,null,null,null,null,null,null,null,null,null,null,null,null,null,null,null,null,null,null,null,null,null,null,null,null,null,null,null,2,""]
[null,null,null,null,null,null,null,null,null,null,null,null,null,null,null,null,null,null,null,null,null,null,null,null,null,null,null,null,null,null,null,null,null,null,null,null,null,null,null,null,null,null,null,null,null,null,null,null,null,null,null,null,null,null,null,null,null,null,null,null,null,null,null,null,null,null,null,null,null,null,null,null,null,null,null,""]
[null,null,null,null,null,null,null,null,null,null,null,null,null,null,null,null,null,null,null,null,null,null,null,null,null,null,null,null,null,null,null,null,null,null,null,null,null,null,null,null,null,null,null,null,null,null,null,null,null,null,null,null,null,null,null,null,null,null,null,null,null,null,null,null,null,null,null,null,null,null,null,null,null,null,null,""]
[null,null,null,null,null,null,null,null,null,null,null,null,null,null,null,null,null,null,null,null,null,null,null,null,null,null,null,null,null,null,null,null,null,null,null,null,null,null,null,null,null,null,null,null,null,null,null,null,null,null,null,null,null,null,null,null,null,null,null,null,null,null,null,null,null,null,null,null,null,null,null,null,null,null,null,""]
[null,null,null,null,null,null,null,null,null,null,null,null,null,null,null,null,null,null,null,null,null,null,null,null,null,null,null,null,null,null,null,null,null,null,null,null,null,null,null,null,null,null,null,null,null,null,null,null,null,null,null,null,null,null,null,null,null,null,null,null,null,null,null,null,null,null,null,null,null,null,null,null,null,null,null,""]
[null,null,null,null,null,null,null,null,null,null,null,null,null,null,null,null,null,null,null,null,null,null,null,null,null,null,null,null,null,null,null,null,null,null,null,null,null,null,null,null,null,null,null,null,null,null,null,null,null,null,null,null,null,null,null,null,null,null,null,null,null,null,null,null,null,null,null,null,null,null,null,null,null,null,null,""]
[null,null,null,null,null,null,null,null,null,null,null,null,null,null,null,null,null,null,null,null,null,null,null,null,null,null,null,null,null,null,null,null,null,null,null,null,null,null,null,null,null,null,null,null,null,null,null,null,null,null,null,null,null,null,null,null,null,null,null,null,null,null,null,null,null,null,null,null,null,null,null,null,null,null,null,""]
[null,null,null,null,null,null,null,null,null,null,null,null,null,null,null,null,null,null,null,null,null,null,null,null,null,null,null,null,null,null,null,null,null,null,null,null,null,null,null,null,null,null,null,null,null,null,null,null,null,null,null,null,null,null,null,null,null,null,null,null,null,null,null,null,null,null,null,null,null,null,null,null,null,null,null,""]
[null,null,null,null,null,null,null,null,null,null,null,null,null,null,null,null,null,null,null,null,null,null,null,null,null,null,null,null,null,null,null,null,null,null,null,null,null,null,null,null,null,null,null,null,null,null,null,null,null,null,null,null,null,null,null,null,null,null,null,null,null,null,null,null,null,null,null,null,null,null,null,null,null,null,null,""]
[null,null,null,null,null,null,null,null,null,null,null,null,null,null,null,null,null,null,null,null,null,null,null,null,null,null,null,null,null,null,null,null,null,null,null,null,null,null,null,null,null,null,null,null,null,null,null,null,null,null,null,null,null,null,null,null,null,null,null,null,null,null,null,null,null,null,null,null,null,null,null,null,null,null,null,""]
[null,null,null,null,null,null,null,null,null,null,null,null,null,null,null,null,null,null,null,null,null,null,null,null,null,null,null,null,null,null,null,null,null,null,null,null,null,null,null,null,null,null,null,null,null,null,null,null,null,null,null,null,null,null,null,null,null,null,null,null,null,null,null,null,null,null,null,null,null,null,null,null,null,null,null,""]
[null,null,null,null,null,null,null,null,null,null,null,null,null,null,null,null,null,null,null,null,null,null,null,null,null,null,null,null,null,null,null,null,null,null,null,null,null,null,null,null,null,null,null,null,null,null,null,null,null,null,null,null,null,null,null,null,null,null,null,null,null,null,null,null,null,null,null,null,null,null,null,null,null,null,null,""]
[null,null,null,null,null,null,null,null,null,null,null,null,null,null,null,null,null,null,null,null,null,null,null,null,null,null,null,null,null,null,null,null,null,null,null,null,null,null,null,null,null,null,null,null,null,null,null,null,null,null,null,null,null,null,null,null,null,null,null,null,null,null,null,null,null,null,null,null,null,null,null,null,null,null,null,""]
[null,null,null,null,null,null,null,null,null,null,null,null,null,null,null,null,null,null,null,null,null,null,null,null,null,null,null,null,null,null,null,null,null,null,null,null,null,null,null,null,null,null,null,null,null,null,null,null,null,null,null,null,null,null,null,null,null,null,null,null,null,null,null,null,null,null,null,null,null,null,null,null,null,null,null,""]
[null,null,null,null,null,null,null,null,null,null,null,null,null,null,null,null,null,null,null,null,null,null,null,null,null,null,null,null,null,null,null,null,null,null,null,null,null,null,null,null,null,null,null,null,null,null,null,null,null,null,null,null,null,null,null,null,null,null,null,null,null,null,null,null,null,null,null,null,null,null,null,null,null,null,null,""]
[null,null,null,null,null,null,null,null,null,null,null,null,null,null,null,null,null,null,null,null,null,null,null,null,null,null,null,null,null,null,null,null,null,null,null,null,null,null,null,null,null,null,null,null,null,null,null,null,null,null,null,null,null,null,null,null,null,null,null,null,null,null,null,null,null,null,null,null,null,null,null,null,null,null,null,""]
[null,null,null,null,null,null,null,null,null,null,null,null,null,null,null,null,null,null,null,null,null,null,null,null,null,null,null,null,null,null,null,null,null,null,null,null,null,null,null,null,null,null,null,null,null,null,null,null,null,null,null,null,null,null,null,null,null,null,null,null,null,null,null,null,null,null,null,null,null,null,null,null,null,null,null,""]
[null,null,null,null,null,null,null,null,null,null,null,null,null,null,null,null,null,null,null,null,null,null,null,null,null,null,null,null,null,null,null,null,null,null,null,null,null,null,null,null,null,null,null,null,null,null,null,null,null,null,null,null,null,null,null,null,null,null,null,null,null,null,null,null,null,null,null,null,null,null,null,null,null,null,null,""]
[null,null,null,null,null,null,null,null,null,null,null,null,null,null,null,null,null,null,null,null,null,null,null,null,null,null,null,null,null,null,null,null,null,null,null,null,null,null,null,null,null,null,null,null,null,null,null,null,null,null,null,null,null,null,null,null,null,null,null,null,null,null,null,null,null,null,null,null,null,null,null,null,null,null,null,""]
[null,null,null,null,null,null,null,null,null,null,null,null,null,null,null,null,null,null,null,null,null,null,null,null,null,null,null,null,null,null,null,null,null,null,null,null,null,null,null,null,null,null,null,null,null,null,null,null,null,null,null,null,null,null,null,null,null,null,null,null,null,null,null,null,null,null,null,null,null,null,null,null,null,null,null,""]
[null,null,null,null,null,null,null,null,null,null,null,null,null,null,null,null,null,null,null,null,null,null,null,null,null,null,null,null,null,null,null,null,null,null,null,null,null,null,null,null,null,null,null,null,null,null,null,null,null,null,null,null,null,null,null,null,null,null,null,null,null,null,null,null,null,null,null,null,null,null,null,null,null,null,null,""]
[null,null,null,null,null,null,null,null,null,null,null,null,null,null,null,null,null,null,null,null,null,null,null,null,null,null,null,null,null,null,null,null,null,null,null,null,null,null,null,null,null,null,null,null,null,null,null,null,null,null,null,null,null,null,null,null,null,null,null,null,null,null,null,null,null,null,null,null,null,null,null,null,null,null,null,""]
[null,null,null,null,null,null,null,null,null,null,null,null,null,null,null,null,null,null,null,null,null,null,null,null,null,null,null,null,null,null,null,null,null,null,null,null,null,null,null,null,null,null,null,null,null,null,null,null,null,null,null,null,null,null,null,null,null,null,null,null,null,null,null,null,null,null,null,null,null,null,null,null,null,null,null,""]
[null,null,null,null,null,null,null,null,null,null,null,null,null,null,null,null,null,null,null,null,null,null,null,null,null,null,null,null,null,null,null,null,null,null,null,null,null,null,null,null,null,null,null,null,null,null,null,null,null,null,null,null,null,null,null,null,null,null,null,null,null,null,null,null,null,null,null,null,null,null,null,null,null,null,null,""]
[null,null,null,null,null,null,null,null,null,null,null,null,null,null,null,null,null,null,null,null,null,null,null,null,null,null,null,null,null,null,null,null,null,null,null,null,null,null,null,null,null,null,null,null,null,null,null,null,null,null,null,null,null,null,null,null,null,null,null,null,null,null,null,null,null,null,null,null,null,null,null,null,null,null,null,""]
[null,null,null,null,null,null,null,null,null,null,null,null,null,null,null,null,null,null,null,null,null,null,null,null,null,null,null,null,null,null,null,null,null,null,null,null,null,null,null,null,null,null,null,null,null,null,null,null,null,null,null,null,null,null,null,null,null,null,null,null,null,null,null,null,null,null,null,null,null,null,null,null,null,null,null,""]
[null,null,null,null,null,null,null,null,null,null,null,null,null,null,null,null,null,null,null,null,null,null,null,null,null,null,null,null,null,null,null,null,null,null,null,null,null,null,null,null,null,null,null,null,null,null,null,null,null,null,null,null,null,null,null,null,null,null,null,null,null,null,null,null,null,null,null,null,null,null,null,null,null,null,null,""]
[null,null,null,null,null,null,null,null,null,null,null,null,null,null,null,null,null,null,null,null,null,null,null,null,null,null,null,null,null,null,null,null,null,null,null,null,null,null,null,null,null,null,null,null,null,null,null,null,null,null,null,null,null,null,null,null,null,null,null,null,null,null,null,null,null,null,null,null,null,null,null,null,null,null,null,""]
[null,null,null,null,null,null,null,null,null,null,null,null,null,null,null,null,null,null,null,null,null,null,null,null,null,null,null,null,null,null,null,null,null,null,null,null,null,null,null,null,null,null,null,null,null,null,null,null,null,null,null,null,null,null,null,null,null,null,null,null,null,null,null,null,null,null,null,null,null,null,null,null,null,null,null,""]
[null,null,null,null,null,null,null,null,null,null,null,null,null,null,null,null,null,null,null,null,null,null,null,null,null,null,null,null,null,null,null,null,null,null,null,null,null,null,null,null,null,null,null,null,null,null,null,null,null,null,null,null,null,null,null,null,null,null,null,null,null,null,null,null,null,null,null,null,null,null,null,null,null,null,null,""]
[null,null,null,null,null,null,null,null,null,null,null,null,null,null,null,null,null,null,null,null,null,null,null,null,null,null,null,null,null,null,null,null,null,null,null,null,null,null,null,null,null,null,null,null,null,null,null,null,null,null,null,null,null,null,null,null,null,null,null,null,null,null,null,null,null,null,null,null,null,null,null,null,null,null,null,""]
[null,null,null,null,null,null,null,null,null,null,null,null,null,null,null,null,null,null,null,null,null,null,null,null,null,null,null,null,null,null,null,null,null,null,null,null,null,null,null,null,null,null,null,null,null,null,null,null,null,null,null,null,null,null,null,null,null,null,null,null,null,null,null,null,null,null,null,null,null,null,null,null,null,null,null,""]
[null,null,null,null,null,null,null,null,null,null,null,null,null,null,null,null,null,null,null,null,null,null,null,null,null,null,null,null,null,null,null,null,null,null,null,null,null,null,null,null,null,null,null,null,null,null,null,null,null,null,null,null,null,null,null,null,null,null,null,null,null,null,null,null,null,null,null,null,null,null,null,null,null,null,null,""]
[null,null,null,null,null,null,null,null,null,null,null,null,null,null,null,null,null,null,null,null,null,null,null,null,null,null,null,null,null,null,null,null,null,null,null,null,null,null,null,null,null,null,null,null,null,null,null,null,null,null,null,null,null,null,null,null,null,null,null,null,null,null,null,null,null,null,null,null,null,null,null,null,null,null,null,""]
[null,null,null,null,null,null,null,null,null,null,null,null,null,null,null,null,null,null,null,null,null,null,null,null,null,null,null,null,null,null,null,null,null,null,null,null,null,null,null,null,null,null,null,null,null,null,null,null,null,null,null,null,null,null,null,null,null,null,null,null,null,null,null,null,null,null,null,null,null,null,null,null,null,null,null,""]
[null,null,null,null,null,null,null,null,null,null,null,null,null,null,null,null,null,null,null,null,null,null,null,null,null,null,null,null,null,null,null,null,null,null,null,null,null,null,null,null,null,null,null,null,null,null,null,null,null,null,null,null,null,null,null,null,null,null,null,null,null,null,null,null,null,null,null,null,null,null,null,null,null,null,null,""]
[null,null,null,null,null,null,null,null,null,null,null,null,null,null,null,null,null,null,null,null,null,null,null,null,null,null,null,null,null,null,null,null,null,null,null,null,null,null,null,null,null,null,null,null,null,null,null,null,null,null,null,null,null,null,null,null,null,null,null,null,null,null,null,null,null,null,null,null,null,null,null,null,null,null,null,""]
[null,null,null,null,null,null,null,null,null,null,null,null,null,null,null,null,null,null,null,null,null,null,null,null,null,null,null,null,null,null,null,null,null,null,null,null,null,null,null,null,null,null,null,null,null,null,null,null,null,null,null,null,null,null,null,null,null,null,null,null,null,null,null,null,null,null,null,null,null,null,null,null,null,null,null,""]
[null,null,null,null,null,null,null,null,null,null,null,null,null,null,null,null,null,null,null,null,null,null,null,null,null,null,null,null,null,null,null,null,null,null,null,null,null,null,null,null,null,null,null,null,null,null,null,null,null,null,null,null,null,null,null,null,null,null,null,null,null,null,null,null,null,null,null,null,null,null,null,null,null,null,null,""]
[null,null,null,null,null,null,null,null,null,null,null,null,null,null,null,null,null,null,null,null,null,null,null,null,null,null,null,null,null,null,null,null,null,null,null,null,null,null,null,null,null,null,null,null,null,null,null,null,null,null,null,null,null,null,null,null,null,null,null,null,null,null,null,null,null,null,null,null,null,null,null,null,null,null,null,""]
[null,null,null,null,null,null,null,null,null,null,null,null,null,null,null,null,null,null,null,null,null,null,null,null,null,null,null,null,null,null,null,null,null,null,null,null,null,null,null,null,null,null,null,null,null,null,null,null,null,null,null,null,null,null,null,null,null,null,null,null,null,null,null,null,null,null,null,null,null,null,null,null,null,null,null,""]
[null,null,null,null,null,null,null,null,null,null,null,null,null,null,null,null,null,null,null,null,null,null,null,null,null,null,null,null,null,null,null,null,null,null,null,null,null,null,null,null,null,null,null,null,null,null,null,null,null,null,null,null,null,null,null,null,null,null,null,null,null,null,null,null,null,null,null,null,null,null,null,null,null,null,null,""]
[null,null,null,null,null,null,null,null,null,null,null,null,null,null,null,null,null,null,null,null,null,null,null,null,null,null,null,null,null,null,null,null,null,null,null,null,null,null,null,null,null,null,null,null,null,null,null,null,null,null,null,null,null,null,null,null,null,null,null,null,null,null,null,null,null,null,null,null,null,null,null,null,null,null,null,""]
[null,null,null,null,null,null,null,null,null,null,null,null,null,null,null,null,null,null,null,null,null,null,null,null,null,null,null,null,null,null,null,null,null,null,null,null,null,null,null,null,null,null,null,null,null,null,null,null,null,null,null,null,null,null,null,null,null,null,null,null,null,null,null,null,null,null,null,null,null,null,null,null,null,null,null,""]
[null,null,null,null,null,null,null,null,null,null,null,null,null,null,null,null,null,null,null,null,null,null,null,null,null,null,null,null,null,null,null,null,null,null,null,null,null,null,null,null,null,null,null,null,null,null,null,null,null,null,null,null,null,null,null,null,null,null,null,null,null,null,null,null,null,null,null,null,null,null,null,null,null,null,null,""]
[null,null,null,null,null,null,null,null,null,null,null,null,null,null,null,null,null,null,null,null,null,null,null,null,null,null,null,null,null,null,null,null,null,null,null,null,null,null,null,null,null,null,null,null,null,null,null,null,null,null,null,null,null,null,null,null,null,null,null,null,null,null,null,null,null,null,null,null,null,null,null,null,null,null,null,""]
[null,null,null,null,null,null,null,null,null,null,null,null,null,null,null,null,null,null,null,null,null,null,null,null,null,null,null,null,null,null,null,null,null,null,null,null,null,null,null,null,null,null,null,null,null,null,null,null,null,null,null,null,null,null,null,null,null,null,null,null,null,null,null,null,null,null,null,null,null,null,null,null,null,null,null,""]
[null,null,null,null,null,null,null,null,null,null,null,null,null,null,null,null,null,null,null,null,null,null,null,null,null,null,null,null,null,null,null,null,null,null,null,null,null,null,null,null,null,null,null,null,null,null,null,null,null,null,null,null,null,null,null,null,null,null,null,null,null,null,null,null,null,null,null,null,null,null,null,null,null,null,null,""]
[null,null,null,null,null,null,null,null,null,null,null,null,null,null,null,null,null,null,null,null,null,null,null,null,null,null,null,null,null,null,null,null,null,null,null,null,null,null,null,null,null,null,null,null,null,null,null,null,null,null,null,null,null,null,null,null,null,null,null,null,null,null,null,null,null,null,null,null,null,null,null,null,null,null,null,""]
[null,null,null,null,null,null,null,null,null,null,null,null,null,null,null,null,null,null,null,null,null,null,null,null,null,null,null,null,null,null,null,null,null,null,null,null,null,null,null,null,null,null,null,null,null,null,null,null,null,null,null,null,null,null,null,null,null,null,null,null,null,null,null,null,null,null,null,null,null,null,null,null,null,null,null,""]
[null,null,null,null,null,null,null,null,null,null,null,null,null,null,null,null,null,null,null,null,null,null,null,null,null,null,null,null,null,null,null,null,null,null,null,null,null,null,null,null,null,null,null,null,null,null,null,null,null,null,null,null,null,null,null,null,null,null,null,null,null,null,null,null,null,null,null,null,null,null,null,null,null,null,null,""]
[null,null,null,null,null,null,null,null,null,null,null,null,null,null,null,null,null,null,null,null,null,null,null,null,null,null,null,null,null,null,null,null,null,null,null,null,null,null,null,null,null,null,null,null,null,null,null,null,null,null,null,null,null,null,null,null,null,null,null,null,null,null,null,null,null,null,null,null,null,null,null,null,null,null,null,""]
[null,null,null,null,null,null,null,null,null,null,null,null,null,null,null,null,null,null,null,null,null,null,null,null,null,null,null,null,null,null,null,null,null,null,null,null,null,null,null,null,null,null,null,null,null,null,null,null,null,null,null,null,null,null,null,null,null,null,null,null,null,null,null,null,null,null,null,null,null,null,null,null,null,null,null,""]
[null,null,null,null,null,null,null,null,null,null,null,null,null,null,null,null,null,null,null,null,null,null,null,null,null,null,null,null,null,null,null,null,null,null,null,null,null,null,null,null,null,null,null,null,null,null,null,null,null,null,null,null,null,null,null,null,null,null,null,null,null,null,null,null,null,null,null,null,null,null,null,null,null,null,null,""]
[null,null,null,null,null,null,null,null,null,null,null,null,null,null,null,null,null,null,null,null,null,null,null,null,null,null,null,null,null,null,null,null,null,null,null,null,null,null,null,null,null,null,null,null,null,null,null,null,null,null,null,null,null,null,null,null,null,null,null,null,null,null,null,null,null,null,null,null,null,null,null,null,null,null,null,""]
[null,null,null,null,null,null,null,null,null,null,null,null,null,null,null,null,null,null,null,null,null,null,null,null,null,null,null,null,null,null,null,null,null,null,null,null,null,null,null,null,null,null,null,null,null,null,null,null,null,null,null,null,null,null,null,null,null,null,null,null,null,null,null,null,null,null,null,null,null,null,null,null,null,null,null,""]
[null,null,null,null,null,null,null,null,null,null,null,null,null,null,null,null,null,null,null,null,null,null,null,null,null,null,null,null,null,null,null,null,null,null,null,null,null,null,null,null,null,null,null,null,null,null,null,null,null,null,null,null,null,null,null,null,null,null,null,null,null,null,null,null,null,null,null,null,null,null,null,null,null,null,null,""]
[null,null,null,null,null,null,null,null,null,null,null,null,null,null,null,null,null,null,null,null,null,null,null,null,null,null,null,null,null,null,null,null,null,null,null,null,null,null,null,null,null,null,null,null,null,null,null,null,null,null,null,null,null,null,null,null,null,null,null,null,null,null,null,null,null,null,null,null,null,null,null,null,null,null,null,""]
[null,null,null,null,null,null,null,null,null,null,null,null,null,null,null,null,null,null,null,null,null,null,null,null,null,null,null,null,null,null,null,null,null,null,null,null,null,null,null,null,null,null,null,null,null,null,null,null,null,null,null,null,null,null,null,null,null,null,null,null,null,null,null,null,null,null,null,null,null,null,null,null,null,null,null,""]
[null,null,null,null,null,null,null,null,null,null,null,null,null,null,null,null,null,null,null,null,null,null,null,null,null,null,null,null,null,null,null,null,null,null,null,null,null,null,null,null,null,null,null,null,null,null,null,null,null,null,null,null,null,null,null,null,null,null,null,null,null,null,null,null,null,null,null,null,null,null,null,null,null,null,null,""]
[null,null,null,null,null,null,null,null,null,null,null,null,null,null,null,null,null,null,null,null,null,null,null,null,null,null,null,null,null,null,null,null,null,null,null,null,null,null,null,null,null,null,null,null,null,null,null,null,null,null,null,null,null,null,null,null,null,null,null,null,null,null,null,null,null,null,null,null,null,null,null,null,null,null,null,""]
[null,null,null,null,null,null,null,null,null,null,null,null,null,null,null,null,null,null,null,null,null,null,null,null,null,null,null,null,null,null,null,null,null,null,null,null,null,null,null,null,null,null,null,null,null,null,null,null,null,null,null,null,null,null,null,null,null,null,null,null,null,null,null,null,null,null,null,null,null,null,null,null,null,null,null,""]
[null,null,null,null,null,null,null,null,null,null,null,null,null,null,null,null,null,null,null,null,null,null,null,null,null,null,null,null,null,null,null,null,null,null,null,null,null,null,null,null,null,null,null,null,null,null,null,null,null,null,null,null,null,null,null,null,null,null,null,null,null,null,null,null,null,null,null,null,null,null,null,null,null,null,null,""]
[null,null,null,null,null,null,null,null,null,null,null,null,null,null,null,null,null,null,null,null,null,null,null,null,null,null,null,null,null,null,null,null,null,null,null,null,null,null,null,null,null,null,null,null,null,null,null,null,null,null,null,null,null,null,null,null,null,null,null,null,null,null,null,null,null,null,null,null,null,null,null,null,null,null,null,""]
[null,null,null,null,null,null,null,null,null,null,null,null,null,null,null,null,null,null,null,null,null,null,null,null,null,null,null,null,null,null,null,null,null,null,null,null,null,null,null,null,null,null,null,null,null,null,null,null,null,null,null,null,null,null,null,null,null,null,null,null,null,null,null,null,null,null,null,null,null,null,null,null,null,null,null,""]
[null,null,null,null,null,null,null,null,null,null,null,null,null,null,null,null,null,null,null,null,null,null,null,null,null,null,null,null,null,null,null,null,null,null,null,null,null,null,null,null,null,null,null,null,null,null,null,null,null,null,null,null,null,null,null,null,null,null,null,null,null,null,null,null,null,null,null,null,null,null,null,null,null,null,null,""]
[null,null,null,null,null,null,null,null,null,null,null,null,null,null,null,null,null,null,null,null,null,null,null,null,null,null,null,null,null,null,null,null,null,null,null,null,null,null,null,null,null,null,null,null,null,null,null,null,null,null,null,null,null,null,null,null,null,null,null,null,null,null,null,null,null,null,null,null,null,null,null,null,null,null,null,""]
[null,null,null,null,null,null,null,null,null,null,null,null,null,null,null,null,null,null,null,null,null,null,null,null,null,null,null,null,null,null,null,null,null,null,null,null,null,null,null,null,null,null,null,null,null,null,null,null,null,null,null,null,null,null,null,null,null,null,null,null,null,null,null,null,null,null,null,null,null,null,null,null,null,null,null,""]
[null,null,null,null,null,null,null,null,null,null,null,null,null,null,null,null,null,null,null,null,null,null,null,null,null,null,null,null,null,null,null,null,null,null,null,null,null,null,null,null,null,null,null,null,null,null,null,null,null,null,null,null,null,null,null,null,null,null,null,null,null,null,null,null,null,null,null,null,null,null,null,null,null,null,null,""]
[null,null,null,null,null,null,null,null,null,null,null,null,null,null,null,null,null,null,null,null,null,null,null,null,null,null,null,null,null,null,null,null,null,null,null,null,null,null,null,null,null,null,null,null,null,null,null,null,null,null,null,null,null,null,null,null,null,null,null,null,null,null,null,null,null,null,null,null,null,null,null,null,null,null,null,""]
[null,null,null,null,null,null,null,null,null,null,null,null,null,null,null,null,null,null,null,null,null,null,null,null,null,null,null,null,null,null,null,null,null,null,null,null,null,null,null,null,null,null,null,null,null,null,null,null,null,null,null,null,null,null,null,null,null,null,null,null,null,null,null,null,null,null,null,null,null,null,null,null,null,null,null,""]
[null,null,null,null,null,null,null,null,null,null,null,null,null,null,null,null,null,null,null,null,null,null,null,null,null,null,null,null,null,null,null,null,null,null,null,null,null,null,null,null,null,null,null,null,null,null,null,null,null,null,null,null,null,null,null,null,null,null,null,null,null,null,null,null,null,null,null,null,null,null,null,null,null,null,null,""]
[null,null,null,null,null,null,null,null,null,null,null,null,null,null,null,null,null,null,null,null,null,null,null,null,null,null,null,null,null,null,null,null,null,null,null,null,null,null,null,null,null,null,null,null,null,null,null,null,null,null,null,null,null,null,null,null,null,null,null,null,null,null,null,null,null,null,null,null,null,null,null,null,null,null,null,""]
[null,null,null,null,null,null,null,null,null,null,null,null,null,null,null,null,null,null,null,null,null,null,null,null,null,null,null,null,null,null,null,null,null,null,null,null,null,null,null,null,null,null,null,null,null,null,null,null,null,null,null,null,null,null,null,null,null,null,null,null,null,null,null,null,null,null,null,null,null,null,null,null,null,null,null,""]
[null,null,null,null,null,null,null,null,null,null,null,null,null,null,null,null,null,null,null,null,null,null,null,null,null,null,null,null,null,null,null,null,null,null,null,null,null,null,null,null,null,null,null,null,null,null,null,null,null,null,null,null,null,null,null,null,null,null,null,null,null,null,null,null,null,null,null,null,null,null,null,null,null,null,null,""]
[null,null,null,null,null,null,null,null,null,null,null,null,null,null,null,null,null,null,null,null,null,null,null,null,null,null,null,null,null,null,null,null,null,null,null,null,null,null,null,null,null,null,null,null,null,null,null,null,null,null,null,null,null,null,null,null,null,null,null,null,null,null,null,null,null,null,null,null,null,null,null,null,null,null,null,""]
[null,null,null,null,null,null,null,null,null,null,null,null,null,null,null,null,null,null,null,null,null,null,null,null,null,null,null,null,null,null,null,null,null,null,null,null,null,null,null,null,null,null,null,null,null,null,null,null,null,null,null,null,null,null,null,null,null,null,null,null,null,null,null,null,null,null,null,null,null,null,null,null,null,null,null,""]
[null,null,null,null,null,null,null,null,null,null,null,null,null,null,null,null,null,null,null,null,null,null,null,null,null,null,null,null,null,null,null,null,null,null,null,null,null,null,null,null,null,null,null,null,null,null,null,null,null,null,null,null,null,null,null,null,null,null,null,null,null,null,null,null,null,null,null,null,null,null,null,null,null,null,null,""]
[null,null,null,null,null,null,null,null,null,null,null,null,null,null,null,null,null,null,null,null,null,null,null,null,null,null,null,null,null,null,null,null,null,null,null,null,null,null,null,null,null,null,null,null,null,null,null,null,null,null,null,null,null,null,null,null,null,null,null,null,null,null,null,null,null,null,null,null,null,null,null,null,null,null,null,""]
[null,null,null,null,null,null,null,null,null,null,null,null,null,null,null,null,null,null,null,null,null,null,null,null,null,null,null,null,null,null,null,null,null,null,null,null,null,null,null,null,null,null,null,null,null,null,null,null,null,null,null,null,null,null,null,null,null,null,null,null,null,null,null,null,null,null,null,null,null,null,null,null,null,null,null,""]
[null,null,null,null,null,null,null,null,null,null,null,null,null,null,null,null,null,null,null,null,null,null,null,null,null,null,null,null,null,null,null,null,null,null,null,null,null,null,null,null,null,null,null,null,null,null,null,null,null,null,null,null,null,null,null,null,null,null,null,null,null,null,null,null,null,null,null,null,null,null,null,null,null,null,null,""]
[null,null,null,null,null,null,null,null,null,null,null,null,null,null,null,null,null,null,null,null,null,null,null,null,null,null,null,null,null,null,null,null,null,null,null,null,null,null,null,null,null,null,null,null,null,null,null,null,null,null,null,null,null,null,null,null,null,null,null,null,null,null,null,null,null,null,null,null,null,null,null,null,null,null,null,""]
[null,null,null,null,null,null,null,null,null,null,null,null,null,null,null,null,null,null,null,null,null,null,null,null,null,null,null,null,null,null,null,null,null,null,null,null,null,null,null,null,null,null,null,null,null,null,null,null,null,null,null,null,null,null,null,null,null,null,null,null,null,null,null,null,null,null,null,null,null,null,null,null,null,null,null,""]
[null,null,null,null,null,null,null,null,null,null,null,null,null,null,null,null,null,null,null,null,null,null,null,null,null,null,null,null,null,null,null,null,null,null,null,null,null,null,null,null,null,null,null,null,null,null,null,null,null,null,null,null,null,null,null,null,null,null,null,null,null,null,null,null,null,null,null,null,null,null,null,null,null,null,null,""]
[null,null,null,null,null,null,null,null,null,null,null,null,null,null,null,null,null,null,null,null,null,null,null,null,null,null,null,null,null,null,null,null,null,null,null,null,null,null,null,null,null,null,null,null,null,null,null,null,null,null,null,null,null,null,null,null,null,null,null,null,null,null,null,null,null,null,null,null,null,null,null,null,null,null,null,""]
[null,null,null,null,null,null,null,null,null,null,null,null,null,null,null,null,null,null,null,null,null,null,null,null,null,null,null,null,null,null,null,null,null,null,null,null,null,null,null,null,null,null,null,null,null,null,null,null,null,null,null,null,null,null,null,null,null,null,null,null,null,null,null,null,null,null,null,null,null,null,null,null,null,null,null,""]
[null,null,null,null,null,null,null,null,null,null,null,null,null,null,null,null,null,null,null,null,null,null,null,null,null,null,null,null,null,null,null,null,null,null,null,null,null,null,null,null,null,null,null,null,null,null,null,null,null,null,null,null,null,null,null,null,null,null,null,null,null,null,null,null,null,null,null,null,null,null,null,null,null,null,null,""]
[null,null,null,null,null,null,null,null,null,null,null,null,null,null,null,null,null,null,null,null,null,null,null,null,null,null,null,null,null,null,null,null,null,null,null,null,null,null,null,null,null,null,null,null,null,null,null,null,null,null,null,null,null,null,null,null,null,null,null,null,null,null,null,null,null,null,null,null,null,null,null,null,null,null,null,""]
[null,null,null,null,null,null,null,null,null,null,null,null,null,null,null,null,null,null,null,null,null,null,null,null,null,null,null,null,null,null,null,null,null,null,null,null,null,null,null,null,null,null,null,null,null,null,null,null,null,null,null,null,null,null,null,null,null,null,null,null,null,null,null,null,null,null,null,null,null,null,null,null,null,null,null,""]
[null,null,null,null,null,null,null,null,null,null,null,null,null,null,null,null,null,null,null,null,null,null,null,null,null,null,null,null,null,null,null,null,null,null,null,null,null,null,null,null,null,null,null,null,null,null,null,null,null,null,null,null,null,null,null,null,null,null,null,null,null,null,null,null,null,null,null,null,null,null,null,null,null,null,null,""]
[null,null,null,null,null,null,null,null,null,null,null,null,null,null,null,null,null,null,null,null,null,null,null,null,null,null,null,null,null,null,null,null,null,null,null,null,null,null,null,null,null,null,null,null,null,null,null,null,null,null,null,null,null,null,null,null,null,null,null,null,null,null,null,null,null,null,null,null,null,null,null,null,null,null,null,""]
[null,null,null,null,null,null,null,null,null,null,null,null,null,null,null,null,null,null,null,null,null,null,null,null,null,null,null,null,null,null,null,null,null,null,null,null,null,null,null,null,null,null,null,null,null,null,null,null,null,null,null,null,null,null,null,null,null,null,null,null,null,null,null,null,null,null,null,null,null,null,null,null,null,null,null,""]
[null,null,null,null,null,null,null,null,null,null,null,null,null,null,null,null,null,null,null,null,null,null,null,null,null,null,null,null,null,null,null,null,null,null,null,null,null,null,null,null,null,null,null,null,null,null,null,null,null,null,null,null,null,null,null,null,null,null,null,null,null,null,null,null,null,null,null,null,null,null,null,null,null,null,null,""]
[null,null,null,null,null,null,null,null,null,null,null,null,null,null,null,null,null,null,null,null,null,null,null,null,null,null,null,null,null,null,null,null,null,null,null,null,null,null,null,null,null,null,null,null,null,null,null,null,null,null,null,null,null,null,null,null,null,null,null,null,null,null,null,null,null,null,null,null,null,null,null,null,null,null,null,""]
[null,null,null,null,null,null,null,null,null,null,null,null,null,null,null,null,null,null,null,null,null,null,null,null,null,null,null,null,null,null,null,null,null,null,null,null,null,null,null,null,null,null,null,null,null,null,null,null,null,null,null,null,null,null,null,null,null,null,null,null,null,null,null,null,null,null,null,null,null,null,null,null,null,null,null,""]
[null,null,null,null,null,null,null,null,null,null,null,null,null,null,null,null,null,null,null,null,null,null,null,null,null,null,null,null,null,null,null,null,null,null,null,null,null,null,null,null,null,null,null,null,null,null,null,null,null,null,null,null,null,null,null,null,null,null,null,null,null,null,null,null,null,null,null,null,null,null,null,null,null,null,null,""]
[null,null,null,null,null,null,null,null,null,null,null,null,null,null,null,null,null,null,null,null,null,null,null,null,null,null,null,null,null,null,null,null,null,null,null,null,null,null,null,null,null,null,null,null,null,null,null,null,null,null,null,null,null,null,null,null,null,null,null,null,null,null,null,null,null,null,null,null,null,null,null,null,null,null,null,""]
[null,null,null,null,null,null,null,null,null,null,null,null,null,null,null,null,null,null,null,null,null,null,null,null,null,null,null,null,null,null,null,null,null,null,null,null,null,null,null,null,null,null,null,null,null,null,null,null,null,null,null,null,null,null,null,null,null,null,null,null,null,null,null,null,null,null,null,null,null,null,null,null,null,null,null,""]
[null,null,null,null,null,null,null,null,null,null,null,null,null,null,null,null,null,null,null,null,null,null,null,null,null,null,null,null,null,null,null,null,null,null,null,null,null,null,null,null,null,null,null,null,null,null,null,null,null,null,null,null,null,null,null,null,null,null,null,null,null,null,null,null,null,null,null,null,null,null,null,null,null,null,null,""]
[null,null,null,null,null,null,null,null,null,null,null,null,null,null,null,null,null,null,null,null,null,null,null,null,null,null,null,null,null,null,null,null,null,null,null,null,null,null,null,null,null,null,null,null,null,null,null,null,null,null,null,null,null,null,null,null,null,null,null,null,null,null,null,null,null,null,null,null,null,null,null,null,null,null,null,""]
[null,null,null,null,null,null,null,null,null,null,null,null,null,null,null,null,null,null,null,null,null,null,null,null,null,null,null,null,null,null,null,null,null,null,null,null,null,null,null,null,null,null,null,null,null,null,null,null,null,null,null,null,null,null,null,null,null,null,null,null,null,null,null,null,null,null,null,null,null,null,null,null,null,null,null,""]
[null,null,null,null,null,null,null,null,null,null,null,null,null,null,null,null,null,null,null,null,null,null,null,null,null,null,null,null,null,null,null,null,null,null,null,null,null,null,null,null,null,null,null,null,null,null,null,null,null,null,null,null,null,null,null,null,null,null,null,null,null,null,null,null,null,null,null,null,null,null,null,null,null,null,null,""]
[null,null,null,null,null,null,null,null,null,null,null,null,null,null,null,null,null,null,null,null,null,null,null,null,null,null,null,null,null,null,null,null,null,null,null,null,null,null,null,null,null,null,null,null,null,null,null,null,null,null,null,null,null,null,null,null,null,null,null,null,null,null,null,null,null,null,null,null,null,null,null,null,null,null,null,""]
[null,null,null,null,null,null,null,null,null,null,null,null,null,null,null,null,null,null,null,null,null,null,null,null,null,null,null,null,null,null,null,null,null,null,null,null,null,null,null,null,null,null,null,null,null,null,null,null,null,null,null,null,null,null,null,null,null,null,null,null,null,null,null,null,null,null,null,null,null,null,null,null,null,null,null,""]
[null,null,null,null,null,null,null,null,null,null,null,null,null,null,null,null,null,null,null,null,null,null,null,null,null,null,null,null,null,null,null,null,null,null,null,null,null,null,null,null,null,null,null,null,null,null,null,null,null,null,null,null,null,null,null,null,null,null,null,null,null,null,null,null,null,null,null,null,null,null,null,null,null,null,null,""]
[null,null,null,null,null,null,null,null,null,null,null,null,null,null,null,null,null,null,null,null,null,null,null,null,null,null,null,null,null,null,null,null,null,null,null,null,null,null,null,null,null,null,null,null,null,null,null,null,null,null,null,null,null,null,null,null,null,null,null,null,null,null,null,null,null,null,null,null,null,null,null,null,null,null,null,""]
[null,null,null,null,null,null,null,null,null,null,null,null,null,null,null,null,null,null,null,null,null,null,null,null,null,null,null,null,null,null,null,null,null,null,null,null,null,null,null,null,null,null,null,null,null,null,null,null,null,null,null,null,null,null,null,null,null,null,null,null,null,null,null,null,null,null,null,null,null,null,null,null,null,null,null,""]
[null,null,null,null,null,null,null,null,null,null,null,null,null,null,null,null,null,null,null,null,null,null,null,null,null,null,null,null,null,null,null,null,null,null,null,null,null,null,null,null,null,null,null,null,null,null,null,null,null,null,null,null,null,null,null,null,null,null,null,null,null,null,null,null,null,null,null,null,null,null,null,null,null,null,null,""]
[null,null,null,null,null,null,null,null,null,null,null,null,null,null,null,null,null,null,null,null,null,null,null,null,null,null,null,null,null,null,null,null,null,null,null,null,null,null,null,null,null,null,null,null,null,null,null,null,null,null,null,null,null,null,null,null,null,null,null,null,null,null,null,null,null,null,null,null,null,null,null,null,null,null,null,""]
[null,null,null,null,null,null,null,null,null,null,null,null,null,null,null,null,null,null,null,null,null,null,null,null,null,null,null,null,null,null,null,null,null,null,null,null,null,null,null,null,null,null,null,null,null,null,null,null,null,null,null,null,null,null,null,null,null,null,null,null,null,null,null,null,null,null,null,null,null,null,null,null,null,null,null,""]
[null,null,null,null,null,null,null,null,null,null,null,null,null,null,null,null,null,null,null,null,null,null,null,null,null,null,null,null,null,null,null,null,null,null,null,null,null,null,null,null,null,null,null,null,null,null,null,null,null,null,null,null,null,null,null,null,null,null,null,null,null,null,null,null,null,null,null,null,null,null,null,null,null,null,null,""]
[null,null,null,null,null,null,null,null,null,null,null,null,null,null,null,null,null,null,null,null,null,null,null,null,null,null,null,null,null,null,null,null,null,null,null,null,null,null,null,null,null,null,null,null,null,null,null,null,null,null,null,null,null,null,null,null,null,null,null,null,null,null,null,null,null,null,null,null,null,null,null,null,null,null,null,""]
[null,null,null,null,null,null,null,null,null,null,null,null,null,null,null,null,null,null,null,null,null,null,null,null,null,null,null,null,null,null,null,null,null,null,null,null,null,null,null,null,null,null,null,null,null,null,null,null,null,null,null,null,null,null,null,null,null,null,null,null,null,null,null,null,null,null,null,null,null,null,null,null,null,null,null,""]
[null,null,null,null,null,null,null,null,null,null,null,null,null,null,null,null,null,null,null,null,null,null,null,null,null,null,null,null,null,null,null,null,null,null,null,null,null,null,null,null,null,null,null,null,null,null,null,null,null,null,null,null,null,null,null,null,null,null,null,null,null,null,null,null,null,null,null,null,null,null,null,null,null,null,null,""]
[null,null,null,null,null,null,null,null,null,null,null,null,null,null,null,null,null,null,null,null,null,null,null,null,null,null,null,null,null,null,null,null,null,null,null,null,null,null,null,null,null,null,null,null,null,null,null,null,null,null,null,null,null,null,null,null,null,null,null,null,null,null,null,null,null,null,null,null,null,null,null,null,null,null,null,""]
[null,null,null,null,null,null,null,null,null,null,null,null,null,null,null,null,null,null,null,null,null,null,null,null,null,null,null,null,null,null,null,null,null,null,null,null,null,null,null,null,null,null,null,null,null,null,null,null,null,null,null,null,null,null,null,null,null,null,null,null,null,null,null,null,null,null,null,null,null,null,null,null,null,null,null,""]
[null,null,null,null,null,null,null,null,null,null,null,null,null,null,null,null,null,null,null,null,null,null,null,null,null,null,null,null,null,null,null,null,null,null,null,null,null,null,null,null,null,null,null,null,null,null,null,null,null,null,null,null,null,null,null,null,null,null,null,null,null,null,null,null,null,null,null,null,null,null,null,null,null,null,null,""]
[null,null,null,null,null,null,null,null,null,null,null,null,null,null,null,null,null,null,null,null,null,null,null,null,null,null,null,null,null,null,null,null,null,null,null,null,null,null,null,null,null,null,null,null,null,null,null,null,null,null,null,null,null,null,null,null,null,null,null,null,null,null,null,null,null,null,null,null,null,null,null,null,null,null,null,""]
[null,null,null,null,null,null,null,null,null,null,null,null,null,null,null,null,null,null,null,null,null,null,null,null,null,null,null,null,null,null,null,null,null,null,null,null,null,null,null,null,null,null,null,null,null,null,null,null,null,null,null,null,null,null,null,null,null,null,null,null,null,null,null,null,null,null,null,null,null,null,null,null,null,null,null,""]
[null,null,null,null,null,null,null,null,null,null,null,null,null,null,null,null,null,null,null,null,null,null,null,null,null,null,null,null,null,null,null,null,null,null,null,null,null,null,null,null,null,null,null,null,null,null,null,null,null,null,null,null,null,null,null,null,null,null,null,null,null,null,null,null,null,null,null,null,null,null,null,null,null,null,null,""]
[null,null,null,null,null,null,null,null,null,null,null,null,null,null,null,null,null,null,null,null,null,null,null,null,null,null,null,null,null,null,null,null,null,null,null,null,null,null,null,null,null,null,null,null,null,null,null,null,null,null,null,null,null,null,null,null,null,null,null,null,null,null,null,null,null,null,null,null,null,null,null,null,null,null,null,""]
[null,null,null,null,null,null,null,null,null,null,null,null,null,null,null,null,null,null,null,null,null,null,null,null,null,null,null,null,null,null,null,null,null,null,null,null,null,null,null,null,null,null,null,null,null,null,null,null,null,null,null,null,null,null,null,null,null,null,null,null,null,null,null,null,null,null,null,null,null,null,null,null,null,null,null,""]
[null,null,null,null,null,null,null,null,null,null,null,null,null,null,null,null,null,null,null,null,null,null,null,null,null,null,null,null,null,null,null,null,null,null,null,null,null,null,null,null,null,null,null,null,null,null,null,null,null,null,null,null,null,null,null,null,null,null,null,null,null,null,null,null,null,null,null,null,null,null,null,null,null,null,null,""]
[null,null,null,null,null,null,null,null,null,null,null,null,null,null,null,null,null,null,null,null,null,null,null,null,null,null,null,null,null,null,null,null,null,null,null,null,null,null,null,null,null,null,null,null,null,null,null,null,null,null,null,null,null,null,null,null,null,null,null,null,null,null,null,null,null,null,null,null,null,null,null,null,null,null,null,""]
[null,null,null,null,null,null,null,null,null,null,null,null,null,null,null,null,null,null,null,null,null,null,null,null,null,null,null,null,null,null,null,null,null,null,null,null,null,null,null,null,null,null,null,null,null,null,null,null,null,null,null,null,null,null,null,null,null,null,null,null,null,null,null,null,null,null,null,null,null,null,null,null,null,null,null,""]
[null,null,null,null,null,null,null,null,null,null,null,null,null,null,null,null,null,null,null,null,null,null,null,null,null,null,null,null,null,null,null,null,null,null,null,null,null,null,null,null,null,null,null,null,null,null,null,null,null,null,null,null,null,null,null,null,null,null,null,null,null,null,null,null,null,null,null,null,null,null,null,null,null,null,null,""]
[null,null,null,null,null,null,null,null,null,null,null,null,null,null,null,null,null,null,null,null,null,null,null,null,null,null,null,null,null,null,null,null,null,null,null,null,null,null,null,null,null,null,null,null,null,null,null,null,null,null,null,null,null,null,null,null,null,null,null,null,null,null,null,null,null,null,null,null,null,null,null,null,null,null,null,""]
[null,null,null,null,null,null,null,null,null,null,null,null,null,null,null,null,null,null,null,null,null,null,null,null,null,null,null,null,null,null,null,null,null,null,null,null,null,null,null,null,null,null,null,null,null,null,null,null,null,null,null,null,null,null,null,null,null,null,null,null,null,null,null,null,null,null,null,null,null,null,null,null,null,null,null,""]
[null,null,null,null,null,null,null,null,null,null,null,null,null,null,null,null,null,null,null,null,null,null,null,null,null,null,null,null,null,null,null,null,null,null,null,null,null,null,null,null,null,null,null,null,null,null,null,null,null,null,null,null,null,null,null,null,null,null,null,null,null,null,null,null,null,null,null,null,null,null,null,null,null,null,null,""]
[null,null,null,null,null,null,null,null,null,null,null,null,null,null,null,null,null,null,null,null,null,null,null,null,null,null,null,null,null,null,null,null,null,null,null,null,null,null,null,null,null,null,null,null,null,null,null,null,null,null,null,null,null,null,null,null,null,null,null,null,null,null,null,null,null,null,null,null,null,null,null,null,null,null,null,""]
[null,null,null,null,null,null,null,null,null,null,null,null,null,null,null,null,null,null,null,null,null,null,null,null,null,null,null,null,null,null,null,null,null,null,null,null,null,null,null,null,null,null,null,null,null,null,null,null,null,null,null,null,null,null,null,null,null,null,null,null,null,null,null,null,null,null,null,null,null,null,null,null,null,null,null,""]
[null,null,null,null,null,null,null,null,null,null,null,null,null,null,null,null,null,null,null,null,null,null,null,null,null,null,null,null,null,null,null,null,null,null,null,null,null,null,null,null,null,null,null,null,null,null,null,null,null,null,null,null,null,null,null,null,null,null,null,null,null,null,null,null,null,null,null,null,null,null,null,null,null,null,null,""]
[null,null,null,null,null,null,null,null,null,null,null,null,null,null,null,null,null,null,null,null,null,null,null,null,null,null,null,null,null,null,null,null,null,null,null,null,null,null,null,null,null,null,null,null,null,null,null,null,null,null,null,null,null,null,null,null,null,null,null,null,null,null,null,null,null,null,null,null,null,null,null,null,null,null,null,""]
[null,null,null,null,null,null,null,null,null,null,null,null,null,null,null,null,null,null,null,null,null,null,null,null,null,null,null,null,null,null,null,null,null,null,null,null,null,null,null,null,null,null,null,null,null,null,null,null,null,null,null,null,null,null,null,null,null,null,null,null,null,null,null,null,null,null,null,null,null,null,null,null,null,null,null,""]
[null,null,null,null,null,null,null,null,null,null,null,null,null,null,null,null,null,null,null,null,null,null,null,null,null,null,null,null,null,null,null,null,null,null,null,null,null,null,null,null,null,null,null,null,null,null,null,null,null,null,null,null,null,null,null,null,null,null,null,null,null,null,null,null,null,null,null,null,null,null,null,null,null,null,null,""]
[null,null,null,null,null,null,null,null,null,null,null,null,null,null,null,null,null,null,null,null,null,null,null,null,null,null,null,null,null,null,null,null,null,null,null,null,null,null,null,null,null,null,null,null,null,null,null,null,null,null,null,null,null,null,null,null,null,null,null,null,null,null,null,null,null,null,null,null,null,null,null,null,null,null,null,""]
[null,null,null,null,null,null,null,null,null,null,null,null,null,null,null,null,null,null,null,null,null,null,null,null,null,null,null,null,null,null,null,null,null,null,null,null,null,null,null,null,null,null,null,null,null,null,null,null,null,null,null,null,null,null,null,null,null,null,null,null,null,null,null,null,null,null,null,null,null,null,null,null,null,null,null,""]
[null,null,null,null,null,null,null,null,null,null,null,null,null,null,null,null,null,null,null,null,null,null,null,null,null,null,null,null,null,null,null,null,null,null,null,null,null,null,null,null,null,null,null,null,null,null,null,null,null,null,null,null,null,null,null,null,null,null,null,null,null,null,null,null,null,null,null,null,null,null,null,null,null,null,null,""]
[null,null,null,null,null,null,null,null,null,null,null,null,null,null,null,null,null,null,null,null,null,null,null,null,null,null,null,null,null,null,null,null,null,null,null,null,null,null,null,null,null,null,null,null,null,null,null,null,null,null,null,null,null,null,null,null,null,null,null,null,null,null,null,null,null,null,null,null,null,null,null,null,null,null,null,""]
[null,null,null,null,null,null,null,null,null,null,null,null,null,null,null,null,null,null,null,null,null,null,null,null,null,null,null,null,null,null,null,null,null,null,null,null,null,null,null,null,null,null,null,null,null,null,null,null,null,null,null,null,null,null,null,null,null,null,null,null,null,null,null,null,null,null,null,null,null,null,null,null,null,null,null,""]
[null,null,null,null,null,null,null,null,null,null,null,null,null,null,null,null,null,null,null,null,null,null,null,null,null,null,null,null,null,null,null,null,null,null,null,null,null,null,null,null,null,null,null,null,null,null,null,null,null,null,null,null,null,null,null,null,null,null,null,null,null,null,null,null,null,null,null,null,null,null,null,null,null,null,null,""]
[null,null,null,null,null,null,null,null,null,null,null,null,null,null,null,null,null,null,null,null,null,null,null,null,null,null,null,null,null,null,null,null,null,null,null,null,null,null,null,null,null,null,null,null,null,null,null,null,null,null,null,null,null,null,null,null,null,null,null,null,null,null,null,null,null,null,null,null,null,null,null,null,null,null,null,""]
[null,null,null,null,null,null,null,null,null,null,null,null,null,null,null,null,null,null,null,null,null,null,null,null,null,null,null,null,null,null,null,null,null,null,null,null,null,null,null,null,null,null,null,null,null,null,null,null,null,null,null,null,null,null,null,null,null,null,null,null,null,null,null,null,null,null,null,null,null,null,null,null,null,null,null,""]
[null,null,null,null,null,null,null,null,null,null,null,null,null,null,null,null,null,null,null,null,null,null,null,null,null,null,null,null,null,null,null,null,null,null,null,null,null,null,null,null,null,null,null,null,null,null,null,null,null,null,null,null,null,null,null,null,null,null,null,null,null,null,null,null,null,null,null,null,null,null,null,null,null,null,null,""]
[null,null,null,null,null,null,null,null,null,null,null,null,null,null,null,null,null,null,null,null,null,null,null,null,null,null,null,null,null,null,null,null,null,null,null,null,null,null,null,null,null,null,null,null,null,null,null,null,null,null,null,null,null,null,null,null,null,null,null,null,null,null,null,null,null,null,null,null,null,null,null,null,null,null,null,""]
[null,null,null,null,null,null,null,null,null,null,null,null,null,null,null,null,null,null,null,null,null,null,null,null,null,null,null,null,null,null,null,null,null,null,null,null,null,null,null,null,null,null,null,null,null,null,null,null,null,null,null,null,null,null,null,null,null,null,null,null,null,null,null,null,null,null,null,null,null,null,null,null,null,null,null,""]
[null,null,null,null,null,null,null,null,null,null,null,null,null,null,null,null,null,null,null,null,null,null,null,null,null,null,null,null,null,null,null,null,null,null,null,null,null,null,null,null,null,null,null,null,null,null,null,null,null,null,null,null,null,null,null,null,null,null,null,null,null,null,null,null,null,null,null,null,null,null,null,null,null,null,null,""]
[null,null,null,null,null,null,null,null,null,null,null,null,null,null,null,null,null,null,null,null,null,null,null,null,null,null,null,null,null,null,null,null,null,null,null,null,null,null,null,null,null,null,null,null,null,null,null,null,null,null,null,null,null,null,null,null,null,null,null,null,null,null,null,null,null,null,null,null,null,null,null,null,null,null,null,""]
[null,null,null,null,null,null,null,null,null,null,null,null,null,null,null,null,null,null,null,null,null,null,null,null,null,null,null,null,null,null,null,null,null,null,null,null,null,null,null,null,null,null,null,null,null,null,null,null,null,null,null,null,null,null,null,null,null,null,null,null,null,null,null,null,null,null,null,null,null,null,null,null,null,null,null,""]
[null,null,null,null,null,null,null,null,null,null,null,null,null,null,null,null,null,null,null,null,null,null,null,null,null,null,null,null,null,null,null,null,null,null,null,null,null,null,null,null,null,null,null,null,null,null,null,null,null,null,null,null,null,null,null,null,null,null,null,null,null,null,null,null,null,null,null,null,null,null,null,null,null,null,null,""]
[null,null,null,null,null,null,null,null,null,null,null,null,null,null,null,null,null,null,null,null,null,null,null,null,null,null,null,null,null,null,null,null,null,null,null,null,null,null,null,null,null,null,null,null,null,null,null,null,null,null,null,null,null,null,null,null,null,null,null,null,null,null,null,null,null,null,null,null,null,null,null,null,null,null,null,""]
[null,null,null,null,null,null,null,null,null,null,null,null,null,null,null,null,null,null,null,null,null,null,null,null,null,null,null,null,null,null,null,null,null,null,null,null,null,null,null,null,null,null,null,null,null,null,null,null,null,null,null,null,null,null,null,null,null,null,null,null,null,null,null,null,null,null,null,null,null,null,null,null,null,null,null,""]
[null,null,null,null,null,null,null,null,null,null,null,null,null,null,null,null,null,null,null,null,null,null,null,null,null,null,null,null,null,null,null,null,null,null,null,null,null,null,null,null,null,null,null,null,null,null,null,null,null,null,null,null,null,null,null,null,null,null,null,null,null,null,null,null,null,null,null,null,null,null,null,null,null,null,null,""]
[null,null,null,null,null,null,null,null,null,null,null,null,null,null,null,null,null,null,null,null,null,null,null,null,null,null,null,null,null,null,null,null,null,null,null,null,null,null,null,null,null,null,null,null,null,null,null,null,null,null,null,null,null,null,null,null,null,null,null,null,null,null,null,null,null,null,null,null,null,null,null,null,null,null,null,""]
[null,null,null,null,null,null,null,null,null,null,null,null,null,null,null,null,null,null,null,null,null,null,null,null,null,null,null,null,null,null,null,null,null,null,null,null,null,null,null,null,null,null,null,null,null,null,null,null,null,null,null,null,null,null,null,null,null,null,null,null,null,null,null,null,null,null,null,null,null,null,null,null,null,null,null,""]
[null,null,null,null,null,null,null,null,null,null,null,null,null,null,null,null,null,null,null,null,null,null,null,null,null,null,null,null,null,null,null,null,null,null,null,null,null,null,null,null,null,null,null,null,null,null,null,null,null,null,null,null,null,null,null,null,null,null,null,null,null,null,null,null,null,null,null,null,null,null,null,null,null,null,null,""]
[null,null,null,null,null,null,null,null,null,null,null,null,null,null,null,null,null,null,null,null,null,null,null,null,null,null,null,null,null,null,null,null,null,null,null,null,null,null,null,null,null,null,null,null,null,null,null,null,null,null,null,null,null,null,null,null,null,null,null,null,null,null,null,null,null,null,null,null,null,null,null,null,null,null,null,""]
[null,null,null,null,null,null,null,null,null,null,null,null,null,null,null,null,null,null,null,null,null,null,null,null,null,null,null,null,null,null,null,null,null,null,null,null,null,null,null,null,null,null,null,null,null,null,null,null,null,null,null,null,null,null,null,null,null,null,null,null,null,null,null,null,null,null,null,null,null,null,null,null,null,null,null,""]
[null,null,null,null,null,null,null,null,null,null,null,null,null,null,null,null,null,null,null,null,null,null,null,null,null,null,null,null,null,null,null,null,null,null,null,null,null,null,null,null,null,null,null,null,null,null,null,null,null,null,null,null,null,null,null,null,null,null,null,null,null,null,null,null,null,null,null,null,null,null,null,null,null,null,null,""]
[null,null,null,null,null,null,null,null,null,null,null,null,null,null,null,null,null,null,null,null,null,null,null,null,null,null,null,null,null,null,null,null,null,null,null,null,null,null,null,null,null,null,null,null,null,null,null,null,null,null,null,null,null,null,null,null,null,null,null,null,null,null,null,null,null,null,null,null,null,null,null,null,null,null,null,""]
[null,null,null,null,null,null,null,null,null,null,null,null,null,null,null,null,null,null,null,null,null,null,null,null,null,null,null,null,null,null,null,null,null,null,null,null,null,null,null,null,null,null,null,null,null,null,null,null,null,null,null,null,null,null,null,null,null,null,null,null,null,null,null,null,null,null,null,null,null,null,null,null,null,null,null,""]
[null,null,null,null,null,null,null,null,null,null,null,null,null,null,null,null,null,null,null,null,null,null,null,null,null,null,null,null,null,null,null,null,null,null,null,null,null,null,null,null,null,null,null,null,null,null,null,null,null,null,null,null,null,null,null,null,null,null,null,null,null,null,null,null,null,null,null,null,null,null,null,null,null,null,null,""]
[null,null,null,null,null,null,null,null,null,null,null,null,null,null,null,null,null,null,null,null,null,null,null,null,null,null,null,null,null,null,null,null,null,null,null,null,null,null,null,null,null,null,null,null,null,null,null,null,null,null,null,null,null,null,null,null,null,null,null,null,null,null,null,null,null,null,null,null,null,null,null,null,null,null,null,""]
[null,null,null,null,null,null,null,null,null,null,null,null,null,null,null,null,null,null,null,null,null,null,null,null,null,null,null,null,null,null,null,null,null,null,null,null,null,null,null,null,null,null,null,null,null,null,null,null,null,null,null,null,null,null,null,null,null,null,null,null,null,null,null,null,null,null,null,null,null,null,null,null,null,null,null,""]
[null,null,null,null,null,null,null,null,null,null,null,null,null,null,null,null,null,null,null,null,null,null,null,null,null,null,null,null,null,null,null,null,null,null,null,null,null,null,null,null,null,null,null,null,null,null,null,null,null,null,null,null,null,null,null,null,null,null,null,null,null,null,null,null,null,null,null,null,null,null,null,null,null,null,null,""]
[null,null,null,null,null,null,null,null,null,null,null,null,null,null,null,null,null,null,null,null,null,null,null,null,null,null,null,null,null,null,null,null,null,null,null,null,null,null,null,null,null,null,null,null,null,null,null,null,null,null,null,null,null,null,null,null,null,null,null,null,null,null,null,null,null,null,null,null,null,null,null,null,null,null,null,""]
[null,null,null,null,null,null,null,null,null,null,null,null,null,null,null,null,null,null,null,null,null,null,null,null,null,null,null,null,null,null,null,null,null,null,null,null,null,null,null,null,null,null,null,null,null,null,null,null,null,null,null,null,null,null,null,null,null,null,null,null,null,null,null,null,null,null,null,null,null,null,null,null,null,null,null,""]
[null,null,null,null,null,null,null,null,null,null,null,null,null,null,null,null,null,null,null,null,null,null,null,null,null,null,null,null,null,null,null,null,null,null,null,null,null,null,null,null,null,null,null,null,null,null,null,null,null,null,null,null,null,null,null,null,null,null,null,null,null,null,null,null,null,null,null,null,null,null,null,null,null,null,null,""]
[null,null,null,null,null,null,null,null,null,null,null,null,null,null,null,null,null,null,null,null,null,null,null,null,null,null,null,null,null,null,null,null,null,null,null,null,null,null,null,null,null,null,null,null,null,null,null,null,null,null,null,null,null,null,null,null,null,null,null,null,null,null,null,null,null,null,null,null,null,null,null,null,null,null,null,""]
[null,null,null,null,null,null,null,null,null,null,null,null,null,null,null,null,null,null,null,null,null,null,null,null,null,null,null,null,null,null,null,null,null,null,null,null,null,null,null,null,null,null,null,null,null,null,null,null,null,null,null,null,null,null,null,null,null,null,null,null,null,null,null,null,null,null,null,null,null,null,null,null,null,null,null,""]
[null,null,null,null,null,null,null,null,null,null,null,null,null,null,null,null,null,null,null,null,null,null,null,null,null,null,null,null,null,null,null,null,null,null,null,null,null,null,null,null,null,null,null,null,null,null,null,null,null,null,null,null,null,null,null,null,null,null,null,null,null,null,null,null,null,null,null,null,null,null,null,null,null,null,null,""]
[null,null,null,null,null,null,null,null,null,null,null,null,null,null,null,null,null,null,null,null,null,null,null,null,null,null,null,null,null,null,null,null,null,null,null,null,null,null,null,null,null,null,null,null,null,null,null,null,null,null,null,null,null,null,null,null,null,null,null,null,null,null,null,null,null,null,null,null,null,null,null,null,null,null,null,""]
[null,null,null,null,null,null,null,null,null,null,null,null,null,null,null,null,null,null,null,null,null,null,null,null,null,null,null,null,null,null,null,null,null,null,null,null,null,null,null,null,null,null,null,null,null,null,null,null,null,null,null,null,null,null,null,null,null,null,null,null,null,null,null,null,null,null,null,null,null,null,null,null,null,null,null,""]
[null,null,null,null,null,null,null,null,null,null,null,null,null,null,null,null,null,null,null,null,null,null,null,null,null,null,null,null,null,null,null,null,null,null,null,null,null,null,null,null,null,null,null,null,null,null,null,null,null,null,null,null,null,null,null,null,null,null,null,null,null,null,null,null,null,null,null,null,null,null,null,null,null,null,null,""]
[null,null,null,null,null,null,null,null,null,null,null,null,null,null,null,null,null,null,null,null,null,null,null,null,null,null,null,null,null,null,null,null,null,null,null,null,null,null,null,null,null,null,null,null,null,null,null,null,null,null,null,null,null,null,null,null,null,null,null,null,null,null,null,null,null,null,null,null,null,null,null,null,null,null,null,""]
[null,null,null,null,null,null,null,null,null,null,null,null,null,null,null,null,null,null,null,null,null,null,null,null,null,null,null,null,null,null,null,null,null,null,null,null,null,null,null,null,null,null,null,null,null,null,null,null,null,null,null,null,null,null,null,null,null,null,null,null,null,null,null,null,null,null,null,null,null,null,null,null,null,null,null,""]
[null,null,null,null,null,null,null,null,null,null,null,null,null,null,null,null,null,null,null,null,null,null,null,null,null,null,null,null,null,null,null,null,null,null,null,null,null,null,null,null,null,null,null,null,null,null,null,null,null,null,null,null,null,null,null,null,null,null,null,null,null,null,null,null,null,null,null,null,null,null,null,null,null,null,null,""]
[null,null,null,null,null,null,null,null,null,null,null,null,null,null,null,null,null,null,null,null,null,null,null,null,null,null,null,null,null,null,null,null,null,null,null,null,null,null,null,null,null,null,null,null,null,null,null,null,null,null,null,null,null,null,null,null,null,null,null,null,null,null,null,null,null,null,null,null,null,null,null,null,null,null,null,""]
[null,null,null,null,null,null,null,null,null,null,null,null,null,null,null,null,null,null,null,null,null,null,null,null,null,null,null,null,null,null,null,null,null,null,null,null,null,null,null,null,null,null,null,null,null,null,null,null,null,null,null,null,null,null,null,null,null,null,null,null,null,null,null,null,null,null,null,null,null,null,null,null,null,null,null,""]
[null,null,null,null,null,null,null,null,null,null,null,null,null,null,null,null,null,null,null,null,null,null,null,null,null,null,null,null,null,null,null,null,null,null,null,null,null,null,null,null,null,null,null,null,null,null,null,null,null,null,null,null,null,null,null,null,null,null,null,null,null,null,null,null,null,null,null,null,null,null,null,null,null,null,null,""]
[null,null,null,null,null,null,null,null,null,null,null,null,null,null,null,null,null,null,null,null,null,null,null,null,null,null,null,null,null,null,null,null,null,null,null,null,null,null,null,null,null,null,null,null,null,null,null,null,null,null,null,null,null,null,null,null,null,null,null,null,null,null,null,null,null,null,null,null,null,null,null,null,null,null,null,""]
[null,null,null,null,null,null,null,null,null,null,null,null,null,null,null,null,null,null,null,null,null,null,null,null,null,null,null,null,null,null,null,null,null,null,null,null,null,null,null,null,null,null,null,null,null,null,null,null,null,null,null,null,null,null,null,null,null,null,null,null,null,null,null,null,null,null,null,null,null,null,null,null,null,null,null,""]
[null,null,null,null,null,null,null,null,null,null,null,null,null,null,null,null,null,null,null,null,null,null,null,null,null,null,null,null,null,null,null,null,null,null,null,null,null,null,null,null,null,null,null,null,null,null,null,null,null,null,null,null,null,null,null,null,null,null,null,null,null,null,null,null,null,null,null,null,null,null,null,null,null,null,null,""]
[null,null,null,null,null,null,null,null,null,null,null,null,null,null,null,null,null,null,null,null,null,null,null,null,null,null,null,null,null,null,null,null,null,null,null,null,null,null,null,null,null,null,null,null,null,null,null,null,null,null,null,null,null,null,null,null,null,null,null,null,null,null,null,null,null,null,null,null,null,null,null,null,null,null,null,""]
[null,null,null,null,null,null,null,null,null,null,null,null,null,null,null,null,null,null,null,null,null,null,null,null,null,null,null,null,null,null,null,null,null,null,null,null,null,null,null,null,null,null,null,null,null,null,null,null,null,null,null,null,null,null,null,null,null,null,null,null,null,null,null,null,null,null,null,null,null,null,null,null,null,null,null,""]
[null,null,null,null,null,null,null,null,null,null,null,null,null,null,null,null,null,null,null,null,null,null,null,null,null,null,null,null,null,null,null,null,null,null,null,null,null,null,null,null,null,null,null,null,null,null,null,null,null,null,null,null,null,null,null,null,null,null,null,null,null,null,null,null,null,null,null,null,null,null,null,null,null,null,null,""]
[null,null,null,null,null,null,null,null,null,null,null,null,null,null,null,null,null,null,null,null,null,null,null,null,null,null,null,null,null,null,null,null,null,null,null,null,null,null,null,null,null,null,null,null,null,null,null,null,null,null,null,null,null,null,null,null,null,null,null,null,null,null,null,null,null,null,null,null,null,null,null,null,null,null,null,""]
[null,null,null,null,null,null,null,null,null,null,null,null,null,null,null,null,null,null,null,null,null,null,null,null,null,null,null,null,null,null,null,null,null,null,null,null,null,null,null,null,null,null,null,null,null,null,null,null,null,null,null,null,null,null,null,null,null,null,null,null,null,null,null,null,null,null,null,null,null,null,null,null,null,null,null,""]
[null,null,null,null,null,null,null,null,null,null,null,null,null,null,null,null,null,null,null,null,null,null,null,null,null,null,null,null,null,null,null,null,null,null,null,null,null,null,null,null,null,null,null,null,null,null,null,null,null,null,null,null,null,null,null,null,null,null,null,null,null,null,null,null,null,null,null,null,null,null,null,null,null,null,null,""]
[null,null,null,null,null,null,null,null,null,null,null,null,null,null,null,null,null,null,null,null,null,null,null,null,null,null,null,null,null,null,null,null,null,null,null,null,null,null,null,null,null,null,null,null,null,null,null,null,null,null,null,null,null,null,null,null,null,null,null,null,null,null,null,null,null,null,null,null,null,null,null,null,null,null,null,""]
[null,null,null,null,null,null,null,null,null,null,null,null,null,null,null,null,null,null,null,null,null,null,null,null,null,null,null,null,null,null,null,null,null,null,null,null,null,null,null,null,null,null,null,null,null,null,null,null,null,null,null,null,null,null,null,null,null,null,null,null,null,null,null,null,null,null,null,null,null,null,null,null,null,null,3,""]
[null,null,null,null,null,null,null,null,null,null,null,null,null,null,null,null,null,null,null,null,null,null,null,null,null,null,null,null,null,null,null,null,null,null,null,null,null,null,null,null,null,null,null,null,null,null,null,null,null,null,null,null,null,null,null,null,null,null,null,null,null,null,null,null,null,null,null,null,null,null,null,null,null,null,null,""]
[null,null,null,null,null,null,null,null,null,null,null,null,null,null,null,null,null,null,null,null,null,null,null,null,null,null,null,null,null,null,null,null,null,null,null,null,null,null,null,null,null,null,null,null,null,null,null,null,null,null,null,null,null,null,null,null,null,null,null,null,null,null,null,null,null,null,null,null,null,null,null,null,null,null,null,""]
[null,null,null,null,null,null,null,null,null,null,null,null,null,null,null,null,null,null,null,null,null,null,null,null,null,null,null,null,null,null,null,null,null,null,null,null,null,null,null,null,null,null,null,null,null,null,null,null,null,null,null,null,null,null,null,null,null,null,null,null,null,null,null,null,null,null,null,null,null,null,null,null,null,null,null,""]
[null,null,null,null,null,null,null,null,null,null,null,null,null,null,null,null,null,null,null,null,null,null,null,null,null,null,null,null,null,null,null,null,null,null,null,null,null,null,null,null,null,null,null,null,null,null,null,null,null,null,null,null,null,null,null,null,null,null,null,null,null,null,null,null,null,null,null,null,null,null,null,null,null,null,null,""]
[null,null,null,null,null,null,null,null,null,null,null,null,null,null,null,null,null,null,null,null,null,null,null,null,null,null,null,null,null,null,null,null,null,null,null,null,null,null,null,null,null,null,null,null,null,null,null,null,null,null,null,null,null,null,null,null,null,null,null,null,null,null,null,null,null,null,null,null,null,null,null,null,null,null,null,""]
[null,null,null,null,null,null,null,null,null,null,null,null,null,null,null,null,null,null,null,null,null,null,null,null,null,null,null,null,null,null,null,null,null,null,null,null,null,null,null,null,null,null,null,null,null,null,null,null,null,null,null,null,null,null,null,null,null,null,null,null,null,null,null,null,null,null,null,null,null,null,null,null,null,null,null,""]
[null,null,null,null,null,null,null,null,null,null,null,null,null,null,null,null,null,null,null,null,null,null,null,null,null,null,null,null,null,null,null,null,null,null,null,null,null,null,null,null,null,null,null,null,null,null,null,null,null,null,null,null,null,null,null,null,null,null,null,null,null,null,null,null,null,null,null,null,null,null,null,null,null,null,null,""]
[null,null,null,null,null,null,null,null,null,null,null,null,null,null,null,null,null,null,null,null,null,null,null,null,null,null,null,null,null,null,null,null,null,null,null,null,null,null,null,null,null,null,null,null,null,null,null,null,null,null,null,null,null,null,null,null,null,null,null,null,null,null,null,null,null,null,null,null,null,null,null,null,null,null,null,""]
[null,null,null,null,null,null,null,null,null,null,null,null,null,null,null,null,null,null,null,null,null,null,null,null,null,null,null,null,null,null,null,null,null,null,null,null,null,null,null,null,null,null,null,null,null,null,null,null,null,null,null,null,null,null,null,null,null,null,null,null,null,null,null,null,null,null,null,null,null,null,null,null,null,null,null,""]
[null,null,null,null,null,null,null,null,null,null,null,null,null,null,null,null,null,null,null,null,null,null,null,null,null,null,null,null,null,null,null,null,null,null,null,null,null,null,null,null,null,null,null,null,null,null,null,null,null,null,null,null,null,null,null,null,null,null,null,null,null,null,null,null,null,null,null,null,null,null,null,null,null,null,null,""]
[null,null,null,null,null,null,null,null,null,null,null,null,null,null,null,null,null,null,null,null,null,null,null,null,null,null,null,null,null,null,null,null,null,null,null,null,null,null,null,null,null,null,null,null,null,null,null,null,null,null,null,null,null,null,null,null,null,null,null,null,null,null,null,null,null,null,null,null,null,null,null,null,null,null,null,""]
[null,null,null,null,null,null,null,null,null,null,null,null,null,null,null,null,null,null,null,null,null,null,null,null,null,null,null,null,null,null,null,null,null,null,null,null,null,null,null,null,null,null,null,null,null,null,null,null,null,null,null,null,null,null,null,null,null,null,null,null,null,null,null,null,null,null,null,null,null,null,null,null,null,null,null,""]
[null,null,null,null,null,null,null,null,null,null,null,null,null,null,null,null,null,null,null,null,null,null,null,null,null,null,null,null,null,null,null,null,null,null,null,null,null,null,null,null,null,null,null,null,null,null,null,null,null,null,null,null,null,null,null,null,null,null,null,null,null,null,null,null,null,null,null,null,null,null,null,null,null,null,null,""]
[null,null,null,null,null,null,null,null,null,null,null,null,null,null,null,null,null,null,null,null,null,null,null,null,null,null,null,null,null,null,null,null,null,null,null,null,null,null,null,null,null,null,null,null,null,null,null,null,null,null,null,null,null,null,null,null,null,null,null,null,null,null,null,null,null,null,null,null,null,null,null,null,null,null,null,""]
[null,null,null,null,null,null,null,null,null,null,null,null,null,null,null,null,null,null,null,null,null,null,null,null,null,null,null,null,null,null,null,null,null,null,null,null,null,null,null,null,null,null,null,null,null,null,null,null,null,null,null,null,null,null,null,null,null,null,null,null,null,null,null,null,null,null,null,null,null,null,null,null,null,null,null,""]
[null,null,null,null,null,null,null,null,null,null,null,null,null,null,null,null,null,null,null,null,null,null,null,null,null,null,null,null,null,null,null,null,null,null,null,null,null,null,null,null,null,null,null,null,null,null,null,null,null,null,null,null,null,null,null,null,null,null,null,null,null,null,null,null,null,null,null,null,null,null,null,null,null,null,null,""]
[null,null,null,null,null,null,null,null,null,null,null,null,null,null,null,null,null,null,null,null,null,null,null,null,null,null,null,null,null,null,null,null,null,null,null,null,null,null,null,null,null,null,null,null,null,null,null,null,null,null,null,null,null,null,null,null,null,null,null,null,null,null,null,null,null,null,null,null,null,null,null,null,null,null,null,""]
[null,null,null,null,null,null,null,null,null,null,null,null,null,null,null,null,null,null,null,null,null,null,null,null,null,null,null,null,null,null,null,null,null,null,null,null,null,null,null,null,null,null,null,null,null,null,null,null,null,null,null,null,null,null,null,null,null,null,null,null,null,null,null,null,null,null,null,null,null,null,null,null,null,null,null,""]
[null,null,null,null,null,null,null,null,null,null,null,null,null,null,null,null,null,null,null,null,null,null,null,null,null,null,null,null,null,null,null,null,null,null,null,null,null,null,null,null,null,null,null,null,null,null,null,null,null,null,null,null,null,null,null,null,null,null,null,null,null,null,null,null,null,null,null,null,null,null,null,null,null,null,null,""]
[null,null,null,null,null,null,null,null,null,null,null,null,null,null,null,null,null,null,null,null,null,null,null,null,null,null,null,null,null,null,null,null,null,null,null,null,null,null,null,null,null,null,null,null,null,null,null,null,null,null,null,null,null,null,null,null,null,null,null,null,null,null,null,null,null,null,null,null,null,null,null,null,null,null,null,""]
[null,null,null,null,null,null,null,null,null,null,null,null,null,null,null,null,null,null,null,null,null,null,null,null,null,null,null,null,null,null,null,null,null,null,null,null,null,null,null,null,null,null,null,null,null,null,null,null,null,null,null,null,null,null,null,null,null,null,null,null,null,null,null,null,null,null,null,null,null,null,null,null,null,null,null,""]
[null,null,null,null,null,null,null,null,null,null,null,null,null,null,null,null,null,null,null,null,null,null,null,null,null,null,null,null,null,null,null,null,null,null,null,null,null,null,null,null,null,null,null,null,null,null,null,null,null,null,null,null,null,null,null,null,null,null,null,null,null,null,null,null,null,null,null,null,null,null,null,null,null,null,null,""]
[null,null,null,null,null,null,null,null,null,null,null,null,null,null,null,null,null,null,null,null,null,null,null,null,null,null,null,null,null,null,null,null,null,null,null,null,null,null,null,null,null,null,null,null,null,null,null,null,null,null,null,null,null,null,null,null,null,null,null,null,null,null,null,null,null,null,null,null,null,null,null,null,null,null,null,""]
[null,null,null,null,null,null,null,null,null,null,null,null,null,null,null,null,null,null,null,null,null,null,null,null,null,null,null,null,null,null,null,null,null,null,null,null,null,null,null,null,null,null,null,null,null,null,null,null,null,null,null,null,null,null,null,null,null,null,null,null,null,null,null,null,null,null,null,null,null,null,null,null,null,null,null,""]
[null,null,null,null,null,null,null,null,null,null,null,null,null,null,null,null,null,null,null,null,null,null,null,null,null,null,null,null,null,null,null,null,null,null,null,null,null,null,null,null,null,null,null,null,null,null,null,null,null,null,null,null,null,null,null,null,null,null,null,null,null,null,null,null,null,null,null,null,null,null,null,null,null,null,null,""]
[null,null,null,null,null,null,null,null,null,null,null,null,null,null,null,null,null,null,null,null,null,null,null,null,null,null,null,null,null,null,null,null,null,null,null,null,null,null,null,null,null,null,null,null,null,null,null,null,null,null,null,null,null,null,null,null,null,null,null,null,null,null,null,null,null,null,null,null,null,null,null,null,null,null,null,""]
[null,null,null,null,null,null,null,null,null,null,null,null,null,null,null,null,null,null,null,null,null,null,null,null,null,null,null,null,null,null,null,null,null,null,null,null,null,null,null,null,null,null,null,null,null,null,null,null,null,null,null,null,null,null,null,null,null,null,null,null,null,null,null,null,null,null,null,null,null,null,null,null,null,null,null,""]
[null,null,null,null,null,null,null,null,null,null,null,null,null,null,null,null,null,null,null,null,null,null,null,null,null,null,null,null,null,null,null,null,null,null,null,null,null,null,null,null,null,null,null,null,null,null,null,null,null,null,null,null,null,null,null,null,null,null,null,null,null,null,null,null,null,null,null,null,null,null,null,null,null,null,null,""]
[null,null,null,null,null,null,null,null,null,null,null,null,null,null,null,null,null,null,null,null,null,null,null,null,null,null,null,null,null,null,null,null,null,null,null,null,null,null,null,null,null,null,null,null,null,null,null,null,null,null,null,null,null,null,null,null,null,null,null,null,null,null,null,null,null,null,null,null,null,null,null,null,null,null,null,""]
[null,null,null,null,null,null,null,null,null,null,null,null,null,null,null,null,null,null,null,null,null,null,null,null,null,null,null,null,null,null,null,null,null,null,null,null,null,null,null,null,null,null,null,null,null,null,null,null,null,null,null,null,null,null,null,null,null,null,null,null,null,null,null,null,null,null,null,null,null,null,null,null,null,null,null,""]
[null,null,null,null,null,null,null,null,null,null,null,null,null,null,null,null,null,null,null,null,null,null,null,null,null,null,null,null,null,null,null,null,null,null,null,null,null,null,null,null,null,null,null,null,null,null,null,null,null,null,null,null,null,null,null,null,null,null,null,null,null,null,null,null,null,null,null,null,null,null,null,null,null,null,null,""]
[null,null,null,null,null,null,null,null,null,null,null,null,null,null,null,null,null,null,null,null,null,null,null,null,null,null,null,null,null,null,null,null,null,null,null,null,null,null,null,null,null,null,null,null,null,null,null,null,null,null,null,null,null,null,null,null,null,null,null,null,null,null,null,null,null,null,null,null,null,null,null,null,null,null,null,""]
[null,null,null,null,null,null,null,null,null,null,null,null,null,null,null,null,null,null,null,null,null,null,null,null,null,null,null,null,null,null,null,null,null,null,null,null,null,null,null,null,null,null,null,null,null,null,null,null,null,null,null,null,null,null,null,null,null,null,null,null,null,null,null,null,null,null,null,null,null,null,null,null,null,null,null,""]
[null,null,null,null,null,null,null,null,null,null,null,null,null,null,null,null,null,null,null,null,null,null,null,null,null,null,null,null,null,null,null,null,null,null,null,null,null,null,null,null,null,null,null,null,null,null,null,null,null,null,null,null,null,null,null,null,null,null,null,null,null,null,null,null,null,null,null,null,null,null,null,null,null,null,null,""]
[null,null,null,null,null,null,null,null,null,null,null,null,null,null,null,null,null,null,null,null,null,null,null,null,null,null,null,null,null,null,null,null,null,null,null,null,null,null,null,null,null,null,null,null,null,null,null,null,null,null,null,null,null,null,null,null,null,null,null,null,null,null,null,null,null,null,null,null,null,null,null,null,null,null,null,""]
[null,null,null,null,null,null,null,null,null,null,null,null,null,null,null,null,null,null,null,null,null,null,null,null,null,null,null,null,null,null,null,null,null,null,null,null,null,null,null,null,null,null,null,null,null,null,null,null,null,null,null,null,null,null,null,null,null,null,null,null,null,null,null,null,null,null,null,null,null,null,null,null,null,null,null,""]
[null,null,null,null,null,null,null,null,null,null,null,null,null,null,null,null,null,null,null,null,null,null,null,null,null,null,null,null,null,null,null,null,null,null,null,null,null,null,null,null,null,null,null,null,null,null,null,null,null,null,null,null,null,null,null,null,null,null,null,null,null,null,null,null,null,null,null,null,null,null,null,null,null,null,null,""]
[null,null,null,null,null,null,null,null,null,null,null,null,null,null,null,null,null,null,null,null,null,null,null,null,null,null,null,null,null,null,null,null,null,null,null,null,null,null,null,null,null,null,null,null,null,null,null,null,null,null,null,null,null,null,null,null,null,null,null,null,null,null,null,null,null,null,null,null,null,null,null,null,null,null,null,""]
[null,null,null,null,null,null,null,null,null,null,null,null,null,null,null,null,null,null,null,null,null,null,null,null,null,null,null,null,null,null,null,null,null,null,null,null,null,null,null,null,null,null,null,null,null,null,null,null,null,null,null,null,null,null,null,null,null,null,null,null,null,null,null,null,null,null,null,null,null,null,null,null,null,null,null,""]
[null,null,null,null,null,null,null,null,null,null,null,null,null,null,null,null,null,null,null,null,null,null,null,null,null,null,null,null,null,null,null,null,null,null,null,null,null,null,null,null,null,null,null,null,null,null,null,null,null,null,null,null,null,null,null,null,null,null,null,null,null,null,null,null,null,null,null,null,null,null,null,null,null,null,null,""]
[null,null,null,null,null,null,null,null,null,null,null,null,null,null,null,null,null,null,null,null,null,null,null,null,null,null,null,null,null,null,null,null,null,null,null,null,null,null,null,null,null,null,null,null,null,null,null,null,null,null,null,null,null,null,null,null,null,null,null,null,null,null,null,null,null,null,null,null,null,null,null,null,null,null,null,""]
[null,null,null,null,null,null,null,null,null,null,null,null,null,null,null,null,null,null,null,null,null,null,null,null,null,null,null,null,null,null,null,null,null,null,null,null,null,null,null,null,null,null,null,null,null,null,null,null,null,null,null,null,null,null,null,null,null,null,null,null,null,null,null,null,null,null,null,null,null,null,null,null,null,null,null,""]
[null,null,null,null,null,null,null,null,null,null,null,null,null,null,null,null,null,null,null,null,null,null,null,null,null,null,null,null,null,null,null,null,null,null,null,null,null,null,null,null,null,null,null,null,null,null,null,null,null,null,null,null,null,null,null,null,null,null,null,null,null,null,null,null,null,null,null,null,null,null,null,null,null,null,null,""]
[null,null,null,null,null,null,null,null,null,null,null,null,null,null,null,null,null,null,null,null,null,null,null,null,null,null,null,null,null,null,null,null,null,null,null,null,null,null,null,null,null,null,null,null,null,null,null,null,null,null,null,null,null,null,null,null,null,null,null,null,null,null,null,null,null,null,null,null,null,null,null,null,null,null,null,""]
[null,null,null,null,null,null,null,null,null,null,null,null,null,null,null,null,null,null,null,null,null,null,null,null,null,null,null,null,null,null,null,null,null,null,null,null,null,null,null,null,null,null,null,null,null,null,null,null,null,null,null,null,null,null,null,null,null,null,null,null,null,null,null,null,null,null,null,null,null,null,null,null,null,null,null,""]
[null,null,null,null,null,null,null,null,null,null,null,null,null,null,null,null,null,null,null,null,null,null,null,null,null,null,null,null,null,null,null,null,null,null,null,null,null,null,null,null,null,null,null,null,null,null,null,null,null,null,null,null,null,null,null,null,null,null,null,null,null,null,null,null,null,null,null,null,null,null,null,null,null,null,null,""]
[null,null,null,null,null,null,null,null,null,null,null,null,null,null,null,null,null,null,null,null,null,null,null,null,null,null,null,null,null,null,null,null,null,null,null,null,null,null,null,null,null,null,null,null,null,null,null,null,null,null,null,null,null,null,null,null,null,null,null,null,null,null,null,null,null,null,null,null,null,null,null,null,null,null,null,""]
[null,null,null,null,null,null,null,null,null,null,null,null,null,null,null,null,null,null,null,null,null,null,null,null,null,null,null,null,null,null,null,null,null,null,null,null,null,null,null,null,null,null,null,null,null,null,null,null,null,null,null,null,null,null,null,null,null,null,null,null,null,null,null,null,null,null,null,null,null,null,null,null,null,null,null,""]
[null,null,null,null,null,null,null,null,null,null,null,null,null,null,null,null,null,null,null,null,null,null,null,null,null,null,null,null,null,null,null,null,null,null,null,null,null,null,null,null,null,null,null,null,null,null,null,null,null,null,null,null,null,null,null,null,null,null,null,null,null,null,null,null,null,null,null,null,null,null,null,null,null,null,null,""]
[null,null,null,null,null,null,null,null,null,null,null,null,null,null,null,null,null,null,null,null,null,null,null,null,null,null,null,null,null,null,null,null,null,null,null,null,null,null,null,null,null,null,null,null,null,null,null,null,null,null,null,null,null,null,null,null,null,null,null,null,null,null,null,null,null,null,null,null,null,null,null,null,null,null,null,""]
[null,null,null,null,null,null,null,null,null,null,null,null,null,null,null,null,null,null,null,null,null,null,null,null,null,null,null,null,null,null,null,null,null,null,null,null,null,null,null,null,null,null,null,null,null,null,null,null,null,null,null,null,null,null,null,null,null,null,null,null,null,null,null,null,null,null,null,null,null,null,null,null,null,null,null,""]
[null,null,null,null,null,null,null,null,null,null,null,null,null,null,null,null,null,null,null,null,null,null,null,null,null,null,null,null,null,null,null,null,null,null,null,null,null,null,null,null,null,null,null,null,null,null,null,null,null,null,null,null,null,null,null,null,null,null,null,null,null,null,null,null,null,null,null,null,null,null,null,null,null,null,null,""]
[null,null,null,null,null,null,null,null,null,null,null,null,null,null,null,null,null,null,null,null,null,null,null,null,null,null,null,null,null,null,null,null,null,null,null,null,null,null,null,null,null,null,null,null,null,null,null,null,null,null,null,null,null,null,null,null,null,null,null,null,null,null,null,null,null,null,null,null,null,null,null,null,null,null,null,""]
[null,null,null,null,null,null,null,null,null,null,null,null,null,null,null,null,null,null,null,null,null,null,null,null,null,null,null,null,null,null,null,null,null,null,null,null,null,null,null,null,null,null,null,null,null,null,null,null,null,null,null,null,null,null,null,null,null,null,null,null,null,null,null,null,null,null,null,null,null,null,null,null,null,null,null,""]
[null,null,null,null,null,null,null,null,null,null,null,null,null,null,null,null,null,null,null,null,null,null,null,null,null,null,null,null,null,null,null,null,null,null,null,null,null,null,null,null,null,null,null,null,null,null,null,null,null,null,null,null,null,null,null,null,null,null,null,null,null,null,null,null,null,null,null,null,null,null,null,null,null,null,null,""]
[null,null,null,null,null,null,null,null,null,null,null,null,null,null,null,null,null,null,null,null,null,null,null,null,null,null,null,null,null,null,null,null,null,null,null,null,null,null,null,null,null,null,null,null,null,null,null,null,null,null,null,null,null,null,null,null,null,null,null,null,null,null,null,null,null,null,null,null,null,null,null,null,null,null,null,""]
[null,null,null,null,null,null,null,null,null,null,null,null,null,null,null,null,null,null,null,null,null,null,null,null,null,null,null,null,null,null,null,null,null,null,null,null,null,null,null,null,null,null,null,null,null,null,null,null,null,null,null,null,null,null,null,null,null,null,null,null,null,null,null,null,null,null,null,null,null,null,null,null,null,null,null,""]
[null,null,null,null,null,null,null,null,null,null,null,null,null,null,null,null,null,null,null,null,null,null,null,null,null,null,null,null,null,null,null,null,null,null,null,null,null,null,null,null,null,null,null,null,null,null,null,null,null,null,null,null,null,null,null,null,null,null,null,null,null,null,null,null,null,null,null,null,null,null,null,null,null,null,null,""]
[null,null,null,null,null,null,null,null,null,null,null,null,null,null,null,null,null,null,null,null,null,null,null,null,null,null,null,null,null,null,null,null,null,null,null,null,null,null,null,null,null,null,null,null,null,null,null,null,null,null,null,null,null,null,null,null,null,null,null,null,null,null,null,null,null,null,null,null,null,null,null,null,null,null,null,""]
[null,null,null,null,null,null,null,null,null,null,null,null,null,null,null,null,null,null,null,null,null,null,null,null,null,null,null,null,null,null,null,null,null,null,null,null,null,null,null,null,null,null,null,null,null,null,null,null,null,null,null,null,null,null,null,null,null,null,null,null,null,null,null,null,null,null,null,null,null,null,null,null,null,null,null,""]
[null,null,null,null,null,null,null,null,null,null,null,null,null,null,null,null,null,null,null,null,null,null,null,null,null,null,null,null,null,null,null,null,null,null,null,null,null,null,null,null,null,null,null,null,null,null,null,null,null,null,null,null,null,null,null,null,null,null,null,null,null,null,null,null,null,null,null,null,null,null,null,null,null,null,null,""]
[null,null,null,null,null,null,null,null,null,null,null,null,null,null,null,null,null,null,null,null,null,null,null,null,null,null,null,null,null,null,null,null,null,null,null,null,null,null,null,null,null,null,null,null,null,null,null,null,null,null,null,null,null,null,null,null,null,null,null,null,null,null,null,null,null,null,null,null,null,null,null,null,null,null,null,""]
[null,null,null,null,null,null,null,null,null,null,null,null,null,null,null,null,null,null,null,null,null,null,null,null,null,null,null,null,null,null,null,null,null,null,null,null,null,null,null,null,null,null,null,null,null,null,null,null,null,null,null,null,null,null,null,null,null,null,null,null,null,null,null,null,null,null,null,null,null,null,null,null,null,null,null,""]
[null,null,null,null,null,null,null,null,null,null,null,null,null,null,null,null,null,null,null,null,null,null,null,null,null,null,null,null,null,null,null,null,null,null,null,null,null,null,null,null,null,null,null,null,null,null,null,null,null,null,null,null,null,null,null,null,null,null,null,null,null,null,null,null,null,null,null,null,null,null,null,null,null,null,null,""]
[null,null,null,null,null,null,null,null,null,null,null,null,null,null,null,null,null,null,null,null,null,null,null,null,null,null,null,null,null,null,null,null,null,null,null,null,null,null,null,null,null,null,null,null,null,null,null,null,null,null,null,null,null,null,null,null,null,null,null,null,null,null,null,null,null,null,null,null,null,null,null,null,null,null,null,""]
[null,null,null,null,null,null,null,null,null,null,null,null,null,null,null,null,null,null,null,null,null,null,null,null,null,null,null,null,null,null,null,null,null,null,null,null,null,null,null,null,null,null,null,null,null,null,null,null,null,null,null,null,null,null,null,null,null,null,null,null,null,null,null,null,null,null,null,null,null,null,null,null,null,null,null,""]
[null,null,null,null,null,null,null,null,null,null,null,null,null,null,null,null,null,null,null,null,null,null,null,null,null,null,null,null,null,null,null,null,null,null,null,null,null,null,null,null,null,null,null,null,null,null,null,null,null,null,null,null,null,null,null,null,null,null,null,null,null,null,null,null,null,null,null,null,null,null,null,null,null,null,null,""]
[null,null,null,null,null,null,null,null,null,null,null,null,null,null,null,null,null,null,null,null,null,null,null,null,null,null,null,null,null,null,null,null,null,null,null,null,null,null,null,null,null,null,null,null,null,null,null,null,null,null,null,null,null,null,null,null,null,null,null,null,null,null,null,null,null,null,null,null,null,null,null,null,null,null,null,""]
[null,null,null,null,null,null,null,null,null,null,null,null,null,null,null,null,null,null,null,null,null,null,null,null,null,null,null,null,null,null,null,null,null,null,null,null,null,null,null,null,null,null,null,null,null,null,null,null,null,null,null,null,null,null,null,null,null,null,null,null,null,null,null,null,null,null,null,null,null,null,null,null,null,null,null,""]
[null,null,null,null,null,null,null,null,null,null,null,null,null,null,null,null,null,null,null,null,null,null,null,null,null,null,null,null,null,null,null,null,null,null,null,null,null,null,null,null,null,null,null,null,null,null,null,null,null,null,null,null,null,null,null,null,null,null,null,null,null,null,null,null,null,null,null,null,null,null,null,null,null,null,null,""]
[null,null,null,null,null,null,null,null,null,null,null,null,null,null,null,null,null,null,null,null,null,null,null,null,null,null,null,null,null,null,null,null,null,null,null,null,null,null,null,null,null,null,null,null,null,null,null,null,null,null,null,null,null,null,null,null,null,null,null,null,null,null,null,null,null,null,null,null,null,null,null,null,null,null,null,""]
[null,null,null,null,null,null,null,null,null,null,null,null,null,null,null,null,null,null,null,null,null,null,null,null,null,null,null,null,null,null,null,null,null,null,null,null,null,null,null,null,null,null,null,null,null,null,null,null,null,null,null,null,null,null,null,null,null,null,null,null,null,null,null,null,null,null,null,null,null,null,null,null,null,null,null,""]
[null,null,null,null,null,null,null,null,null,null,null,null,null,null,null,null,null,null,null,null,null,null,null,null,null,null,null,null,null,null,null,null,null,null,null,null,null,null,null,null,null,null,null,null,null,null,null,null,null,null,null,null,null,null,null,null,null,null,null,null,null,null,null,null,null,null,null,null,null,null,null,null,null,null,null,""]
[null,null,null,null,null,null,null,null,null,null,null,null,null,null,null,null,null,null,null,null,null,null,null,null,null,null,null,null,null,null,null,null,null,null,null,null,null,null,null,null,null,null,null,null,null,null,null,null,null,null,null,null,null,null,null,null,null,null,null,null,null,null,null,null,null,null,null,null,null,null,null,null,null,null,null,""]
[null,null,null,null,null,null,null,null,null,null,null,null,null,null,null,null,null,null,null,null,null,null,null,null,null,null,null,null,null,null,null,null,null,null,null,null,null,null,null,null,null,null,null,null,null,null,null,null,null,null,null,null,null,null,null,null,null,null,null,null,null,null,null,null,null,null,null,null,null,null,null,null,null,null,null,""]
[null,null,null,null,null,null,null,null,null,null,null,null,null,null,null,null,null,null,null,null,null,null,null,null,null,null,null,null,null,null,null,null,null,null,null,null,null,null,null,null,null,null,null,null,null,null,null,null,null,null,null,null,null,null,null,null,null,null,null,null,null,null,null,null,null,null,null,null,null,null,null,null,null,null,null,""]
[null,null,null,null,null,null,null,null,null,null,null,null,null,null,null,null,null,null,null,null,null,null,null,null,null,null,null,null,null,null,null,null,null,null,null,null,null,null,null,null,null,null,null,null,null,null,null,null,null,null,null,null,null,null,null,null,null,null,null,null,null,null,null,null,null,null,null,null,null,null,null,null,null,null,null,""]
[null,null,null,null,null,null,null,null,null,null,null,null,null,null,null,null,null,null,null,null,null,null,null,null,null,null,null,null,null,null,null,null,null,null,null,null,null,null,null,null,null,null,null,null,null,null,null,null,null,null,null,null,null,null,null,null,null,null,null,null,null,null,null,null,null,null,null,null,null,null,null,null,null,null,null,""]
[null,null,null,null,null,null,null,null,null,null,null,null,null,null,null,null,null,null,null,null,null,null,null,null,null,null,null,null,null,null,null,null,null,null,null,null,null,null,null,null,null,null,null,null,null,null,null,null,null,null,null,null,null,null,null,null,null,null,null,null,null,null,null,null,null,null,null,null,null,null,null,null,null,null,null,""]
[null,null,null,null,null,null,null,null,null,null,null,null,null,null,null,null,null,null,null,null,null,null,null,null,null,null,null,null,null,null,null,null,null,null,null,null,null,null,null,null,null,null,null,null,null,null,null,null,null,null,null,null,null,null,null,null,null,null,null,null,null,null,null,null,null,null,null,null,null,null,null,null,null,null,null,""]
[null,null,null,null,null,null,null,null,null,null,null,null,null,null,null,null,null,null,null,null,null,null,null,null,null,null,null,null,null,null,null,null,null,null,null,null,null,null,null,null,null,null,null,null,null,null,null,null,null,null,null,null,null,null,null,null,null,null,null,null,null,null,null,null,null,null,null,null,null,null,null,null,null,null,null,""]
[null,null,null,null,null,null,null,null,null,null,null,null,null,null,null,null,null,null,null,null,null,null,null,null,null,null,null,null,null,null,null,null,null,null,null,null,null,null,null,null,null,null,null,null,null,null,null,null,null,null,null,null,null,null,null,null,null,null,null,null,null,null,null,null,null,null,null,null,null,null,null,null,null,null,null,""]
[null,null,null,null,null,null,null,null,null,null,null,null,null,null,null,null,null,null,null,null,null,null,null,null,null,null,null,null,null,null,null,null,null,null,null,null,null,null,null,null,null,null,null,null,null,null,null,null,null,null,null,null,null,null,null,null,null,null,null,null,null,null,null,null,null,null,null,null,null,null,null,null,null,null,null,""]
[null,null,null,null,null,null,null,null,null,null,null,null,null,null,null,null,null,null,null,null,null,null,null,null,null,null,null,null,null,null,null,null,null,null,null,null,null,null,null,null,null,null,null,null,null,null,null,null,null,null,null,null,null,null,null,null,null,null,null,null,null,null,null,null,null,null,null,null,null,null,null,null,null,null,null,""]
[null,null,null,null,null,null,null,null,null,null,null,null,null,null,null,null,null,null,null,null,null,null,null,null,null,null,null,null,null,null,null,null,null,null,null,null,null,null,null,null,null,null,null,null,null,null,null,null,null,null,null,null,null,null,null,null,null,null,null,null,null,null,null,null,null,null,null,null,null,null,null,null,null,null,null,""]
[null,null,null,null,null,null,null,null,null,null,null,null,null,null,null,null,null,null,null,null,null,null,null,null,null,null,null,null,null,null,null,null,null,null,null,null,null,null,null,null,null,null,null,null,null,null,null,null,null,null,null,null,null,null,null,null,null,null,null,null,null,null,null,null,null,null,null,null,null,null,null,null,null,null,null,""]
[null,null,null,null,null,null,null,null,null,null,null,null,null,null,null,null,null,null,null,null,null,null,null,null,null,null,null,null,null,null,null,null,null,null,null,null,null,null,null,null,null,null,null,null,null,null,null,null,null,null,null,null,null,null,null,null,null,null,null,null,null,null,null,null,null,null,null,null,null,null,null,null,null,null,null,""]
[null,null,null,null,null,null,null,null,null,null,null,null,null,null,null,null,null,null,null,null,null,null,null,null,null,null,null,null,null,null,null,null,null,null,null,null,null,null,null,null,null,null,null,null,null,null,null,null,null,null,null,null,null,null,null,null,null,null,null,null,null,null,null,null,null,null,null,null,null,null,null,null,null,null,null,""]
[null,null,null,null,null,null,null,null,null,null,null,null,null,null,null,null,null,null,null,null,null,null,null,null,null,null,null,null,null,null,null,null,null,null,null,null,null,null,null,null,null,null,null,null,null,null,null,null,null,null,null,null,null,null,null,null,null,null,null,null,null,null,null,null,null,null,null,null,null,null,null,null,null,null,null,""]
[null,null,null,null,null,null,null,null,null,null,null,null,null,null,null,null,null,null,null,null,null,null,null,null,null,null,null,null,null,null,null,null,null,null,null,null,null,null,null,null,null,null,null,null,null,null,null,null,null,null,null,null,null,null,null,null,null,null,null,null,null,null,null,null,null,null,null,null,null,null,null,null,null,null,null,""]
[null,null,null,null,null,null,null,null,null,null,null,null,null,null,null,null,null,null,null,null,null,null,null,null,null,null,null,null,null,null,null,null,null,null,null,null,null,null,null,null,null,null,null,null,null,null,null,null,null,null,null,null,null,null,null,null,null,null,null,null,null,null,null,null,null,null,null,null,null,null,null,null,null,null,null,""]
[null,null,null,null,null,null,null,null,null,null,null,null,null,null,null,null,null,null,null,null,null,null,null,null,null,null,null,null,null,null,null,null,null,null,null,null,null,null,null,null,null,null,null,null,null,null,null,null,null,null,null,null,null,null,null,null,null,null,null,null,null,null,null,null,null,null,null,null,null,null,null,null,null,null,null,""]
[null,null,null,null,null,null,null,null,null,null,null,null,null,null,null,null,null,null,null,null,null,null,null,null,null,null,null,null,null,null,null,null,null,null,null,null,null,null,null,null,null,null,null,null,null,null,null,null,null,null,null,null,null,null,null,null,null,null,null,null,null,null,null,null,null,null,null,null,null,null,null,null,null,null,null,""]
[null,null,null,null,null,null,null,null,null,null,null,null,null,null,null,null,null,null,null,null,null,null,null,null,null,null,null,null,null,null,null,null,null,null,null,null,null,null,null,null,null,null,null,null,null,null,null,null,null,null,null,null,null,null,null,null,null,null,null,null,null,null,null,null,null,null,null,null,null,null,null,null,null,null,null,""]
[null,null,null,null,null,null,null,null,null,null,null,null,null,null,null,null,null,null,null,null,null,null,null,null,null,null,null,null,null,null,null,null,null,null,null,null,null,null,null,null,null,null,null,null,null,null,null,null,null,null,null,null,null,null,null,null,null,null,null,null,null,null,null,null,null,null,null,null,null,null,null,null,null,null,null,""]
[null,null,null,null,null,null,null,null,null,null,null,null,null,null,null,null,null,null,null,null,null,null,null,null,null,null,null,null,null,null,null,null,null,null,null,null,null,null,null,null,null,null,null,null,null,null,null,null,null,null,null,null,null,null,null,null,null,null,null,null,null,null,null,null,null,null,null,null,null,null,null,null,null,null,null,""]
[null,null,null,null,null,null,null,null,null,null,null,null,null,null,null,null,null,null,null,null,null,null,null,null,null,null,null,null,null,null,null,null,null,null,null,null,null,null,null,null,null,null,null,null,null,null,null,null,null,null,null,null,null,null,null,null,null,null,null,null,null,null,null,null,null,null,null,null,null,null,null,null,null,null,null,""]
[null,null,null,null,null,null,null,null,null,null,null,null,null,null,null,null,null,null,null,null,null,null,null,null,null,null,null,null,null,null,null,null,null,null,null,null,null,null,null,null,null,null,null,null,null,null,null,null,null,null,null,null,null,null,null,null,null,null,null,null,null,null,null,null,null,null,null,null,null,null,null,null,null,null,null,""]
[null,null,null,null,null,null,null,null,null,null,null,null,null,null,null,null,null,null,null,null,null,null,null,null,null,null,null,null,null,null,null,null,null,null,null,null,null,null,null,null,null,null,null,null,null,null,null,null,null,null,null,null,null,null,null,null,null,null,null,null,null,null,null,null,null,null,null,null,null,null,null,null,null,null,null,""]
[null,null,null,null,null,null,null,null,null,null,null,null,null,null,null,null,null,null,null,null,null,null,null,null,null,null,null,null,null,null,null,null,null,null,null,null,null,null,null,null,null,null,null,null,null,null,null,null,null,null,null,null,null,null,null,null,null,null,null,null,null,null,null,null,null,null,null,null,null,null,null,null,null,null,null,""]
[null,null,null,null,null,null,null,null,null,null,null,null,null,null,null,null,null,null,null,null,null,null,null,null,null,null,null,null,null,null,null,null,null,null,null,null,null,null,null,null,null,null,null,null,null,null,null,null,null,null,null,null,null,null,null,null,null,null,null,null,null,null,null,null,null,null,null,null,null,null,null,null,null,null,null,""]
[null,null,null,null,null,null,null,null,null,null,null,null,null,null,null,null,null,null,null,null,null,null,null,null,null,null,null,null,null,null,null,null,null,null,null,null,null,null,null,null,null,null,null,null,null,null,null,null,null,null,null,null,null,null,null,null,null,null,null,null,null,null,null,null,null,null,null,null,null,null,null,null,null,null,null,""]
[null,null,null,null,null,null,null,null,null,null,null,null,null,null,null,null,null,null,null,null,null,null,null,null,null,null,null,null,null,null,null,null,null,null,null,null,null,null,null,null,null,null,null,null,null,null,null,null,null,null,null,null,null,null,null,null,null,null,null,null,null,null,null,null,null,null,null,null,null,null,null,null,null,null,null,""]
[null,null,null,null,null,null,null,null,null,null,null,null,null,null,null,null,null,null,null,null,null,null,null,null,null,null,null,null,null,null,null,null,null,null,null,null,null,null,null,null,null,null,null,null,null,null,null,null,null,null,null,null,null,null,null,null,null,null,null,null,null,null,null,null,null,null,null,null,null,null,null,null,null,null,null,""]
[null,null,null,null,null,null,null,null,null,null,null,null,null,null,null,null,null,null,null,null,null,null,null,null,null,null,null,null,null,null,null,null,null,null,null,null,null,null,null,null,null,null,null,null,null,null,null,null,null,null,null,null,null,null,null,null,null,null,null,null,null,null,null,null,null,null,null,null,null,null,null,null,null,null,null,""]
[null,null,null,null,null,null,null,null,null,null,null,null,null,null,null,null,null,null,null,null,null,null,null,null,null,null,null,null,null,null,null,null,null,null,null,null,null,null,null,null,null,null,null,null,null,null,null,null,null,null,null,null,null,null,null,null,null,null,null,null,null,null,null,null,null,null,null,null,null,null,null,null,null,null,null,""]
[null,null,null,null,null,null,null,null,null,null,null,null,null,null,null,null,null,null,null,null,null,null,null,null,null,null,null,null,null,null,null,null,null,null,null,null,null,null,null,null,null,null,null,null,null,null,null,null,null,null,null,null,null,null,null,null,null,null,null,null,null,null,null,null,null,null,null,null,null,null,null,null,null,null,null,""]
[null,null,null,null,null,null,null,null,null,null,null,null,null,null,null,null,null,null,null,null,null,null,null,null,null,null,null,null,null,null,null,null,null,null,null,null,null,null,null,null,null,null,null,null,null,null,null,null,null,null,null,null,null,null,null,null,null,null,null,null,null,null,null,null,null,null,null,null,null,null,null,null,null,null,null,""]
[null,null,null,null,null,null,null,null,null,null,null,null,null,null,null,null,null,null,null,null,null,null,null,null,null,null,null,null,null,null,null,null,null,null,null,null,null,null,null,null,null,null,null,null,null,null,null,null,null,null,null,null,null,null,null,null,null,null,null,null,null,null,null,null,null,null,null,null,null,null,null,null,null,null,null,""]
[null,null,null,null,null,null,null,null,null,null,null,null,null,null,null,null,null,null,null,null,null,null,null,null,null,null,null,null,null,null,null,null,null,null,null,null,null,null,null,null,null,null,null,null,null,null,null,null,null,null,null,null,null,null,null,null,null,null,null,null,null,null,null,null,null,null,null,null,null,null,null,null,null,null,null,""]
[null,null,null,null,null,null,null,null,null,null,null,null,null,null,null,null,null,null,null,null,null,null,null,null,null,null,null,null,null,null,null,null,null,null,null,null,null,null,null,null,null,null,null,null,null,null,null,null,null,null,null,null,null,null,null,null,null,null,null,null,null,null,null,null,null,null,null,null,null,null,null,null,null,null,null,""]
[null,null,null,null,null,null,null,null,null,null,null,null,null,null,null,null,null,null,null,null,null,null,null,null,null,null,null,null,null,null,null,null,null,null,null,null,null,null,null,null,null,null,null,null,null,null,null,null,null,null,null,null,null,null,null,null,null,null,null,null,null,null,null,null,null,null,null,null,null,null,null,null,null,null,null,""]
[null,null,null,null,null,null,null,null,null,null,null,null,null,null,null,null,null,null,null,null,null,null,null,null,null,null,null,null,null,null,null,null,null,null,null,null,null,null,null,null,null,null,null,null,null,null,null,null,null,null,null,null,null,null,null,null,null,null,null,null,null,null,null,null,null,null,null,null,null,null,null,null,null,null,null,""]
[null,null,null,null,null,null,null,null,null,null,null,null,null,null,null,null,null,null,null,null,null,null,null,null,null,null,null,null,null,null,null,null,null,null,null,null,null,null,null,null,null,null,null,null,null,null,null,null,null,null,null,null,null,null,null,null,null,null,null,null,null,null,null,null,null,null,null,null,null,null,null,null,null,null,null,""]
[null,null,null,null,null,null,null,null,null,null,null,null,null,null,null,null,null,null,null,null,null,null,null,null,null,null,null,null,null,null,null,null,null,null,null,null,null,null,null,null,null,null,null,null,null,null,null,null,null,null,null,null,null,null,null,null,null,null,null,null,null,null,null,null,null,null,null,null,null,null,null,null,null,null,null,""]
[null,null,null,null,null,null,null,null,null,null,null,null,null,null,null,null,null,null,null,null,null,null,null,null,null,null,null,null,null,null,null,null,null,null,null,null,null,null,null,null,null,null,null,null,null,null,null,null,null,null,null,null,null,null,null,null,null,null,null,null,null,null,null,null,null,null,null,null,null,null,null,null,null,null,null,""]
[null,null,null,null,null,null,null,null,null,null,null,null,null,null,null,null,null,null,null,null,null,null,null,null,null,null,null,null,null,null,null,null,null,null,null,null,null,null,null,null,null,null,null,null,null,null,null,null,null,null,null,null,null,null,null,null,null,null,null,null,null,null,null,null,null,null,null,null,null,null,null,null,null,null,null,""]
[null,null,null,null,null,null,null,null,null,null,null,null,null,null,null,null,null,null,null,null,null,null,null,null,null,null,null,null,null,null,null,null,null,null,null,null,null,null,null,null,null,null,null,null,null,null,null,null,null,null,null,null,null,null,null,null,null,null,null,null,null,null,null,null,null,null,null,null,null,null,null,null,null,null,null,""]
[null,null,null,null,null,null,null,null,null,null,null,null,null,null,null,null,null,null,null,null,null,null,null,null,null,null,null,null,null,null,null,null,null,null,null,null,null,null,null,null,null,null,null,null,null,null,null,null,null,null,null,null,null,null,null,null,null,null,null,null,null,null,null,null,null,null,null,null,null,null,null,null,null,null,null,""]
[null,null,null,null,null,null,null,null,null,null,null,null,null,null,null,null,null,null,null,null,null,null,null,null,null,null,null,null,null,null,null,null,null,null,null,null,null,null,null,null,null,null,null,null,null,null,null,null,null,null,null,null,null,null,null,null,null,null,null,null,null,null,null,null,null,null,null,null,null,null,null,null,null,null,null,""]
[null,null,null,null,null,null,null,null,null,null,null,null,null,null,null,null,null,null,null,null,null,null,null,null,null,null,null,null,null,null,null,null,null,null,null,null,null,null,null,null,null,null,null,null,null,null,null,null,null,null,null,null,null,null,null,null,null,null,null,null,null,null,null,null,null,null,null,null,null,null,null,null,null,null,null,""]
[null,null,null,null,null,null,null,null,null,null,null,null,null,null,null,null,null,null,null,null,null,null,null,null,null,null,null,null,null,null,null,null,null,null,null,null,null,null,null,null,null,null,null,null,null,null,null,null,null,null,null,null,null,null,null,null,null,null,null,null,null,null,null,null,null,null,null,null,null,null,null,null,null,null,null,""]
[null,null,null,null,null,null,null,null,null,null,null,null,null,null,null,null,null,null,null,null,null,null,null,null,null,null,null,null,null,null,null,null,null,null,null,null,null,null,null,null,null,null,null,null,null,null,null,null,null,null,null,null,null,null,null,null,null,null,null,null,null,null,null,null,null,null,null,null,null,null,null,null,null,null,null,""]
[null,null,null,null,null,null,null,null,null,null,null,null,null,null,null,null,null,null,null,null,null,null,null,null,null,null,null,null,null,null,null,null,null,null,null,null,null,null,null,null,null,null,null,null,null,null,null,null,null,null,null,null,null,null,null,null,null,null,null,null,null,null,null,null,null,null,null,null,null,null,null,null,null,null,null,""]
[null,null,null,null,null,null,null,null,null,null,null,null,null,null,null,null,null,null,null,null,null,null,null,null,null,null,null,null,null,null,null,null,null,null,null,null,null,null,null,null,null,null,null,null,null,null,null,null,null,null,null,null,null,null,null,null,null,null,null,null,null,null,null,null,null,null,null,null,null,null,null,null,null,null,null,""]
[null,null,null,null,null,null,null,null,null,null,null,null,null,null,null,null,null,null,null,null,null,null,null,null,null,null,null,null,null,null,null,null,null,null,null,null,null,null,null,null,null,null,null,null,null,null,null,null,null,null,null,null,null,null,null,null,null,null,null,null,null,null,null,null,null,null,null,null,null,null,null,null,null,null,null,""]
[null,null,null,null,null,null,null,null,null,null,null,null,null,null,null,null,null,null,null,null,null,null,null,null,null,null,null,null,null,null,null,null,null,null,null,null,null,null,null,null,null,null,null,null,null,null,null,null,null,null,null,null,null,null,null,null,null,null,null,null,null,null,null,null,null,null,null,null,null,null,null,null,null,null,null,""]
[null,null,null,null,null,null,null,null,null,null,null,null,null,null,null,null,null,null,null,null,null,null,null,null,null,null,null,null,null,null,null,null,null,null,null,null,null,null,null,null,null,null,null,null,null,null,null,null,null,null,null,null,null,null,null,null,null,null,null,null,null,null,null,null,null,null,null,null,null,null,null,null,null,null,null,""]
[null,null,null,null,null,null,null,null,null,null,null,null,null,null,null,null,null,null,null,null,null,null,null,null,null,null,null,null,null,null,null,null,null,null,null,null,null,null,null,null,null,null,null,null,null,null,null,null,null,null,null,null,null,null,null,null,null,null,null,null,null,null,null,null,null,null,null,null,null,null,null,null,null,null,null,""]
[null,null,null,null,null,null,null,null,null,null,null,null,null,null,null,null,null,null,null,null,null,null,null,null,null,null,null,null,null,null,null,null,null,null,null,null,null,null,null,null,null,null,null,null,null,null,null,null,null,null,null,null,null,null,null,null,null,null,null,null,null,null,null,null,null,null,null,null,null,null,null,null,null,null,null,""]
[null,null,null,null,null,null,null,null,null,null,null,null,null,null,null,null,null,null,null,null,null,null,null,null,null,null,null,null,null,null,null,null,null,null,null,null,null,null,null,null,null,null,null,null,null,null,null,null,null,null,null,null,null,null,null,null,null,null,null,null,null,null,null,null,null,null,null,null,null,null,null,null,null,null,null,""]
[null,null,null,null,null,null,null,null,null,null,null,null,null,null,null,null,null,null,null,null,null,null,null,null,null,null,null,null,null,null,null,null,null,null,null,null,null,null,null,null,null,null,null,null,null,null,null,null,null,null,null,null,null,null,null,null,null,null,null,null,null,null,null,null,null,null,null,null,null,null,null,null,null,null,null,""]
[null,null,null,null,null,null,null,null,null,null,null,null,null,null,null,null,null,null,null,null,null,null,null,null,null,null,null,null,null,null,null,null,null,null,null,null,null,null,null,null,null,null,null,null,null,null,null,null,null,null,null,null,null,null,null,null,null,null,null,null,null,null,null,null,null,null,null,null,null,null,null,null,null,null,null,""]
[null,null,null,null,null,null,null,null,null,null,null,null,null,null,null,null,null,null,null,null,null,null,null,null,null,null,null,null,null,null,null,null,null,null,null,null,null,null,null,null,null,null,null,null,null,null,null,null,null,null,null,null,null,null,null,null,null,null,null,null,null,null,null,null,null,null,null,null,null,null,null,null,null,null,null,""]
[null,null,null,null,null,null,null,null,null,null,null,null,null,null,null,null,null,null,null,null,null,null,null,null,null,null,null,null,null,null,null,null,null,null,null,null,null,null,null,null,null,null,null,null,null,null,null,null,null,null,null,null,null,null,null,null,null,null,null,null,null,null,null,null,null,null,null,null,null,null,null,null,null,null,null,""]
[null,null,null,null,null,null,null,null,null,null,null,null,null,null,null,null,null,null,null,null,null,null,null,null,null,null,null,null,null,null,null,null,null,null,null,null,null,null,null,null,null,null,null,null,null,null,null,null,null,null,null,null,null,null,null,null,null,null,null,null,null,null,null,null,null,null,null,null,null,null,null,null,null,null,null,""]
[null,null,null,null,null,null,null,null,null,null,null,null,null,null,null,null,null,null,null,null,null,null,null,null,null,null,null,null,null,null,null,null,null,null,null,null,null,null,null,null,null,null,null,null,null,null,null,null,null,null,null,null,null,null,null,null,null,null,null,null,null,null,null,null,null,null,null,null,null,null,null,null,null,null,null,""]
[null,null,null,null,null,null,null,null,null,null,null,null,null,null,null,null,null,null,null,null,null,null,null,null,null,null,null,null,null,null,null,null,null,null,null,null,null,null,null,null,null,null,null,null,null,null,null,null,null,null,null,null,null,null,null,null,null,null,null,null,null,null,null,null,null,null,null,null,null,null,null,null,null,null,null,""]
[null,null,null,null,null,null,null,null,null,null,null,null,null,null,null,null,null,null,null,null,null,null,null,null,null,null,null,null,null,null,null,null,null,null,null,null,null,null,null,null,null,null,null,null,null,null,null,null,null,null,null,null,null,null,null,null,null,null,null,null,null,null,null,null,null,null,null,null,null,null,null,null,null,null,null,""]
[null,null,null,null,null,null,null,null,null,null,null,null,null,null,null,null,null,null,null,null,null,null,null,null,null,null,null,null,null,null,null,null,null,null,null,null,null,null,null,null,null,null,null,null,null,null,null,null,null,null,null,null,null,null,null,null,null,null,null,null,null,null,null,null,null,null,null,null,null,null,null,null,null,null,null,""]
[null,null,null,null,null,null,null,null,null,null,null,null,null,null,null,null,null,null,null,null,null,null,null,null,null,null,null,null,null,null,null,null,null,null,null,null,null,null,null,null,null,null,null,null,null,null,null,null,null,null,null,null,null,null,null,null,null,null,null,null,null,null,null,null,null,null,null,null,null,null,null,null,null,null,null,""]
[null,null,null,null,null,null,null,null,null,null,null,null,null,null,null,null,null,null,null,null,null,null,null,null,null,null,null,null,null,null,null,null,null,null,null,null,null,null,null,null,null,null,null,null,null,null,null,null,null,null,null,null,null,null,null,null,null,null,null,null,null,null,null,null,null,null,null,null,null,null,null,null,null,null,null,""]
[null,null,null,null,null,null,null,null,null,null,null,null,null,null,null,null,null,null,null,null,null,null,null,null,null,null,null,null,null,null,null,null,null,null,null,null,null,null,null,null,null,null,null,null,null,null,null,null,null,null,null,null,null,null,null,null,null,null,null,null,null,null,null,null,null,null,null,null,null,null,null,null,null,null,null,""]
[null,null,null,null,null,null,null,null,null,null,null,null,null,null,null,null,null,null,null,null,null,null,null,null,null,null,null,null,null,null,null,null,null,null,null,null,null,null,null,null,null,null,null,null,null,null,null,null,null,null,null,null,null,null,null,null,null,null,null,null,null,null,null,null,null,null,null,null,null,null,null,null,null,null,null,""]
[null,null,null,null,null,null,null,null,null,null,null,null,null,null,null,null,null,null,null,null,null,null,null,null,null,null,null,null,null,null,null,null,null,null,null,null,null,null,null,null,null,null,null,null,null,null,null,null,null,null,null,null,null,null,null,null,null,null,null,null,null,null,null,null,null,null,null,null,null,null,null,null,null,null,null,""]
[null,null,null,null,null,null,null,null,null,null,null,null,null,null,null,null,null,null,null,null,null,null,null,null,null,null,null,null,null,null,null,null,null,null,null,null,null,null,null,null,null,null,null,null,null,null,null,null,null,null,null,null,null,null,null,null,null,null,null,null,null,null,null,null,null,null,null,null,null,null,null,null,null,null,null,""]
[null,null,null,null,null,null,null,null,null,null,null,null,null,null,null,null,null,null,null,null,null,null,null,null,null,null,null,null,null,null,null,null,null,null,null,null,null,null,null,null,null,null,null,null,null,null,null,null,null,null,null,null,null,null,null,null,null,null,null,null,null,null,null,null,null,null,null,null,null,null,null,null,null,null,null,""]
[null,null,null,null,null,null,null,null,null,null,null,null,null,null,null,null,null,null,null,null,null,null,null,null,null,null,null,null,null,null,null,null,null,null,null,null,null,null,null,null,null,null,null,null,null,null,null,null,null,null,null,null,null,null,null,null,null,null,null,null,null,null,null,null,null,null,null,null,null,null,null,null,null,null,null,""]
[null,null,null,null,null,null,null,null,null,null,null,null,null,null,null,null,null,null,null,null,null,null,null,null,null,null,null,null,null,null,null,null,null,null,null,null,null,null,null,null,null,null,null,null,null,null,null,null,null,null,null,null,null,null,null,null,null,null,null,null,null,null,null,null,null,null,null,null,null,null,null,null,null,null,null,""]
[null,null,null,null,null,null,null,null,null,null,null,null,null,null,null,null,null,null,null,null,null,null,null,null,null,null,null,null,null,null,null,null,null,null,null,null,null,null,null,null,null,null,null,null,null,null,null,null,null,null,null,null,null,null,null,null,null,null,null,null,null,null,null,null,null,null,null,null,null,null,null,null,null,null,null,""]
[null,null,null,null,null,null,null,null,null,null,null,null,null,null,null,null,null,null,null,null,null,null,null,null,null,null,null,null,null,null,null,null,null,null,null,null,null,null,null,null,null,null,null,null,null,null,null,null,null,null,null,null,null,null,null,null,null,null,null,null,null,null,null,null,null,null,null,null,null,null,null,null,null,null,null,""]
[null,null,null,null,null,null,null,null,null,null,null,null,null,null,null,null,null,null,null,null,null,null,null,null,null,null,null,null,null,null,null,null,null,null,null,null,null,null,null,null,null,null,null,null,null,null,null,null,null,null,null,null,null,null,null,null,null,null,null,null,null,null,null,null,null,null,null,null,null,null,null,null,null,null,null,""]
[null,null,null,null,null,null,null,null,null,null,null,null,null,null,null,null,null,null,null,null,null,null,null,null,null,null,null,null,null,null,null,null,null,null,null,null,null,null,null,null,null,null,null,null,null,null,null,null,null,null,null,null,null,null,null,null,null,null,null,null,null,null,null,null,null,null,null,null,null,null,null,null,null,null,null,""]
[null,null,null,null,null,null,null,null,null,null,null,null,null,null,null,null,null,null,null,null,null,null,null,null,null,null,null,null,null,null,null,null,null,null,null,null,null,null,null,null,null,null,null,null,null,null,null,null,null,null,null,null,null,null,null,null,null,null,null,null,null,null,null,null,null,null,null,null,null,null,null,null,null,null,null,""]
[null,null,null,null,null,null,null,null,null,null,null,null,null,null,null,null,null,null,null,null,null,null,null,null,null,null,null,null,null,null,null,null,null,null,null,null,null,null,null,null,null,null,null,null,null,null,null,null,null,null,null,null,null,null,null,null,null,null,null,null,null,null,null,null,null,null,null,null,null,null,null,null,null,null,null,""]
[null,null,null,null,null,null,null,null,null,null,null,null,null,null,null,null,null,null,null,null,null,null,null,null,null,null,null,null,null,null,null,null,null,null,null,null,null,null,null,null,null,null,null,null,null,null,null,null,null,null,null,null,null,null,null,null,null,null,null,null,null,null,null,null,null,null,null,null,null,null,null,null,null,null,null,""]
[null,null,null,null,null,null,null,null,null,null,null,null,null,null,null,null,null,null,null,null,null,null,null,null,null,null,null,null,null,null,null,null,null,null,null,null,null,null,null,null,null,null,null,null,null,null,null,null,null,null,null,null,null,null,null,null,null,null,null,null,null,null,null,null,null,null,null,null,null,null,null,null,null,null,null,""]
[null,null,null,null,null,null,null,null,null,null,null,null,null,null,null,null,null,null,null,null,null,null,null,null,null,null,null,null,null,null,null,null,null,null,null,null,null,null,null,null,null,null,null,null,null,null,null,null,null,null,null,null,null,null,null,null,null,null,null,null,null,null,null,null,null,null,null,null,null,null,null,null,null,null,null,""]
[null,null,null,null,null,null,null,null,null,null,null,null,null,null,null,null,null,null,null,null,null,null,null,null,null,null,null,null,null,null,null,null,null,null,null,null,null,null,null,null,null,null,null,null,null,null,null,null,null,null,null,null,null,null,null,null,null,null,null,null,null,null,null,null,null,null,null,null,null,null,null,null,null,null,null,""]
[null,null,null,null,null,null,null,null,null,null,null,null,null,null,null,null,null,null,null,null,null,null,null,null,null,null,null,null,null,null,null,null,null,null,null,null,null,null,null,null,null,null,null,null,null,null,null,null,null,null,null,null,null,null,null,null,null,null,null,null,null,null,null,null,null,null,null,null,null,null,null,null,null,null,null,""]
[null,null,null,null,null,null,null,null,null,null,null,null,null,null,null,null,null,null,null,null,null,null,null,null,null,null,null,null,null,null,null,null,null,null,null,null,null,null,null,null,null,null,null,null,null,null,null,null,null,null,null,null,null,null,null,null,null,null,null,null,null,null,null,null,null,null,null,null,null,null,null,null,null,null,null,""]
[null,null,null,null,null,null,null,null,null,null,null,null,null,null,null,null,null,null,null,null,null,null,null,null,null,null,null,null,null,null,null,null,null,null,null,null,null,null,null,null,null,null,null,null,null,null,null,null,null,null,null,null,null,null,null,null,null,null,null,null,null,null,null,null,null,null,null,null,null,null,null,null,null,null,null,""]
[null,null,null,null,null,null,null,null,null,null,null,null,null,null,null,null,null,null,null,null,null,null,null,null,null,null,null,null,null,null,null,null,null,null,null,null,null,null,null,null,null,null,null,null,null,null,null,null,null,null,null,null,null,null,null,null,null,null,null,null,null,null,null,null,null,null,null,null,null,null,null,null,null,null,null,""]
[null,null,null,null,null,null,null,null,null,null,null,null,null,null,null,null,null,null,null,null,null,null,null,null,null,null,null,null,null,null,null,null,null,null,null,null,null,null,null,null,null,null,null,null,null,null,null,null,null,null,null,null,null,null,null,null,null,null,null,null,null,null,null,null,null,null,null,null,null,null,null,null,null,null,null,""]
[null,null,null,null,null,null,null,null,null,null,null,null,null,null,null,null,null,null,null,null,null,null,null,null,null,null,null,null,null,null,null,null,null,null,null,null,null,null,null,null,null,null,null,null,null,null,null,null,null,null,null,null,null,null,null,null,null,null,null,null,null,null,null,null,null,null,null,null,null,null,null,null,null,null,null,""]
[null,null,null,null,null,null,null,null,null,null,null,null,null,null,null,null,null,null,null,null,null,null,null,null,null,null,null,null,null,null,null,null,null,null,null,null,null,null,null,null,null,null,null,null,null,null,null,null,null,null,null,null,null,null,null,null,null,null,null,null,null,null,null,null,null,null,null,null,null,null,null,null,null,null,null,""]
[null,null,null,null,null,null,null,null,null,null,null,null,null,null,null,null,null,null,null,null,null,null,null,null,null,null,null,null,null,null,null,null,null,null,null,null,null,null,null,null,null,null,null,null,null,null,null,null,null,null,null,null,null,null,null,null,null,null,null,null,null,null,null,null,null,null,null,null,null,null,null,null,null,null,null,""]
[null,null,null,null,null,null,null,null,null,null,null,null,null,null,null,null,null,null,null,null,null,null,null,null,null,null,null,null,null,null,null,null,null,null,null,null,null,null,null,null,null,null,null,null,null,null,null,null,null,null,null,null,null,null,null,null,null,null,null,null,null,null,null,null,null,null,null,null,null,null,null,null,null,null,null,""]
[null,null,null,null,null,null,null,null,null,null,null,null,null,null,null,null,null,null,null,null,null,null,null,null,null,null,null,null,null,null,null,null,null,null,null,null,null,null,null,null,null,null,null,null,null,null,null,null,null,null,null,null,null,null,null,null,null,null,null,null,null,null,null,null,null,null,null,null,null,null,null,null,null,null,null,""]
[null,null,null,null,null,null,null,null,null,null,null,null,null,null,null,null,null,null,null,null,null,null,null,null,null,null,null,null,null,null,null,null,null,null,null,null,null,null,null,null,null,null,null,null,null,null,null,null,null,null,null,null,null,null,null,null,null,null,null,null,null,null,null,null,null,null,null,null,null,null,null,null,null,null,null,""]
[null,null,null,null,null,null,null,null,null,null,null,null,null,null,null,null,null,null,null,null,null,null,null,null,null,null,null,null,null,null,null,null,null,null,null,null,null,null,null,null,null,null,null,null,null,null,null,null,null,null,null,null,null,null,null,null,null,null,null,null,null,null,null,null,null,null,null,null,null,null,null,null,null,null,null,""]
[null,null,null,null,null,null,null,null,null,null,null,null,null,null,null,null,null,null,null,null,null,null,null,null,null,null,null,null,null,null,null,null,null,null,null,null,null,null,null,null,null,null,null,null,null,null,null,null,null,null,null,null,null,null,null,null,null,null,null,null,null,null,null,null,null,null,null,null,null,null,null,null,null,null,null,""]
[null,null,null,null,null,null,null,null,null,null,null,null,null,null,null,null,null,null,null,null,null,null,null,null,null,null,null,null,null,null,null,null,null,null,null,null,null,null,null,null,null,null,null,null,null,null,null,null,null,null,null,null,null,null,null,null,null,null,null,null,null,null,null,null,null,null,null,null,null,null,null,null,null,null,null,""]
[null,null,null,null,null,null,null,null,null,null,null,null,null,null,null,null,null,null,null,null,null,null,null,null,null,null,null,null,null,null,null,null,null,null,null,null,null,null,null,null,null,null,null,null,null,null,null,null,null,null,null,null,null,null,null,null,null,null,null,null,null,null,null,null,null,null,null,null,null,null,null,null,null,null,null,""]
[null,null,null,null,null,null,null,null,null,null,null,null,null,null,null,null,null,null,null,null,null,null,null,null,null,null,null,null,null,null,null,null,null,null,null,null,null,null,null,null,null,null,null,null,null,null,null,null,null,null,null,null,null,null,null,null,null,null,null,null,null,null,null,null,null,null,null,null,null,null,null,null,null,null,null,""]
[null,null,null,null,null,null,null,null,null,null,null,null,null,null,null,null,null,null,null,null,null,null,null,null,null,null,null,null,null,null,null,null,null,null,null,null,null,null,null,null,null,null,null,null,null,null,null,null,null,null,null,null,null,null,null,null,null,null,null,null,null,null,null,null,null,null,null,null,null,null,null,null,null,null,null,""]
[null,null,null,null,null,null,null,null,null,null,null,null,null,null,null,null,null,null,null,null,null,null,null,null,null,null,null,null,null,null,null,null,null,null,null,null,null,null,null,null,null,null,null,null,null,null,null,null,null,null,null,null,null,null,null,null,null,null,null,null,null,null,null,null,null,null,null,null,null,null,null,null,null,null,null,""]
[null,null,null,null,null,null,null,null,null,null,null,null,null,null,null,null,null,null,null,null,null,null,null,null,null,null,null,null,null,null,null,null,null,null,null,null,null,null,null,null,null,null,null,null,null,null,null,null,null,null,null,null,null,null,null,null,null,null,null,null,null,null,null,null,null,null,null,null,null,null,null,null,null,null,null,""]
[null,null,null,null,null,null,null,null,null,null,null,null,null,null,null,null,null,null,null,null,null,null,null,null,null,null,null,null,null,null,null,null,null,null,null,null,null,null,null,null,null,null,null,null,null,null,null,null,null,null,null,null,null,null,null,null,null,null,null,null,null,null,null,null,null,null,null,null,null,null,null,null,null,null,null,""]
[null,null,null,null,null,null,null,null,null,null,null,null,null,null,null,null,null,null,null,null,null,null,null,null,null,null,null,null,null,null,null,null,null,null,null,null,null,null,null,null,null,null,null,null,null,null,null,null,null,null,null,null,null,null,null,null,null,null,null,null,null,null,null,null,null,null,null,null,null,null,null,null,null,null,null,""]
[null,null,null,null,null,null,null,null,null,null,null,null,null,null,null,null,null,null,null,null,null,null,null,null,null,null,null,null,null,null,null,null,null,null,null,null,null,null,null,null,null,null,null,null,null,null,null,null,null,null,null,null,null,null,null,null,null,null,null,null,null,null,null,null,null,null,null,null,null,null,null,null,null,null,null,""]
[null,null,null,null,null,null,null,null,null,null,null,null,null,null,null,null,null,null,null,null,null,null,null,null,null,null,null,null,null,null,null,null,null,null,null,null,null,null,null,null,null,null,null,null,null,null,null,null,null,null,null,null,null,null,null,null,null,null,null,null,null,null,null,null,null,null,null,null,null,null,null,null,null,null,null,""]
[null,null,null,null,null,null,null,null,null,null,null,null,null,null,null,null,null,null,null,null,null,null,null,null,null,null,null,null,null,null,null,null,null,null,null,null,null,null,null,null,null,null,null,null,null,null,null,null,null,null,null,null,null,null,null,null,null,null,null,null,null,null,null,null,null,null,null,null,null,null,null,null,null,null,null,""]
[null,null,null,null,null,null,null,null,null,null,null,null,null,null,null,null,null,null,null,null,null,null,null,null,null,null,null,null,null,null,null,null,null,null,null,null,null,null,null,null,null,null,null,null,null,null,null,null,null,null,null,null,null,null,null,null,null,null,null,null,null,null,null,null,null,null,null,null,null,null,null,null,null,null,null,""]
[null,null,null,null,null,null,null,null,null,null,null,null,null,null,null,null,null,null,null,null,null,null,null,null,null,null,null,null,null,null,null,null,null,null,null,null,null,null,null,null,null,null,null,null,null,null,null,null,null,null,null,null,null,null,null,null,null,null,null,null,null,null,null,null,null,null,null,null,null,null,null,null,null,null,null,""]
[null,null,null,null,null,null,null,null,null,null,null,null,null,null,null,null,null,null,null,null,null,null,null,null,null,null,null,null,null,null,null,null,null,null,null,null,null,null,null,null,null,null,null,null,null,null,null,null,null,null,null,null,null,null,null,null,null,null,null,null,null,null,null,null,null,null,null,null,null,null,null,null,null,null,null,""]
[null,null,null,null,null,null,null,null,null,null,null,null,null,null,null,null,null,null,null,null,null,null,null,null,null,null,null,null,null,null,null,null,null,null,null,null,null,null,null,null,null,null,null,null,null,null,null,null,null,null,null,null,null,null,null,null,null,null,null,null,null,null,null,null,null,null,null,null,null,null,null,null,null,null,null,""]
[null,null,null,null,null,null,null,null,null,null,null,null,null,null,null,null,null,null,null,null,null,null,null,null,null,null,null,null,null,null,null,null,null,null,null,null,null,null,null,null,null,null,null,null,null,null,null,null,null,null,null,null,null,null,null,null,null,null,null,null,null,null,null,null,null,null,null,null,null,null,null,null,null,null,null,""]
[null,null,null,null,null,null,null,null,null,null,null,null,null,null,null,null,null,null,null,null,null,null,null,null,null,null,null,null,null,null,null,null,null,null,null,null,null,null,null,null,null,null,null,null,null,null,null,null,null,null,null,null,null,null,null,null,null,null,null,null,null,null,null,null,null,null,null,null,null,null,null,null,null,null,null,""]
[null,null,null,null,null,null,null,null,null,null,null,null,null,null,null,null,null,null,null,null,null,null,null,null,null,null,null,null,null,null,null,null,null,null,null,null,null,null,null,null,null,null,null,null,null,null,null,null,null,null,null,null,null,null,null,null,null,null,null,null,null,null,null,null,null,null,null,null,null,null,null,null,null,null,null,""]
[null,null,null,null,null,null,null,null,null,null,null,null,null,null,null,null,null,null,null,null,null,null,null,null,null,null,null,null,null,null,null,null,null,null,null,null,null,null,null,null,null,null,null,null,null,null,null,null,null,null,null,null,null,null,null,null,null,null,null,null,null,null,null,null,null,null,null,null,null,null,null,null,null,null,null,""]
[null,null,null,null,null,null,null,null,null,null,null,null,null,null,null,null,null,null,null,null,null,null,null,null,null,null,null,null,null,null,null,null,null,null,null,null,null,null,null,null,null,null,null,null,null,null,null,null,null,null,null,null,null,null,null,null,null,null,null,null,null,null,null,null,null,null,null,null,null,null,null,null,null,null,null,""]
[null,null,null,null,null,null,null,null,null,null,null,null,null,null,null,null,null,null,null,null,null,null,null,null,null,null,null,null,null,null,null,null,null,null,null,null,null,null,null,null,null,null,null,null,null,null,null,null,null,null,null,null,null,null,null,null,null,null,null,null,null,null,null,null,null,null,null,null,null,null,null,null,null,null,null,""]
[null,null,null,null,null,null,null,null,null,null,null,null,null,null,null,null,null,null,null,null,null,null,null,null,null,null,null,null,null,null,null,null,null,null,null,null,null,null,null,null,null,null,null,null,null,null,null,null,null,null,null,null,null,null,null,null,null,null,null,null,null,null,null,null,null,null,null,null,null,null,null,null,null,null,null,""]
[null,null,null,null,null,null,null,null,null,null,null,null,null,null,null,null,null,null,null,null,null,null,null,null,null,null,null,null,null,null,null,null,null,null,null,null,null,null,null,null,null,null,null,null,null,null,null,null,null,null,null,null,null,null,null,null,null,null,null,null,null,null,null,null,null,null,null,null,null,null,null,null,null,null,null,""]
[null,null,null,null,null,null,null,null,null,null,null,null,null,null,null,null,null,null,null,null,null,null,null,null,null,null,null,null,null,null,null,null,null,null,null,null,null,null,null,null,null,null,null,null,null,null,null,null,null,null,null,null,null,null,null,null,null,null,null,null,null,null,null,null,null,null,null,null,null,null,null,null,null,null,null,""]
[null,null,null,null,null,null,null,null,null,null,null,null,null,null,null,null,null,null,null,null,null,null,null,null,null,null,null,null,null,null,null,null,null,null,null,null,null,null,null,null,null,null,null,null,null,null,null,null,null,null,null,null,null,null,null,null,null,null,null,null,null,null,null,null,null,null,null,null,null,null,null,null,null,null,null,""]
[null,null,null,null,null,null,null,null,null,null,null,null,null,null,null,null,null,null,null,null,null,null,null,null,null,null,null,null,null,null,null,null,null,null,null,null,null,null,null,null,null,null,null,null,null,null,null,null,null,null,null,null,null,null,null,null,null,null,null,null,null,null,null,null,null,null,null,null,null,null,null,null,null,null,null,""]
[null,null,null,null,null,null,null,null,null,null,null,null,null,null,null,null,null,null,null,null,null,null,null,null,null,null,null,null,null,null,null,null,null,null,null,null,null,null,null,null,null,null,null,null,null,null,null,null,null,null,null,null,null,null,null,null,null,null,null,null,null,null,null,null,null,null,null,null,null,null,null,null,null,null,null,""]
[null,null,null,null,null,null,null,null,null,null,null,null,null,null,null,null,null,null,null,null,null,null,null,null,null,null,null,null,null,null,null,null,null,null,null,null,null,null,null,null,null,null,null,null,null,null,null,null,null,null,null,null,null,null,null,null,null,null,null,null,null,null,null,null,null,null,null,null,null,null,null,null,null,null,null,""]
[null,null,null,null,null,null,null,null,null,null,null,null,null,null,null,null,null,null,null,null,null,null,null,null,null,null,null,null,null,null,null,null,null,null,null,null,null,null,null,null,null,null,null,null,null,null,null,null,null,null,null,null,null,null,null,null,null,null,null,null,null,null,null,null,null,null,null,null,null,null,null,null,null,null,null,""]
[null,null,null,null,null,null,null,null,null,null,null,null,null,null,null,null,null,null,null,null,null,null,null,null,null,null,null,null,null,null,null,null,null,null,null,null,null,null,null,null,null,null,null,null,null,null,null,null,null,null,null,null,null,null,null,null,null,null,null,null,null,null,null,null,null,null,null,null,null,null,null,null,null,null,null,""]
[null,null,null,null,null,null,null,null,null,null,null,null,null,null,null,null,null,null,null,null,null,null,null,null,null,null,null,null,null,null,null,null,null,null,null,null,null,null,null,null,null,null,null,null,null,null,null,null,null,null,null,null,null,null,null,null,null,null,null,null,null,null,null,null,null,null,null,null,null,null,null,null,null,null,null,""]
[null,null,null,null,null,null,null,null,null,null,null,null,null,null,null,null,null,null,null,null,null,null,null,null,null,null,null,null,null,null,null,null,null,null,null,null,null,null,null,null,null,null,null,null,null,null,null,null,null,null,null,null,null,null,null,null,null,null,null,null,null,null,null,null,null,null,null,null,null,null,null,null,null,null,null,""]
[null,null,null,null,null,null,null,null,null,null,null,null,null,null,null,null,null,null,null,null,null,null,null,null,null,null,null,null,null,null,null,null,null,null,null,null,null,null,null,null,null,null,null,null,null,null,null,null,null,null,null,null,null,null,null,null,null,null,null,null,null,null,null,null,null,null,null,null,null,null,null,null,null,null,null,""]
[null,null,null,null,null,null,null,null,null,null,null,null,null,null,null,null,null,null,null,null,null,null,null,null,null,null,null,null,null,null,null,null,null,null,null,null,null,null,null,null,null,null,null,null,null,null,null,null,null,null,null,null,null,null,null,null,null,null,null,null,null,null,null,null,null,null,null,null,null,null,null,null,null,null,null,""]
[null,null,null,null,null,null,null,null,null,null,null,null,null,null,null,null,null,null,null,null,null,null,null,null,null,null,null,null,null,null,null,null,null,null,null,null,null,null,null,null,null,null,null,null,null,null,null,null,null,null,null,null,null,null,null,null,null,null,null,null,null,null,null,null,null,null,null,null,null,null,null,null,null,null,null,""]
[null,null,null,null,null,null,null,null,null,null,null,null,null,null,null,null,null,null,null,null,null,null,null,null,null,null,null,null,null,null,null,null,null,null,null,null,null,null,null,null,null,null,null,null,null,null,null,null,null,null,null,null,null,null,null,null,null,null,null,null,null,null,null,null,null,null,null,null,null,null,null,null,null,null,null,""]
[null,null,null,null,null,null,null,null,null,null,null,null,null,null,null,null,null,null,null,null,null,null,null,null,null,null,null,null,null,null,null,null,null,null,null,null,null,null,null,null,null,null,null,null,null,null,null,null,null,null,null,null,null,null,null,null,null,null,null,null,null,null,null,null,null,null,null,null,null,null,null,null,null,null,null,""]
[null,null,null,null,null,null,null,null,null,null,null,null,null,null,null,null,null,null,null,null,null,null,null,null,null,null,null,null,null,null,null,null,null,null,null,null,null,null,null,null,null,null,null,null,null,null,null,null,null,null,null,null,null,null,null,null,null,null,null,null,null,null,null,null,null,null,null,null,null,null,null,null,null,null,null,""]
[null,null,null,null,null,null,null,null,null,null,null,null,null,null,null,null,null,null,null,null,null,null,null,null,null,null,null,null,null,null,null,null,null,null,null,null,null,null,null,null,null,null,null,null,null,null,null,null,null,null,null,null,null,null,null,null,null,null,null,null,null,null,null,null,null,null,null,null,null,null,null,null,null,null,null,""]
[null,null,null,null,null,null,null,null,null,null,null,null,null,null,null,null,null,null,null,null,null,null,null,null,null,null,null,null,null,null,null,null,null,null,null,null,null,null,null,null,null,null,null,null,null,null,null,null,null,null,null,null,null,null,null,null,null,null,null,null,null,null,null,null,null,null,null,null,null,null,null,null,null,null,null,""]
[null,null,null,null,null,null,null,null,null,null,null,null,null,null,null,null,null,null,null,null,null,null,null,null,null,null,null,null,null,null,null,null,null,null,null,null,null,null,null,null,null,null,null,null,null,null,null,null,null,null,null,null,null,null,null,null,null,null,null,null,null,null,null,null,null,null,null,null,null,null,null,null,null,null,null,""]
[null,null,null,null,null,null,null,null,null,null,null,null,null,null,null,null,null,null,null,null,null,null,null,null,null,null,null,null,null,null,null,null,null,null,null,null,null,null,null,null,null,null,null,null,null,null,null,null,null,null,null,null,null,null,null,null,null,null,null,null,null,null,null,null,null,null,null,null,null,null,null,null,null,null,null,""]
[null,null,null,null,null,null,null,null,null,null,null,null,null,null,null,null,null,null,null,null,null,null,null,null,null,null,null,null,null,null,null,null,null,null,null,null,null,null,null,null,null,null,null,null,null,null,null,null,null,null,null,null,null,null,null,null,null,null,null,null,null,null,null,null,null,null,null,null,null,null,null,null,null,null,5,""]
[null,null,null,null,null,null,null,null,null,null,null,null,null,null,null,null,null,null,null,null,null,null,null,null,null,null,null,null,null,null,null,null,null,null,null,null,null,null,null,null,null,null,null,null,null,null,null,null,null,null,null,null,null,null,null,null,null,null,null,null,null,null,null,null,null,null,null,null,null,null,null,null,null,null,null,""]
[null,null,null,null,null,null,null,null,null,null,null,null,null,null,null,null,null,null,null,null,null,null,null,null,null,null,null,null,null,null,null,null,null,null,null,null,null,null,null,null,null,null,null,null,null,null,null,null,null,null,null,null,null,null,null,null,null,null,null,null,null,null,null,null,null,null,null,null,null,null,null,null,null,null,null,""]
[null,null,null,null,null,null,null,null,null,null,null,null,null,null,null,null,null,null,null,null,null,null,null,null,null,null,null,null,null,null,null,null,null,null,null,null,null,null,null,null,null,null,null,null,null,null,null,null,null,null,null,null,null,null,null,null,null,null,null,null,null,null,null,null,null,null,null,null,null,null,null,null,null,null,null,""]
[null,null,null,null,null,null,null,null,null,null,null,null,null,null,null,null,null,null,null,null,null,null,null,null,null,null,null,null,null,null,null,null,null,null,null,null,null,null,null,null,null,null,null,null,null,null,null,null,null,null,null,null,null,null,null,null,null,null,null,null,null,null,null,null,null,null,null,null,null,null,null,null,null,null,null,""]
[null,null,null,null,null,null,null,null,null,null,null,null,null,null,null,null,null,null,null,null,null,null,null,null,null,null,null,null,null,null,null,null,null,null,null,null,null,null,null,null,null,null,null,null,null,null,null,null,null,null,null,null,null,null,null,null,null,null,null,null,null,null,null,null,null,null,null,null,null,null,null,null,null,null,null,""]
[null,null,null,null,null,null,null,null,null,null,null,null,null,null,null,null,null,null,null,null,null,null,null,null,null,null,null,null,null,null,null,null,null,null,null,null,null,null,null,null,null,null,null,null,null,null,null,null,null,null,null,null,null,null,null,null,null,null,null,null,null,null,null,null,null,null,null,null,null,null,null,null,null,null,null,""]
[null,null,null,null,null,null,null,null,null,null,null,null,null,null,null,null,null,null,null,null,null,null,null,null,null,null,null,null,null,null,null,null,null,null,null,null,null,null,null,null,null,null,null,null,null,null,null,null,null,null,null,null,null,null,null,null,null,null,null,null,null,null,null,null,null,null,null,null,null,null,null,null,null,null,null,""]
[null,null,null,null,null,null,null,null,null,null,null,null,null,null,null,null,null,null,null,null,null,null,null,null,null,null,null,null,null,null,null,null,null,null,null,null,null,null,null,null,null,null,null,null,null,null,null,null,null,null,null,null,null,null,null,null,null,null,null,null,null,null,null,null,null,null,null,null,null,null,null,null,null,null,null,""]
[null,null,null,null,null,null,null,null,null,null,null,null,null,null,null,null,null,null,null,null,null,null,null,null,null,null,null,null,null,null,null,null,null,null,null,null,null,null,null,null,null,null,null,null,null,null,null,null,null,null,null,null,null,null,null,null,null,null,null,null,null,null,null,null,null,null,null,null,null,null,null,null,null,null,null,""]
[null,null,null,null,null,null,null,null,null,null,null,null,null,null,null,null,null,null,null,null,null,null,null,null,null,null,null,null,null,null,null,null,null,null,null,null,null,null,null,null,null,null,null,null,null,null,null,null,null,null,null,null,null,null,null,null,null,null,null,null,null,null,null,null,null,null,null,null,null,null,null,null,null,null,null,""]
[null,null,null,null,null,null,null,null,null,null,null,null,null,null,null,null,null,null,null,null,null,null,null,null,null,null,null,null,null,null,null,null,null,null,null,null,null,null,null,null,null,null,null,null,null,null,null,null,null,null,null,null,null,null,null,null,null,null,null,null,null,null,null,null,null,null,null,null,null,null,null,null,null,null,null,""]
[null,null,null,null,null,null,null,null,null,null,null,null,null,null,null,null,null,null,null,null,null,null,null,null,null,null,null,null,null,null,null,null,null,null,null,null,null,null,null,null,null,null,null,null,null,null,null,null,null,null,null,null,null,null,null,null,null,null,null,null,null,null,null,null,null,null,null,null,null,null,null,null,null,null,null,""]
[null,null,null,null,null,null,null,null,null,null,null,null,null,null,null,null,null,null,null,null,null,null,null,null,null,null,null,null,null,null,null,null,null,null,null,null,null,null,null,null,null,null,null,null,null,null,null,null,null,null,null,null,null,null,null,null,null,null,null,null,null,null,null,null,null,null,null,null,null,null,null,null,null,null,null,""]
[null,null,null,null,null,null,null,null,null,null,null,null,null,null,null,null,null,null,null,null,null,null,null,null,null,null,null,null,null,null,null,null,null,null,null,null,null,null,null,null,null,null,null,null,null,null,null,null,null,null,null,null,null,null,null,null,null,null,null,null,null,null,null,null,null,null,null,null,null,null,null,null,null,null,null,""]
[null,null,null,null,null,null,null,null,null,null,null,null,null,null,null,null,null,null,null,null,null,null,null,null,null,null,null,null,null,null,null,null,null,null,null,null,null,null,null,null,null,null,null,null,null,null,null,null,null,null,null,null,null,null,null,null,null,null,null,null,null,null,null,null,null,null,null,null,null,null,null,null,null,null,null,""]
[null,null,null,null,null,null,null,null,null,null,null,null,null,null,null,null,null,null,null,null,null,null,null,null,null,null,null,null,null,null,null,null,null,null,null,null,null,null,null,null,null,null,null,null,null,null,null,null,null,null,null,null,null,null,null,null,null,null,null,null,null,null,null,null,null,null,null,null,null,null,null,null,null,null,null,""]
[null,null,null,null,null,null,null,null,null,null,null,null,null,null,null,null,null,null,null,null,null,null,null,null,null,null,null,null,null,null,null,null,null,null,null,null,null,null,null,null,null,null,null,null,null,null,null,null,null,null,null,null,null,null,null,null,null,null,null,null,null,null,null,null,null,null,null,null,null,null,null,null,null,null,null,""]
[null,null,null,null,null,null,null,null,null,null,null,null,null,null,null,null,null,null,null,null,null,null,null,null,null,null,null,null,null,null,null,null,null,null,null,null,null,null,null,null,null,null,null,null,null,null,null,null,null,null,null,null,null,null,null,null,null,null,null,null,null,null,null,null,null,null,null,null,null,null,null,null,null,null,null,""]
[null,null,null,null,null,null,null,null,null,null,null,null,null,null,null,null,null,null,null,null,null,null,null,null,null,null,null,null,null,null,null,null,null,null,null,null,null,null,null,null,null,null,null,null,null,null,null,null,null,null,null,null,null,null,null,null,null,null,null,null,null,null,null,null,null,null,null,null,null,null,null,null,null,null,null,""]
[null,null,null,null,null,null,null,null,null,null,null,null,null,null,null,null,null,null,null,null,null,null,null,null,null,null,null,null,null,null,null,null,null,null,null,null,null,null,null,null,null,null,null,null,null,null,null,null,null,null,null,null,null,null,null,null,null,null,null,null,null,null,null,null,null,null,null,null,null,null,null,null,null,null,null,""]
[null,null,null,null,null,null,null,null,null,null,null,null,null,null,null,null,null,null,null,null,null,null,null,null,null,null,null,null,null,null,null,null,null,null,null,null,null,null,null,null,null,null,null,null,null,null,null,null,null,null,null,null,null,null,null,null,null,null,null,null,null,null,null,null,null,null,null,null,null,null,null,null,null,null,null,""]
[null,null,null,null,null,null,null,null,null,null,null,null,null,null,null,null,null,null,null,null,null,null,null,null,null,null,null,null,null,null,null,null,null,null,null,null,null,null,null,null,null,null,null,null,null,null,null,null,null,null,null,null,null,null,null,null,null,null,null,null,null,null,null,null,null,null,null,null,null,null,null,null,null,null,null,""]
[null,null,null,null,null,null,null,null,null,null,null,null,null,null,null,null,null,null,null,null,null,null,null,null,null,null,null,null,null,null,null,null,null,null,null,null,null,null,null,null,null,null,null,null,null,null,null,null,null,null,null,null,null,null,null,null,null,null,null,null,null,null,null,null,null,null,null,null,null,null,null,null,null,null,null,""]
[null,null,null,null,null,null,null,null,null,null,null,null,null,null,null,null,null,null,null,null,null,null,null,null,null,null,null,null,null,null,null,null,null,null,null,null,null,null,null,null,null,null,null,null,null,null,null,null,null,null,null,null,null,null,null,null,null,null,null,null,null,null,null,null,null,null,null,null,null,null,null,null,null,null,null,""]
[null,null,null,null,null,null,null,null,null,null,null,null,null,null,null,null,null,null,null,null,null,null,null,null,null,null,null,null,null,null,null,null,null,null,null,null,null,null,null,null,null,null,null,null,null,null,null,null,null,null,null,null,null,null,null,null,null,null,null,null,null,null,null,null,null,null,null,null,null,null,null,null,null,null,null,""]
[null,null,null,null,null,null,null,null,null,null,null,null,null,null,null,null,null,null,null,null,null,null,null,null,null,null,null,null,null,null,null,null,null,null,null,null,null,null,null,null,null,null,null,null,null,null,null,null,null,null,null,null,null,null,null,null,null,null,null,null,null,null,null,null,null,null,null,null,null,null,null,null,null,null,null,""]
[null,null,null,null,null,null,null,null,null,null,null,null,null,null,null,null,null,null,null,null,null,null,null,null,null,null,null,null,null,null,null,null,null,null,null,null,null,null,null,null,null,null,null,null,null,null,null,null,null,null,null,null,null,null,null,null,null,null,null,null,null,null,null,null,null,null,null,null,null,null,null,null,null,null,null,""]
[null,null,null,null,null,null,null,null,null,null,null,null,null,null,null,null,null,null,null,null,null,null,null,null,null,null,null,null,null,null,null,null,null,null,null,null,null,null,null,null,null,null,null,null,null,null,null,null,null,null,null,null,null,null,null,null,null,null,null,null,null,null,null,null,null,null,null,null,null,null,null,null,null,null,null,""]
[null,null,null,null,null,null,null,null,null,null,null,null,null,null,null,null,null,null,null,null,null,null,null,null,null,null,null,null,null,null,null,null,null,null,null,null,null,null,null,null,null,null,null,null,null,null,null,null,null,null,null,null,null,null,null,null,null,null,null,null,null,null,null,null,null,null,null,null,null,null,null,null,null,null,null,""]
[null,null,null,null,null,null,null,null,null,null,null,null,null,null,null,null,null,null,null,null,null,null,null,null,null,null,null,null,null,null,null,null,null,null,null,null,null,null,null,null,null,null,null,null,null,null,null,null,null,null,null,null,null,null,null,null,null,null,null,null,null,null,null,null,null,null,null,null,null,null,null,null,null,null,null,""]
[null,null,null,null,null,null,null,null,null,null,null,null,null,null,null,null,null,null,null,null,null,null,null,null,null,null,null,null,null,null,null,null,null,null,null,null,null,null,null,null,null,null,null,null,null,null,null,null,null,null,null,null,null,null,null,null,null,null,null,null,null,null,null,null,null,null,null,null,null,null,null,null,null,null,null,""]
[null,null,null,null,null,null,null,null,null,null,null,null,null,null,null,null,null,null,null,null,null,null,null,null,null,null,null,null,null,null,null,null,null,null,null,null,null,null,null,null,null,null,null,null,null,null,null,null,null,null,null,null,null,null,null,null,null,null,null,null,null,null,null,null,null,null,null,null,null,null,null,null,null,null,null,""]
[null,null,null,null,null,null,null,null,null,null,null,null,null,null,null,null,null,null,null,null,null,null,null,null,null,null,null,null,null,null,null,null,null,null,null,null,null,null,null,null,null,null,null,null,null,null,null,null,null,null,null,null,null,null,null,null,null,null,null,null,null,null,null,null,null,null,null,null,null,null,null,null,null,null,null,""]
[null,null,null,null,null,null,null,null,null,null,null,null,null,null,null,null,null,null,null,null,null,null,null,null,null,null,null,null,null,null,null,null,null,null,null,null,null,null,null,null,null,null,null,null,null,null,null,null,null,null,null,null,null,null,null,null,null,null,null,null,null,null,null,null,null,null,null,null,null,null,null,null,null,null,null,""]
[null,null,null,null,null,null,null,null,null,null,null,null,null,null,null,null,null,null,null,null,null,null,null,null,null,null,null,null,null,null,null,null,null,null,null,null,null,null,null,null,null,null,null,null,null,null,null,null,null,null,null,null,null,null,null,null,null,null,null,null,null,null,null,null,null,null,null,null,null,null,null,null,null,null,null,""]
[null,null,null,null,null,null,null,null,null,null,null,null,null,null,null,null,null,null,null,null,null,null,null,null,null,null,null,null,null,null,null,null,null,null,null,null,null,null,null,null,null,null,null,null,null,null,null,null,null,null,null,null,null,null,null,null,null,null,null,null,null,null,null,null,null,null,null,null,null,null,null,null,null,null,null,""]
[null,null,null,null,null,null,null,null,null,null,null,null,null,null,null,null,null,null,null,null,null,null,null,null,null,null,null,null,null,null,null,null,null,null,null,null,null,null,null,null,null,null,null,null,null,null,null,null,null,null,null,null,null,null,null,null,null,null,null,null,null,null,null,null,null,null,null,null,null,null,null,null,null,null,null,""]
[null,null,null,null,null,null,null,null,null,null,null,null,null,null,null,null,null,null,null,null,null,null,null,null,null,null,null,null,null,null,null,null,null,null,null,null,null,null,null,null,null,null,null,null,null,null,null,null,null,null,null,null,null,null,null,null,null,null,null,null,null,null,null,null,null,null,null,null,null,null,null,null,null,null,null,""]
[null,null,null,null,null,null,null,null,null,null,null,null,null,null,null,null,null,null,null,null,null,null,null,null,null,null,null,null,null,null,null,null,null,null,null,null,null,null,null,null,null,null,null,null,null,null,null,null,null,null,null,null,null,null,null,null,null,null,null,null,null,null,null,null,null,null,null,null,null,null,null,null,null,null,null,""]
[null,null,null,null,null,null,null,null,null,null,null,null,null,null,null,null,null,null,null,null,null,null,null,null,null,null,null,null,null,null,null,null,null,null,null,null,null,null,null,null,null,null,null,null,null,null,null,null,null,null,null,null,null,null,null,null,null,null,null,null,null,null,null,null,null,null,null,null,null,null,null,null,null,null,null,""]
[null,null,null,null,null,null,null,null,null,null,null,null,null,null,null,null,null,null,null,null,null,null,null,null,null,null,null,null,null,null,null,null,null,null,null,null,null,null,null,null,null,null,null,null,null,null,null,null,null,null,null,null,null,null,null,null,null,null,null,null,null,null,null,null,null,null,null,null,null,null,null,null,null,null,null,""]
[null,null,null,null,null,null,null,null,null,null,null,null,null,null,null,null,null,null,null,null,null,null,null,null,null,null,null,null,null,null,null,null,null,null,null,null,null,null,null,null,null,null,null,null,null,null,null,null,null,null,null,null,null,null,null,null,null,null,null,null,null,null,null,null,null,null,null,null,null,null,null,null,null,null,null,""]
[null,null,null,null,null,null,null,null,null,null,null,null,null,null,null,null,null,null,null,null,null,null,null,null,null,null,null,null,null,null,null,null,null,null,null,null,null,null,null,null,null,null,null,null,null,null,null,null,null,null,null,null,null,null,null,null,null,null,null,null,null,null,null,null,null,null,null,null,null,null,null,null,null,null,null,""]
[null,null,null,null,null,null,null,null,null,null,null,null,null,null,null,null,null,null,null,null,null,null,null,null,null,null,null,null,null,null,null,null,null,null,null,null,null,null,null,null,null,null,null,null,null,null,null,null,null,null,null,null,null,null,null,null,null,null,null,null,null,null,null,null,null,null,null,null,null,null,null,null,null,null,null,""]
[null,null,null,null,null,null,null,null,null,null,null,null,null,null,null,null,null,null,null,null,null,null,null,null,null,null,null,null,null,null,null,null,null,null,null,null,null,null,null,null,null,null,null,null,null,null,null,null,null,null,null,null,null,null,null,null,null,null,null,null,null,null,null,null,null,null,null,null,null,null,null,null,null,null,null,""]
[null,null,null,null,null,null,null,null,null,null,null,null,null,null,null,null,null,null,null,null,null,null,null,null,null,null,null,null,null,null,null,null,null,null,null,null,null,null,null,null,null,null,null,null,null,null,null,null,null,null,null,null,null,null,null,null,null,null,null,null,null,null,null,null,null,null,null,null,null,null,null,null,null,null,null,""]
[null,null,null,null,null,null,null,null,null,null,null,null,null,null,null,null,null,null,null,null,null,null,null,null,null,null,null,null,null,null,null,null,null,null,null,null,null,null,null,null,null,null,null,null,null,null,null,null,null,null,null,null,null,null,null,null,null,null,null,null,null,null,null,null,null,null,null,null,null,null,null,null,null,null,null,""]
[null,null,null,null,null,null,null,null,null,null,null,null,null,null,null,null,null,null,null,null,null,null,null,null,null,null,null,null,null,null,null,null,null,null,null,null,null,null,null,null,null,null,null,null,null,null,null,null,null,null,null,null,null,null,null,null,null,null,null,null,null,null,null,null,null,null,null,null,null,null,null,null,null,null,null,""]
[null,null,null,null,null,null,null,null,null,null,null,null,null,null,null,null,null,null,null,null,null,null,null,null,null,null,null,null,null,null,null,null,null,null,null,null,null,null,null,null,null,null,null,null,null,null,null,null,null,null,null,null,null,null,null,null,null,null,null,null,null,null,null,null,null,null,null,null,null,null,null,null,null,null,null,""]
[null,null,null,null,null,null,null,null,null,null,null,null,null,null,null,null,null,null,null,null,null,null,null,null,null,null,null,null,null,null,null,null,null,null,null,null,null,null,null,null,null,null,null,null,null,null,null,null,null,null,null,null,null,null,null,null,null,null,null,null,null,null,null,null,null,null,null,null,null,null,null,null,null,null,null,""]
[null,null,null,null,null,null,null,null,null,null,null,null,null,null,null,null,null,null,null,null,null,null,null,null,null,null,null,null,null,null,null,null,null,null,null,null,null,null,null,null,null,null,null,null,null,null,null,null,null,null,null,null,null,null,null,null,null,null,null,null,null,null,null,null,null,null,null,null,null,null,null,null,null,null,null,""]
[null,null,null,null,null,null,null,null,null,null,null,null,null,null,null,null,null,null,null,null,null,null,null,null,null,null,null,null,null,null,null,null,null,null,null,null,null,null,null,null,null,null,null,null,null,null,null,null,null,null,null,null,null,null,null,null,null,null,null,null,null,null,null,null,null,null,null,null,null,null,null,null,null,null,null,""]
[null,null,null,null,null,null,null,null,null,null,null,null,null,null,null,null,null,null,null,null,null,null,null,null,null,null,null,null,null,null,null,null,null,null,null,null,null,null,null,null,null,null,null,null,null,null,null,null,null,null,null,null,null,null,null,null,null,null,null,null,null,null,null,null,null,null,null,null,null,null,null,null,null,null,null,""]
[null,null,null,null,null,null,null,null,null,null,null,null,null,null,null,null,null,null,null,null,null,null,null,null,null,null,null,null,null,null,null,null,null,null,null,null,null,null,null,null,null,null,null,null,null,null,null,null,null,null,null,null,null,null,null,null,null,null,null,null,null,null,null,null,null,null,null,null,null,null,null,null,null,null,null,""]
[null,null,null,null,null,null,null,null,null,null,null,null,null,null,null,null,null,null,null,null,null,null,null,null,null,null,null,null,null,null,null,null,null,null,null,null,null,null,null,null,null,null,null,null,null,null,null,null,null,null,null,null,null,null,null,null,null,null,null,null,null,null,null,null,null,null,null,null,null,null,null,null,null,null,null,""]
[null,null,null,null,null,null,null,null,null,null,null,null,null,null,null,null,null,null,null,null,null,null,null,null,null,null,null,null,null,null,null,null,null,null,null,null,null,null,null,null,null,null,null,null,null,null,null,null,null,null,null,null,null,null,null,null,null,null,null,null,null,null,null,null,null,null,null,null,null,null,null,null,null,null,null,""]
[null,null,null,null,null,null,null,null,null,null,null,null,null,null,null,null,null,null,null,null,null,null,null,null,null,null,null,null,null,null,null,null,null,null,null,null,null,null,null,null,null,null,null,null,null,null,null,null,null,null,null,null,null,null,null,null,null,null,null,null,null,null,null,null,null,null,null,null,null,null,null,null,null,null,null,""]
[null,null,null,null,null,null,null,null,null,null,null,null,null,null,null,null,null,null,null,null,null,null,null,null,null,null,null,null,null,null,null,null,null,null,null,null,null,null,null,null,null,null,null,null,null,null,null,null,null,null,null,null,null,null,null,null,null,null,null,null,null,null,null,null,null,null,null,null,null,null,null,null,null,null,null,""]
[null,null,null,null,null,null,null,null,null,null,null,null,null,null,null,null,null,null,null,null,null,null,null,null,null,null,null,null,null,null,null,null,null,null,null,null,null,null,null,null,null,null,null,null,null,null,null,null,null,null,null,null,null,null,null,null,null,null,null,null,null,null,null,null,null,null,null,null,null,null,null,null,null,null,null,""]
[null,null,null,null,null,null,null,null,null,null,null,null,null,null,null,null,null,null,null,null,null,null,null,null,null,null,null,null,null,null,null,null,null,null,null,null,null,null,null,null,null,null,null,null,null,null,null,null,null,null,null,null,null,null,null,null,null,null,null,null,null,null,null,null,null,null,null,null,null,null,null,null,null,null,null,""]
[null,null,null,null,null,null,null,null,null,null,null,null,null,null,null,null,null,null,null,null,null,null,null,null,null,null,null,null,null,null,null,null,null,null,null,null,null,null,null,null,null,null,null,null,null,null,null,null,null,null,null,null,null,null,null,null,null,null,null,null,null,null,null,null,null,null,null,null,null,null,null,null,null,null,null,""]
[null,null,null,null,null,null,null,null,null,null,null,null,null,null,null,null,null,null,null,null,null,null,null,null,null,null,null,null,null,null,null,null,null,null,null,null,null,null,null,null,null,null,null,null,null,null,null,null,null,null,null,null,null,null,null,null,null,null,null,null,null,null,null,null,null,null,null,null,null,null,null,null,null,null,null,""]
[null,null,null,null,null,null,null,null,null,null,null,null,null,null,null,null,null,null,null,null,null,null,null,null,null,null,null,null,null,null,null,null,null,null,null,null,null,null,null,null,null,null,null,null,null,null,null,null,null,null,null,null,null,null,null,null,null,null,null,null,null,null,null,null,null,null,null,null,null,null,null,null,null,null,null,""]
[null,null,null,null,null,null,null,null,null,null,null,null,null,null,null,null,null,null,null,null,null,null,null,null,null,null,null,null,null,null,null,null,null,null,null,null,null,null,null,null,null,null,null,null,null,null,null,null,null,null,null,null,null,null,null,null,null,null,null,null,null,null,null,null,null,null,null,null,null,null,null,null,null,null,null,""]
[null,null,null,null,null,null,null,null,null,null,null,null,null,null,null,null,null,null,null,null,null,null,null,null,null,null,null,null,null,null,null,null,null,null,null,null,null,null,null,null,null,null,null,null,null,null,null,null,null,null,null,null,null,null,null,null,null,null,null,null,null,null,null,null,null,null,null,null,null,null,null,null,null,null,null,""]
[null,null,null,null,null,null,null,null,null,null,null,null,null,null,null,null,null,null,null,null,null,null,null,null,null,null,null,null,null,null,null,null,null,null,null,null,null,null,null,null,null,null,null,null,null,null,null,null,null,null,null,null,null,null,null,null,null,null,null,null,null,null,null,null,null,null,null,null,null,null,null,null,null,null,null,""]
[null,null,null,null,null,null,null,null,null,null,null,null,null,null,null,null,null,null,null,null,null,null,null,null,null,null,null,null,null,null,null,null,null,null,null,null,null,null,null,null,null,null,null,null,null,null,null,null,null,null,null,null,null,null,null,null,null,null,null,null,null,null,null,null,null,null,null,null,null,null,null,null,null,null,null,""]
[null,null,null,null,null,null,null,null,null,null,null,null,null,null,null,null,null,null,null,null,null,null,null,null,null,null,null,null,null,null,null,null,null,null,null,null,null,null,null,null,null,null,null,null,null,null,null,null,null,null,null,null,null,null,null,null,null,null,null,null,null,null,null,null,null,null,null,null,null,null,null,null,null,null,null,""]
[null,null,null,null,null,null,null,null,null,null,null,null,null,null,null,null,null,null,null,null,null,null,null,null,null,null,null,null,null,null,null,null,null,null,null,null,null,null,null,null,null,null,null,null,null,null,null,null,null,null,null,null,null,null,null,null,null,null,null,null,null,null,null,null,null,null,null,null,null,null,null,null,null,null,null,""]
[null,null,null,null,null,null,null,null,null,null,null,null,null,null,null,null,null,null,null,null,null,null,null,null,null,null,null,null,null,null,null,null,null,null,null,null,null,null,null,null,null,null,null,null,null,null,null,null,null,null,null,null,null,null,null,null,null,null,null,null,null,null,null,null,null,null,null,null,null,null,null,null,null,null,null,""]
[null,null,null,null,null,null,null,null,null,null,null,null,null,null,null,null,null,null,null,null,null,null,null,null,null,null,null,null,null,null,null,null,null,null,null,null,null,null,null,null,null,null,null,null,null,null,null,null,null,null,null,null,null,null,null,null,null,null,null,null,null,null,null,null,null,null,null,null,null,null,null,null,null,null,null,""]
[null,null,null,null,null,null,null,null,null,null,null,null,null,null,null,null,null,null,null,null,null,null,null,null,null,null,null,null,null,null,null,null,null,null,null,null,null,null,null,null,null,null,null,null,null,null,null,null,null,null,null,null,null,null,null,null,null,null,null,null,null,null,null,null,null,null,null,null,null,null,null,null,null,null,null,""]
[null,null,null,null,null,null,null,null,null,null,null,null,null,null,null,null,null,null,null,null,null,null,null,null,null,null,null,null,null,null,null,null,null,null,null,null,null,null,null,null,null,null,null,null,null,null,null,null,null,null,null,null,null,null,null,null,null,null,null,null,null,null,null,null,null,null,null,null,null,null,null,null,null,null,null,""]
[null,null,null,null,null,null,null,null,null,null,null,null,null,null,null,null,null,null,null,null,null,null,null,null,null,null,null,null,null,null,null,null,null,null,null,null,null,null,null,null,null,null,null,null,null,null,null,null,null,null,null,null,null,null,null,null,null,null,null,null,null,null,null,null,null,null,null,null,null,null,null,null,null,null,null,""]
[null,null,null,null,null,null,null,null,null,null,null,null,null,null,null,null,null,null,null,null,null,null,null,null,null,null,null,null,null,null,null,null,null,null,null,null,null,null,null,null,null,null,null,null,null,null,null,null,null,null,null,null,null,null,null,null,null,null,null,null,null,null,null,null,null,null,null,null,null,null,null,null,null,null,null,""]
[null,null,null,null,null,null,null,null,null,null,null,null,null,null,null,null,null,null,null,null,null,null,null,null,null,null,null,null,null,null,null,null,null,null,null,null,null,null,null,null,null,null,null,null,null,null,null,null,null,null,null,null,null,null,null,null,null,null,null,null,null,null,null,null,null,null,null,null,null,null,null,null,null,null,null,""]
[null,null,null,null,null,null,null,null,null,null,null,null,null,null,null,null,null,null,null,null,null,null,null,null,null,null,null,null,null,null,null,null,null,null,null,null,null,null,null,null,null,null,null,null,null,null,null,null,null,null,null,null,null,null,null,null,null,null,null,null,null,null,null,null,null,null,null,null,null,null,null,null,null,null,null,""]
[null,null,null,null,null,null,null,null,null,null,null,null,null,null,null,null,null,null,null,null,null,null,null,null,null,null,null,null,null,null,null,null,null,null,null,null,null,null,null,null,null,null,null,null,null,null,null,null,null,null,null,null,null,null,null,null,null,null,null,null,null,null,null,null,null,null,null,null,null,null,null,null,null,null,null,""]
[null,null,null,null,null,null,null,null,null,null,null,null,null,null,null,null,null,null,null,null,null,null,null,null,null,null,null,null,null,null,null,null,null,null,null,null,null,null,null,null,null,null,null,null,null,null,null,null,null,null,null,null,null,null,null,null,null,null,null,null,null,null,null,null,null,null,null,null,null,null,null,null,null,null,null,""]
[null,null,null,null,null,null,null,null,null,null,null,null,null,null,null,null,null,null,null,null,null,null,null,null,null,null,null,null,null,null,null,null,null,null,null,null,null,null,null,null,null,null,null,null,null,null,null,null,null,null,null,null,null,null,null,null,null,null,null,null,null,null,null,null,null,null,null,null,null,null,null,null,null,null,null,""]
[null,null,null,null,null,null,null,null,null,null,null,null,null,null,null,null,null,null,null,null,null,null,null,null,null,null,null,null,null,null,null,null,null,null,null,null,null,null,null,null,null,null,null,null,null,null,null,null,null,null,null,null,null,null,null,null,null,null,null,null,null,null,null,null,null,null,null,null,null,null,null,null,null,null,null,""]
[null,null,null,null,null,null,null,null,null,null,null,null,null,null,null,null,null,null,null,null,null,null,null,null,null,null,null,null,null,null,null,null,null,null,null,null,null,null,null,null,null,null,null,null,null,null,null,null,null,null,null,null,null,null,null,null,null,null,null,null,null,null,null,null,null,null,null,null,null,null,null,null,null,null,null,""]
[null,null,null,null,null,null,null,null,null,null,null,null,null,null,null,null,null,null,null,null,null,null,null,null,null,null,null,null,null,null,null,null,null,null,null,null,null,null,null,null,null,null,null,null,null,null,null,null,null,null,null,null,null,null,null,null,null,null,null,null,null,null,null,null,null,null,null,null,null,null,null,null,null,null,null,""]
[null,null,null,null,null,null,null,null,null,null,null,null,null,null,null,null,null,null,null,null,null,null,null,null,null,null,null,null,null,null,null,null,null,null,null,null,null,null,null,null,null,null,null,null,null,null,null,null,null,null,null,null,null,null,null,null,null,null,null,null,null,null,null,null,null,null,null,null,null,null,null,null,null,null,null,""]
[null,null,null,null,null,null,null,null,null,null,null,null,null,null,null,null,null,null,null,null,null,null,null,null,null,null,null,null,null,null,null,null,null,null,null,null,null,null,null,null,null,null,null,null,null,null,null,null,null,null,null,null,null,null,null,null,null,null,null,null,null,null,null,null,null,null,null,null,null,null,null,null,null,null,null,""]
[null,null,null,null,null,null,null,null,null,null,null,null,null,null,null,null,null,null,null,null,null,null,null,null,null,null,null,null,null,null,null,null,null,null,null,null,null,null,null,null,null,null,null,null,null,null,null,null,null,null,null,null,null,null,null,null,null,null,null,null,null,null,null,null,null,null,null,null,null,null,null,null,null,null,null,""]
[null,null,null,null,null,null,null,null,null,null,null,null,null,null,null,null,null,null,null,null,null,null,null,null,null,null,null,null,null,null,null,null,null,null,null,null,null,null,null,null,null,null,null,null,null,null,null,null,null,null,null,null,null,null,null,null,null,null,null,null,null,null,null,null,null,null,null,null,null,null,null,null,null,null,null,""]
[null,null,null,null,null,null,null,null,null,null,null,null,null,null,null,null,null,null,null,null,null,null,null,null,null,null,null,null,null,null,null,null,null,null,null,null,null,null,null,null,null,null,null,null,null,null,null,null,null,null,null,null,null,null,null,null,null,null,null,null,null,null,null,null,null,null,null,null,null,null,null,null,null,null,null,""]
[null,null,null,null,null,null,null,null,null,null,null,null,null,null,null,null,null,null,null,null,null,null,null,null,null,null,null,null,null,null,null,null,null,null,null,null,null,null,null,null,null,null,null,null,null,null,null,null,null,null,null,null,null,null,null,null,null,null,null,null,null,null,null,null,null,null,null,null,null,null,null,null,null,null,null,""]
[null,null,null,null,null,null,null,null,null,null,null,null,null,null,null,null,null,null,null,null,null,null,null,null,null,null,null,null,null,null,null,null,null,null,null,null,null,null,null,null,null,null,null,null,null,null,null,null,null,null,null,null,null,null,null,null,null,null,null,null,null,null,null,null,null,null,null,null,null,null,null,null,null,null,null,""]
[null,null,null,null,null,null,null,null,null,null,null,null,null,null,null,null,null,null,null,null,null,null,null,null,null,null,null,null,null,null,null,null,null,null,null,null,null,null,null,null,null,null,null,null,null,null,null,null,null,null,null,null,null,null,null,null,null,null,null,null,null,null,null,null,null,null,null,null,null,null,null,null,null,null,null,""]
[null,null,null,null,null,null,null,null,null,null,null,null,null,null,null,null,null,null,null,null,null,null,null,null,null,null,null,null,null,null,null,null,null,null,null,null,null,null,null,null,null,null,null,null,null,null,null,null,null,null,null,null,null,null,null,null,null,null,null,null,null,null,null,null,null,null,null,null,null,null,null,null,null,null,null,""]
[null,null,null,null,null,null,null,null,null,null,null,null,null,null,null,null,null,null,null,null,null,null,null,null,null,null,null,null,null,null,null,null,null,null,null,null,null,null,null,null,null,null,null,null,null,null,null,null,null,null,null,null,null,null,null,null,null,null,null,null,null,null,null,null,null,null,null,null,null,null,null,null,null,null,null,""]
[null,null,null,null,null,null,null,null,null,null,null,null,null,null,null,null,null,null,null,null,null,null,null,null,null,null,null,null,null,null,null,null,null,null,null,null,null,null,null,null,null,null,null,null,null,null,null,null,null,null,null,null,null,null,null,null,null,null,null,null,null,null,null,null,null,null,null,null,null,null,null,null,null,null,null,""]
[null,null,null,null,null,null,null,null,null,null,null,null,null,null,null,null,null,null,null,null,null,null,null,null,null,null,null,null,null,null,null,null,null,null,null,null,null,null,null,null,null,null,null,null,null,null,null,null,null,null,null,null,null,null,null,null,null,null,null,null,null,null,null,null,null,null,null,null,null,null,null,null,null,null,null,""]
[null,null,null,null,null,null,null,null,null,null,null,null,null,null,null,null,null,null,null,null,null,null,null,null,null,null,null,null,null,null,null,null,null,null,null,null,null,null,null,null,null,null,null,null,null,null,null,null,null,null,null,null,null,null,null,null,null,null,null,null,null,null,null,null,null,null,null,null,null,null,null,null,null,null,null,""]
[null,null,null,null,null,null,null,null,null,null,null,null,null,null,null,null,null,null,null,null,null,null,null,null,null,null,null,null,null,null,null,null,null,null,null,null,null,null,null,null,null,null,null,null,null,null,null,null,null,null,null,null,null,null,null,null,null,null,null,null,null,null,null,null,null,null,null,null,null,null,null,null,null,null,null,""]
[null,null,null,null,null,null,null,null,null,null,null,null,null,null,null,null,null,null,null,null,null,null,null,null,null,null,null,null,null,null,null,null,null,null,null,null,null,null,null,null,null,null,null,null,null,null,null,null,null,null,null,null,null,null,null,null,null,null,null,null,null,null,null,null,null,null,null,null,null,null,null,null,null,null,null,""]
[null,null,null,null,null,null,null,null,null,null,null,null,null,null,null,null,null,null,null,null,null,null,null,null,null,null,null,null,null,null,null,null,null,null,null,null,null,null,null,null,null,null,null,null,null,null,null,null,null,null,null,null,null,null,null,null,null,null,null,null,null,null,null,null,null,null,null,null,null,null,null,null,null,null,null,""]
[null,null,null,null,null,null,null,null,null,null,null,null,null,null,null,null,null,null,null,null,null,null,null,null,null,null,null,null,null,null,null,null,null,null,null,null,null,null,null,null,null,null,null,null,null,null,null,null,null,null,null,null,null,null,null,null,null,null,null,null,null,null,null,null,null,null,null,null,null,null,null,null,null,null,null,""]
[null,null,null,null,null,null,null,null,null,null,null,null,null,null,null,null,null,null,null,null,null,null,null,null,null,null,null,null,null,null,null,null,null,null,null,null,null,null,null,null,null,null,null,null,null,null,null,null,null,null,null,null,null,null,null,null,null,null,null,null,null,null,null,null,null,null,null,null,null,null,null,null,null,null,null,""]
[null,null,null,null,null,null,null,null,null,null,null,null,null,null,null,null,null,null,null,null,null,null,null,null,null,null,null,null,null,null,null,null,null,null,null,null,null,null,null,null,null,null,null,null,null,null,null,null,null,null,null,null,null,null,null,null,null,null,null,null,null,null,null,null,null,null,null,null,null,null,null,null,null,null,null,""]
[null,null,null,null,null,null,null,null,null,null,null,null,null,null,null,null,null,null,null,null,null,null,null,null,null,null,null,null,null,null,null,null,null,null,null,null,null,null,null,null,null,null,null,null,null,null,null,null,null,null,null,null,null,null,null,null,null,null,null,null,null,null,null,null,null,null,null,null,null,null,null,null,null,null,null,""]
[null,null,null,null,null,null,null,null,null,null,null,null,null,null,null,null,null,null,null,null,null,null,null,null,null,null,null,null,null,null,null,null,null,null,null,null,null,null,null,null,null,null,null,null,null,null,null,null,null,null,null,null,null,null,null,null,null,null,null,null,null,null,null,null,null,null,null,null,null,null,null,null,null,null,null,""]
[null,null,null,null,null,null,null,null,null,null,null,null,null,null,null,null,null,null,null,null,null,null,null,null,null,null,null,null,null,null,null,null,null,null,null,null,null,null,null,null,null,null,null,null,null,null,null,null,null,null,null,null,null,null,null,null,null,null,null,null,null,null,null,null,null,null,null,null,null,null,null,null,null,null,null,""]
[null,null,null,null,null,null,null,null,null,null,null,null,null,null,null,null,null,null,null,null,null,null,null,null,null,null,null,null,null,null,null,null,null,null,null,null,null,null,null,null,null,null,null,null,null,null,null,null,null,null,null,null,null,null,null,null,null,null,null,null,null,null,null,null,null,null,null,null,null,null,null,null,null,null,null,""]
[null,null,null,null,null,null,null,null,null,null,null,null,null,null,null,null,null,null,null,null,null,null,null,null,null,null,null,null,null,null,null,null,null,null,null,null,null,null,null,null,null,null,null,null,null,null,null,null,null,null,null,null,null,null,null,null,null,null,null,null,null,null,null,null,null,null,null,null,null,null,null,null,null,null,null,""]
[null,null,null,null,null,null,null,null,null,null,null,null,null,null,null,null,null,null,null,null,null,null,null,null,null,null,null,null,null,null,null,null,null,null,null,null,null,null,null,null,null,null,null,null,null,null,null,null,null,null,null,null,null,null,null,null,null,null,null,null,null,null,null,null,null,null,null,null,null,null,null,null,null,null,null,""]
[null,null,null,null,null,null,null,null,null,null,null,null,null,null,null,null,null,null,null,null,null,null,null,null,null,null,null,null,null,null,null,null,null,null,null,null,null,null,null,null,null,null,null,null,null,null,null,null,null,null,null,null,null,null,null,null,null,null,null,null,null,null,null,null,null,null,null,null,null,null,null,null,null,null,null,""]
[null,null,null,null,null,null,null,null,null,null,null,null,null,null,null,null,null,null,null,null,null,null,null,null,null,null,null,null,null,null,null,null,null,null,null,null,null,null,null,null,null,null,null,null,null,null,null,null,null,null,null,null,null,null,null,null,null,null,null,null,null,null,null,null,null,null,null,null,null,null,null,null,null,null,null,""]
[null,null,null,null,null,null,null,null,null,null,null,null,null,null,null,null,null,null,null,null,null,null,null,null,null,null,null,null,null,null,null,null,null,null,null,null,null,null,null,null,null,null,null,null,null,null,null,null,null,null,null,null,null,null,null,null,null,null,null,null,null,null,null,null,null,null,null,null,null,null,null,null,null,null,null,""]
[null,null,null,null,null,null,null,null,null,null,null,null,null,null,null,null,null,null,null,null,null,null,null,null,null,null,null,null,null,null,null,null,null,null,null,null,null,null,null,null,null,null,null,null,null,null,null,null,null,null,null,null,null,null,null,null,null,null,null,null,null,null,null,null,null,null,null,null,null,null,null,null,null,null,null,""]
[null,null,null,null,null,null,null,null,null,null,null,null,null,null,null,null,null,null,null,null,null,null,null,null,null,null,null,null,null,null,null,null,null,null,null,null,null,null,null,null,null,null,null,null,null,null,null,null,null,null,null,null,null,null,null,null,null,null,null,null,null,null,null,null,null,null,null,null,null,null,null,null,null,null,null,""]
[null,null,null,null,null,null,null,null,null,null,null,null,null,null,null,null,null,null,null,null,null,null,null,null,null,null,null,null,null,null,null,null,null,null,null,null,null,null,null,null,null,null,null,null,null,null,null,null,null,null,null,null,null,null,null,null,null,null,null,null,null,null,null,null,null,null,null,null,null,null,null,null,null,null,null,""]
[null,null,null,null,null,null,null,null,null,null,null,null,null,null,null,null,null,null,null,null,null,null,null,null,null,null,null,null,null,null,null,null,null,null,null,null,null,null,null,null,null,null,null,null,null,null,null,null,null,null,null,null,null,null,null,null,null,null,null,null,null,null,null,null,null,null,null,null,null,null,null,null,null,null,null,""]
[null,null,null,null,null,null,null,null,null,null,null,null,null,null,null,null,null,null,null,null,null,null,null,null,null,null,null,null,null,null,null,null,null,null,null,null,null,null,null,null,null,null,null,null,null,null,null,null,null,null,null,null,null,null,null,null,null,null,null,null,null,null,null,null,null,null,null,null,null,null,null,null,null,null,null,""]
[null,null,null,null,null,null,null,null,null,null,null,null,null,null,null,null,null,null,null,null,null,null,null,null,null,null,null,null,null,null,null,null,null,null,null,null,null,null,null,null,null,null,null,null,null,null,null,null,null,null,null,null,null,null,null,null,null,null,null,null,null,null,null,null,null,null,null,null,null,null,null,null,null,null,null,""]
[null,null,null,null,null,null,null,null,null,null,null,null,null,null,null,null,null,null,null,null,null,null,null,null,null,null,null,null,null,null,null,null,null,null,null,null,null,null,null,null,null,null,null,null,null,null,null,null,null,null,null,null,null,null,null,null,null,null,null,null,null,null,null,null,null,null,null,null,null,null,null,null,null,null,null,""]
[null,null,null,null,null,null,null,null,null,null,null,null,null,null,null,null,null,null,null,null,null,null,null,null,null,null,null,null,null,null,null,null,null,null,null,null,null,null,null,null,null,null,null,null,null,null,null,null,null,null,null,null,null,null,null,null,null,null,null,null,null,null,null,null,null,null,null,null,null,null,null,null,null,null,null,""]
[null,null,null,null,null,null,null,null,null,null,null,null,null,null,null,null,null,null,null,null,null,null,null,null,null,null,null,null,null,null,null,null,null,null,null,null,null,null,null,null,null,null,null,null,null,null,null,null,null,null,null,null,null,null,null,null,null,null,null,null,null,null,null,null,null,null,null,null,null,null,null,null,null,null,null,""]
[null,null,null,null,null,null,null,null,null,null,null,null,null,null,null,null,null,null,null,null,null,null,null,null,null,null,null,null,null,null,null,null,null,null,null,null,null,null,null,null,null,null,null,null,null,null,null,null,null,null,null,null,null,null,null,null,null,null,null,null,null,null,null,null,null,null,null,null,null,null,null,null,null,null,null,""]
[null,null,null,null,null,null,null,null,null,null,null,null,null,null,null,null,null,null,null,null,null,null,null,null,null,null,null,null,null,null,null,null,null,null,null,null,null,null,null,null,null,null,null,null,null,null,null,null,null,null,null,null,null,null,null,null,null,null,null,null,null,null,null,null,null,null,null,null,null,null,null,null,null,null,null,""]
[null,null,null,null,null,null,null,null,null,null,null,null,null,null,null,null,null,null,null,null,null,null,null,null,null,null,null,null,null,null,null,null,null,null,null,null,null,null,null,null,null,null,null,null,null,null,null,null,null,null,null,null,null,null,null,null,null,null,null,null,null,null,null,null,null,null,null,null,null,null,null,null,null,null,null,""]
[null,null,null,null,null,null,null,null,null,null,null,null,null,null,null,null,null,null,null,null,null,null,null,null,null,null,null,null,null,null,null,null,null,null,null,null,null,null,null,null,null,null,null,null,null,null,null,null,null,null,null,null,null,null,null,null,null,null,null,null,null,null,null,null,null,null,null,null,null,null,null,null,null,null,null,""]
[null,null,null,null,null,null,null,null,null,null,null,null,null,null,null,null,null,null,null,null,null,null,null,null,null,null,null,null,null,null,null,null,null,null,null,null,null,null,null,null,null,null,null,null,null,null,null,null,null,null,null,null,null,null,null,null,null,null,null,null,null,null,null,null,null,null,null,null,null,null,null,null,null,null,null,""]
[null,null,null,null,null,null,null,null,null,null,null,null,null,null,null,null,null,null,null,null,null,null,null,null,null,null,null,null,null,null,null,null,null,null,null,null,null,null,null,null,null,null,null,null,null,null,null,null,null,null,null,null,null,null,null,null,null,null,null,null,null,null,null,null,null,null,null,null,null,null,null,null,null,null,null,""]
[null,null,null,null,null,null,null,null,null,null,null,null,null,null,null,null,null,null,null,null,null,null,null,null,null,null,null,null,null,null,null,null,null,null,null,null,null,null,null,null,null,null,null,null,null,null,null,null,null,null,null,null,null,null,null,null,null,null,null,null,null,null,null,null,null,null,null,null,null,null,null,null,null,null,null,""]
[null,null,null,null,null,null,null,null,null,null,null,null,null,null,null,null,null,null,null,null,null,null,null,null,null,null,null,null,null,null,null,null,null,null,null,null,null,null,null,null,null,null,null,null,null,null,null,null,null,null,null,null,null,null,null,null,null,null,null,null,null,null,null,null,null,null,null,null,null,null,null,null,null,null,null,""]
[null,null,null,null,null,null,null,null,null,null,null,null,null,null,null,null,null,null,null,null,null,null,null,null,null,null,null,null,null,null,null,null,null,null,null,null,null,null,null,null,null,null,null,null,null,null,null,null,null,null,null,null,null,null,null,null,null,null,null,null,null,null,null,null,null,null,null,null,null,null,null,null,null,null,null,""]
[null,null,null,null,null,null,null,null,null,null,null,null,null,null,null,null,null,null,null,null,null,null,null,null,null,null,null,null,null,null,null,null,null,null,null,null,null,null,null,null,null,null,null,null,null,null,null,null,null,null,null,null,null,null,null,null,null,null,null,null,null,null,null,null,null,null,null,null,null,null,null,null,null,null,null,""]
[null,null,null,null,null,null,null,null,null,null,null,null,null,null,null,null,null,null,null,null,null,null,null,null,null,null,null,null,null,null,null,null,null,null,null,null,null,null,null,null,null,null,null,null,null,null,null,null,null,null,null,null,null,null,null,null,null,null,null,null,null,null,null,null,null,null,null,null,null,null,null,null,null,null,null,""]
[null,null,null,null,null,null,null,null,null,null,null,null,null,null,null,null,null,null,null,null,null,null,null,null,null,null,null,null,null,null,null,null,null,null,null,null,null,null,null,null,null,null,null,null,null,null,null,null,null,null,null,null,null,null,null,null,null,null,null,null,null,null,null,null,null,null,null,null,null,null,null,null,null,null,null,""]
[null,null,null,null,null,null,null,null,null,null,null,null,null,null,null,null,null,null,null,null,null,null,null,null,null,null,null,null,null,null,null,null,null,null,null,null,null,null,null,null,null,null,null,null,null,null,null,null,null,null,null,null,null,null,null,null,null,null,null,null,null,null,null,null,null,null,null,null,null,null,null,null,null,null,null,""]
[null,null,null,null,null,null,null,null,null,null,null,null,null,null,null,null,null,null,null,null,null,null,null,null,null,null,null,null,null,null,null,null,null,null,null,null,null,null,null,null,null,null,null,null,null,null,null,null,null,null,null,null,null,null,null,null,null,null,null,null,null,null,null,null,null,null,null,null,null,null,null,null,null,null,null,""]
[null,null,null,null,null,null,null,null,null,null,null,null,null,null,null,null,null,null,null,null,null,null,null,null,null,null,null,null,null,null,null,null,null,null,null,null,null,null,null,null,null,null,null,null,null,null,null,null,null,null,null,null,null,null,null,null,null,null,null,null,null,null,null,null,null,null,null,null,null,null,null,null,null,null,null,""]
[null,null,null,null,null,null,null,null,null,null,null,null,null,null,null,null,null,null,null,null,null,null,null,null,null,null,null,null,null,null,null,null,null,null,null,null,null,null,null,null,null,null,null,null,null,null,null,null,null,null,null,null,null,null,null,null,null,null,null,null,null,null,null,null,null,null,null,null,null,null,null,null,null,null,null,""]
[null,null,null,null,null,null,null,null,null,null,null,null,null,null,null,null,null,null,null,null,null,null,null,null,null,null,null,null,null,null,null,null,null,null,null,null,null,null,null,null,null,null,null,null,null,null,null,null,null,null,null,null,null,null,null,null,null,null,null,null,null,null,null,null,null,null,null,null,null,null,null,null,null,null,null,""]
[null,null,null,null,null,null,null,null,null,null,null,null,null,null,null,null,null,null,null,null,null,null,null,null,null,null,null,null,null,null,null,null,null,null,null,null,null,null,null,null,null,null,null,null,null,null,null,null,null,null,null,null,null,null,null,null,null,null,null,null,null,null,null,null,null,null,null,null,null,null,null,null,null,null,null,""]
[null,null,null,null,null,null,null,null,null,null,null,null,null,null,null,null,null,null,null,null,null,null,null,null,null,null,null,null,null,null,null,null,null,null,null,null,null,null,null,null,null,null,null,null,null,null,null,null,null,null,null,null,null,null,null,null,null,null,null,null,null,null,null,null,null,null,null,null,null,null,null,null,null,null,null,""]
[null,null,null,null,null,null,null,null,null,null,null,null,null,null,null,null,null,null,null,null,null,null,null,null,null,null,null,null,null,null,null,null,null,null,null,null,null,null,null,null,null,null,null,null,null,null,null,null,null,null,null,null,null,null,null,null,null,null,null,null,null,null,null,null,null,null,null,null,null,null,null,null,null,null,null,""]
[null,null,null,null,null,null,null,null,null,null,null,null,null,null,null,null,null,null,null,null,null,null,null,null,null,null,null,null,null,null,null,null,null,null,null,null,null,null,null,null,null,null,null,null,null,null,null,null,null,null,null,null,null,null,null,null,null,null,null,null,null,null,null,null,null,null,null,null,null,null,null,null,null,null,null,""]
[null,null,null,null,null,null,null,null,null,null,null,null,null,null,null,null,null,null,null,null,null,null,null,null,null,null,null,null,null,null,null,null,null,null,null,null,null,null,null,null,null,null,null,null,null,null,null,null,null,null,null,null,null,null,null,null,null,null,null,null,null,null,null,null,null,null,null,null,null,null,null,null,null,null,null,""]
[null,null,null,null,null,null,null,null,null,null,null,null,null,null,null,null,null,null,null,null,null,null,null,null,null,null,null,null,null,null,null,null,null,null,null,null,null,null,null,null,null,null,null,null,null,null,null,null,null,null,null,null,null,null,null,null,null,null,null,null,null,null,null,null,null,null,null,null,null,null,null,null,null,null,null,""]
[null,null,null,null,null,null,null,null,null,null,null,null,null,null,null,null,null,null,null,null,null,null,null,null,null,null,null,null,null,null,null,null,null,null,null,null,null,null,null,null,null,null,null,null,null,null,null,null,null,null,null,null,null,null,null,null,null,null,null,null,null,null,null,null,null,null,null,null,null,null,null,null,null,null,null,""]
[null,null,null,null,null,null,null,null,null,null,null,null,null,null,null,null,null,null,null,null,null,null,null,null,null,null,null,null,null,null,null,null,null,null,null,null,null,null,null,null,null,null,null,null,null,null,null,null,null,null,null,null,null,null,null,null,null,null,null,null,null,null,null,null,null,null,null,null,null,null,null,null,null,null,null,""]
[null,null,null,null,null,null,null,null,null,null,null,null,null,null,null,null,null,null,null,null,null,null,null,null,null,null,null,null,null,null,null,null,null,null,null,null,null,null,null,null,null,null,null,null,null,null,null,null,null,null,null,null,null,null,null,null,null,null,null,null,null,null,null,null,null,null,null,null,null,null,null,null,null,null,null,""]
[null,null,null,null,null,null,null,null,null,null,null,null,null,null,null,null,null,null,null,null,null,null,null,null,null,null,null,null,null,null,null,null,null,null,null,null,null,null,null,null,null,null,null,null,null,null,null,null,null,null,null,null,null,null,null,null,null,null,null,null,null,null,null,null,null,null,null,null,null,null,null,null,null,null,null,""]
[null,null,null,null,null,null,null,null,null,null,null,null,null,null,null,null,null,null,null,null,null,null,null,null,null,null,null,null,null,null,null,null,null,null,null,null,null,null,null,null,null,null,null,null,null,null,null,null,null,null,null,null,null,null,null,null,null,null,null,null,null,null,null,null,null,null,null,null,null,null,null,null,null,null,null,""]
[null,null,null,null,null,null,null,null,null,null,null,null,null,null,null,null,null,null,null,null,null,null,null,null,null,null,null,null,null,null,null,null,null,null,null,null,null,null,null,null,null,null,null,null,null,null,null,null,null,null,null,null,null,null,null,null,null,null,null,null,null,null,null,null,null,null,null,null,null,null,null,null,null,null,null,""]
[null,null,null,null,null,null,null,null,null,null,null,null,null,null,null,null,null,null,null,null,null,null,null,null,null,null,null,null,null,null,null,null,null,null,null,null,null,null,null,null,null,null,null,null,null,null,null,null,null,null,null,null,null,null,null,null,null,null,null,null,null,null,null,null,null,null,null,null,null,null,null,null,null,null,null,""]
[null,null,null,null,null,null,null,null,null,null,null,null,null,null,null,null,null,null,null,null,null,null,null,null,null,null,null,null,null,null,null,null,null,null,null,null,null,null,null,null,null,null,null,null,null,null,null,null,null,null,null,null,null,null,null,null,null,null,null,null,null,null,null,null,null,null,null,null,null,null,null,null,null,null,null,""]
[null,null,null,null,null,null,null,null,null,null,null,null,null,null,null,null,null,null,null,null,null,null,null,null,null,null,null,null,null,null,null,null,null,null,null,null,null,null,null,null,null,null,null,null,null,null,null,null,null,null,null,null,null,null,null,null,null,null,null,null,null,null,null,null,null,null,null,null,null,null,null,null,null,null,null,""]
[null,null,null,null,null,null,null,null,null,null,null,null,null,null,null,null,null,null,null,null,null,null,null,null,null,null,null,null,null,null,null,null,null,null,null,null,null,null,null,null,null,null,null,null,null,null,null,null,null,null,null,null,null,null,null,null,null,null,null,null,null,null,null,null,null,null,null,null,null,null,null,null,null,null,null,""]
[null,null,null,null,null,null,null,null,null,null,null,null,null,null,null,null,null,null,null,null,null,null,null,null,null,null,null,null,null,null,null,null,null,null,null,null,null,null,null,null,null,null,null,null,null,null,null,null,null,null,null,null,null,null,null,null,null,null,null,null,null,null,null,null,null,null,null,null,null,null,null,null,null,null,null,""]
[null,null,null,null,null,null,null,null,null,null,null,null,null,null,null,null,null,null,null,null,null,null,null,null,null,null,null,null,null,null,null,null,null,null,null,null,null,null,null,null,null,null,null,null,null,null,null,null,null,null,null,null,null,null,null,null,null,null,null,null,null,null,null,null,null,null,null,null,null,null,null,null,null,null,null,""]
[null,null,null,null,null,null,null,null,null,null,null,null,null,null,null,null,null,null,null,null,null,null,null,null,null,null,null,null,null,null,null,null,null,null,null,null,null,null,null,null,null,null,null,null,null,null,null,null,null,null,null,null,null,null,null,null,null,null,null,null,null,null,null,null,null,null,null,null,null,null,null,null,null,null,null,""]
[null,null,null,null,null,null,null,null,null,null,null,null,null,null,null,null,null,null,null,null,null,null,null,null,null,null,null,null,null,null,null,null,null,null,null,null,null,null,null,null,null,null,null,null,null,null,null,null,null,null,null,null,null,null,null,null,null,null,null,null,null,null,null,null,null,null,null,null,null,null,null,null,null,null,null,""]
[null,null,null,null,null,null,null,null,null,null,null,null,null,null,null,null,null,null,null,null,null,null,null,null,null,null,null,null,null,null,null,null,null,null,null,null,null,null,null,null,null,null,null,null,null,null,null,null,null,null,null,null,null,null,null,null,null,null,null,null,null,null,null,null,null,null,null,null,null,null,null,null,null,null,null,""]
[null,null,null,null,null,null,null,null,null,null,null,null,null,null,null,null,null,null,null,null,null,null,null,null,null,null,null,null,null,null,null,null,null,null,null,null,null,null,null,null,null,null,null,null,null,null,null,null,null,null,null,null,null,null,null,null,null,null,null,null,null,null,null,null,null,null,null,null,null,null,null,null,null,null,null,""]
[null,null,null,null,null,null,null,null,null,null,null,null,null,null,null,null,null,null,null,null,null,null,null,null,null,null,null,null,null,null,null,null,null,null,null,null,null,null,null,null,null,null,null,null,null,null,null,null,null,null,null,null,null,null,null,null,null,null,null,null,null,null,null,null,null,null,null,null,null,null,null,null,null,null,null,""]
[null,null,null,null,null,null,null,null,null,null,null,null,null,null,null,null,null,null,null,null,null,null,null,null,null,null,null,null,null,null,null,null,null,null,null,null,null,null,null,null,null,null,null,null,null,null,null,null,null,null,null,null,null,null,null,null,null,null,null,null,null,null,null,null,null,null,null,null,null,null,null,null,null,null,null,""]
[null,null,null,null,null,null,null,null,null,null,null,null,null,null,null,null,null,null,null,null,null,null,null,null,null,null,null,null,null,null,null,null,null,null,null,null,null,null,null,null,null,null,null,null,null,null,null,null,null,null,null,null,null,null,null,null,null,null,null,null,null,null,null,null,null,null,null,null,null,null,null,null,null,null,null,""]
[null,null,null,null,null,null,null,null,null,null,null,null,null,null,null,null,null,null,null,null,null,null,null,null,null,null,null,null,null,null,null,null,null,null,null,null,null,null,null,null,null,null,null,null,null,null,null,null,null,null,null,null,null,null,null,null,null,null,null,null,null,null,null,null,null,null,null,null,null,null,null,null,null,null,null,""]
[null,null,null,null,null,null,null,null,null,null,null,null,null,null,null,null,null,null,null,null,null,null,null,null,null,null,null,null,null,null,null,null,null,null,null,null,null,null,null,null,null,null,null,null,null,null,null,null,null,null,null,null,null,null,null,null,null,null,null,null,null,null,null,null,null,null,null,null,null,null,null,null,null,null,null,""]
[null,null,null,null,null,null,null,null,null,null,null,null,null,null,null,null,null,null,null,null,null,null,null,null,null,null,null,null,null,null,null,null,null,null,null,null,null,null,null,null,null,null,null,null,null,null,null,null,null,null,null,null,null,null,null,null,null,null,null,null,null,null,null,null,null,null,null,null,null,null,null,null,null,null,null,""]
[null,null,null,null,null,null,null,null,null,null,null,null,null,null,null,null,null,null,null,null,null,null,null,null,null,null,null,null,null,null,null,null,null,null,null,null,null,null,null,null,null,null,null,null,null,null,null,null,null,null,null,null,null,null,null,null,null,null,null,null,null,null,null,null,null,null,null,null,null,null,null,null,null,null,null,""]
[null,null,null,null,null,null,null,null,null,null,null,null,null,null,null,null,null,null,null,null,null,null,null,null,null,null,null,null,null,null,null,null,null,null,null,null,null,null,null,null,null,null,null,null,null,null,null,null,null,null,null,null,null,null,null,null,null,null,null,null,null,null,null,null,null,null,null,null,null,null,null,null,null,null,null,""]
[null,null,null,null,null,null,null,null,null,null,null,null,null,null,null,null,null,null,null,null,null,null,null,null,null,null,null,null,null,null,null,null,null,null,null,null,null,null,null,null,null,null,null,null,null,null,null,null,null,null,null,null,null,null,null,null,null,null,null,null,null,null,null,null,null,null,null,null,null,null,null,null,null,null,null,""]
[null,null,null,null,null,null,null,null,null,null,null,null,null,null,null,null,null,null,null,null,null,null,null,null,null,null,null,null,null,null,null,null,null,null,null,null,null,null,null,null,null,null,null,null,null,null,null,null,null,null,null,null,null,null,null,null,null,null,null,null,null,null,null,null,null,null,null,null,null,null,null,null,null,null,null,""]
[null,null,null,null,null,null,null,null,null,null,null,null,null,null,null,null,null,null,null,null,null,null,null,null,null,null,null,null,null,null,null,null,null,null,null,null,null,null,null,null,null,null,null,null,null,null,null,null,null,null,null,null,null,null,null,null,null,null,null,null,null,null,null,null,null,null,null,null,null,null,null,null,null,null,null,""]
[null,null,null,null,null,null,null,null,null,null,null,null,null,null,null,null,null,null,null,null,null,null,null,null,null,null,null,null,null,null,null,null,null,null,null,null,null,null,null,null,null,null,null,null,null,null,null,null,null,null,null,null,null,null,null,null,null,null,null,null,null,null,null,null,null,null,null,null,null,null,null,null,null,null,null,""]
[null,null,null,null,null,null,null,null,null,null,null,null,null,null,null,null,null,null,null,null,null,null,null,null,null,null,null,null,null,null,null,null,null,null,null,null,null,null,null,null,null,null,null,null,null,null,null,null,null,null,null,null,null,null,null,null,null,null,null,null,null,null,null,null,null,null,null,null,null,null,null,null,null,null,null,""]
[null,null,null,null,null,null,null,null,null,null,null,null,null,null,null,null,null,null,null,null,null,null,null,null,null,null,null,null,null,null,null,null,null,null,null,null,null,null,null,null,null,null,null,null,null,null,null,null,null,null,null,null,null,null,null,null,null,null,null,null,null,null,null,null,null,null,null,null,null,null,null,null,null,null,null,""]
[null,null,null,null,null,null,null,null,null,null,null,null,null,null,null,null,null,null,null,null,null,null,null,null,null,null,null,null,null,null,null,null,null,null,null,null,null,null,null,null,null,null,null,null,null,null,null,null,null,null,null,null,null,null,null,null,null,null,null,null,null,null,null,null,null,null,null,null,null,null,null,null,null,null,null,""]
[null,null,null,null,null,null,null,null,null,null,null,null,null,null,null,null,null,null,null,null,null,null,null,null,null,null,null,null,null,null,null,null,null,null,null,null,null,null,null,null,null,null,null,null,null,null,null,null,null,null,null,null,null,null,null,null,null,null,null,null,null,null,null,null,null,null,null,null,null,null,null,null,null,null,null,""]
[null,null,null,null,null,null,null,null,null,null,null,null,null,null,null,null,null,null,null,null,null,null,null,null,null,null,null,null,null,null,null,null,null,null,null,null,null,null,null,null,null,null,null,null,null,null,null,null,null,null,null,null,null,null,null,null,null,null,null,null,null,null,null,null,null,null,null,null,null,null,null,null,null,null,null,""]
[null,null,null,null,null,null,null,null,null,null,null,null,null,null,null,null,null,null,null,null,null,null,null,null,null,null,null,null,null,null,null,null,null,null,null,null,null,null,null,null,null,null,null,null,null,null,null,null,null,null,null,null,null,null,null,null,null,null,null,null,null,null,null,null,null,null,null,null,null,null,null,null,null,null,null,""]
[null,null,null,null,null,null,null,null,null,null,null,null,null,null,null,null,null,null,null,null,null,null,null,null,null,null,null,null,null,null,null,null,null,null,null,null,null,null,null,null,null,null,null,null,null,null,null,null,null,null,null,null,null,null,null,null,null,null,null,null,null,null,null,null,null,null,null,null,null,null,null,null,null,null,null,""]
[null,null,null,null,null,null,null,null,null,null,null,null,null,null,null,null,null,null,null,null,null,null,null,null,null,null,null,null,null,null,null,null,null,null,null,null,null,null,null,null,null,null,null,null,null,null,null,null,null,null,null,null,null,null,null,null,null,null,null,null,null,null,null,null,null,null,null,null,null,null,null,null,null,null,null,""]
[null,null,null,null,null,null,null,null,null,null,null,null,null,null,null,null,null,null,null,null,null,null,null,null,null,null,null,null,null,null,null,null,null,null,null,null,null,null,null,null,null,null,null,null,null,null,null,null,null,null,null,null,null,null,null,null,null,null,null,null,null,null,null,null,null,null,null,null,null,null,null,null,null,null,null,""]
[null,null,null,null,null,null,null,null,null,null,null,null,null,null,null,null,null,null,null,null,null,null,null,null,null,null,null,null,null,null,null,null,null,null,null,null,null,null,null,null,null,null,null,null,null,null,null,null,null,null,null,null,null,null,null,null,null,null,null,null,null,null,null,null,null,null,null,null,null,null,null,null,null,null,null,""]
[null,null,null,null,null,null,null,null,null,null,null,null,null,null,null,null,null,null,null,null,null,null,null,null,null,null,null,null,null,null,null,null,null,null,null,null,null,null,null,null,null,null,null,null,null,null,null,null,null,null,null,null,null,null,null,null,null,null,null,null,null,null,null,null,null,null,null,null,null,null,null,null,null,null,null,""]
[null,null,null,null,null,null,null,null,null,null,null,null,null,null,null,null,null,null,null,null,null,null,null,null,null,null,null,null,null,null,null,null,null,null,null,null,null,null,null,null,null,null,null,null,null,null,null,null,null,null,null,null,null,null,null,null,null,null,null,null,null,null,null,null,null,null,null,null,null,null,null,null,null,null,null,""]
[null,null,null,null,null,null,null,null,null,null,null,null,null,null,null,null,null,null,null,null,null,null,null,null,null,null,null,null,null,null,null,null,null,null,null,null,null,null,null,null,null,null,null,null,null,null,null,null,null,null,null,null,null,null,null,null,null,null,null,null,null,null,null,null,null,null,null,null,null,null,null,null,null,null,null,""]
[null,null,null,null,null,null,null,null,null,null,null,null,null,null,null,null,null,null,null,null,null,null,null,null,null,null,null,null,null,null,null,null,null,null,null,null,null,null,null,null,null,null,null,null,null,null,null,null,null,null,null,null,null,null,null,null,null,null,null,null,null,null,null,null,null,null,null,null,null,null,null,null,null,null,null,""]
[null,null,null,null,null,null,null,null,null,null,null,null,null,null,null,null,null,null,null,null,null,null,null,null,null,null,null,null,null,null,null,null,null,null,null,null,null,null,null,null,null,null,null,null,null,null,null,null,null,null,null,null,null,null,null,null,null,null,null,null,null,null,null,null,null,null,null,null,null,null,null,null,null,null,null,""]
[null,null,null,null,null,null,null,null,null,null,null,null,null,null,null,null,null,null,null,null,null,null,null,null,null,null,null,null,null,null,null,null,null,null,null,null,null,null,null,null,null,null,null,null,null,null,null,null,null,null,null,null,null,null,null,null,null,null,null,null,null,null,null,null,null,null,null,null,null,null,null,null,null,null,null,""]
[null,null,null,null,null,null,null,null,null,null,null,null,null,null,null,null,null,null,null,null,null,null,null,null,null,null,null,null,null,null,null,null,null,null,null,null,null,null,null,null,null,null,null,null,null,null,null,null,null,null,null,null,null,null,null,null,null,null,null,null,null,null,null,null,null,null,null,null,null,null,null,null,null,null,null,""]
[null,null,null,null,null,null,null,null,null,null,null,null,null,null,null,null,null,null,null,null,null,null,null,null,null,null,null,null,null,null,null,null,null,null,null,null,null,null,null,null,null,null,null,null,null,null,null,null,null,null,null,null,null,null,null,null,null,null,null,null,null,null,null,null,null,null,null,null,null,null,null,null,null,null,null,""]
[null,null,null,null,null,null,null,null,null,null,null,null,null,null,null,null,null,null,null,null,null,null,null,null,null,null,null,null,null,null,null,null,null,null,null,null,null,null,null,null,null,null,null,null,null,null,null,null,null,null,null,null,null,null,null,null,null,null,null,null,null,null,null,null,null,null,null,null,null,null,null,null,null,null,null,""]
[null,null,null,null,null,null,null,null,null,null,null,null,null,null,null,null,null,null,null,null,null,null,null,null,null,null,null,null,null,null,null,null,null,null,null,null,null,null,null,null,null,null,null,null,null,null,null,null,null,null,null,null,null,null,null,null,null,null,null,null,null,null,null,null,null,null,null,null,null,null,null,null,null,null,null,""]
[null,null,null,null,null,null,null,null,null,null,null,null,null,null,null,null,null,null,null,null,null,null,null,null,null,null,null,null,null,null,null,null,null,null,null,null,null,null,null,null,null,null,null,null,null,null,null,null,null,null,null,null,null,null,null,null,null,null,null,null,null,null,null,null,null,null,null,null,null,null,null,null,null,null,null,""]
[null,null,null,null,null,null,null,null,null,null,null,null,null,null,null,null,null,null,null,null,null,null,null,null,null,null,null,null,null,null,null,null,null,null,null,null,null,null,null,null,null,null,null,null,null,null,null,null,null,null,null,null,null,null,null,null,null,null,null,null,null,null,null,null,null,null,null,null,null,null,null,null,null,null,null,""]
[null,null,null,null,null,null,null,null,null,null,null,null,null,null,null,null,null,null,null,null,null,null,null,null,null,null,null,null,null,null,null,null,null,null,null,null,null,null,null,null,null,null,null,null,null,null,null,null,null,null,null,null,null,null,null,null,null,null,null,null,null,null,null,null,null,null,null,null,null,null,null,null,null,null,null,""]
[null,null,null,null,null,null,null,null,null,null,null,null,null,null,null,null,null,null,null,null,null,null,null,null,null,null,null,null,null,null,null,null,null,null,null,null,null,null,null,null,null,null,null,null,null,null,null,null,null,null,null,null,null,null,null,null,null,null,null,null,null,null,null,null,null,null,null,null,null,null,null,null,null,null,null,""]
[null,null,null,null,null,null,null,null,null,null,null,null,null,null,null,null,null,null,null,null,null,null,null,null,null,null,null,null,null,null,null,null,null,null,null,null,null,null,null,null,null,null,null,null,null,null,null,null,null,null,null,null,null,null,null,null,null,null,null,null,null,null,null,null,null,null,null,null,null,null,null,null,null,null,null,""]
[null,null,null,null,null,null,null,null,null,null,null,null,null,null,null,null,null,null,null,null,null,null,null,null,null,null,null,null,null,null,null,null,null,null,null,null,null,null,null,null,null,null,null,null,null,null,null,null,null,null,null,null,null,null,null,null,null,null,null,null,null,null,null,null,null,null,null,null,null,null,null,null,null,null,null,""]
[null,null,null,null,null,null,null,null,null,null,null,null,null,null,null,null,null,null,null,null,null,null,null,null,null,null,null,null,null,null,null,null,null,null,null,null,null,null,null,null,null,null,null,null,null,null,null,null,null,null,null,null,null,null,null,null,null,null,null,null,null,null,null,null,null,null,null,null,null,null,null,null,null,null,null,""]
[null,null,null,null,null,null,null,null,null,null,null,null,null,null,null,null,null,null,null,null,null,null,null,null,null,null,null,null,null,null,null,null,null,null,null,null,null,null,null,null,null,null,null,null,null,null,null,null,null,null,null,null,null,null,null,null,null,null,null,null,null,null,null,null,null,null,null,null,null,null,null,null,null,null,null,""]
[null,null,null,null,null,null,null,null,null,null,null,null,null,null,null,null,null,null,null,null,null,null,null,null,null,null,null,null,null,null,null,null,null,null,null,null,null,null,null,null,null,null,null,null,null,null,null,null,null,null,null,null,null,null,null,null,null,null,null,null,null,null,null,null,null,null,null,null,null,null,null,null,null,null,null,""]
[null,null,null,null,null,null,null,null,null,null,null,null,null,null,null,null,null,null,null,null,null,null,null,null,null,null,null,null,null,null,null,null,null,null,null,null,null,null,null,null,null,null,null,null,null,null,null,null,null,null,null,null,null,null,null,null,null,null,null,null,null,null,null,null,null,null,null,null,null,null,null,null,null,null,null,""]
[null,null,null,null,null,null,null,null,null,null,null,null,null,null,null,null,null,null,null,null,null,null,null,null,null,null,null,null,null,null,null,null,null,null,null,null,null,null,null,null,null,null,null,null,null,null,null,null,null,null,null,null,null,null,null,null,null,null,null,null,null,null,null,null,null,null,null,null,null,null,null,null,null,null,null,""]
[null,null,null,null,null,null,null,null,null,null,null,null,null,null,null,null,null,null,null,null,null,null,null,null,null,null,null,null,null,null,null,null,null,null,null,null,null,null,null,null,null,null,null,null,null,null,null,null,null,null,null,null,null,null,null,null,null,null,null,null,null,null,null,null,null,null,null,null,null,null,null,null,null,null,null,""]
[null,null,null,null,null,null,null,null,null,null,null,null,null,null,null,null,null,null,null,null,null,null,null,null,null,null,null,null,null,null,null,null,null,null,null,null,null,null,null,null,null,null,null,null,null,null,null,null,null,null,null,null,null,null,null,null,null,null,null,null,null,null,null,null,null,null,null,null,null,null,null,null,null,null,null,""]
[null,null,null,null,null,null,null,null,null,null,null,null,null,null,null,null,null,null,null,null,null,null,null,null,null,null,null,null,null,null,null,null,null,null,null,null,null,null,null,null,null,null,null,null,null,null,null,null,null,null,null,null,null,null,null,null,null,null,null,null,null,null,null,null,null,null,null,null,null,null,null,null,null,null,null,""]
[null,null,null,null,null,null,null,null,null,null,null,null,null,null,null,null,null,null,null,null,null,null,null,null,null,null,null,null,null,null,null,null,null,null,null,null,null,null,null,null,null,null,null,null,null,null,null,null,null,null,null,null,null,null,null,null,null,null,null,null,null,null,null,null,null,null,null,null,null,null,null,null,null,null,null,""]
[null,null,null,null,null,null,null,null,null,null,null,null,null,null,null,null,null,null,null,null,null,null,null,null,null,null,null,null,null,null,null,null,null,null,null,null,null,null,null,null,null,null,null,null,null,null,null,null,null,null,null,null,null,null,null,null,null,null,null,null,null,null,null,null,null,null,null,null,null,null,null,null,null,null,null,""]
[null,null,null,null,null,null,null,null,null,null,null,null,null,null,null,null,null,null,null,null,null,null,null,null,null,null,null,null,null,null,null,null,null,null,null,null,null,null,null,null,null,null,null,null,null,null,null,null,null,null,null,null,null,null,null,null,null,null,null,null,null,null,null,null,null,null,null,null,null,null,null,null,null,null,null,""]
[null,null,null,null,null,null,null,null,null,null,null,null,null,null,null,null,null,null,null,null,null,null,null,null,null,null,null,null,null,null,null,null,null,null,null,null,null,null,null,null,null,null,null,null,null,null,null,null,null,null,null,null,null,null,null,null,null,null,null,null,null,null,null,null,null,null,null,null,null,null,null,null,null,null,null,""]
[null,null,null,null,null,null,null,null,null,null,null,null,null,null,null,null,null,null,null,null,null,null,null,null,null,null,null,null,null,null,null,null,null,null,null,null,null,null,null,null,null,null,null,null,null,null,null,null,null,null,null,null,null,null,null,null,null,null,null,null,null,null,null,null,null,null,null,null,null,null,null,null,null,null,null,""]
[null,null,null,null,null,null,null,null,null,null,null,null,null,null,null,null,null,null,null,null,null,null,null,null,null,null,null,null,null,null,null,null,null,null,null,null,null,null,null,null,null,null,null,null,null,null,null,null,null,null,null,null,null,null,null,null,null,null,null,null,null,null,null,null,null,null,null,null,null,null,null,null,null,null,null,""]
[null,null,null,null,null,null,null,null,null,null,null,null,null,null,null,null,null,null,null,null,null,null,null,null,null,null,null,null,null,null,null,null,null,null,null,null,null,null,null,null,null,null,null,null,null,null,null,null,null,null,null,null,null,null,null,null,null,null,null,null,null,null,null,null,null,null,null,null,null,null,null,null,null,null,null,""]
[null,null,null,null,null,null,null,null,null,null,null,null,null,null,null,null,null,null,null,null,null,null,null,null,null,null,null,null,null,null,null,null,null,null,null,null,null,null,null,null,null,null,null,null,null,null,null,null,null,null,null,null,null,null,null,null,null,null,null,null,null,null,null,null,null,null,null,null,null,null,null,null,null,null,null,""]
[null,null,null,null,null,null,null,null,null,null,null,null,null,null,null,null,null,null,null,null,null,null,null,null,null,null,null,null,null,null,null,null,null,null,null,null,null,null,null,null,null,null,null,null,null,null,null,null,null,null,null,null,null,null,null,null,null,null,null,null,null,null,null,null,null,null,null,null,null,null,null,null,null,null,null,""]
[null,null,null,null,null,null,null,null,null,null,null,null,null,null,null,null,null,null,null,null,null,null,null,null,null,null,null,null,null,null,null,null,null,null,null,null,null,null,null,null,null,null,null,null,null,null,null,null,null,null,null,null,null,null,null,null,null,null,null,null,null,null,null,null,null,null,null,null,null,null,null,null,null,null,null,""]
[null,null,null,null,null,null,null,null,null,null,null,null,null,null,null,null,null,null,null,null,null,null,null,null,null,null,null,null,null,null,null,null,null,null,null,null,null,null,null,null,null,null,null,null,null,null,null,null,null,null,null,null,null,null,null,null,null,null,null,null,null,null,null,null,null,null,null,null,null,null,null,null,null,null,null,""]
[null,null,null,null,null,null,null,null,null,null,null,null,null,null,null,null,null,null,null,null,null,null,null,null,null,null,null,null,null,null,null,null,null,null,null,null,null,null,null,null,null,null,null,null,null,null,null,null,null,null,null,null,null,null,null,null,null,null,null,null,null,null,null,null,null,null,null,null,null,null,null,null,null,null,null,""]
[null,null,null,null,null,null,null,null,null,null,null,null,null,null,null,null,null,null,null,null,null,null,null,null,null,null,null,null,null,null,null,null,null,null,null,null,null,null,null,null,null,null,null,null,null,null,null,null,null,null,null,null,null,null,null,null,null,null,null,null,null,null,null,null,null,null,null,null,null,null,null,null,null,null,null,""]
[null,null,null,null,null,null,null,null,null,null,null,null,null,null,null,null,null,null,null,null,null,null,null,null,null,null,null,null,null,null,null,null,null,null,null,null,null,null,null,null,null,null,null,null,null,null,null,null,null,null,null,null,null,null,null,null,null,null,null,null,null,null,null,null,null,null,null,null,null,null,null,null,null,null,null,""]
[null,null,null,null,null,null,null,null,null,null,null,null,null,null,null,null,null,null,null,null,null,null,null,null,null,null,null,null,null,null,null,null,null,null,null,null,null,null,null,null,null,null,null,null,null,null,null,null,null,null,null,null,null,null,null,null,null,null,null,null,null,null,null,null,null,null,null,null,null,null,null,null,null,null,null,""]
[null,null,null,null,null,null,null,null,null,null,null,null,null,null,null,null,null,null,null,null,null,null,null,null,null,null,null,null,null,null,null,null,null,null,null,null,null,null,null,null,null,null,null,null,null,null,null,null,null,null,null,null,null,null,null,null,null,null,null,null,null,null,null,null,null,null,null,null,null,null,null,null,null,null,8,""]
[null,null,null,null,null,null,null,null,null,null,null,null,null,null,null,null,null,null,null,null,null,null,null,null,null,null,null,null,null,null,null,null,null,null,null,null,null,null,null,null,null,null,null,null,null,null,null,null,null,null,null,null,null,null,null,null,null,null,null,null,null,null,null,null,null,null,null,null,null,null,null,null,null,null,null,""]
[null,null,null,null,null,null,null,null,null,null,null,null,null,null,null,null,null,null,null,null,null,null,null,null,null,null,null,null,null,null,null,null,null,null,null,null,null,null,null,null,null,null,null,null,null,null,null,null,null,null,null,null,null,null,null,null,null,null,null,null,null,null,null,null,null,null,null,null,null,null,null,null,null,null,null,""]
[null,null,null,null,null,null,null,null,null,null,null,null,null,null,null,null,null,null,null,null,null,null,null,null,null,null,null,null,null,null,null,null,null,null,null,null,null,null,null,null,null,null,null,null,null,null,null,null,null,null,null,null,null,null,null,null,null,null,null,null,null,null,null,null,null,null,null,null,null,null,null,null,null,null,null,""]
[null,null,null,null,null,null,null,null,null,null,null,null,null,null,null,null,null,null,null,null,null,null,null,null,null,null,null,null,null,null,null,null,null,null,null,null,null,null,null,null,null,null,null,null,null,null,null,null,null,null,null,null,null,null,null,null,null,null,null,null,null,null,null,null,null,null,null,null,null,null,null,null,null,null,null,""]
[null,null,null,null,null,null,null,null,null,null,null,null,null,null,null,null,null,null,null,null,null,null,null,null,null,null,null,null,null,null,null,null,null,null,null,null,null,null,null,null,null,null,null,null,null,null,null,null,null,null,null,null,null,null,null,null,null,null,null,null,null,null,null,null,null,null,null,null,null,null,null,null,null,null,null,""]
[null,null,null,null,null,null,null,null,null,null,null,null,null,null,null,null,null,null,null,null,null,null,null,null,null,null,null,null,null,null,null,null,null,null,null,null,null,null,null,null,null,null,null,null,null,null,null,null,null,null,null,null,null,null,null,null,null,null,null,null,null,null,null,null,null,null,null,null,null,null,null,null,null,null,null,""]
[null,null,null,null,null,null,null,null,null,null,null,null,null,null,null,null,null,null,null,null,null,null,null,null,null,null,null,null,null,null,null,null,null,null,null,null,null,null,null,null,null,null,null,null,null,null,null,null,null,null,null,null,null,null,null,null,null,null,null,null,null,null,null,null,null,null,null,null,null,null,null,null,null,null,null,""]
[null,null,null,null,null,null,null,null,null,null,null,null,null,null,null,null,null,null,null,null,null,null,null,null,null,null,null,null,null,null,null,null,null,null,null,null,null,null,null,null,null,null,null,null,null,null,null,null,null,null,null,null,null,null,null,null,null,null,null,null,null,null,null,null,null,null,null,null,null,null,null,null,null,null,null,""]
[null,null,null,null,null,null,null,null,null,null,null,null,null,null,null,null,null,null,null,null,null,null,null,null,null,null,null,null,null,null,null,null,null,null,null,null,null,null,null,null,null,null,null,null,null,null,null,null,null,null,null,null,null,null,null,null,null,null,null,null,null,null,null,null,null,null,null,null,null,null,null,null,null,null,null,""]
[null,null,null,null,null,null,null,null,null,null,null,null,null,null,null,null,null,null,null,null,null,null,null,null,null,null,null,null,null,null,null,null,null,null,null,null,null,null,null,null,null,null,null,null,null,null,null,null,null,null,null,null,null,null,null,null,null,null,null,null,null,null,null,null,null,null,null,null,null,null,null,null,null,null,null,""]
[null,null,null,null,null,null,null,null,null,null,null,null,null,null,null,null,null,null,null,null,null,null,null,null,null,null,null,null,null,null,null,null,null,null,null,null,null,null,null,null,null,null,null,null,null,null,null,null,null,null,null,null,null,null,null,null,null,null,null,null,null,null,null,null,null,null,null,null,null,null,null,null,null,null,null,""]
[null,null,null,null,null,null,null,null,null,null,null,null,null,null,null,null,null,null,null,null,null,null,null,null,null,null,null,null,null,null,null,null,null,null,null,null,null,null,null,null,null,null,null,null,null,null,null,null,null,null,null,null,null,null,null,null,null,null,null,null,null,null,null,null,null,null,null,null,null,null,null,null,null,null,null,""]
[null,null,null,null,null,null,null,null,null,null,null,null,null,null,null,null,null,null,null,null,null,null,null,null,null,null,null,null,null,null,null,null,null,null,null,null,null,null,null,null,null,null,null,null,null,null,null,null,null,null,null,null,null,null,null,null,null,null,null,null,null,null,null,null,null,null,null,null,null,null,null,null,null,null,null,""]
[null,null,null,null,null,null,null,null,null,null,null,null,null,null,null,null,null,null,null,null,null,null,null,null,null,null,null,null,null,null,null,null,null,null,null,null,null,null,null,null,null,null,null,null,null,null,null,null,null,null,null,null,null,null,null,null,null,null,null,null,null,null,null,null,null,null,null,null,null,null,null,null,null,null,null,""]
[null,null,null,null,null,null,null,null,null,null,null,null,null,null,null,null,null,null,null,null,null,null,null,null,null,null,null,null,null,null,null,null,null,null,null,null,null,null,null,null,null,null,null,null,null,null,null,null,null,null,null,null,null,null,null,null,null,null,null,null,null,null,null,null,null,null,null,null,null,null,null,null,null,null,null,""]
[null,null,null,null,null,null,null,null,null,null,null,null,null,null,null,null,null,null,null,null,null,null,null,null,null,null,null,null,null,null,null,null,null,null,null,null,null,null,null,null,null,null,null,null,null,null,null,null,null,null,null,null,null,null,null,null,null,null,null,null,null,null,null,null,null,null,null,null,null,null,null,null,null,null,null,""]
[null,null,null,null,null,null,null,null,null,null,null,null,null,null,null,null,null,null,null,null,null,null,null,null,null,null,null,null,null,null,null,null,null,null,null,null,null,null,null,null,null,null,null,null,null,null,null,null,null,null,null,null,null,null,null,null,null,null,null,null,null,null,null,null,null,null,null,null,null,null,null,null,null,null,null,""]
[null,null,null,null,null,null,null,null,null,null,null,null,null,null,null,null,null,null,null,null,null,null,null,null,null,null,null,null,null,null,null,null,null,null,null,null,null,null,null,null,null,null,null,null,null,null,null,null,null,null,null,null,null,null,null,null,null,null,null,null,null,null,null,null,null,null,null,null,null,null,null,null,null,null,null,""]
[null,null,null,null,null,null,null,null,null,null,null,null,null,null,null,null,null,null,null,null,null,null,null,null,null,null,null,null,null,null,null,null,null,null,null,null,null,null,null,null,null,null,null,null,null,null,null,null,null,null,null,null,null,null,null,null,null,null,null,null,null,null,null,null,null,null,null,null,null,null,null,null,null,null,null,""]
[null,null,null,null,null,null,null,null,null,null,null,null,null,null,null,null,null,null,null,null,null,null,null,null,null,null,null,null,null,null,null,null,null,null,null,null,null,null,null,null,null,null,null,null,null,null,null,null,null,null,null,null,null,null,null,null,null,null,null,null,null,null,null,null,null,null,null,null,null,null,null,null,null,null,null,""]
[null,null,null,null,null,null,null,null,null,null,null,null,null,null,null,null,null,null,null,null,null,null,null,null,null,null,null,null,null,null,null,null,null,null,null,null,null,null,null,null,null,null,null,null,null,null,null,null,null,null,null,null,null,null,null,null,null,null,null,null,null,null,null,null,null,null,null,null,null,null,null,null,null,null,null,""]
[null,null,null,null,null,null,null,null,null,null,null,null,null,null,null,null,null,null,null,null,null,null,null,null,null,null,null,null,null,null,null,null,null,null,null,null,null,null,null,null,null,null,null,null,null,null,null,null,null,null,null,null,null,null,null,null,null,null,null,null,null,null,null,null,null,null,null,null,null,null,null,null,null,null,null,""]
[null,null,null,null,null,null,null,null,null,null,null,null,null,null,null,null,null,null,null,null,null,null,null,null,null,null,null,null,null,null,null,null,null,null,null,null,null,null,null,null,null,null,null,null,null,null,null,null,null,null,null,null,null,null,null,null,null,null,null,null,null,null,null,null,null,null,null,null,null,null,null,null,null,null,null,""]
[null,null,null,null,null,null,null,null,null,null,null,null,null,null,null,null,null,null,null,null,null,null,null,null,null,null,null,null,null,null,null,null,null,null,null,null,null,null,null,null,null,null,null,null,null,null,null,null,null,null,null,null,null,null,null,null,null,null,null,null,null,null,null,null,null,null,null,null,null,null,null,null,null,null,null,""]
[null,null,null,null,null,null,null,null,null,null,null,null,null,null,null,null,null,null,null,null,null,null,null,null,null,null,null,null,null,null,null,null,null,null,null,null,null,null,null,null,null,null,null,null,null,null,null,null,null,null,null,null,null,null,null,null,null,null,null,null,null,null,null,null,null,null,null,null,null,null,null,null,null,null,null,""]
[null,null,null,null,null,null,null,null,null,null,null,null,null,null,null,null,null,null,null,null,null,null,null,null,null,null,null,null,null,null,null,null,null,null,null,null,null,null,null,null,null,null,null,null,null,null,null,null,null,null,null,null,null,null,null,null,null,null,null,null,null,null,null,null,null,null,null,null,null,null,null,null,null,null,null,""]
[null,null,null,null,null,null,null,null,null,null,null,null,null,null,null,null,null,null,null,null,null,null,null,null,null,null,null,null,null,null,null,null,null,null,null,null,null,null,null,null,null,null,null,null,null,null,null,null,null,null,null,null,null,null,null,null,null,null,null,null,null,null,null,null,null,null,null,null,null,null,null,null,null,null,null,""]
[null,null,null,null,null,null,null,null,null,null,null,null,null,null,null,null,null,null,null,null,null,null,null,null,null,null,null,null,null,null,null,null,null,null,null,null,null,null,null,null,null,null,null,null,null,null,null,null,null,null,null,null,null,null,null,null,null,null,null,null,null,null,null,null,null,null,null,null,null,null,null,null,null,null,null,""]
[null,null,null,null,null,null,null,null,null,null,null,null,null,null,null,null,null,null,null,null,null,null,null,null,null,null,null,null,null,null,null,null,null,null,null,null,null,null,null,null,null,null,null,null,null,null,null,null,null,null,null,null,null,null,null,null,null,null,null,null,null,null,null,null,null,null,null,null,null,null,null,null,null,null,null,""]
[null,null,null,null,null,null,null,null,null,null,null,null,null,null,null,null,null,null,null,null,null,null,null,null,null,null,null,null,null,null,null,null,null,null,null,null,null,null,null,null,null,null,null,null,null,null,null,null,null,null,null,null,null,null,null,null,null,null,null,null,null,null,null,null,null,null,null,null,null,null,null,null,null,null,null,""]
[null,null,null,null,null,null,null,null,null,null,null,null,null,null,null,null,null,null,null,null,null,null,null,null,null,null,null,null,null,null,null,null,null,null,null,null,null,null,null,null,null,null,null,null,null,null,null,null,null,null,null,null,null,null,null,null,null,null,null,null,null,null,null,null,null,null,null,null,null,null,null,null,null,null,null,""]
[null,null,null,null,null,null,null,null,null,null,null,null,null,null,null,null,null,null,null,null,null,null,null,null,null,null,null,null,null,null,null,null,null,null,null,null,null,null,null,null,null,null,null,null,null,null,null,null,null,null,null,null,null,null,null,null,null,null,null,null,null,null,null,null,null,null,null,null,null,null,null,null,null,null,null,""]
[null,null,null,null,null,null,null,null,null,null,null,null,null,null,null,null,null,null,null,null,null,null,null,null,null,null,null,null,null,null,null,null,null,null,null,null,null,null,null,null,null,null,null,null,null,null,null,null,null,null,null,null,null,null,null,null,null,null,null,null,null,null,null,null,null,null,null,null,null,null,null,null,null,null,null,""]
[null,null,null,null,null,null,null,null,null,null,null,null,null,null,null,null,null,null,null,null,null,null,null,null,null,null,null,null,null,null,null,null,null,null,null,null,null,null,null,null,null,null,null,null,null,null,null,null,null,null,null,null,null,null,null,null,null,null,null,null,null,null,null,null,null,null,null,null,null,null,null,null,null,null,null,""]
[null,null,null,null,null,null,null,null,null,null,null,null,null,null,null,null,null,null,null,null,null,null,null,null,null,null,null,null,null,null,null,null,null,null,null,null,null,null,null,null,null,null,null,null,null,null,null,null,null,null,null,null,null,null,null,null,null,null,null,null,null,null,null,null,null,null,null,null,null,null,null,null,null,null,null,""]
[null,null,null,null,null,null,null,null,null,null,null,null,null,null,null,null,null,null,null,null,null,null,null,null,null,null,null,null,null,null,null,null,null,null,null,null,null,null,null,null,null,null,null,null,null,null,null,null,null,null,null,null,null,null,null,null,null,null,null,null,null,null,null,null,null,null,null,null,null,null,null,null,null,null,null,""]
[null,null,null,null,null,null,null,null,null,null,null,null,null,null,null,null,null,null,null,null,null,null,null,null,null,null,null,null,null,null,null,null,null,null,null,null,null,null,null,null,null,null,null,null,null,null,null,null,null,null,null,null,null,null,null,null,null,null,null,null,null,null,null,null,null,null,null,null,null,null,null,null,null,null,null,""]
[null,null,null,null,null,null,null,null,null,null,null,null,null,null,null,null,null,null,null,null,null,null,null,null,null,null,null,null,null,null,null,null,null,null,null,null,null,null,null,null,null,null,null,null,null,null,null,null,null,null,null,null,null,null,null,null,null,null,null,null,null,null,null,null,null,null,null,null,null,null,null,null,null,null,null,""]
[null,null,null,null,null,null,null,null,null,null,null,null,null,null,null,null,null,null,null,null,null,null,null,null,null,null,null,null,null,null,null,null,null,null,null,null,null,null,null,null,null,null,null,null,null,null,null,null,null,null,null,null,null,null,null,null,null,null,null,null,null,null,null,null,null,null,null,null,null,null,null,null,null,null,null,""]
[null,null,null,null,null,null,null,null,null,null,null,null,null,null,null,null,null,null,null,null,null,null,null,null,null,null,null,null,null,null,null,null,null,null,null,null,null,null,null,null,null,null,null,null,null,null,null,null,null,null,null,null,null,null,null,null,null,null,null,null,null,null,null,null,null,null,null,null,null,null,null,null,null,null,null,""]
[null,null,null,null,null,null,null,null,null,null,null,null,null,null,null,null,null,null,null,null,null,null,null,null,null,null,null,null,null,null,null,null,null,null,null,null,null,null,null,null,null,null,null,null,null,null,null,null,null,null,null,null,null,null,null,null,null,null,null,null,null,null,null,null,null,null,null,null,null,null,null,null,null,null,null,""]
[null,null,null,null,null,null,null,null,null,null,null,null,null,null,null,null,null,null,null,null,null,null,null,null,null,null,null,null,null,null,null,null,null,null,null,null,null,null,null,null,null,null,null,null,null,null,null,null,null,null,null,null,null,null,null,null,null,null,null,null,null,null,null,null,null,null,null,null,null,null,null,null,null,null,null,""]
[null,null,null,null,null,null,null,null,null,null,null,null,null,null,null,null,null,null,null,null,null,null,null,null,null,null,null,null,null,null,null,null,null,null,null,null,null,null,null,null,null,null,null,null,null,null,null,null,null,null,null,null,null,null,null,null,null,null,null,null,null,null,null,null,null,null,null,null,null,null,null,null,null,null,null,""]
[null,null,null,null,null,null,null,null,null,null,null,null,null,null,null,null,null,null,null,null,null,null,null,null,null,null,null,null,null,null,null,null,null,null,null,null,null,null,null,null,null,null,null,null,null,null,null,null,null,null,null,null,null,null,null,null,null,null,null,null,null,null,null,null,null,null,null,null,null,null,null,null,null,null,null,""]
[null,null,null,null,null,null,null,null,null,null,null,null,null,null,null,null,null,null,null,null,null,null,null,null,null,null,null,null,null,null,null,null,null,null,null,null,null,null,null,null,null,null,null,null,null,null,null,null,null,null,null,null,null,null,null,null,null,null,null,null,null,null,null,null,null,null,null,null,null,null,null,null,null,null,null,""]
[null,null,null,null,null,null,null,null,null,null,null,null,null,null,null,null,null,null,null,null,null,null,null,null,null,null,null,null,null,null,null,null,null,null,null,null,null,null,null,null,null,null,null,null,null,null,null,null,null,null,null,null,null,null,null,null,null,null,null,null,null,null,null,null,null,null,null,null,null,null,null,null,null,null,null,""]
[null,null,null,null,null,null,null,null,null,null,null,null,null,null,null,null,null,null,null,null,null,null,null,null,null,null,null,null,null,null,null,null,null,null,null,null,null,null,null,null,null,null,null,null,null,null,null,null,null,null,null,null,null,null,null,null,null,null,null,null,null,null,null,null,null,null,null,null,null,null,null,null,null,null,null,""]
[null,null,null,null,null,null,null,null,null,null,null,null,null,null,null,null,null,null,null,null,null,null,null,null,null,null,null,null,null,null,null,null,null,null,null,null,null,null,null,null,null,null,null,null,null,null,null,null,null,null,null,null,null,null,null,null,null,null,null,null,null,null,null,null,null,null,null,null,null,null,null,null,null,null,null,""]
[null,null,null,null,null,null,null,null,null,null,null,null,null,null,null,null,null,null,null,null,null,null,null,null,null,null,null,null,null,null,null,null,null,null,null,null,null,null,null,null,null,null,null,null,null,null,null,null,null,null,null,null,null,null,null,null,null,null,null,null,null,null,null,null,null,null,null,null,null,null,null,null,null,null,null,""]
[null,null,null,null,null,null,null,null,null,null,null,null,null,null,null,null,null,null,null,null,null,null,null,null,null,null,null,null,null,null,null,null,null,null,null,null,null,null,null,null,null,null,null,null,null,null,null,null,null,null,null,null,null,null,null,null,null,null,null,null,null,null,null,null,null,null,null,null,null,null,null,null,null,null,null,""]
[null,null,null,null,null,null,null,null,null,null,null,null,null,null,null,null,null,null,null,null,null,null,null,null,null,null,null,null,null,null,null,null,null,null,null,null,null,null,null,null,null,null,null,null,null,null,null,null,null,null,null,null,null,null,null,null,null,null,null,null,null,null,null,null,null,null,null,null,null,null,null,null,null,null,null,""]
[null,null,null,null,null,null,null,null,null,null,null,null,null,null,null,null,null,null,null,null,null,null,null,null,null,null,null,null,null,null,null,null,null,null,null,null,null,null,null,null,null,null,null,null,null,null,null,null,null,null,null,null,null,null,null,null,null,null,null,null,null,null,null,null,null,null,null,null,null,null,null,null,null,null,null,""]
[null,null,null,null,null,null,null,null,null,null,null,null,null,null,null,null,null,null,null,null,null,null,null,null,null,null,null,null,null,null,null,null,null,null,null,null,null,null,null,null,null,null,null,null,null,null,null,null,null,null,null,null,null,null,null,null,null,null,null,null,null,null,null,null,null,null,null,null,null,null,null,null,null,null,null,""]
[null,null,null,null,null,null,null,null,null,null,null,null,null,null,null,null,null,null,null,null,null,null,null,null,null,null,null,null,null,null,null,null,null,null,null,null,null,null,null,null,null,null,null,null,null,null,null,null,null,null,null,null,null,null,null,null,null,null,null,null,null,null,null,null,null,null,null,null,null,null,null,null,null,null,null,""]
[null,null,null,null,null,null,null,null,null,null,null,null,null,null,null,null,null,null,null,null,null,null,null,null,null,null,null,null,null,null,null,null,null,null,null,null,null,null,null,null,null,null,null,null,null,null,null,null,null,null,null,null,null,null,null,null,null,null,null,null,null,null,null,null,null,null,null,null,null,null,null,null,null,null,null,""]
[null,null,null,null,null,null,null,null,null,null,null,null,null,null,null,null,null,null,null,null,null,null,null,null,null,null,null,null,null,null,null,null,null,null,null,null,null,null,null,null,null,null,null,null,null,null,null,null,null,null,null,null,null,null,null,null,null,null,null,null,null,null,null,null,null,null,null,null,null,null,null,null,null,null,null,""]
[null,null,null,null,null,null,null,null,null,null,null,null,null,null,null,null,null,null,null,null,null,null,null,null,null,null,null,null,null,null,null,null,null,null,null,null,null,null,null,null,null,null,null,null,null,null,null,null,null,null,null,null,null,null,null,null,null,null,null,null,null,null,null,null,null,null,null,null,null,null,null,null,null,null,null,""]
[null,null,null,null,null,null,null,null,null,null,null,null,null,null,null,null,null,null,null,null,null,null,null,null,null,null,null,null,null,null,null,null,null,null,null,null,null,null,null,null,null,null,null,null,null,null,null,null,null,null,null,null,null,null,null,null,null,null,null,null,null,null,null,null,null,null,null,null,null,null,null,null,null,null,null,""]
[null,null,null,null,null,null,null,null,null,null,null,null,null,null,null,null,null,null,null,null,null,null,null,null,null,null,null,null,null,null,null,null,null,null,null,null,null,null,null,null,null,null,null,null,null,null,null,null,null,null,null,null,null,null,null,null,null,null,null,null,null,null,null,null,null,null,null,null,null,null,null,null,null,null,null,""]
[null,null,null,null,null,null,null,null,null,null,null,null,null,null,null,null,null,null,null,null,null,null,null,null,null,null,null,null,null,null,null,null,null,null,null,null,null,null,null,null,null,null,null,null,null,null,null,null,null,null,null,null,null,null,null,null,null,null,null,null,null,null,null,null,null,null,null,null,null,null,null,null,null,null,null,""]
[null,null,null,null,null,null,null,null,null,null,null,null,null,null,null,null,null,null,null,null,null,null,null,null,null,null,null,null,null,null,null,null,null,null,null,null,null,null,null,null,null,null,null,null,null,null,null,null,null,null,null,null,null,null,null,null,null,null,null,null,null,null,null,null,null,null,null,null,null,null,null,null,null,null,null,""]
[null,null,null,null,null,null,null,null,null,null,null,null,null,null,null,null,null,null,null,null,null,null,null,null,null,null,null,null,null,null,null,null,null,null,null,null,null,null,null,null,null,null,null,null,null,null,null,null,null,null,null,null,null,null,null,null,null,null,null,null,null,null,null,null,null,null,null,null,null,null,null,null,null,null,null,""]
[null,null,null,null,null,null,null,null,null,null,null,null,null,null,null,null,null,null,null,null,null,null,null,null,null,null,null,null,null,null,null,null,null,null,null,null,null,null,null,null,null,null,null,null,null,null,null,null,null,null,null,null,null,null,null,null,null,null,null,null,null,null,null,null,null,null,null,null,null,null,null,null,null,null,null,""]
[null,null,null,null,null,null,null,null,null,null,null,null,null,null,null,null,null,null,null,null,null,null,null,null,null,null,null,null,null,null,null,null,null,null,null,null,null,null,null,null,null,null,null,null,null,null,null,null,null,null,null,null,null,null,null,null,null,null,null,null,null,null,null,null,null,null,null,null,null,null,null,null,null,null,null,""]
[null,null,null,null,null,null,null,null,null,null,null,null,null,null,null,null,null,null,null,null,null,null,null,null,null,null,null,null,null,null,null,null,null,null,null,null,null,null,null,null,null,null,null,null,null,null,null,null,null,null,null,null,null,null,null,null,null,null,null,null,null,null,null,null,null,null,null,null,null,null,null,null,null,null,null,""]
[null,null,null,null,null,null,null,null,null,null,null,null,null,null,null,null,null,null,null,null,null,null,null,null,null,null,null,null,null,null,null,null,null,null,null,null,null,null,null,null,null,null,null,null,null,null,null,null,null,null,null,null,null,null,null,null,null,null,null,null,null,null,null,null,null,null,null,null,null,null,null,null,null,null,null,""]
[null,null,null,null,null,null,null,null,null,null,null,null,null,null,null,null,null,null,null,null,null,null,null,null,null,null,null,null,null,null,null,null,null,null,null,null,null,null,null,null,null,null,null,null,null,null,null,null,null,null,null,null,null,null,null,null,null,null,null,null,null,null,null,null,null,null,null,null,null,null,null,null,null,null,null,""]
[null,null,null,null,null,null,null,null,null,null,null,null,null,null,null,null,null,null,null,null,null,null,null,null,null,null,null,null,null,null,null,null,null,null,null,null,null,null,null,null,null,null,null,null,null,null,null,null,null,null,null,null,null,null,null,null,null,null,null,null,null,null,null,null,null,null,null,null,null,null,null,null,null,null,null,""]
[null,null,null,null,null,null,null,null,null,null,null,null,null,null,null,null,null,null,null,null,null,null,null,null,null,null,null,null,null,null,null,null,null,null,null,null,null,null,null,null,null,null,null,null,null,null,null,null,null,null,null,null,null,null,null,null,null,null,null,null,null,null,null,null,null,null,null,null,null,null,null,null,null,null,null,""]
[null,null,null,null,null,null,null,null,null,null,null,null,null,null,null,null,null,null,null,null,null,null,null,null,null,null,null,null,null,null,null,null,null,null,null,null,null,null,null,null,null,null,null,null,null,null,null,null,null,null,null,null,null,null,null,null,null,null,null,null,null,null,null,null,null,null,null,null,null,null,null,null,null,null,null,""]
[null,null,null,null,null,null,null,null,null,null,null,null,null,null,null,null,null,null,null,null,null,null,null,null,null,null,null,null,null,null,null,null,null,null,null,null,null,null,null,null,null,null,null,null,null,null,null,null,null,null,null,null,null,null,null,null,null,null,null,null,null,null,null,null,null,null,null,null,null,null,null,null,null,null,null,""]
[null,null,null,null,null,null,null,null,null,null,null,null,null,null,null,null,null,null,null,null,null,null,null,null,null,null,null,null,null,null,null,null,null,null,null,null,null,null,null,null,null,null,null,null,null,null,null,null,null,null,null,null,null,null,null,null,null,null,null,null,null,null,null,null,null,null,null,null,null,null,null,null,null,null,null,""]
[null,null,null,null,null,null,null,null,null,null,null,null,null,null,null,null,null,null,null,null,null,null,null,null,null,null,null,null,null,null,null,null,null,null,null,null,null,null,null,null,null,null,null,null,null,null,null,null,null,null,null,null,null,null,null,null,null,null,null,null,null,null,null,null,null,null,null,null,null,null,null,null,null,null,null,""]
[null,null,null,null,null,null,null,null,null,null,null,null,null,null,null,null,null,null,null,null,null,null,null,null,null,null,null,null,null,null,null,null,null,null,null,null,null,null,null,null,null,null,null,null,null,null,null,null,null,null,null,null,null,null,null,null,null,null,null,null,null,null,null,null,null,null,null,null,null,null,null,null,null,null,null,""]
[null,null,null,null,null,null,null,null,null,null,null,null,null,null,null,null,null,null,null,null,null,null,null,null,null,null,null,null,null,null,null,null,null,null,null,null,null,null,null,null,null,null,null,null,null,null,null,null,null,null,null,null,null,null,null,null,null,null,null,null,null,null,null,null,null,null,null,null,null,null,null,null,null,null,null,""]
[null,null,null,null,null,null,null,null,null,null,null,null,null,null,null,null,null,null,null,null,null,null,null,null,null,null,null,null,null,null,null,null,null,null,null,null,null,null,null,null,null,null,null,null,null,null,null,null,null,null,null,null,null,null,null,null,null,null,null,null,null,null,null,null,null,null,null,null,null,null,null,null,null,null,null,""]
[null,null,null,null,null,null,null,null,null,null,null,null,null,null,null,null,null,null,null,null,null,null,null,null,null,null,null,null,null,null,null,null,null,null,null,null,null,null,null,null,null,null,null,null,null,null,null,null,null,null,null,null,null,null,null,null,null,null,null,null,null,null,null,null,null,null,null,null,null,null,null,null,null,null,null,""]
[null,null,null,null,null,null,null,null,null,null,null,null,null,null,null,null,null,null,null,null,null,null,null,null,null,null,null,null,null,null,null,null,null,null,null,null,null,null,null,null,null,null,null,null,null,null,null,null,null,null,null,null,null,null,null,null,null,null,null,null,null,null,null,null,null,null,null,null,null,null,null,null,null,null,null,""]
[null,null,null,null,null,null,null,null,null,null,null,null,null,null,null,null,null,null,null,null,null,null,null,null,null,null,null,null,null,null,null,null,null,null,null,null,null,null,null,null,null,null,null,null,null,null,null,null,null,null,null,null,null,null,null,null,null,null,null,null,null,null,null,null,null,null,null,null,null,null,null,null,null,null,null,""]
[null,null,null,null,null,null,null,null,null,null,null,null,null,null,null,null,null,null,null,null,null,null,null,null,null,null,null,null,null,null,null,null,null,null,null,null,null,null,null,null,null,null,null,null,null,null,null,null,null,null,null,null,null,null,null,null,null,null,null,null,null,null,null,null,null,null,null,null,null,null,null,null,null,null,null,""]
[null,null,null,null,null,null,null,null,null,null,null,null,null,null,null,null,null,null,null,null,null,null,null,null,null,null,null,null,null,null,null,null,null,null,null,null,null,null,null,null,null,null,null,null,null,null,null,null,null,null,null,null,null,null,null,null,null,null,null,null,null,null,null,null,null,null,null,null,null,null,null,null,null,null,null,""]
[null,null,null,null,null,null,null,null,null,null,null,null,null,null,null,null,null,null,null,null,null,null,null,null,null,null,null,null,null,null,null,null,null,null,null,null,null,null,null,null,null,null,null,null,null,null,null,null,null,null,null,null,null,null,null,null,null,null,null,null,null,null,null,null,null,null,null,null,null,null,null,null,null,null,null,""]
[null,null,null,null,null,null,null,null,null,null,null,null,null,null,null,null,null,null,null,null,null,null,null,null,null,null,null,null,null,null,null,null,null,null,null,null,null,null,null,null,null,null,null,null,null,null,null,null,null,null,null,null,null,null,null,null,null,null,null,null,null,null,null,null,null,null,null,null,null,null,null,null,null,null,null,""]
[null,null,null,null,null,null,null,null,null,null,null,null,null,null,null,null,null,null,null,null,null,null,null,null,null,null,null,null,null,null,null,null,null,null,null,null,null,null,null,null,null,null,null,null,null,null,null,null,null,null,null,null,null,null,null,null,null,null,null,null,null,null,null,null,null,null,null,null,null,null,null,null,null,null,null,""]
[null,null,null,null,null,null,null,null,null,null,null,null,null,null,null,null,null,null,null,null,null,null,null,null,null,null,null,null,null,null,null,null,null,null,null,null,null,null,null,null,null,null,null,null,null,null,null,null,null,null,null,null,null,null,null,null,null,null,null,null,null,null,null,null,null,null,null,null,null,null,null,null,null,null,null,""]
[null,null,null,null,null,null,null,null,null,null,null,null,null,null,null,null,null,null,null,null,null,null,null,null,null,null,null,null,null,null,null,null,null,null,null,null,null,null,null,null,null,null,null,null,null,null,null,null,null,null,null,null,null,null,null,null,null,null,null,null,null,null,null,null,null,null,null,null,null,null,null,null,null,null,null,""]
[null,null,null,null,null,null,null,null,null,null,null,null,null,null,null,null,null,null,null,null,null,null,null,null,null,null,null,null,null,null,null,null,null,null,null,null,null,null,null,null,null,null,null,null,null,null,null,null,null,null,null,null,null,null,null,null,null,null,null,null,null,null,null,null,null,null,null,null,null,null,null,null,null,null,null,""]
[null,null,null,null,null,null,null,null,null,null,null,null,null,null,null,null,null,null,null,null,null,null,null,null,null,null,null,null,null,null,null,null,null,null,null,null,null,null,null,null,null,null,null,null,null,null,null,null,null,null,null,null,null,null,null,null,null,null,null,null,null,null,null,null,null,null,null,null,null,null,null,null,null,null,null,""]
[null,null,null,null,null,null,null,null,null,null,null,null,null,null,null,null,null,null,null,null,null,null,null,null,null,null,null,null,null,null,null,null,null,null,null,null,null,null,null,null,null,null,null,null,null,null,null,null,null,null,null,null,null,null,null,null,null,null,null,null,null,null,null,null,null,null,null,null,null,null,null,null,null,null,null,""]
[null,null,null,null,null,null,null,null,null,null,null,null,null,null,null,null,null,null,null,null,null,null,null,null,null,null,null,null,null,null,null,null,null,null,null,null,null,null,null,null,null,null,null,null,null,null,null,null,null,null,null,null,null,null,null,null,null,null,null,null,null,null,null,null,null,null,null,null,null,null,null,null,null,null,null,""]
[null,null,null,null,null,null,null,null,null,null,null,null,null,null,null,null,null,null,null,null,null,null,null,null,null,null,null,null,null,null,null,null,null,null,null,null,null,null,null,null,null,null,null,null,null,null,null,null,null,null,null,null,null,null,null,null,null,null,null,null,null,null,null,null,null,null,null,null,null,null,null,null,null,null,null,""]
[null,null,null,null,null,null,null,null,null,null,null,null,null,null,null,null,null,null,null,null,null,null,null,null,null,null,null,null,null,null,null,null,null,null,null,null,null,null,null,null,null,null,null,null,null,null,null,null,null,null,null,null,null,null,null,null,null,null,null,null,null,null,null,null,null,null,null,null,null,null,null,null,null,null,null,""]
[null,null,null,null,null,null,null,null,null,null,null,null,null,null,null,null,null,null,null,null,null,null,null,null,null,null,null,null,null,null,null,null,null,null,null,null,null,null,null,null,null,null,null,null,null,null,null,null,null,null,null,null,null,null,null,null,null,null,null,null,null,null,null,null,null,null,null,null,null,null,null,null,null,null,null,""]
[null,null,null,null,null,null,null,null,null,null,null,null,null,null,null,null,null,null,null,null,null,null,null,null,null,null,null,null,null,null,null,null,null,null,null,null,null,null,null,null,null,null,null,null,null,null,null,null,null,null,null,null,null,null,null,null,null,null,null,null,null,null,null,null,null,null,null,null,null,null,null,null,null,null,null,""]
[null,null,null,null,null,null,null,null,null,null,null,null,null,null,null,null,null,null,null,null,null,null,null,null,null,null,null,null,null,null,null,null,null,null,null,null,null,null,null,null,null,null,null,null,null,null,null,null,null,null,null,null,null,null,null,null,null,null,null,null,null,null,null,null,null,null,null,null,null,null,null,null,null,null,null,""]
[null,null,null,null,null,null,null,null,null,null,null,null,null,null,null,null,null,null,null,null,null,null,null,null,null,null,null,null,null,null,null,null,null,null,null,null,null,null,null,null,null,null,null,null,null,null,null,null,null,null,null,null,null,null,null,null,null,null,null,null,null,null,null,null,null,null,null,null,null,null,null,null,null,null,null,""]
[null,null,null,null,null,null,null,null,null,null,null,null,null,null,null,null,null,null,null,null,null,null,null,null,null,null,null,null,null,null,null,null,null,null,null,null,null,null,null,null,null,null,null,null,null,null,null,null,null,null,null,null,null,null,null,null,null,null,null,null,null,null,null,null,null,null,null,null,null,null,null,null,null,null,null,""]
[null,null,null,null,null,null,null,null,null,null,null,null,null,null,null,null,null,null,null,null,null,null,null,null,null,null,null,null,null,null,null,null,null,null,null,null,null,null,null,null,null,null,null,null,null,null,null,null,null,null,null,null,null,null,null,null,null,null,null,null,null,null,null,null,null,null,null,null,null,null,null,null,null,null,null,""]
[null,null,null,null,null,null,null,null,null,null,null,null,null,null,null,null,null,null,null,null,null,null,null,null,null,null,null,null,null,null,null,null,null,null,null,null,null,null,null,null,null,null,null,null,null,null,null,null,null,null,null,null,null,null,null,null,null,null,null,null,null,null,null,null,null,null,null,null,null,null,null,null,null,null,null,""]
[null,null,null,null,null,null,null,null,null,null,null,null,null,null,null,null,null,null,null,null,null,null,null,null,null,null,null,null,null,null,null,null,null,null,null,null,null,null,null,null,null,null,null,null,null,null,null,null,null,null,null,null,null,null,null,null,null,null,null,null,null,null,null,null,null,null,null,null,null,null,null,null,null,null,null,""]
[null,null,null,null,null,null,null,null,null,null,null,null,null,null,null,null,null,null,null,null,null,null,null,null,null,null,null,null,null,null,null,null,null,null,null,null,null,null,null,null,null,null,null,null,null,null,null,null,null,null,null,null,null,null,null,null,null,null,null,null,null,null,null,null,null,null,null,null,null,null,null,null,null,null,null,""]
[null,null,null,null,null,null,null,null,null,null,null,null,null,null,null,null,null,null,null,null,null,null,null,null,null,null,null,null,null,null,null,null,null,null,null,null,null,null,null,null,null,null,null,null,null,null,null,null,null,null,null,null,null,null,null,null,null,null,null,null,null,null,null,null,null,null,null,null,null,null,null,null,null,null,null,""]
[null,null,null,null,null,null,null,null,null,null,null,null,null,null,null,null,null,null,null,null,null,null,null,null,null,null,null,null,null,null,null,null,null,null,null,null,null,null,null,null,null,null,null,null,null,null,null,null,null,null,null,null,null,null,null,null,null,null,null,null,null,null,null,null,null,null,null,null,null,null,null,null,null,null,null,""]
[null,null,null,null,null,null,null,null,null,null,null,null,null,null,null,null,null,null,null,null,null,null,null,null,null,null,null,null,null,null,null,null,null,null,null,null,null,null,null,null,null,null,null,null,null,null,null,null,null,null,null,null,null,null,null,null,null,null,null,null,null,null,null,null,null,null,null,null,null,null,null,null,null,null,null,""]
[null,null,null,null,null,null,null,null,null,null,null,null,null,null,null,null,null,null,null,null,null,null,null,null,null,null,null,null,null,null,null,null,null,null,null,null,null,null,null,null,null,null,null,null,null,null,null,null,null,null,null,null,null,null,null,null,null,null,null,null,null,null,null,null,null,null,null,null,null,null,null,null,null,null,null,""]
[null,null,null,null,null,null,null,null,null,null,null,null,null,null,null,null,null,null,null,null,null,null,null,null,null,null,null,null,null,null,null,null,null,null,null,null,null,null,null,null,null,null,null,null,null,null,null,null,null,null,null,null,null,null,null,null,null,null,null,null,null,null,null,null,null,null,null,null,null,null,null,null,null,null,null,""]
[null,null,null,null,null,null,null,null,null,null,null,null,null,null,null,null,null,null,null,null,null,null,null,null,null,null,null,null,null,null,null,null,null,null,null,null,null,null,null,null,null,null,null,null,null,null,null,null,null,null,null,null,null,null,null,null,null,null,null,null,null,null,null,null,null,null,null,null,null,null,null,null,null,null,null,""]
[null,null,null,null,null,null,null,null,null,null,null,null,null,null,null,null,null,null,null,null,null,null,null,null,null,null,null,null,null,null,null,null,null,null,null,null,null,null,null,null,null,null,null,null,null,null,null,null,null,null,null,null,null,null,null,null,null,null,null,null,null,null,null,null,null,null,null,null,null,null,null,null,null,null,null,""]
[null,null,null,null,null,null,null,null,null,null,null,null,null,null,null,null,null,null,null,null,null,null,null,null,null,null,null,null,null,null,null,null,null,null,null,null,null,null,null,null,null,null,null,null,null,null,null,null,null,null,null,null,null,null,null,null,null,null,null,null,null,null,null,null,null,null,null,null,null,null,null,null,null,null,null,""]
[null,null,null,null,null,null,null,null,null,null,null,null,null,null,null,null,null,null,null,null,null,null,null,null,null,null,null,null,null,null,null,null,null,null,null,null,null,null,null,null,null,null,null,null,null,null,null,null,null,null,null,null,null,null,null,null,null,null,null,null,null,null,null,null,null,null,null,null,null,null,null,null,null,null,null,""]
[null,null,null,null,null,null,null,null,null,null,null,null,null,null,null,null,null,null,null,null,null,null,null,null,null,null,null,null,null,null,null,null,null,null,null,null,null,null,null,null,null,null,null,null,null,null,null,null,null,null,null,null,null,null,null,null,null,null,null,null,null,null,null,null,null,null,null,null,null,null,null,null,null,null,null,""]
[null,null,null,null,null,null,null,null,null,null,null,null,null,null,null,null,null,null,null,null,null,null,null,null,null,null,null,null,null,null,null,null,null,null,null,null,null,null,null,null,null,null,null,null,null,null,null,null,null,null,null,null,null,null,null,null,null,null,null,null,null,null,null,null,null,null,null,null,null,null,null,null,null,null,null,""]
[null,null,null,null,null,null,null,null,null,null,null,null,null,null,null,null,null,null,null,null,null,null,null,null,null,null,null,null,null,null,null,null,null,null,null,null,null,null,null,null,null,null,null,null,null,null,null,null,null,null,null,null,null,null,null,null,null,null,null,null,null,null,null,null,null,null,null,null,null,null,null,null,null,null,null,""]
[null,null,null,null,null,null,null,null,null,null,null,null,null,null,null,null,null,null,null,null,null,null,null,null,null,null,null,null,null,null,null,null,null,null,null,null,null,null,null,null,null,null,null,null,null,null,null,null,null,null,null,null,null,null,null,null,null,null,null,null,null,null,null,null,null,null,null,null,null,null,null,null,null,null,null,""]
[null,null,null,null,null,null,null,null,null,null,null,null,null,null,null,null,null,null,null,null,null,null,null,null,null,null,null,null,null,null,null,null,null,null,null,null,null,null,null,null,null,null,null,null,null,null,null,null,null,null,null,null,null,null,null,null,null,null,null,null,null,null,null,null,null,null,null,null,null,null,null,null,null,null,null,""]
[null,null,null,null,null,null,null,null,null,null,null,null,null,null,null,null,null,null,null,null,null,null,null,null,null,null,null,null,null,null,null,null,null,null,null,null,null,null,null,null,null,null,null,null,null,null,null,null,null,null,null,null,null,null,null,null,null,null,null,null,null,null,null,null,null,null,null,null,null,null,null,null,null,null,null,""]
[null,null,null,null,null,null,null,null,null,null,null,null,null,null,null,null,null,null,null,null,null,null,null,null,null,null,null,null,null,null,null,null,null,null,null,null,null,null,null,null,null,null,null,null,null,null,null,null,null,null,null,null,null,null,null,null,null,null,null,null,null,null,null,null,null,null,null,null,null,null,null,null,null,null,null,""]
[null,null,null,null,null,null,null,null,null,null,null,null,null,null,null,null,null,null,null,null,null,null,null,null,null,null,null,null,null,null,null,null,null,null,null,null,null,null,null,null,null,null,null,null,null,null,null,null,null,null,null,null,null,null,null,null,null,null,null,null,null,null,null,null,null,null,null,null,null,null,null,null,null,null,null,""]
[null,null,null,null,null,null,null,null,null,null,null,null,null,null,null,null,null,null,null,null,null,null,null,null,null,null,null,null,null,null,null,null,null,null,null,null,null,null,null,null,null,null,null,null,null,null,null,null,null,null,null,null,null,null,null,null,null,null,null,null,null,null,null,null,null,null,null,null,null,null,null,null,null,null,null,""]
[null,null,null,null,null,null,null,null,null,null,null,null,null,null,null,null,null,null,null,null,null,null,null,null,null,null,null,null,null,null,null,null,null,null,null,null,null,null,null,null,null,null,null,null,null,null,null,null,null,null,null,null,null,null,null,null,null,null,null,null,null,null,null,null,null,null,null,null,null,null,null,null,null,null,null,""]
[null,null,null,null,null,null,null,null,null,null,null,null,null,null,null,null,null,null,null,null,null,null,null,null,null,null,null,null,null,null,null,null,null,null,null,null,null,null,null,null,null,null,null,null,null,null,null,null,null,null,null,null,null,null,null,null,null,null,null,null,null,null,null,null,null,null,null,null,null,null,null,null,null,null,null,""]
[null,null,null,null,null,null,null,null,null,null,null,null,null,null,null,null,null,null,null,null,null,null,null,null,null,null,null,null,null,null,null,null,null,null,null,null,null,null,null,null,null,null,null,null,null,null,null,null,null,null,null,null,null,null,null,null,null,null,null,null,null,null,null,null,null,null,null,null,null,null,null,null,null,null,null,""]
[null,null,null,null,null,null,null,null,null,null,null,null,null,null,null,null,null,null,null,null,null,null,null,null,null,null,null,null,null,null,null,null,null,null,null,null,null,null,null,null,null,null,null,null,null,null,null,null,null,null,null,null,null,null,null,null,null,null,null,null,null,null,null,null,null,null,null,null,null,null,null,null,null,null,null,""]
[null,null,null,null,null,null,null,null,null,null,null,null,null,null,null,null,null,null,null,null,null,null,null,null,null,null,null,null,null,null,null,null,null,null,null,null,null,null,null,null,null,null,null,null,null,null,null,null,null,null,null,null,null,null,null,null,null,null,null,null,null,null,null,null,null,null,null,null,null,null,null,null,null,null,null,""]
[null,null,null,null,null,null,null,null,null,null,null,null,null,null,null,null,null,null,null,null,null,null,null,null,null,null,null,null,null,null,null,null,null,null,null,null,null,null,null,null,null,null,null,null,null,null,null,null,null,null,null,null,null,null,null,null,null,null,null,null,null,null,null,null,null,null,null,null,null,null,null,null,null,null,null,""]
[null,null,null,null,null,null,null,null,null,null,null,null,null,null,null,null,null,null,null,null,null,null,null,null,null,null,null,null,null,null,null,null,null,null,null,null,null,null,null,null,null,null,null,null,null,null,null,null,null,null,null,null,null,null,null,null,null,null,null,null,null,null,null,null,null,null,null,null,null,null,null,null,null,null,null,""]
[null,null,null,null,null,null,null,null,null,null,null,null,null,null,null,null,null,null,null,null,null,null,null,null,null,null,null,null,null,null,null,null,null,null,null,null,null,null,null,null,null,null,null,null,null,null,null,null,null,null,null,null,null,null,null,null,null,null,null,null,null,null,null,null,null,null,null,null,null,null,null,null,null,null,null,""]
[null,null,null,null,null,null,null,null,null,null,null,null,null,null,null,null,null,null,null,null,null,null,null,null,null,null,null,null,null,null,null,null,null,null,null,null,null,null,null,null,null,null,null,null,null,null,null,null,null,null,null,null,null,null,null,null,null,null,null,null,null,null,null,null,null,null,null,null,null,null,null,null,null,null,null,""]
[null,null,null,null,null,null,null,null,null,null,null,null,null,null,null,null,null,null,null,null,null,null,null,null,null,null,null,null,null,null,null,null,null,null,null,null,null,null,null,null,null,null,null,null,null,null,null,null,null,null,null,null,null,null,null,null,null,null,null,null,null,null,null,null,null,null,null,null,null,null,null,null,null,null,null,""]
[null,null,null,null,null,null,null,null,null,null,null,null,null,null,null,null,null,null,null,null,null,null,null,null,null,null,null,null,null,null,null,null,null,null,null,null,null,null,null,null,null,null,null,null,null,null,null,null,null,null,null,null,null,null,null,null,null,null,null,null,null,null,null,null,null,null,null,null,null,null,null,null,null,null,null,""]
[null,null,null,null,null,null,null,null,null,null,null,null,null,null,null,null,null,null,null,null,null,null,null,null,null,null,null,null,null,null,null,null,null,null,null,null,null,null,null,null,null,null,null,null,null,null,null,null,null,null,null,null,null,null,null,null,null,null,null,null,null,null,null,null,null,null,null,null,null,null,null,null,null,null,null,""]
[null,null,null,null,null,null,null,null,null,null,null,null,null,null,null,null,null,null,null,null,null,null,null,null,null,null,null,null,null,null,null,null,null,null,null,null,null,null,null,null,null,null,null,null,null,null,null,null,null,null,null,null,null,null,null,null,null,null,null,null,null,null,null,null,null,null,null,null,null,null,null,null,null,null,null,""]
[null,null,null,null,null,null,null,null,null,null,null,null,null,null,null,null,null,null,null,null,null,null,null,null,null,null,null,null,null,null,null,null,null,null,null,null,null,null,null,null,null,null,null,null,null,null,null,null,null,null,null,null,null,null,null,null,null,null,null,null,null,null,null,null,null,null,null,null,null,null,null,null,null,null,null,""]
[null,null,null,null,null,null,null,null,null,null,null,null,null,null,null,null,null,null,null,null,null,null,null,null,null,null,null,null,null,null,null,null,null,null,null,null,null,null,null,null,null,null,null,null,null,null,null,null,null,null,null,null,null,null,null,null,null,null,null,null,null,null,null,null,null,null,null,null,null,null,null,null,null,null,null,""]
[null,null,null,null,null,null,null,null,null,null,null,null,null,null,null,null,null,null,null,null,null,null,null,null,null,null,null,null,null,null,null,null,null,null,null,null,null,null,null,null,null,null,null,null,null,null,null,null,null,null,null,null,null,null,null,null,null,null,null,null,null,null,null,null,null,null,null,null,null,null,null,null,null,null,null,""]
[null,null,null,null,null,null,null,null,null,null,null,null,null,null,null,null,null,null,null,null,null,null,null,null,null,null,null,null,null,null,null,null,null,null,null,null,null,null,null,null,null,null,null,null,null,null,null,null,null,null,null,null,null,null,null,null,null,null,null,null,null,null,null,null,null,null,null,null,null,null,null,null,null,null,null,""]
[null,null,null,null,null,null,null,null,null,null,null,null,null,null,null,null,null,null,null,null,null,null,null,null,null,null,null,null,null,null,null,null,null,null,null,null,null,null,null,null,null,null,null,null,null,null,null,null,null,null,null,null,null,null,null,null,null,null,null,null,null,null,null,null,null,null,null,null,null,null,null,null,null,null,null,""]
[null,null,null,null,null,null,null,null,null,null,null,null,null,null,null,null,null,null,null,null,null,null,null,null,null,null,null,null,null,null,null,null,null,null,null,null,null,null,null,null,null,null,null,null,null,null,null,null,null,null,null,null,null,null,null,null,null,null,null,null,null,null,null,null,null,null,null,null,null,null,null,null,null,null,null,""]
[null,null,null,null,null,null,null,null,null,null,null,null,null,null,null,null,null,null,null,null,null,null,null,null,null,null,null,null,null,null,null,null,null,null,null,null,null,null,null,null,null,null,null,null,null,null,null,null,null,null,null,null,null,null,null,null,null,null,null,null,null,null,null,null,null,null,null,null,null,null,null,null,null,null,null,""]
[null,null,null,null,null,null,null,null,null,null,null,null,null,null,null,null,null,null,null,null,null,null,null,null,null,null,null,null,null,null,null,null,null,null,null,null,null,null,null,null,null,null,null,null,null,null,null,null,null,null,null,null,null,null,null,null,null,null,null,null,null,null,null,null,null,null,null,null,null,null,null,null,null,null,null,""]
[null,null,null,null,null,null,null,null,null,null,null,null,null,null,null,null,null,null,null,null,null,null,null,null,null,null,null,null,null,null,null,null,null,null,null,null,null,null,null,null,null,null,null,null,null,null,null,null,null,null,null,null,null,null,null,null,null,null,null,null,null,null,null,null,null,null,null,null,null,null,null,null,null,null,null,""]
[null,null,null,null,null,null,null,null,null,null,null,null,null,null,null,null,null,null,null,null,null,null,null,null,null,null,null,null,null,null,null,null,null,null,null,null,null,null,null,null,null,null,null,null,null,null,null,null,null,null,null,null,null,null,null,null,null,null,null,null,null,null,null,null,null,null,null,null,null,null,null,null,null,null,null,""]
[null,null,null,null,null,null,null,null,null,null,null,null,null,null,null,null,null,null,null,null,null,null,null,null,null,null,null,null,null,null,null,null,null,null,null,null,null,null,null,null,null,null,null,null,null,null,null,null,null,null,null,null,null,null,null,null,null,null,null,null,null,null,null,null,null,null,null,null,null,null,null,null,null,null,null,""]
[null,null,null,null,null,null,null,null,null,null,null,null,null,null,null,null,null,null,null,null,null,null,null,null,null,null,null,null,null,null,null,null,null,null,null,null,null,null,null,null,null,null,null,null,null,null,null,null,null,null,null,null,null,null,null,null,null,null,null,null,null,null,null,null,null,null,null,null,null,null,null,null,null,null,null,""]
[null,null,null,null,null,null,null,null,null,null,null,null,null,null,null,null,null,null,null,null,null,null,null,null,null,null,null,null,null,null,null,null,null,null,null,null,null,null,null,null,null,null,null,null,null,null,null,null,null,null,null,null,null,null,null,null,null,null,null,null,null,null,null,null,null,null,null,null,null,null,null,null,null,null,null,""]
[null,null,null,null,null,null,null,null,null,null,null,null,null,null,null,null,null,null,null,null,null,null,null,null,null,null,null,null,null,null,null,null,null,null,null,null,null,null,null,null,null,null,null,null,null,null,null,null,null,null,null,null,null,null,null,null,null,null,null,null,null,null,null,null,null,null,null,null,null,null,null,null,null,null,null,""]
[null,null,null,null,null,null,null,null,null,null,null,null,null,null,null,null,null,null,null,null,null,null,null,null,null,null,null,null,null,null,null,null,null,null,null,null,null,null,null,null,null,null,null,null,null,null,null,null,null,null,null,null,null,null,null,null,null,null,null,null,null,null,null,null,null,null,null,null,null,null,null,null,null,null,10,""]
[null,null,null,null,null,null,null,null,null,null,null,null,null,null,null,null,null,null,null,null,null,null,null,null,null,null,null,null,null,null,null,null,null,null,null,null,null,null,null,null,null,null,null,null,null,null,null,null,null,null,null,null,null,null,null,null,null,null,null,null,null,null,null,null,null,null,null,null,null,null,null,null,null,null,null,""]
[null,null,null,null,null,null,null,null,null,null,null,null,null,null,null,null,null,null,null,null,null,null,null,null,null,null,null,null,null,null,null,null,null,null,null,null,null,null,null,null,null,null,null,null,null,null,null,null,null,null,null,null,null,null,null,null,null,null,null,null,null,null,null,null,null,null,null,null,null,null,null,null,null,null,null,""]
[null,null,null,null,null,null,null,null,null,null,null,null,null,null,null,null,null,null,null,null,null,null,null,null,null,null,null,null,null,null,null,null,null,null,null,null,null,null,null,null,null,null,null,null,null,null,null,null,null,null,null,null,null,null,null,null,null,null,null,null,null,null,null,null,null,null,null,null,null,null,null,null,null,null,null,""]
[null,null,null,null,null,null,null,null,null,null,null,null,null,null,null,null,null,null,null,null,null,null,null,null,null,null,null,null,null,null,null,null,null,null,null,null,null,null,null,null,null,null,null,null,null,null,null,null,null,null,null,null,null,null,null,null,null,null,null,null,null,null,null,null,null,null,null,null,null,null,null,null,null,null,null,""]
[null,null,null,null,null,null,null,null,null,null,null,null,null,null,null,null,null,null,null,null,null,null,null,null,null,null,null,null,null,null,null,null,null,null,null,null,null,null,null,null,null,null,null,null,null,null,null,null,null,null,null,null,null,null,null,null,null,null,null,null,null,null,null,null,null,null,null,null,null,null,null,null,null,null,null,""]
[null,null,null,null,null,null,null,null,null,null,null,null,null,null,null,null,null,null,null,null,null,null,null,null,null,null,null,null,null,null,null,null,null,null,null,null,null,null,null,null,null,null,null,null,null,null,null,null,null,null,null,null,null,null,null,null,null,null,null,null,null,null,null,null,null,null,null,null,null,null,null,null,null,null,null,""]
[null,null,null,null,null,null,null,null,null,null,null,null,null,null,null,null,null,null,null,null,null,null,null,null,null,null,null,null,null,null,null,null,null,null,null,null,null,null,null,null,null,null,null,null,null,null,null,null,null,null,null,null,null,null,null,null,null,null,null,null,null,null,null,null,null,null,null,null,null,null,null,null,null,null,null,""]
[null,null,null,null,null,null,null,null,null,null,null,null,null,null,null,null,null,null,null,null,null,null,null,null,null,null,null,null,null,null,null,null,null,null,null,null,null,null,null,null,null,null,null,null,null,null,null,null,null,null,null,null,null,null,null,null,null,null,null,null,null,null,null,null,null,null,null,null,null,null,null,null,null,null,null,""]
[null,null,null,null,null,null,null,null,null,null,null,null,null,null,null,null,null,null,null,null,null,null,null,null,null,null,null,null,null,null,null,null,null,null,null,null,null,null,null,null,null,null,null,null,null,null,null,null,null,null,null,null,null,null,null,null,null,null,null,null,null,null,null,null,null,null,null,null,null,null,null,null,null,null,null,""]
[null,null,null,null,null,null,null,null,null,null,null,null,null,null,null,null,null,null,null,null,null,null,null,null,null,null,null,null,null,null,null,null,null,null,null,null,null,null,null,null,null,null,null,null,null,null,null,null,null,null,null,null,null,null,null,null,null,null,null,null,null,null,null,null,null,null,null,null,null,null,null,null,null,null,null,""]
[null,null,null,null,null,null,null,null,null,null,null,null,null,null,null,null,null,null,null,null,null,null,null,null,null,null,null,null,null,null,null,null,null,null,null,null,null,null,null,null,null,null,null,null,null,null,null,null,null,null,null,null,null,null,null,null,null,null,null,null,null,null,null,null,null,null,null,null,null,null,null,null,null,null,null,""]
[null,null,null,null,null,null,null,null,null,null,null,null,null,null,null,null,null,null,null,null,null,null,null,null,null,null,null,null,null,null,null,null,null,null,null,null,null,null,null,null,null,null,null,null,null,null,null,null,null,null,null,null,null,null,null,null,null,null,null,null,null,null,null,null,null,null,null,null,null,null,null,null,null,null,null,""]
[null,null,null,null,null,null,null,null,null,null,null,null,null,null,null,null,null,null,null,null,null,null,null,null,null,null,null,null,null,null,null,null,null,null,null,null,null,null,null,null,null,null,null,null,null,null,null,null,null,null,null,null,null,null,null,null,null,null,null,null,null,null,null,null,null,null,null,null,null,null,null,null,null,null,null,""]
[null,null,null,null,null,null,null,null,null,null,null,null,null,null,null,null,null,null,null,null,null,null,null,null,null,null,null,null,null,null,null,null,null,null,null,null,null,null,null,null,null,null,null,null,null,null,null,null,null,null,null,null,null,null,null,null,null,null,null,null,null,null,null,null,null,null,null,null,null,null,null,null,null,null,null,""]
[null,null,null,null,null,null,null,null,null,null,null,null,null,null,null,null,null,null,null,null,null,null,null,null,null,null,null,null,null,null,null,null,null,null,null,null,null,null,null,null,null,null,null,null,null,null,null,null,null,null,null,null,null,null,null,null,null,null,null,null,null,null,null,null,null,null,null,null,null,null,null,null,null,null,null,""]
[null,null,null,null,null,null,null,null,null,null,null,null,null,null,null,null,null,null,null,null,null,null,null,null,null,null,null,null,null,null,null,null,null,null,null,null,null,null,null,null,null,null,null,null,null,null,null,null,null,null,null,null,null,null,null,null,null,null,null,null,null,null,null,null,null,null,null,null,null,null,null,null,null,null,null,""]
[null,null,null,null,null,null,null,null,null,null,null,null,null,null,null,null,null,null,null,null,null,null,null,null,null,null,null,null,null,null,null,null,null,null,null,null,null,null,null,null,null,null,null,null,null,null,null,null,null,null,null,null,null,null,null,null,null,null,null,null,null,null,null,null,null,null,null,null,null,null,null,null,null,null,null,""]
[null,null,null,null,null,null,null,null,null,null,null,null,null,null,null,null,null,null,null,null,null,null,null,null,null,null,null,null,null,null,null,null,null,null,null,null,null,null,null,null,null,null,null,null,null,null,null,null,null,null,null,null,null,null,null,null,null,null,null,null,null,null,null,null,null,null,null,null,null,null,null,null,null,null,null,""]
[null,null,null,null,null,null,null,null,null,null,null,null,null,null,null,null,null,null,null,null,null,null,null,null,null,null,null,null,null,null,null,null,null,null,null,null,null,null,null,null,null,null,null,null,null,null,null,null,null,null,null,null,null,null,null,null,null,null,null,null,null,null,null,null,null,null,null,null,null,null,null,null,null,null,null,""]
[null,null,null,null,null,null,null,null,null,null,null,null,null,null,null,null,null,null,null,null,null,null,null,null,null,null,null,null,null,null,null,null,null,null,null,null,null,null,null,null,null,null,null,null,null,null,null,null,null,null,null,null,null,null,null,null,null,null,null,null,null,null,null,null,null,null,null,null,null,null,null,null,null,null,null,""]
[null,null,null,null,null,null,null,null,null,null,null,null,null,null,null,null,null,null,null,null,null,null,null,null,null,null,null,null,null,null,null,null,null,null,null,null,null,null,null,null,null,null,null,null,null,null,null,null,null,null,null,null,null,null,null,null,null,null,null,null,null,null,null,null,null,null,null,null,null,null,null,null,null,null,null,""]
[null,null,null,null,null,null,null,null,null,null,null,null,null,null,null,null,null,null,null,null,null,null,null,null,null,null,null,null,null,null,null,null,null,null,null,null,null,null,null,null,null,null,null,null,null,null,null,null,null,null,null,null,null,null,null,null,null,null,null,null,null,null,null,null,null,null,null,null,null,null,null,null,null,null,null,""]
[null,null,null,null,null,null,null,null,null,null,null,null,null,null,null,null,null,null,null,null,null,null,null,null,null,null,null,null,null,null,null,null,null,null,null,null,null,null,null,null,null,null,null,null,null,null,null,null,null,null,null,null,null,null,null,null,null,null,null,null,null,null,null,null,null,null,null,null,null,null,null,null,null,null,null,""]
[null,null,null,null,null,null,null,null,null,null,null,null,null,null,null,null,null,null,null,null,null,null,null,null,null,null,null,null,null,null,null,null,null,null,null,null,null,null,null,null,null,null,null,null,null,null,null,null,null,null,null,null,null,null,null,null,null,null,null,null,null,null,null,null,null,null,null,null,null,null,null,null,null,null,null,""]
[null,null,null,null,null,null,null,null,null,null,null,null,null,null,null,null,null,null,null,null,null,null,null,null,null,null,null,null,null,null,null,null,null,null,null,null,null,null,null,null,null,null,null,null,null,null,null,null,null,null,null,null,null,null,null,null,null,null,null,null,null,null,null,null,null,null,null,null,null,null,null,null,null,null,null,""]
[null,null,null,null,null,null,null,null,null,null,null,null,null,null,null,null,null,null,null,null,null,null,null,null,null,null,null,null,null,null,null,null,null,null,null,null,null,null,null,null,null,null,null,null,null,null,null,null,null,null,null,null,null,null,null,null,null,null,null,null,null,null,null,null,null,null,null,null,null,null,null,null,null,null,null,""]
[null,null,null,null,null,null,null,null,null,null,null,null,null,null,null,null,null,null,null,null,null,null,null,null,null,null,null,null,null,null,null,null,null,null,null,null,null,null,null,null,null,null,null,null,null,null,null,null,null,null,null,null,null,null,null,null,null,null,null,null,null,null,null,null,null,null,null,null,null,null,null,null,null,null,null,""]
[null,null,null,null,null,null,null,null,null,null,null,null,null,null,null,null,null,null,null,null,null,null,null,null,null,null,null,null,null,null,null,null,null,null,null,null,null,null,null,null,null,null,null,null,null,null,null,null,null,null,null,null,null,null,null,null,null,null,null,null,null,null,null,null,null,null,null,null,null,null,null,null,null,null,null,""]
[null,null,null,null,null,null,null,null,null,null,null,null,null,null,null,null,null,null,null,null,null,null,null,null,null,null,null,null,null,null,null,null,null,null,null,null,null,null,null,null,null,null,null,null,null,null,null,null,null,null,null,null,null,null,null,null,null,null,null,null,null,null,null,null,null,null,null,null,null,null,null,null,null,null,null,""]
[null,null,null,null,null,null,null,null,null,null,null,null,null,null,null,null,null,null,null,null,null,null,null,null,null,null,null,null,null,null,null,null,null,null,null,null,null,null,null,null,null,null,null,null,null,null,null,null,null,null,null,null,null,null,null,null,null,null,null,null,null,null,null,null,null,null,null,null,null,null,null,null,null,null,null,""]
[null,null,null,null,null,null,null,null,null,null,null,null,null,null,null,null,null,null,null,null,null,null,null,null,null,null,null,null,null,null,null,null,null,null,null,null,null,null,null,null,null,null,null,null,null,null,null,null,null,null,null,null,null,null,null,null,null,null,null,null,null,null,null,null,null,null,null,null,null,null,null,null,null,null,null,""]
[null,null,null,null,null,null,null,null,null,null,null,null,null,null,null,null,null,null,null,null,null,null,null,null,null,null,null,null,null,null,null,null,null,null,null,null,null,null,null,null,null,null,null,null,null,null,null,null,null,null,null,null,null,null,null,null,null,null,null,null,null,null,null,null,null,null,null,null,null,null,null,null,null,null,null,""]
[null,null,null,null,null,null,null,null,null,null,null,null,null,null,null,null,null,null,null,null,null,null,null,null,null,null,null,null,null,null,null,null,null,null,null,null,null,null,null,null,null,null,null,null,null,null,null,null,null,null,null,null,null,null,null,null,null,null,null,null,null,null,null,null,null,null,null,null,null,null,null,null,null,null,null,""]
[null,null,null,null,null,null,null,null,null,null,null,null,null,null,null,null,null,null,null,null,null,null,null,null,null,null,null,null,null,null,null,null,null,null,null,null,null,null,null,null,null,null,null,null,null,null,null,null,null,null,null,null,null,null,null,null,null,null,null,null,null,null,null,null,null,null,null,null,null,null,null,null,null,null,null,""]
[null,null,null,null,null,null,null,null,null,null,null,null,null,null,null,null,null,null,null,null,null,null,null,null,null,null,null,null,null,null,null,null,null,null,null,null,null,null,null,null,null,null,null,null,null,null,null,null,null,null,null,null,null,null,null,null,null,null,null,null,null,null,null,null,null,null,null,null,null,null,null,null,null,null,null,""]
[null,null,null,null,null,null,null,null,null,null,null,null,null,null,null,null,null,null,null,null,null,null,null,null,null,null,null,null,null,null,null,null,null,null,null,null,null,null,null,null,null,null,null,null,null,null,null,null,null,null,null,null,null,null,null,null,null,null,null,null,null,null,null,null,null,null,null,null,null,null,null,null,null,null,null,""]
[null,null,null,null,null,null,null,null,null,null,null,null,null,null,null,null,null,null,null,null,null,null,null,null,null,null,null,null,null,null,null,null,null,null,null,null,null,null,null,null,null,null,null,null,null,null,null,null,null,null,null,null,null,null,null,null,null,null,null,null,null,null,null,null,null,null,null,null,null,null,null,null,null,null,null,""]
[null,null,null,null,null,null,null,null,null,null,null,null,null,null,null,null,null,null,null,null,null,null,null,null,null,null,null,null,null,null,null,null,null,null,null,null,null,null,null,null,null,null,null,null,null,null,null,null,null,null,null,null,null,null,null,null,null,null,null,null,null,null,null,null,null,null,null,null,null,null,null,null,null,null,null,""]
[null,null,null,null,null,null,null,null,null,null,null,null,null,null,null,null,null,null,null,null,null,null,null,null,null,null,null,null,null,null,null,null,null,null,null,null,null,null,null,null,null,null,null,null,null,null,null,null,null,null,null,null,null,null,null,null,null,null,null,null,null,null,null,null,null,null,null,null,null,null,null,null,null,null,null,""]
[null,null,null,null,null,null,null,null,null,null,null,null,null,null,null,null,null,null,null,null,null,null,null,null,null,null,null,null,null,null,null,null,null,null,null,null,null,null,null,null,null,null,null,null,null,null,null,null,null,null,null,null,null,null,null,null,null,null,null,null,null,null,null,null,null,null,null,null,null,null,null,null,null,null,null,""]
[null,null,null,null,null,null,null,null,null,null,null,null,null,null,null,null,null,null,null,null,null,null,null,null,null,null,null,null,null,null,null,null,null,null,null,null,null,null,null,null,null,null,null,null,null,null,null,null,null,null,null,null,null,null,null,null,null,null,null,null,null,null,null,null,null,null,null,null,null,null,null,null,null,null,null,""]
[null,null,null,null,null,null,null,null,null,null,null,null,null,null,null,null,null,null,null,null,null,null,null,null,null,null,null,null,null,null,null,null,null,null,null,null,null,null,null,null,null,null,null,null,null,null,null,null,null,null,null,null,null,null,null,null,null,null,null,null,null,null,null,null,null,null,null,null,null,null,null,null,null,null,null,""]
[null,null,null,null,null,null,null,null,null,null,null,null,null,null,null,null,null,null,null,null,null,null,null,null,null,null,null,null,null,null,null,null,null,null,null,null,null,null,null,null,null,null,null,null,null,null,null,null,null,null,null,null,null,null,null,null,null,null,null,null,null,null,null,null,null,null,null,null,null,null,null,null,null,null,null,""]
[null,null,null,null,null,null,null,null,null,null,null,null,null,null,null,null,null,null,null,null,null,null,null,null,null,null,null,null,null,null,null,null,null,null,null,null,null,null,null,null,null,null,null,null,null,null,null,null,null,null,null,null,null,null,null,null,null,null,null,null,null,null,null,null,null,null,null,null,null,null,null,null,null,null,null,""]
[null,null,null,null,null,null,null,null,null,null,null,null,null,null,null,null,null,null,null,null,null,null,null,null,null,null,null,null,null,null,null,null,null,null,null,null,null,null,null,null,null,null,null,null,null,null,null,null,null,null,null,null,null,null,null,null,null,null,null,null,null,null,null,null,null,null,null,null,null,null,null,null,null,null,null,""]
[null,null,null,null,null,null,null,null,null,null,null,null,null,null,null,null,null,null,null,null,null,null,null,null,null,null,null,null,null,null,null,null,null,null,null,null,null,null,null,null,null,null,null,null,null,null,null,null,null,null,null,null,null,null,null,null,null,null,null,null,null,null,null,null,null,null,null,null,null,null,null,null,null,null,null,""]
[null,null,null,null,null,null,null,null,null,null,null,null,null,null,null,null,null,null,null,null,null,null,null,null,null,null,null,null,null,null,null,null,null,null,null,null,null,null,null,null,null,null,null,null,null,null,null,null,null,null,null,null,null,null,null,null,null,null,null,null,null,null,null,null,null,null,null,null,null,null,null,null,null,null,null,""]
[null,null,null,null,null,null,null,null,null,null,null,null,null,null,null,null,null,null,null,null,null,null,null,null,null,null,null,null,null,null,null,null,null,null,null,null,null,null,null,null,null,null,null,null,null,null,null,null,null,null,null,null,null,null,null,null,null,null,null,null,null,null,null,null,null,null,null,null,null,null,null,null,null,null,null,""]
[null,null,null,null,null,null,null,null,null,null,null,null,null,null,null,null,null,null,null,null,null,null,null,null,null,null,null,null,null,null,null,null,null,null,null,null,null,null,null,null,null,null,null,null,null,null,null,null,null,null,null,null,null,null,null,null,null,null,null,null,null,null,null,null,null,null,null,null,null,null,null,null,null,null,null,""]
[null,null,null,null,null,null,null,null,null,null,null,null,null,null,null,null,null,null,null,null,null,null,null,null,null,null,null,null,null,null,null,null,null,null,null,null,null,null,null,null,null,null,null,null,null,null,null,null,null,null,null,null,null,null,null,null,null,null,null,null,null,null,null,null,null,null,null,null,null,null,null,null,null,null,null,""]
[null,null,null,null,null,null,null,null,null,null,null,null,null,null,null,null,null,null,null,null,null,null,null,null,null,null,null,null,null,null,null,null,null,null,null,null,null,null,null,null,null,null,null,null,null,null,null,null,null,null,null,null,null,null,null,null,null,null,null,null,null,null,null,null,null,null,null,null,null,null,null,null,null,null,null,""]
[null,null,null,null,null,null,null,null,null,null,null,null,null,null,null,null,null,null,null,null,null,null,null,null,null,null,null,null,null,null,null,null,null,null,null,null,null,null,null,null,null,null,null,null,null,null,null,null,null,null,null,null,null,null,null,null,null,null,null,null,null,null,null,null,null,null,null,null,null,null,null,null,null,null,null,""]
[null,null,null,null,null,null,null,null,null,null,null,null,null,null,null,null,null,null,null,null,null,null,null,null,null,null,null,null,null,null,null,null,null,null,null,null,null,null,null,null,null,null,null,null,null,null,null,null,null,null,null,null,null,null,null,null,null,null,null,null,null,null,null,null,null,null,null,null,null,null,null,null,null,null,null,""]
[null,null,null,null,null,null,null,null,null,null,null,null,null,null,null,null,null,null,null,null,null,null,null,null,null,null,null,null,null,null,null,null,null,null,null,null,null,null,null,null,null,null,null,null,null,null,null,null,null,null,null,null,null,null,null,null,null,null,null,null,null,null,null,null,null,null,null,null,null,null,null,null,null,null,null,""]
[null,null,null,null,null,null,null,null,null,null,null,null,null,null,null,null,null,null,null,null,null,null,null,null,null,null,null,null,null,null,null,null,null,null,null,null,null,null,null,null,null,null,null,null,null,null,null,null,null,null,null,null,null,null,null,null,null,null,null,null,null,null,null,null,null,null,null,null,null,null,null,null,null,null,null,""]
[null,null,null,null,null,null,null,null,null,null,null,null,null,null,null,null,null,null,null,null,null,null,null,null,null,null,null,null,null,null,null,null,null,null,null,null,null,null,null,null,null,null,null,null,null,null,null,null,null,null,null,null,null,null,null,null,null,null,null,null,null,null,null,null,null,null,null,null,null,null,null,null,null,null,null,""]
[null,null,null,null,null,null,null,null,null,null,null,null,null,null,null,null,null,null,null,null,null,null,null,null,null,null,null,null,null,null,null,null,null,null,null,null,null,null,null,null,null,null,null,null,null,null,null,null,null,null,null,null,null,null,null,null,null,null,null,null,null,null,null,null,null,null,null,null,null,null,null,null,null,null,null,""]
[null,null,null,null,null,null,null,null,null,null,null,null,null,null,null,null,null,null,null,null,null,null,null,null,null,null,null,null,null,null,null,null,null,null,null,null,null,null,null,null,null,null,null,null,null,null,null,null,null,null,null,null,null,null,null,null,null,null,null,null,null,null,null,null,null,null,null,null,null,null,null,null,null,null,null,""]
[null,null,null,null,null,null,null,null,null,null,null,null,null,null,null,null,null,null,null,null,null,null,null,null,null,null,null,null,null,null,null,null,null,null,null,null,null,null,null,null,null,null,null,null,null,null,null,null,null,null,null,null,null,null,null,null,null,null,null,null,null,null,null,null,null,null,null,null,null,null,null,null,null,null,null,""]
[null,null,null,null,null,null,null,null,null,null,null,null,null,null,null,null,null,null,null,null,null,null,null,null,null,null,null,null,null,null,null,null,null,null,null,null,null,null,null,null,null,null,null,null,null,null,null,null,null,null,null,null,null,null,null,null,null,null,null,null,null,null,null,null,null,null,null,null,null,null,null,null,null,null,null,""]
[null,null,null,null,null,null,null,null,null,null,null,null,null,null,null,null,null,null,null,null,null,null,null,null,null,null,null,null,null,null,null,null,null,null,null,null,null,null,null,null,null,null,null,null,null,null,null,null,null,null,null,null,null,null,null,null,null,null,null,null,null,null,null,null,null,null,null,null,null,null,null,null,null,null,null,""]
[null,null,null,null,null,null,null,null,null,null,null,null,null,null,null,null,null,null,null,null,null,null,null,null,null,null,null,null,null,null,null,null,null,null,null,null,null,null,null,null,null,null,null,null,null,null,null,null,null,null,null,null,null,null,null,null,null,null,null,null,null,null,null,null,null,null,null,null,null,null,null,null,null,null,null,""]
[null,null,null,null,null,null,null,null,null,null,null,null,null,null,null,null,null,null,null,null,null,null,null,null,null,null,null,null,null,null,null,null,null,null,null,null,null,null,null,null,null,null,null,null,null,null,null,null,null,null,null,null,null,null,null,null,null,null,null,null,null,null,null,null,null,null,null,null,null,null,null,null,null,null,null,""]
[null,null,null,null,null,null,null,null,null,null,null,null,null,null,null,null,null,null,null,null,null,null,null,null,null,null,null,null,null,null,null,null,null,null,null,null,null,null,null,null,null,null,null,null,null,null,null,null,null,null,null,null,null,null,null,null,null,null,null,null,null,null,null,null,null,null,null,null,null,null,null,null,null,null,null,""]
[null,null,null,null,null,null,null,null,null,null,null,null,null,null,null,null,null,null,null,null,null,null,null,null,null,null,null,null,null,null,null,null,null,null,null,null,null,null,null,null,null,null,null,null,null,null,null,null,null,null,null,null,null,null,null,null,null,null,null,null,null,null,null,null,null,null,null,null,null,null,null,null,null,null,null,""]
[null,null,null,null,null,null,null,null,null,null,null,null,null,null,null,null,null,null,null,null,null,null,null,null,null,null,null,null,null,null,null,null,null,null,null,null,null,null,null,null,null,null,null,null,null,null,null,null,null,null,null,null,null,null,null,null,null,null,null,null,null,null,null,null,null,null,null,null,null,null,null,null,null,null,null,""]
[null,null,null,null,null,null,null,null,null,null,null,null,null,null,null,null,null,null,null,null,null,null,null,null,null,null,null,null,null,null,null,null,null,null,null,null,null,null,null,null,null,null,null,null,null,null,null,null,null,null,null,null,null,null,null,null,null,null,null,null,null,null,null,null,null,null,null,null,null,null,null,null,null,null,null,""]
[null,null,null,null,null,null,null,null,null,null,null,null,null,null,null,null,null,null,null,null,null,null,null,null,null,null,null,null,null,null,null,null,null,null,null,null,null,null,null,null,null,null,null,null,null,null,null,null,null,null,null,null,null,null,null,null,null,null,null,null,null,null,null,null,null,null,null,null,null,null,null,null,null,null,null,""]
[null,null,null,null,null,null,null,null,null,null,null,null,null,null,null,null,null,null,null,null,null,null,null,null,null,null,null,null,null,null,null,null,null,null,null,null,null,null,null,null,null,null,null,null,null,null,null,null,null,null,null,null,null,null,null,null,null,null,null,null,null,null,null,null,null,null,null,null,null,null,null,null,null,null,null,""]
[null,null,null,null,null,null,null,null,null,null,null,null,null,null,null,null,null,null,null,null,null,null,null,null,null,null,null,null,null,null,null,null,null,null,null,null,null,null,null,null,null,null,null,null,null,null,null,null,null,null,null,null,null,null,null,null,null,null,null,null,null,null,null,null,null,null,null,null,null,null,null,null,null,null,null,""]
[null,null,null,null,null,null,null,null,null,null,null,null,null,null,null,null,null,null,null,null,null,null,null,null,null,null,null,null,null,null,null,null,null,null,null,null,null,null,null,null,null,null,null,null,null,null,null,null,null,null,null,null,null,null,null,null,null,null,null,null,null,null,null,null,null,null,null,null,null,null,null,null,null,null,null,""]
[null,null,null,null,null,null,null,null,null,null,null,null,null,null,null,null,null,null,null,null,null,null,null,null,null,null,null,null,null,null,null,null,null,null,null,null,null,null,null,null,null,null,null,null,null,null,null,null,null,null,null,null,null,null,null,null,null,null,null,null,null,null,null,null,null,null,null,null,null,null,null,null,null,null,null,""]
[null,null,null,null,null,null,null,null,null,null,null,null,null,null,null,null,null,null,null,null,null,null,null,null,null,null,null,null,null,null,null,null,null,null,null,null,null,null,null,null,null,null,null,null,null,null,null,null,null,null,null,null,null,null,null,null,null,null,null,null,null,null,null,null,null,null,null,null,null,null,null,null,null,null,null,""]
[null,null,null,null,null,null,null,null,null,null,null,null,null,null,null,null,null,null,null,null,null,null,null,null,null,null,null,null,null,null,null,null,null,null,null,null,null,null,null,null,null,null,null,null,null,null,null,null,null,null,null,null,null,null,null,null,null,null,null,null,null,null,null,null,null,null,null,null,null,null,null,null,null,null,null,""]
[null,null,null,null,null,null,null,null,null,null,null,null,null,null,null,null,null,null,null,null,null,null,null,null,null,null,null,null,null,null,null,null,null,null,null,null,null,null,null,null,null,null,null,null,null,null,null,null,null,null,null,null,null,null,null,null,null,null,null,null,null,null,null,null,null,null,null,null,null,null,null,null,null,null,null,""]
[null,null,null,null,null,null,null,null,null,null,null,null,null,null,null,null,null,null,null,null,null,null,null,null,null,null,null,null,null,null,null,null,null,null,null,null,null,null,null,null,null,null,null,null,null,null,null,null,null,null,null,null,null,null,null,null,null,null,null,null,null,null,null,null,null,null,null,null,null,null,null,null,null,null,null,""]
[null,null,null,null,null,null,null,null,null,null,null,null,null,null,null,null,null,null,null,null,null,null,null,null,null,null,null,null,null,null,null,null,null,null,null,null,null,null,null,null,null,null,null,null,null,null,null,null,null,null,null,null,null,null,null,null,null,null,null,null,null,null,null,null,null,null,null,null,null,null,null,null,null,null,null,""]
[null,null,null,null,null,null,null,null,null,null,null,null,null,null,null,null,null,null,null,null,null,null,null,null,null,null,null,null,null,null,null,null,null,null,null,null,null,null,null,null,null,null,null,null,null,null,null,null,null,null,null,null,null,null,null,null,null,null,null,null,null,null,null,null,null,null,null,null,null,null,null,null,null,null,null,""]
[null,null,null,null,null,null,null,null,null,null,null,null,null,null,null,null,null,null,null,null,null,null,null,null,null,null,null,null,null,null,null,null,null,null,null,null,null,null,null,null,null,null,null,null,null,null,null,null,null,null,null,null,null,null,null,null,null,null,null,null,null,null,null,null,null,null,null,null,null,null,null,null,null,null,null,""]
[null,null,null,null,null,null,null,null,null,null,null,null,null,null,null,null,null,null,null,null,null,null,null,null,null,null,null,null,null,null,null,null,null,null,null,null,null,null,null,null,null,null,null,null,null,null,null,null,null,null,null,null,null,null,null,null,null,null,null,null,null,null,null,null,null,null,null,null,null,null,null,null,null,null,null,""]
[null,null,null,null,null,null,null,null,null,null,null,null,null,null,null,null,null,null,null,null,null,null,null,null,null,null,null,null,null,null,null,null,null,null,null,null,null,null,null,null,null,null,null,null,null,null,null,null,null,null,null,null,null,null,null,null,null,null,null,null,null,null,null,null,null,null,null,null,null,null,null,null,null,null,null,""]
[null,null,null,null,null,null,null,null,null,null,null,null,null,null,null,null,null,null,null,null,null,null,null,null,null,null,null,null,null,null,null,null,null,null,null,null,null,null,null,null,null,null,null,null,null,null,null,null,null,null,null,null,null,null,null,null,null,null,null,null,null,null,null,null,null,null,null,null,null,null,null,null,null,null,null,""]
[null,null,null,null,null,null,null,null,null,null,null,null,null,null,null,null,null,null,null,null,null,null,null,null,null,null,null,null,null,null,null,null,null,null,null,null,null,null,null,null,null,null,null,null,null,null,null,null,null,null,null,null,null,null,null,null,null,null,null,null,null,null,null,null,null,null,null,null,null,null,null,null,null,null,null,""]
[null,null,null,null,null,null,null,null,null,null,null,null,null,null,null,null,null,null,null,null,null,null,null,null,null,null,null,null,null,null,null,null,null,null,null,null,null,null,null,null,null,null,null,null,null,null,null,null,null,null,null,null,null,null,null,null,null,null,null,null,null,null,null,null,null,null,null,null,null,null,null,null,null,null,null,""]
[null,null,null,null,null,null,null,null,null,null,null,null,null,null,null,null,null,null,null,null,null,null,null,null,null,null,null,null,null,null,null,null,null,null,null,null,null,null,null,null,null,null,null,null,null,null,null,null,null,null,null,null,null,null,null,null,null,null,null,null,null,null,null,null,null,null,null,null,null,null,null,null,null,null,null,""]
[null,null,null,null,null,null,null,null,null,null,null,null,null,null,null,null,null,null,null,null,null,null,null,null,null,null,null,null,null,null,null,null,null,null,null,null,null,null,null,null,null,null,null,null,null,null,null,null,null,null,null,null,null,null,null,null,null,null,null,null,null,null,null,null,null,null,null,null,null,null,null,null,null,null,null,""]
[null,null,null,null,null,null,null,null,null,null,null,null,null,null,null,null,null,null,null,null,null,null,null,null,null,null,null,null,null,null,null,null,null,null,null,null,null,null,null,null,null,null,null,null,null,null,null,null,null,null,null,null,null,null,null,null,null,null,null,null,null,null,null,null,null,null,null,null,null,null,null,null,null,null,null,""]
[null,null,null,null,null,null,null,null,null,null,null,null,null,null,null,null,null,null,null,null,null,null,null,null,null,null,null,null,null,null,null,null,null,null,null,null,null,null,null,null,null,null,null,null,null,null,null,null,null,null,null,null,null,null,null,null,null,null,null,null,null,null,null,null,null,null,null,null,null,null,null,null,null,null,null,""]
[null,null,null,null,null,null,null,null,null,null,null,null,null,null,null,null,null,null,null,null,null,null,null,null,null,null,null,null,null,null,null,null,null,null,null,null,null,null,null,null,null,null,null,null,null,null,null,null,null,null,null,null,null,null,null,null,null,null,null,null,null,null,null,null,null,null,null,null,null,null,null,null,null,null,null,""]
[null,null,null,null,null,null,null,null,null,null,null,null,null,null,null,null,null,null,null,null,null,null,null,null,null,null,null,null,null,null,null,null,null,null,null,null,null,null,null,null,null,null,null,null,null,null,null,null,null,null,null,null,null,null,null,null,null,null,null,null,null,null,null,null,null,null,null,null,null,null,null,null,null,null,null,""]
[null,null,null,null,null,null,null,null,null,null,null,null,null,null,null,null,null,null,null,null,null,null,null,null,null,null,null,null,null,null,null,null,null,null,null,null,null,null,null,null,null,null,null,null,null,null,null,null,null,null,null,null,null,null,null,null,null,null,null,null,null,null,null,null,null,null,null,null,null,null,null,null,null,null,null,""]
[null,null,null,null,null,null,null,null,null,null,null,null,null,null,null,null,null,null,null,null,null,null,null,null,null,null,null,null,null,null,null,null,null,null,null,null,null,null,null,null,null,null,null,null,null,null,null,null,null,null,null,null,null,null,null,null,null,null,null,null,null,null,null,null,null,null,null,null,null,null,null,null,null,null,null,""]
[null,null,null,null,null,null,null,null,null,null,null,null,null,null,null,null,null,null,null,null,null,null,null,null,null,null,null,null,null,null,null,null,null,null,null,null,null,null,null,null,null,null,null,null,null,null,null,null,null,null,null,null,null,null,null,null,null,null,null,null,null,null,null,null,null,null,null,null,null,null,null,null,null,null,null,""]
[null,null,null,null,null,null,null,null,null,null,null,null,null,null,null,null,null,null,null,null,null,null,null,null,null,null,null,null,null,null,null,null,null,null,null,null,null,null,null,null,null,null,null,null,null,null,null,null,null,null,null,null,null,null,null,null,null,null,null,null,null,null,null,null,null,null,null,null,null,null,null,null,null,null,null,""]
[null,null,null,null,null,null,null,null,null,null,null,null,null,null,null,null,null,null,null,null,null,null,null,null,null,null,null,null,null,null,null,null,null,null,null,null,null,null,null,null,null,null,null,null,null,null,null,null,null,null,null,null,null,null,null,null,null,null,null,null,null,null,null,null,null,null,null,null,null,null,null,null,null,null,null,""]
[null,null,null,null,null,null,null,null,null,null,null,null,null,null,null,null,null,null,null,null,null,null,null,null,null,null,null,null,null,null,null,null,null,null,null,null,null,null,null,null,null,null,null,null,null,null,null,null,null,null,null,null,null,null,null,null,null,null,null,null,null,null,null,null,null,null,null,null,null,null,null,null,null,null,null,""]
[null,null,null,null,null,null,null,null,null,null,null,null,null,null,null,null,null,null,null,null,null,null,null,null,null,null,null,null,null,null,null,null,null,null,null,null,null,null,null,null,null,null,null,null,null,null,null,null,null,null,null,null,null,null,null,null,null,null,null,null,null,null,null,null,null,null,null,null,null,null,null,null,null,null,null,""]
[null,null,null,null,null,null,null,null,null,null,null,null,null,null,null,null,null,null,null,null,null,null,null,null,null,null,null,null,null,null,null,null,null,null,null,null,null,null,null,null,null,null,null,null,null,null,null,null,null,null,null,null,null,null,null,null,null,null,null,null,null,null,null,null,null,null,null,null,null,null,null,null,null,null,null,""]
[null,null,null,null,null,null,null,null,null,null,null,null,null,null,null,null,null,null,null,null,null,null,null,null,null,null,null,null,null,null,null,null,null,null,null,null,null,null,null,null,null,null,null,null,null,null,null,null,null,null,null,null,null,null,null,null,null,null,null,null,null,null,null,null,null,null,null,null,null,null,null,null,null,null,null,""]
[null,null,null,null,null,null,null,null,null,null,null,null,null,null,null,null,null,null,null,null,null,null,null,null,null,null,null,null,null,null,null,null,null,null,null,null,null,null,null,null,null,null,null,null,null,null,null,null,null,null,null,null,null,null,null,null,null,null,null,null,null,null,null,null,null,null,null,null,null,null,null,null,null,null,null,""]
[null,null,null,null,null,null,null,null,null,null,null,null,null,null,null,null,null,null,null,null,null,null,null,null,null,null,null,null,null,null,null,null,null,null,null,null,null,null,null,null,null,null,null,null,null,null,null,null,null,null,null,null,null,null,null,null,null,null,null,null,null,null,null,null,null,null,null,null,null,null,null,null,null,null,null,""]
[null,null,null,null,null,null,null,null,null,null,null,null,null,null,null,null,null,null,null,null,null,null,null,null,null,null,null,null,null,null,null,null,null,null,null,null,null,null,null,null,null,null,null,null,null,null,null,null,null,null,null,null,null,null,null,null,null,null,null,null,null,null,null,null,null,null,null,null,null,null,null,null,null,null,null,""]
[null,null,null,null,null,null,null,null,null,null,null,null,null,null,null,null,null,null,null,null,null,null,null,null,null,null,null,null,null,null,null,null,null,null,null,null,null,null,null,null,null,null,null,null,null,null,null,null,null,null,null,null,null,null,null,null,null,null,null,null,null,null,null,null,null,null,null,null,null,null,null,null,null,null,null,""]
[null,null,null,null,null,null,null,null,null,null,null,null,null,null,null,null,null,null,null,null,null,null,null,null,null,null,null,null,null,null,null,null,null,null,null,null,null,null,null,null,null,null,null,null,null,null,null,null,null,null,null,null,null,null,null,null,null,null,null,null,null,null,null,null,null,null,null,null,null,null,null,null,null,null,null,""]
[null,null,null,null,null,null,null,null,null,null,null,null,null,null,null,null,null,null,null,null,null,null,null,null,null,null,null,null,null,null,null,null,null,null,null,null,null,null,null,null,null,null,null,null,null,null,null,null,null,null,null,null,null,null,null,null,null,null,null,null,null,null,null,null,null,null,null,null,null,null,null,null,null,null,null,""]
[null,null,null,null,null,null,null,null,null,null,null,null,null,null,null,null,null,null,null,null,null,null,null,null,null,null,null,null,null,null,null,null,null,null,null,null,null,null,null,null,null,null,null,null,null,null,null,null,null,null,null,null,null,null,null,null,null,null,null,null,null,null,null,null,null,null,null,null,null,null,null,null,null,null,null,""]
[null,null,null,null,null,null,null,null,null,null,null,null,null,null,null,null,null,null,null,null,null,null,null,null,null,null,null,null,null,null,null,null,null,null,null,null,null,null,null,null,null,null,null,null,null,null,null,null,null,null,null,null,null,null,null,null,null,null,null,null,null,null,null,null,null,null,null,null,null,null,null,null,null,null,null,""]
[null,null,null,null,null,null,null,null,null,null,null,null,null,null,null,null,null,null,null,null,null,null,null,null,null,null,null,null,null,null,null,null,null,null,null,null,null,null,null,null,null,null,null,null,null,null,null,null,null,null,null,null,null,null,null,null,null,null,null,null,null,null,null,null,null,null,null,null,null,null,null,null,null,null,null,""]
[null,null,null,null,null,null,null,null,null,null,null,null,null,null,null,null,null,null,null,null,null,null,null,null,null,null,null,null,null,null,null,null,null,null,null,null,null,null,null,null,null,null,null,null,null,null,null,null,null,null,null,null,null,null,null,null,null,null,null,null,null,null,null,null,null,null,null,null,null,null,null,null,null,null,null,""]
[null,null,null,null,null,null,null,null,null,null,null,null,null,null,null,null,null,null,null,null,null,null,null,null,null,null,null,null,null,null,null,null,null,null,null,null,null,null,null,null,null,null,null,null,null,null,null,null,null,null,null,null,null,null,null,null,null,null,null,null,null,null,null,null,null,null,null,null,null,null,null,null,null,null,null,""]
[null,null,null,null,null,null,null,null,null,null,null,null,null,null,null,null,null,null,null,null,null,null,null,null,null,null,null,null,null,null,null,null,null,null,null,null,null,null,null,null,null,null,null,null,null,null,null,null,null,null,null,null,null,null,null,null,null,null,null,null,null,null,null,null,null,null,null,null,null,null,null,null,null,null,null,""]
[null,null,null,null,null,null,null,null,null,null,null,null,null,null,null,null,null,null,null,null,null,null,null,null,null,null,null,null,null,null,null,null,null,null,null,null,null,null,null,null,null,null,null,null,null,null,null,null,null,null,null,null,null,null,null,null,null,null,null,null,null,null,null,null,null,null,null,null,null,null,null,null,null,null,null,""]
[null,null,null,null,null,null,null,null,null,null,null,null,null,null,null,null,null,null,null,null,null,null,null,null,null,null,null,null,null,null,null,null,null,null,null,null,null,null,null,null,null,null,null,null,null,null,null,null,null,null,null,null,null,null,null,null,null,null,null,null,null,null,null,null,null,null,null,null,null,null,null,null,null,null,null,""]
[null,null,null,null,null,null,null,null,null,null,null,null,null,null,null,null,null,null,null,null,null,null,null,null,null,null,null,null,null,null,null,null,null,null,null,null,null,null,null,null,null,null,null,null,null,null,null,null,null,null,null,null,null,null,null,null,null,null,null,null,null,null,null,null,null,null,null,null,null,null,null,null,null,null,null,""]
[null,null,null,null,null,null,null,null,null,null,null,null,null,null,null,null,null,null,null,null,null,null,null,null,null,null,null,null,null,null,null,null,null,null,null,null,null,null,null,null,null,null,null,null,null,null,null,null,null,null,null,null,null,null,null,null,null,null,null,null,null,null,null,null,null,null,null,null,null,null,null,null,null,null,null,""]
[null,null,null,null,null,null,null,null,null,null,null,null,null,null,null,null,null,null,null,null,null,null,null,null,null,null,null,null,null,null,null,null,null,null,null,null,null,null,null,null,null,null,null,null,null,null,null,null,null,null,null,null,null,null,null,null,null,null,null,null,null,null,null,null,null,null,null,null,null,null,null,null,null,null,null,""]
[null,null,null,null,null,null,null,null,null,null,null,null,null,null,null,null,null,null,null,null,null,null,null,null,null,null,null,null,null,null,null,null,null,null,null,null,null,null,null,null,null,null,null,null,null,null,null,null,null,null,null,null,null,null,null,null,null,null,null,null,null,null,null,null,null,null,null,null,null,null,null,null,null,null,null,""]
[null,null,null,null,null,null,null,null,null,null,null,null,null,null,null,null,null,null,null,null,null,null,null,null,null,null,null,null,null,null,null,null,null,null,null,null,null,null,null,null,null,null,null,null,null,null,null,null,null,null,null,null,null,null,null,null,null,null,null,null,null,null,null,null,null,null,null,null,null,null,null,null,null,null,null,""]
[null,null,null,null,null,null,null,null,null,null,null,null,null,null,null,null,null,null,null,null,null,null,null,null,null,null,null,null,null,null,null,null,null,null,null,null,null,null,null,null,null,null,null,null,null,null,null,null,null,null,null,null,null,null,null,null,null,null,null,null,null,null,null,null,null,null,null,null,null,null,null,null,null,null,null,""]
[null,null,null,null,null,null,null,null,null,null,null,null,null,null,null,null,null,null,null,null,null,null,null,null,null,null,null,null,null,null,null,null,null,null,null,null,null,null,null,null,null,null,null,null,null,null,null,null,null,null,null,null,null,null,null,null,null,null,null,null,null,null,null,null,null,null,null,null,null,null,null,null,null,null,null,""]
[null,null,null,null,null,null,null,null,null,null,null,null,null,null,null,null,null,null,null,null,null,null,null,null,null,null,null,null,null,null,null,null,null,null,null,null,null,null,null,null,null,null,null,null,null,null,null,null,null,null,null,null,null,null,null,null,null,null,null,null,null,null,null,null,null,null,null,null,null,null,null,null,null,null,null,""]
[null,null,null,null,null,null,null,null,null,null,null,null,null,null,null,null,null,null,null,null,null,null,null,null,null,null,null,null,null,null,null,null,null,null,null,null,null,null,null,null,null,null,null,null,null,null,null,null,null,null,null,null,null,null,null,null,null,null,null,null,null,null,null,null,null,null,null,null,null,null,null,null,null,null,null,""]
[null,null,null,null,null,null,null,null,null,null,null,null,null,null,null,null,null,null,null,null,null,null,null,null,null,null,null,null,null,null,null,null,null,null,null,null,null,null,null,null,null,null,null,null,null,null,null,null,null,null,null,null,null,null,null,null,null,null,null,null,null,null,null,null,null,null,null,null,null,null,null,null,null,null,null,""]
[null,null,null,null,null,null,null,null,null,null,null,null,null,null,null,null,null,null,null,null,null,null,null,null,null,null,null,null,null,null,null,null,null,null,null,null,null,null,null,null,null,null,null,null,null,null,null,null,null,null,null,null,null,null,null,null,null,null,null,null,null,null,null,null,null,null,null,null,null,null,null,null,null,null,null,""]
[null,null,null,null,null,null,null,null,null,null,null,null,null,null,null,null,null,null,null,null,null,null,null,null,null,null,null,null,null,null,null,null,null,null,null,null,null,null,null,null,null,null,null,null,null,null,null,null,null,null,null,null,null,null,null,null,null,null,null,null,null,null,null,null,null,null,null,null,null,null,null,null,null,null,null,""]
[]
[]
[]
[]
[]
[]
[]
[]
[]
[]
[]
[]
[]
[]
[]
[]
[]
[]
[]
[]
[]
[]
[]
[]
[]
[null,null,null,null,null,null,null,null,null,null,null,null,null,null,null,null,null,null,null,null,null,null,null,null,null,null,null,null,null,null,null,null,null,null,null,null,null,null,null,null,null,null,null,null,null,null,null,null,null,null,null,null,null,null,null,null,null,null,null,null,null,null,null,null,null,null,null,null,null,null,null,null,null,null,null," "]
[null,null,null,null,null,null,null,null,null,null,null,null,null,null,null,null,null,null,null,null,null,null,null,null,null,null,null,null,null,null,null,null,null,null,null,null,null,null,null,null,null,null,null,null,null,null,null,null,null,null,null,null,null,null,null,null,null,null,null,null,null,null,null,null,null,null,null,null,null,null,null,null,null,null,null," "]

{"sheet":"Results","index":3,"n_rows":174,"n_cols":12,"rows_kept":174,"cut":false,"hidden":false,"merged":[]}
[]
[null,"RMS Options Worksheet"]
[null,"* Copy and edit this marix to match on-site effects and conditions"]
[]
[]
[null,"Practices",{"$f":"+'Select Practices'!C$9","v":"Sheet and Rill Erosion"},{"$f":"+'Select Practices'!E$9","v":"Compaction "},{"$f":"+'Select Practices'!G$9","v":"Organic Matter Depletion"},{"$f":"+'Select Practices'!I$9","v":"Aggregate Instability"},{"$f":"+'Select Practices'!K$9","v":""},{"$f":"+'Select Practices'!M$9","v":""},{"$f":"+'Select Practices'!O$9","v":""},{"$f":"+'Select Practices'!Q$9","v":""},{"$f":"+'Select Practices'!S$9","v":""},{"$f":"+'Select Practices'!U$9","v":""}]
[{"$f":"VLOOKUP(B7,'Select Practices'!$W$10:$X$197,2,FALSE)","v":146},"Vegetated Treatment Area ",{"$f":"IF(C$6=\"\",\"\",IF($B7=\"\",\"\",HLOOKUP(C$6,CPPE!$A$1:$DB$177,$A7,FALSE)))","v":4},{"$f":"IF(D$6=\"\",\"\",IF($B7=\"\",\"\",HLOOKUP(D$6,CPPE!$A$1:$DB$177,$A7,FALSE)))","v":3},{"$f":"IF(E$6=\"\",\"\",IF($B7=\"\",\"\",HLOOKUP(E$6,CPPE!$A$1:$DB$177,$A7,FALSE)))","v":3},{"$f":"IF(F$6=\"\",\"\",IF($B7=\"\",\"\",HLOOKUP(F$6,CPPE!$A$1:$DB$177,$A7,FALSE)))","v":0},{"$f":"IF(G$6=\"\",\"\",IF($B7=\"\",\"\",HLOOKUP(G$6,CPPE!$A$1:$DB$177,$A7,FALSE)))","v":""},{"$f":"IF(H$6=\"\",\"\",IF($B7=\"\",\"\",HLOOKUP(H$6,CPPE!$A$1:$DB$177,$A7,FALSE)))","v":""},{"$f":"IF(I$6=\"\",\"\",IF($B7=\"\",\"\",HLOOKUP(I$6,CPPE!$A$1:$DB$177,$A7,FALSE)))","v":""},{"$f":"IF(J$6=\"\",\"\",IF($B7=\"\",\"\",HLOOKUP(J$6,CPPE!$A$1:$DB$177,$A7,FALSE)))","v":""},{"$f":"IF(K$6=\"\",\"\",IF($B7=\"\",\"\",HLOOKUP(K$6,CPPE!$A$1:$DB$177,$A7,FALSE)))","v":""},{"$f":"IF(L$6=\"\",\"\",IF($B7=\"\",\"\",HLOOKUP(L$6,CPPE!$A$1:$DB$177,$A7,FALSE)))","v":""}]
[{"$f":"VLOOKUP(B8,'Select Practices'!$W$10:$X$197,2,FALSE)","v":141},"Tree/Shrub Establishment",{"$f":"IF(C$6=\"\",\"\",IF($B8=\"\",\"\",HLOOKUP(C$6,CPPE!$A$1:$DB$177,$A8,FALSE)))","v":5},{"$f":"IF(D$6=\"\",\"\",IF($B8=\"\",\"\",HLOOKUP(D$6,CPPE!$A$1:$DB$177,$A8,FALSE)))","v":2},{"$f":"IF(E$6=\"\",\"\",IF($B8=\"\",\"\",HLOOKUP(E$6,CPPE!$A$1:$DB$177,$A8,FALSE)))","v":4},{"$f":"IF(F$6=\"\",\"\",IF($B8=\"\",\"\",HLOOKUP(F$6,CPPE!$A$1:$DB$177,$A8,FALSE)))","v":5},{"$f":"IF(G$6=\"\",\"\",IF($B8=\"\",\"\",HLOOKUP(G$6,CPPE!$A$1:$DB$177,$A8,FALSE)))","v":""},{"$f":"IF(H$6=\"\",\"\",IF($B8=\"\",\"\",HLOOKUP(H$6,CPPE!$A$1:$DB$177,$A8,FALSE)))","v":""},{"$f":"IF(I$6=\"\",\"\",IF($B8=\"\",\"\",HLOOKUP(I$6,CPPE!$A$1:$DB$177,$A8,FALSE)))","v":""},{"$f":"IF(J$6=\"\",\"\",IF($B8=\"\",\"\",HLOOKUP(J$6,CPPE!$A$1:$DB$177,$A8,FALSE)))","v":""},{"$f":"IF(K$6=\"\",\"\",IF($B8=\"\",\"\",HLOOKUP(K$6,CPPE!$A$1:$DB$177,$A8,FALSE)))","v":""},{"$f":"IF(L$6=\"\",\"\",IF($B8=\"\",\"\",HLOOKUP(L$6,CPPE!$A$1:$DB$177,$A8,FALSE)))","v":""}]
[{"$f":"VLOOKUP(B9,'Select Practices'!$W$10:$X$197,2,FALSE)","v":139},"Terrace",{"$f":"IF(C$6=\"\",\"\",IF($B9=\"\",\"\",HLOOKUP(C$6,CPPE!$A$1:$DB$177,$A9,FALSE)))","v":5},{"$f":"IF(D$6=\"\",\"\",IF($B9=\"\",\"\",HLOOKUP(D$6,CPPE!$A$1:$DB$177,$A9,FALSE)))","v":-1},{"$f":"IF(E$6=\"\",\"\",IF($B9=\"\",\"\",HLOOKUP(E$6,CPPE!$A$1:$DB$177,$A9,FALSE)))","v":2},{"$f":"IF(F$6=\"\",\"\",IF($B9=\"\",\"\",HLOOKUP(F$6,CPPE!$A$1:$DB$177,$A9,FALSE)))","v":1},{"$f":"IF(G$6=\"\",\"\",IF($B9=\"\",\"\",HLOOKUP(G$6,CPPE!$A$1:$DB$177,$A9,FALSE)))","v":""},{"$f":"IF(H$6=\"\",\"\",IF($B9=\"\",\"\",HLOOKUP(H$6,CPPE!$A$1:$DB$177,$A9,FALSE)))","v":""},{"$f":"IF(I$6=\"\",\"\",IF($B9=\"\",\"\",HLOOKUP(I$6,CPPE!$A$1:$DB$177,$A9,FALSE)))","v":""},{"$f":"IF(J$6=\"\",\"\",IF($B9=\"\",\"\",HLOOKUP(J$6,CPPE!$A$1:$DB$177,$A9,FALSE)))","v":""},{"$f":"IF(K$6=\"\",\"\",IF($B9=\"\",\"\",HLOOKUP(K$6,CPPE!$A$1:$DB$177,$A9,FALSE)))","v":""},{"$f":"IF(L$6=\"\",\"\",IF($B9=\"\",\"\",HLOOKUP(L$6,CPPE!$A$1:$DB$177,$A9,FALSE)))","v":""}]
[{"$f":"VLOOKUP(B10,'Select Practices'!$W$10:$X$197,2,FALSE)","v":111},"Riparian Herbaceous Cover",{"$f":"IF(C$6=\"\",\"\",IF($B10=\"\",\"\",HLOOKUP(C$6,CPPE!$A$1:$DB$177,$A10,FALSE)))","v":2},{"$f":"IF(D$6=\"\",\"\",IF($B10=\"\",\"\",HLOOKUP(D$6,CPPE!$A$1:$DB$177,$A10,FALSE)))","v":4},{"$f":"IF(E$6=\"\",\"\",IF($B10=\"\",\"\",HLOOKUP(E$6,CPPE!$A$1:$DB$177,$A10,FALSE)))","v":4},{"$f":"IF(F$6=\"\",\"\",IF($B10=\"\",\"\",HLOOKUP(F$6,CPPE!$A$1:$DB$177,$A10,FALSE)))","v":0},{"$f":"IF(G$6=\"\",\"\",IF($B10=\"\",\"\",HLOOKUP(G$6,CPPE!$A$1:$DB$177,$A10,FALSE)))","v":""},{"$f":"IF(H$6=\"\",\"\",IF($B10=\"\",\"\",HLOOKUP(H$6,CPPE!$A$1:$DB$177,$A10,FALSE)))","v":""},{"$f":"IF(I$6=\"\",\"\",IF($B10=\"\",\"\",HLOOKUP(I$6,CPPE!$A$1:$DB$177,$A10,FALSE)))","v":""},{"$f":"IF(J$6=\"\",\"\",IF($B10=\"\",\"\",HLOOKUP(J$6,CPPE!$A$1:$DB$177,$A10,FALSE)))","v":""},{"$f":"IF(K$6=\"\",\"\",IF($B10=\"\",\"\",HLOOKUP(K$6,CPPE!$A$1:$DB$177,$A10,FALSE)))","v":""},{"$f":"IF(L$6=\"\",\"\",IF($B10=\"\",\"\",HLOOKUP(L$6,CPPE!$A$1:$DB$177,$A10,FALSE)))","v":""}]
[{"$f":"VLOOKUP(B11,'Select Practices'!$W$10:$X$197,2,FALSE)","v":110},"Riparian Forest Buffer",{"$f":"IF(C$6=\"\",\"\",IF($B11=\"\",\"\",HLOOKUP(C$6,CPPE!$A$1:$DB$177,$A11,FALSE)))","v":3},{"$f":"IF(D$6=\"\",\"\",IF($B11=\"\",\"\",HLOOKUP(D$6,CPPE!$A$1:$DB$177,$A11,FALSE)))","v":2},{"$f":"IF(E$6=\"\",\"\",IF($B11=\"\",\"\",HLOOKUP(E$6,CPPE!$A$1:$DB$177,$A11,FALSE)))","v":4},{"$f":"IF(F$6=\"\",\"\",IF($B11=\"\",\"\",HLOOKUP(F$6,CPPE!$A$1:$DB$177,$A11,FALSE)))","v":4},{"$f":"IF(G$6=\"\",\"\",IF($B11=\"\",\"\",HLOOKUP(G$6,CPPE!$A$1:$DB$177,$A11,FALSE)))","v":""},{"$f":"IF(H$6=\"\",\"\",IF($B11=\"\",\"\",HLOOKUP(H$6,CPPE!$A$1:$DB$177,$A11,FALSE)))","v":""},{"$f":"IF(I$6=\"\",\"\",IF($B11=\"\",\"\",HLOOKUP(I$6,CPPE!$A$1:$DB$177,$A11,FALSE)))","v":""},{"$f":"IF(J$6=\"\",\"\",IF($B11=\"\",\"\",HLOOKUP(J$6,CPPE!$A$1:$DB$177,$A11,FALSE)))","v":""},{"$f":"IF(K$6=\"\",\"\",IF($B11=\"\",\"\",HLOOKUP(K$6,CPPE!$A$1:$DB$177,$A11,FALSE)))","v":""},{"$f":"IF(L$6=\"\",\"\",IF($B11=\"\",\"\",HLOOKUP(L$6,CPPE!$A$1:$DB$177,$A11,FALSE)))","v":""}]
[{"$f":"VLOOKUP(B12,'Select Practices'!$W$10:$X$197,2,FALSE)","v":107},"Residue and Tillage Management, No Till",{"$f":"IF(C$6=\"\",\"\",IF($B12=\"\",\"\",HLOOKUP(C$6,CPPE!$A$1:$DB$177,$A12,FALSE)))","v":5},{"$f":"IF(D$6=\"\",\"\",IF($B12=\"\",\"\",HLOOKUP(D$6,CPPE!$A$1:$DB$177,$A12,FALSE)))","v":2},{"$f":"IF(E$6=\"\",\"\",IF($B12=\"\",\"\",HLOOKUP(E$6,CPPE!$A$1:$DB$177,$A12,FALSE)))","v":3},{"$f":"IF(F$6=\"\",\"\",IF($B12=\"\",\"\",HLOOKUP(F$6,CPPE!$A$1:$DB$177,$A12,FALSE)))","v":4},{"$f":"IF(G$6=\"\",\"\",IF($B12=\"\",\"\",HLOOKUP(G$6,CPPE!$A$1:$DB$177,$A12,FALSE)))","v":""},{"$f":"IF(H$6=\"\",\"\",IF($B12=\"\",\"\",HLOOKUP(H$6,CPPE!$A$1:$DB$177,$A12,FALSE)))","v":""},{"$f":"IF(I$6=\"\",\"\",IF($B12=\"\",\"\",HLOOKUP(I$6,CPPE!$A$1:$DB$177,$A12,FALSE)))","v":""},{"$f":"IF(J$6=\"\",\"\",IF($B12=\"\",\"\",HLOOKUP(J$6,CPPE!$A$1:$DB$177,$A12,FALSE)))","v":""},{"$f":"IF(K$6=\"\",\"\",IF($B12=\"\",\"\",HLOOKUP(K$6,CPPE!$A$1:$DB$177,$A12,FALSE)))","v":""},{"$f":"IF(L$6=\"\",\"\",IF($B12=\"\",\"\",HLOOKUP(L$6,CPPE!$A$1:$DB$177,$A12,FALSE)))","v":""}]
[{"$f":"VLOOKUP(B13,'Select Practices'!$W$10:$X$197,2,FALSE)","v":26},"Controlled Traffic Farming",{"$f":"IF(C$6=\"\",\"\",IF($B13=\"\",\"\",HLOOKUP(C$6,CPPE!$A$1:$DB$177,$A13,FALSE)))","v":0},{"$f":"IF(D$6=\"\",\"\",IF($B13=\"\",\"\",HLOOKUP(D$6,CPPE!$A$1:$DB$177,$A13,FALSE)))","v":4},{"$f":"IF(E$6=\"\",\"\",IF($B13=\"\",\"\",HLOOKUP(E$6,CPPE!$A$1:$DB$177,$A13,FALSE)))","v":0},{"$f":"IF(F$6=\"\",\"\",IF($B13=\"\",\"\",HLOOKUP(F$6,CPPE!$A$1:$DB$177,$A13,FALSE)))","v":1},{"$f":"IF(G$6=\"\",\"\",IF($B13=\"\",\"\",HLOOKUP(G$6,CPPE!$A$1:$DB$177,$A13,FALSE)))","v":""},{"$f":"IF(H$6=\"\",\"\",IF($B13=\"\",\"\",HLOOKUP(H$6,CPPE!$A$1:$DB$177,$A13,FALSE)))","v":""},{"$f":"IF(I$6=\"\",\"\",IF($B13=\"\",\"\",HLOOKUP(I$6,CPPE!$A$1:$DB$177,$A13,FALSE)))","v":""},{"$f":"IF(J$6=\"\",\"\",IF($B13=\"\",\"\",HLOOKUP(J$6,CPPE!$A$1:$DB$177,$A13,FALSE)))","v":""},{"$f":"IF(K$6=\"\",\"\",IF($B13=\"\",\"\",HLOOKUP(K$6,CPPE!$A$1:$DB$177,$A13,FALSE)))","v":""},{"$f":"IF(L$6=\"\",\"\",IF($B13=\"\",\"\",HLOOKUP(L$6,CPPE!$A$1:$DB$177,$A13,FALSE)))","v":""}]
[{"$f":"VLOOKUP(B14,'Select Practices'!$W$10:$X$197,2,FALSE)","v":{"$error":"#N/A"}},"",{"$f":"IF(C$6=\"\",\"\",IF($B14=\"\",\"\",HLOOKUP(C$6,CPPE!$A$1:$DB$177,$A14,FALSE)))","v":""},{"$f":"IF(D$6=\"\",\"\",IF($B14=\"\",\"\",HLOOKUP(D$6,CPPE!$A$1:$DB$177,$A14,FALSE)))","v":""},{"$f":"IF(E$6=\"\",\"\",IF($B14=\"\",\"\",HLOOKUP(E$6,CPPE!$A$1:$DB$177,$A14,FALSE)))","v":""},{"$f":"IF(F$6=\"\",\"\",IF($B14=\"\",\"\",HLOOKUP(F$6,CPPE!$A$1:$DB$177,$A14,FALSE)))","v":""},{"$f":"IF(G$6=\"\",\"\",IF($B14=\"\",\"\",HLOOKUP(G$6,CPPE!$A$1:$DB$177,$A14,FALSE)))","v":""},{"$f":"IF(H$6=\"\",\"\",IF($B14=\"\",\"\",HLOOKUP(H$6,CPPE!$A$1:$DB$177,$A14,FALSE)))","v":""},{"$f":"IF(I$6=\"\",\"\",IF($B14=\"\",\"\",HLOOKUP(I$6,CPPE!$A$1:$DB$177,$A14,FALSE)))","v":""},{"$f":"IF(J$6=\"\",\"\",IF($B14=\"\",\"\",HLOOKUP(J$6,CPPE!$A$1:$DB$177,$A14,FALSE)))","v":""},{"$f":"IF(K$6=\"\",\"\",IF($B14=\"\",\"\",HLOOKUP(K$6,CPPE!$A$1:$DB$177,$A14,FALSE)))","v":""},{"$f":"IF(L$6=\"\",\"\",IF($B14=\"\",\"\",HLOOKUP(L$6,CPPE!$A$1:$DB$177,$A14,FALSE)))","v":""}]
[{"$f":"VLOOKUP(B15,'Select Practices'!$W$10:$X$197,2,FALSE)","v":169},null,{"$f":"IF(C$6=\"\",\"\",IF($B15=\"\",\"\",HLOOKUP(C$6,CPPE!$A$1:$DB$177,$A15,FALSE)))","v":""},{"$f":"IF(D$6=\"\",\"\",IF($B15=\"\",\"\",HLOOKUP(D$6,CPPE!$A$1:$DB$177,$A15,FALSE)))","v":""},{"$f":"IF(E$6=\"\",\"\",IF($B15=\"\",\"\",HLOOKUP(E$6,CPPE!$A$1:$DB$177,$A15,FALSE)))","v":""},{"$f":"IF(F$6=\"\",\"\",IF($B15=\"\",\"\",HLOOKUP(F$6,CPPE!$A$1:$DB$177,$A15,FALSE)))","v":""},{"$f":"IF(G$6=\"\",\"\",IF($B15=\"\",\"\",HLOOKUP(G$6,CPPE!$A$1:$DB$177,$A15,FALSE)))","v":""},{"$f":"IF(H$6=\"\",\"\",IF($B15=\"\",\"\",HLOOKUP(H$6,CPPE!$A$1:$DB$177,$A15,FALSE)))","v":""},{"$f":"IF(I$6=\"\",\"\",IF($B15=\"\",\"\",HLOOKUP(I$6,CPPE!$A$1:$DB$177,$A15,FALSE)))","v":""},{"$f":"IF(J$6=\"\",\"\",IF($B15=\"\",\"\",HLOOKUP(J$6,CPPE!$A$1:$DB$177,$A15,FALSE)))","v":""},{"$f":"IF(K$6=\"\",\"\",IF($B15=\"\",\"\",HLOOKUP(K$6,CPPE!$A$1:$DB$177,$A15,FALSE)))","v":""},{"$f":"IF(L$6=\"\",\"\",IF($B15=\"\",\"\",HLOOKUP(L$6,CPPE!$A$1:$DB$177,$A15,FALSE)))","v":""}]
[{"$f":"VLOOKUP(B16,'Select Practices'!$W$10:$X$197,2,FALSE)","v":169},null,{"$f":"IF(C$6=\"\",\"\",IF($B16=\"\",\"\",HLOOKUP(C$6,CPPE!$A$1:$DB$177,$A16,FALSE)))","v":""},{"$f":"IF(D$6=\"\",\"\",IF($B16=\"\",\"\",HLOOKUP(D$6,CPPE!$A$1:$DB$177,$A16,FALSE)))","v":""},{"$f":"IF(E$6=\"\",\"\",IF($B16=\"\",\"\",HLOOKUP(E$6,CPPE!$A$1:$DB$177,$A16,FALSE)))","v":""},{"$f":"IF(F$6=\"\",\"\",IF($B16=\"\",\"\",HLOOKUP(F$6,CPPE!$A$1:$DB$177,$A16,FALSE)))","v":""},{"$f":"IF(G$6=\"\",\"\",IF($B16=\"\",\"\",HLOOKUP(G$6,CPPE!$A$1:$DB$177,$A16,FALSE)))","v":""},{"$f":"IF(H$6=\"\",\"\",IF($B16=\"\",\"\",HLOOKUP(H$6,CPPE!$A$1:$DB$177,$A16,FALSE)))","v":""},{"$f":"IF(I$6=\"\",\"\",IF($B16=\"\",\"\",HLOOKUP(I$6,CPPE!$A$1:$DB$177,$A16,FALSE)))","v":""},{"$f":"IF(J$6=\"\",\"\",IF($B16=\"\",\"\",HLOOKUP(J$6,CPPE!$A$1:$DB$177,$A16,FALSE)))","v":""},{"$f":"IF(K$6=\"\",\"\",IF($B16=\"\",\"\",HLOOKUP(K$6,CPPE!$A$1:$DB$177,$A16,FALSE)))","v":""},{"$f":"IF(L$6=\"\",\"\",IF($B16=\"\",\"\",HLOOKUP(L$6,CPPE!$A$1:$DB$177,$A16,FALSE)))","v":""}]
[{"$f":"VLOOKUP(B17,'Select Practices'!$W$10:$X$197,2,FALSE)","v":169},null,{"$f":"IF(C$6=\"\",\"\",IF($B17=\"\",\"\",HLOOKUP(C$6,CPPE!$A$1:$DB$177,$A17,FALSE)))","v":""},{"$f":"IF(D$6=\"\",\"\",IF($B17=\"\",\"\",HLOOKUP(D$6,CPPE!$A$1:$DB$177,$A17,FALSE)))","v":""},{"$f":"IF(E$6=\"\",\"\",IF($B17=\"\",\"\",HLOOKUP(E$6,CPPE!$A$1:$DB$177,$A17,FALSE)))","v":""},{"$f":"IF(F$6=\"\",\"\",IF($B17=\"\",\"\",HLOOKUP(F$6,CPPE!$A$1:$DB$177,$A17,FALSE)))","v":""},{"$f":"IF(G$6=\"\",\"\",IF($B17=\"\",\"\",HLOOKUP(G$6,CPPE!$A$1:$DB$177,$A17,FALSE)))","v":""},{"$f":"IF(H$6=\"\",\"\",IF($B17=\"\",\"\",HLOOKUP(H$6,CPPE!$A$1:$DB$177,$A17,FALSE)))","v":""},{"$f":"IF(I$6=\"\",\"\",IF($B17=\"\",\"\",HLOOKUP(I$6,CPPE!$A$1:$DB$177,$A17,FALSE)))","v":""},{"$f":"IF(J$6=\"\",\"\",IF($B17=\"\",\"\",HLOOKUP(J$6,CPPE!$A$1:$DB$177,$A17,FALSE)))","v":""},{"$f":"IF(K$6=\"\",\"\",IF($B17=\"\",\"\",HLOOKUP(K$6,CPPE!$A$1:$DB$177,$A17,FALSE)))","v":""},{"$f":"IF(L$6=\"\",\"\",IF($B17=\"\",\"\",HLOOKUP(L$6,CPPE!$A$1:$DB$177,$A17,FALSE)))","v":""}]
[{"$f":"VLOOKUP(B18,'Select Practices'!$W$10:$X$197,2,FALSE)","v":169},null,{"$f":"IF(C$6=\"\",\"\",IF($B18=\"\",\"\",HLOOKUP(C$6,CPPE!$A$1:$DB$177,$A18,FALSE)))","v":""},{"$f":"IF(D$6=\"\",\"\",IF($B18=\"\",\"\",HLOOKUP(D$6,CPPE!$A$1:$DB$177,$A18,FALSE)))","v":""},{"$f":"IF(E$6=\"\",\"\",IF($B18=\"\",\"\",HLOOKUP(E$6,CPPE!$A$1:$DB$177,$A18,FALSE)))","v":""},{"$f":"IF(F$6=\"\",\"\",IF($B18=\"\",\"\",HLOOKUP(F$6,CPPE!$A$1:$DB$177,$A18,FALSE)))","v":""},{"$f":"IF(G$6=\"\",\"\",IF($B18=\"\",\"\",HLOOKUP(G$6,CPPE!$A$1:$DB$177,$A18,FALSE)))","v":""},{"$f":"IF(H$6=\"\",\"\",IF($B18=\"\",\"\",HLOOKUP(H$6,CPPE!$A$1:$DB$177,$A18,FALSE)))","v":""},{"$f":"IF(I$6=\"\",\"\",IF($B18=\"\",\"\",HLOOKUP(I$6,CPPE!$A$1:$DB$177,$A18,FALSE)))","v":""},{"$f":"IF(J$6=\"\",\"\",IF($B18=\"\",\"\",HLOOKUP(J$6,CPPE!$A$1:$DB$177,$A18,FALSE)))","v":""},{"$f":"IF(K$6=\"\",\"\",IF($B18=\"\",\"\",HLOOKUP(K$6,CPPE!$A$1:$DB$177,$A18,FALSE)))","v":""},{"$f":"IF(L$6=\"\",\"\",IF($B18=\"\",\"\",HLOOKUP(L$6,CPPE!$A$1:$DB$177,$A18,FALSE)))","v":""}]
[{"$f":"VLOOKUP(B19,'Select Practices'!$W$10:$X$197,2,FALSE)","v":169},null,{"$f":"IF(C$6=\"\",\"\",IF($B19=\"\",\"\",HLOOKUP(C$6,CPPE!$A$1:$DB$177,$A19,FALSE)))","v":""},{"$f":"IF(D$6=\"\",\"\",IF($B19=\"\",\"\",HLOOKUP(D$6,CPPE!$A$1:$DB$177,$A19,FALSE)))","v":""},{"$f":"IF(E$6=\"\",\"\",IF($B19=\"\",\"\",HLOOKUP(E$6,CPPE!$A$1:$DB$177,$A19,FALSE)))","v":""},{"$f":"IF(F$6=\"\",\"\",IF($B19=\"\",\"\",HLOOKUP(F$6,CPPE!$A$1:$DB$177,$A19,FALSE)))","v":""},{"$f":"IF(G$6=\"\",\"\",IF($B19=\"\",\"\",HLOOKUP(G$6,CPPE!$A$1:$DB$177,$A19,FALSE)))","v":""},{"$f":"IF(H$6=\"\",\"\",IF($B19=\"\",\"\",HLOOKUP(H$6,CPPE!$A$1:$DB$177,$A19,FALSE)))","v":""},{"$f":"IF(I$6=\"\",\"\",IF($B19=\"\",\"\",HLOOKUP(I$6,CPPE!$A$1:$DB$177,$A19,FALSE)))","v":""},{"$f":"IF(J$6=\"\",\"\",IF($B19=\"\",\"\",HLOOKUP(J$6,CPPE!$A$1:$DB$177,$A19,FALSE)))","v":""},{"$f":"IF(K$6=\"\",\"\",IF($B19=\"\",\"\",HLOOKUP(K$6,CPPE!$A$1:$DB$177,$A19,FALSE)))","v":""},{"$f":"IF(L$6=\"\",\"\",IF($B19=\"\",\"\",HLOOKUP(L$6,CPPE!$A$1:$DB$177,$A19,FALSE)))","v":""}]
[{"$f":"VLOOKUP(B20,'Select Practices'!$W$10:$X$197,2,FALSE)","v":169},null,{"$f":"IF(C$6=\"\",\"\",IF($B20=\"\",\"\",HLOOKUP(C$6,CPPE!$A$1:$DB$177,$A20,FALSE)))","v":""},{"$f":"IF(D$6=\"\",\"\",IF($B20=\"\",\"\",HLOOKUP(D$6,CPPE!$A$1:$DB$177,$A20,FALSE)))","v":""},{"$f":"IF(E$6=\"\",\"\",IF($B20=\"\",\"\",HLOOKUP(E$6,CPPE!$A$1:$DB$177,$A20,FALSE)))","v":""},{"$f":"IF(F$6=\"\",\"\",IF($B20=\"\",\"\",HLOOKUP(F$6,CPPE!$A$1:$DB$177,$A20,FALSE)))","v":""},{"$f":"IF(G$6=\"\",\"\",IF($B20=\"\",\"\",HLOOKUP(G$6,CPPE!$A$1:$DB$177,$A20,FALSE)))","v":""},{"$f":"IF(H$6=\"\",\"\",IF($B20=\"\",\"\",HLOOKUP(H$6,CPPE!$A$1:$DB$177,$A20,FALSE)))","v":""},{"$f":"IF(I$6=\"\",\"\",IF($B20=\"\",\"\",HLOOKUP(I$6,CPPE!$A$1:$DB$177,$A20,FALSE)))","v":""},{"$f":"IF(J$6=\"\",\"\",IF($B20=\"\",\"\",HLOOKUP(J$6,CPPE!$A$1:$DB$177,$A20,FALSE)))","v":""},{"$f":"IF(K$6=\"\",\"\",IF($B20=\"\",\"\",HLOOKUP(K$6,CPPE!$A$1:$DB$177,$A20,FALSE)))","v":""},{"$f":"IF(L$6=\"\",\"\",IF($B20=\"\",\"\",HLOOKUP(L$6,CPPE!$A$1:$DB$177,$A20,FALSE)))","v":""}]
[{"$f":"VLOOKUP(B21,'Select Practices'!$W$10:$X$197,2,FALSE)","v":169},null,{"$f":"IF(C$6=\"\",\"\",IF($B21=\"\",\"\",HLOOKUP(C$6,CPPE!$A$1:$DB$177,$A21,FALSE)))","v":""},{"$f":"IF(D$6=\"\",\"\",IF($B21=\"\",\"\",HLOOKUP(D$6,CPPE!$A$1:$DB$177,$A21,FALSE)))","v":""},{"$f":"IF(E$6=\"\",\"\",IF($B21=\"\",\"\",HLOOKUP(E$6,CPPE!$A$1:$DB$177,$A21,FALSE)))","v":""},{"$f":"IF(F$6=\"\",\"\",IF($B21=\"\",\"\",HLOOKUP(F$6,CPPE!$A$1:$DB$177,$A21,FALSE)))","v":""},{"$f":"IF(G$6=\"\",\"\",IF($B21=\"\",\"\",HLOOKUP(G$6,CPPE!$A$1:$DB$177,$A21,FALSE)))","v":""},{"$f":"IF(H$6=\"\",\"\",IF($B21=\"\",\"\",HLOOKUP(H$6,CPPE!$A$1:$DB$177,$A21,FALSE)))","v":""},{"$f":"IF(I$6=\"\",\"\",IF($B21=\"\",\"\",HLOOKUP(I$6,CPPE!$A$1:$DB$177,$A21,FALSE)))","v":""},{"$f":"IF(J$6=\"\",\"\",IF($B21=\"\",\"\",HLOOKUP(J$6,CPPE!$A$1:$DB$177,$A21,FALSE)))","v":""},{"$f":"IF(K$6=\"\",\"\",IF($B21=\"\",\"\",HLOOKUP(K$6,CPPE!$A$1:$DB$177,$A21,FALSE)))","v":""},{"$f":"IF(L$6=\"\",\"\",IF($B21=\"\",\"\",HLOOKUP(L$6,CPPE!$A$1:$DB$177,$A21,FALSE)))","v":""}]
[{"$f":"VLOOKUP(B22,'Select Practices'!$W$10:$X$197,2,FALSE)","v":169},null,{"$f":"IF(C$6=\"\",\"\",IF($B22=\"\",\"\",HLOOKUP(C$6,CPPE!$A$1:$DB$177,$A22,FALSE)))","v":""},{"$f":"IF(D$6=\"\",\"\",IF($B22=\"\",\"\",HLOOKUP(D$6,CPPE!$A$1:$DB$177,$A22,FALSE)))","v":""},{"$f":"IF(E$6=\"\",\"\",IF($B22=\"\",\"\",HLOOKUP(E$6,CPPE!$A$1:$DB$177,$A22,FALSE)))","v":""},{"$f":"IF(F$6=\"\",\"\",IF($B22=\"\",\"\",HLOOKUP(F$6,CPPE!$A$1:$DB$177,$A22,FALSE)))","v":""},{"$f":"IF(G$6=\"\",\"\",IF($B22=\"\",\"\",HLOOKUP(G$6,CPPE!$A$1:$DB$177,$A22,FALSE)))","v":""},{"$f":"IF(H$6=\"\",\"\",IF($B22=\"\",\"\",HLOOKUP(H$6,CPPE!$A$1:$DB$177,$A22,FALSE)))","v":""},{"$f":"IF(I$6=\"\",\"\",IF($B22=\"\",\"\",HLOOKUP(I$6,CPPE!$A$1:$DB$177,$A22,FALSE)))","v":""},{"$f":"IF(J$6=\"\",\"\",IF($B22=\"\",\"\",HLOOKUP(J$6,CPPE!$A$1:$DB$177,$A22,FALSE)))","v":""},{"$f":"IF(K$6=\"\",\"\",IF($B22=\"\",\"\",HLOOKUP(K$6,CPPE!$A$1:$DB$177,$A22,FALSE)))","v":""},{"$f":"IF(L$6=\"\",\"\",IF($B22=\"\",\"\",HLOOKUP(L$6,CPPE!$A$1:$DB$177,$A22,FALSE)))","v":""}]
[{"$f":"VLOOKUP(B23,'Select Practices'!$W$10:$X$197,2,FALSE)","v":169},null,{"$f":"IF(C$6=\"\",\"\",IF($B23=\"\",\"\",HLOOKUP(C$6,CPPE!$A$1:$DB$177,$A23,FALSE)))","v":""},{"$f":"IF(D$6=\"\",\"\",IF($B23=\"\",\"\",HLOOKUP(D$6,CPPE!$A$1:$DB$177,$A23,FALSE)))","v":""},{"$f":"IF(E$6=\"\",\"\",IF($B23=\"\",\"\",HLOOKUP(E$6,CPPE!$A$1:$DB$177,$A23,FALSE)))","v":""},{"$f":"IF(F$6=\"\",\"\",IF($B23=\"\",\"\",HLOOKUP(F$6,CPPE!$A$1:$DB$177,$A23,FALSE)))","v":""},{"$f":"IF(G$6=\"\",\"\",IF($B23=\"\",\"\",HLOOKUP(G$6,CPPE!$A$1:$DB$177,$A23,FALSE)))","v":""},{"$f":"IF(H$6=\"\",\"\",IF($B23=\"\",\"\",HLOOKUP(H$6,CPPE!$A$1:$DB$177,$A23,FALSE)))","v":""},{"$f":"IF(I$6=\"\",\"\",IF($B23=\"\",\"\",HLOOKUP(I$6,CPPE!$A$1:$DB$177,$A23,FALSE)))","v":""},{"$f":"IF(J$6=\"\",\"\",IF($B23=\"\",\"\",HLOOKUP(J$6,CPPE!$A$1:$DB$177,$A23,FALSE)))","v":""},{"$f":"IF(K$6=\"\",\"\",IF($B23=\"\",\"\",HLOOKUP(K$6,CPPE!$A$1:$DB$177,$A23,FALSE)))","v":""},{"$f":"IF(L$6=\"\",\"\",IF($B23=\"\",\"\",HLOOKUP(L$6,CPPE!$A$1:$DB$177,$A23,FALSE)))","v":""}]
[{"$f":"VLOOKUP(B24,'Select Practices'!$W$10:$X$197,2,FALSE)","v":169},null,{"$f":"IF(C$6=\"\",\"\",IF($B24=\"\",\"\",HLOOKUP(C$6,CPPE!$A$1:$DB$177,$A24,FALSE)))","v":""},{"$f":"IF(D$6=\"\",\"\",IF($B24=\"\",\"\",HLOOKUP(D$6,CPPE!$A$1:$DB$177,$A24,FALSE)))","v":""},{"$f":"IF(E$6=\"\",\"\",IF($B24=\"\",\"\",HLOOKUP(E$6,CPPE!$A$1:$DB$177,$A24,FALSE)))","v":""},{"$f":"IF(F$6=\"\",\"\",IF($B24=\"\",\"\",HLOOKUP(F$6,CPPE!$A$1:$DB$177,$A24,FALSE)))","v":""},{"$f":"IF(G$6=\"\",\"\",IF($B24=\"\",\"\",HLOOKUP(G$6,CPPE!$A$1:$DB$177,$A24,FALSE)))","v":""},{"$f":"IF(H$6=\"\",\"\",IF($B24=\"\",\"\",HLOOKUP(H$6,CPPE!$A$1:$DB$177,$A24,FALSE)))","v":""},{"$f":"IF(I$6=\"\",\"\",IF($B24=\"\",\"\",HLOOKUP(I$6,CPPE!$A$1:$DB$177,$A24,FALSE)))","v":""},{"$f":"IF(J$6=\"\",\"\",IF($B24=\"\",\"\",HLOOKUP(J$6,CPPE!$A$1:$DB$177,$A24,FALSE)))","v":""},{"$f":"IF(K$6=\"\",\"\",IF($B24=\"\",\"\",HLOOKUP(K$6,CPPE!$A$1:$DB$177,$A24,FALSE)))","v":""},{"$f":"IF(L$6=\"\",\"\",IF($B24=\"\",\"\",HLOOKUP(L$6,CPPE!$A$1:$DB$177,$A24,FALSE)))","v":""}]
[{"$f":"VLOOKUP(B25,'Select Practices'!$W$10:$X$197,2,FALSE)","v":169},null,{"$f":"IF(C$6=\"\",\"\",IF($B25=\"\",\"\",HLOOKUP(C$6,CPPE!$A$1:$DB$177,$A25,FALSE)))","v":""},{"$f":"IF(D$6=\"\",\"\",IF($B25=\"\",\"\",HLOOKUP(D$6,CPPE!$A$1:$DB$177,$A25,FALSE)))","v":""},{"$f":"IF(E$6=\"\",\"\",IF($B25=\"\",\"\",HLOOKUP(E$6,CPPE!$A$1:$DB$177,$A25,FALSE)))","v":""},{"$f":"IF(F$6=\"\",\"\",IF($B25=\"\",\"\",HLOOKUP(F$6,CPPE!$A$1:$DB$177,$A25,FALSE)))","v":""},{"$f":"IF(G$6=\"\",\"\",IF($B25=\"\",\"\",HLOOKUP(G$6,CPPE!$A$1:$DB$177,$A25,FALSE)))","v":""},{"$f":"IF(H$6=\"\",\"\",IF($B25=\"\",\"\",HLOOKUP(H$6,CPPE!$A$1:$DB$177,$A25,FALSE)))","v":""},{"$f":"IF(I$6=\"\",\"\",IF($B25=\"\",\"\",HLOOKUP(I$6,CPPE!$A$1:$DB$177,$A25,FALSE)))","v":""},{"$f":"IF(J$6=\"\",\"\",IF($B25=\"\",\"\",HLOOKUP(J$6,CPPE!$A$1:$DB$177,$A25,FALSE)))","v":""},{"$f":"IF(K$6=\"\",\"\",IF($B25=\"\",\"\",HLOOKUP(K$6,CPPE!$A$1:$DB$177,$A25,FALSE)))","v":""},{"$f":"IF(L$6=\"\",\"\",IF($B25=\"\",\"\",HLOOKUP(L$6,CPPE!$A$1:$DB$177,$A25,FALSE)))","v":""}]
[{"$f":"VLOOKUP(B26,'Select Practices'!$W$10:$X$197,2,FALSE)","v":169},null,{"$f":"IF(C$6=\"\",\"\",IF($B26=\"\",\"\",HLOOKUP(C$6,CPPE!$A$1:$DB$177,$A26,FALSE)))","v":""},{"$f":"IF(D$6=\"\",\"\",IF($B26=\"\",\"\",HLOOKUP(D$6,CPPE!$A$1:$DB$177,$A26,FALSE)))","v":""},{"$f":"IF(E$6=\"\",\"\",IF($B26=\"\",\"\",HLOOKUP(E$6,CPPE!$A$1:$DB$177,$A26,FALSE)))","v":""},{"$f":"IF(F$6=\"\",\"\",IF($B26=\"\",\"\",HLOOKUP(F$6,CPPE!$A$1:$DB$177,$A26,FALSE)))","v":""},{"$f":"IF(G$6=\"\",\"\",IF($B26=\"\",\"\",HLOOKUP(G$6,CPPE!$A$1:$DB$177,$A26,FALSE)))","v":""},{"$f":"IF(H$6=\"\",\"\",IF($B26=\"\",\"\",HLOOKUP(H$6,CPPE!$A$1:$DB$177,$A26,FALSE)))","v":""},{"$f":"IF(I$6=\"\",\"\",IF($B26=\"\",\"\",HLOOKUP(I$6,CPPE!$A$1:$DB$177,$A26,FALSE)))","v":""},{"$f":"IF(J$6=\"\",\"\",IF($B26=\"\",\"\",HLOOKUP(J$6,CPPE!$A$1:$DB$177,$A26,FALSE)))","v":""},{"$f":"IF(K$6=\"\",\"\",IF($B26=\"\",\"\",HLOOKUP(K$6,CPPE!$A$1:$DB$177,$A26,FALSE)))","v":""},{"$f":"IF(L$6=\"\",\"\",IF($B26=\"\",\"\",HLOOKUP(L$6,CPPE!$A$1:$DB$177,$A26,FALSE)))","v":""}]
[{"$f":"VLOOKUP(B27,'Select Practices'!$W$10:$X$197,2,FALSE)","v":169},null,{"$f":"IF(C$6=\"\",\"\",IF($B27=\"\",\"\",HLOOKUP(C$6,CPPE!$A$1:$DB$177,$A27,FALSE)))","v":""},{"$f":"IF(D$6=\"\",\"\",IF($B27=\"\",\"\",HLOOKUP(D$6,CPPE!$A$1:$DB$177,$A27,FALSE)))","v":""},{"$f":"IF(E$6=\"\",\"\",IF($B27=\"\",\"\",HLOOKUP(E$6,CPPE!$A$1:$DB$177,$A27,FALSE)))","v":""},{"$f":"IF(F$6=\"\",\"\",IF($B27=\"\",\"\",HLOOKUP(F$6,CPPE!$A$1:$DB$177,$A27,FALSE)))","v":""},{"$f":"IF(G$6=\"\",\"\",IF($B27=\"\",\"\",HLOOKUP(G$6,CPPE!$A$1:$DB$177,$A27,FALSE)))","v":""},{"$f":"IF(H$6=\"\",\"\",IF($B27=\"\",\"\",HLOOKUP(H$6,CPPE!$A$1:$DB$177,$A27,FALSE)))","v":""},{"$f":"IF(I$6=\"\",\"\",IF($B27=\"\",\"\",HLOOKUP(I$6,CPPE!$A$1:$DB$177,$A27,FALSE)))","v":""},{"$f":"IF(J$6=\"\",\"\",IF($B27=\"\",\"\",HLOOKUP(J$6,CPPE!$A$1:$DB$177,$A27,FALSE)))","v":""},{"$f":"IF(K$6=\"\",\"\",IF($B27=\"\",\"\",HLOOKUP(K$6,CPPE!$A$1:$DB$177,$A27,FALSE)))","v":""},{"$f":"IF(L$6=\"\",\"\",IF($B27=\"\",\"\",HLOOKUP(L$6,CPPE!$A$1:$DB$177,$A27,FALSE)))","v":""}]
[{"$f":"VLOOKUP(B28,'Select Practices'!$W$10:$X$197,2,FALSE)","v":169},null,{"$f":"IF(C$6=\"\",\"\",IF($B28=\"\",\"\",HLOOKUP(C$6,CPPE!$A$1:$DB$177,$A28,FALSE)))","v":""},{"$f":"IF(D$6=\"\",\"\",IF($B28=\"\",\"\",HLOOKUP(D$6,CPPE!$A$1:$DB$177,$A28,FALSE)))","v":""},{"$f":"IF(E$6=\"\",\"\",IF($B28=\"\",\"\",HLOOKUP(E$6,CPPE!$A$1:$DB$177,$A28,FALSE)))","v":""},{"$f":"IF(F$6=\"\",\"\",IF($B28=\"\",\"\",HLOOKUP(F$6,CPPE!$A$1:$DB$177,$A28,FALSE)))","v":""},{"$f":"IF(G$6=\"\",\"\",IF($B28=\"\",\"\",HLOOKUP(G$6,CPPE!$A$1:$DB$177,$A28,FALSE)))","v":""},{"$f":"IF(H$6=\"\",\"\",IF($B28=\"\",\"\",HLOOKUP(H$6,CPPE!$A$1:$DB$177,$A28,FALSE)))","v":""},{"$f":"IF(I$6=\"\",\"\",IF($B28=\"\",\"\",HLOOKUP(I$6,CPPE!$A$1:$DB$177,$A28,FALSE)))","v":""},{"$f":"IF(J$6=\"\",\"\",IF($B28=\"\",\"\",HLOOKUP(J$6,CPPE!$A$1:$DB$177,$A28,FALSE)))","v":""},{"$f":"IF(K$6=\"\",\"\",IF($B28=\"\",\"\",HLOOKUP(K$6,CPPE!$A$1:$DB$177,$A28,FALSE)))","v":""},{"$f":"IF(L$6=\"\",\"\",IF($B28=\"\",\"\",HLOOKUP(L$6,CPPE!$A$1:$DB$177,$A28,FALSE)))","v":""}]
[{"$f":"VLOOKUP(B29,'Select Practices'!$W$10:$X$197,2,FALSE)","v":169},null,{"$f":"IF(C$6=\"\",\"\",IF($B29=\"\",\"\",HLOOKUP(C$6,CPPE!$A$1:$DB$177,$A29,FALSE)))","v":""},{"$f":"IF(D$6=\"\",\"\",IF($B29=\"\",\"\",HLOOKUP(D$6,CPPE!$A$1:$DB$177,$A29,FALSE)))","v":""},{"$f":"IF(E$6=\"\",\"\",IF($B29=\"\",\"\",HLOOKUP(E$6,CPPE!$A$1:$DB$177,$A29,FALSE)))","v":""},{"$f":"IF(F$6=\"\",\"\",IF($B29=\"\",\"\",HLOOKUP(F$6,CPPE!$A$1:$DB$177,$A29,FALSE)))","v":""},{"$f":"IF(G$6=\"\",\"\",IF($B29=\"\",\"\",HLOOKUP(G$6,CPPE!$A$1:$DB$177,$A29,FALSE)))","v":""},{"$f":"IF(H$6=\"\",\"\",IF($B29=\"\",\"\",HLOOKUP(H$6,CPPE!$A$1:$DB$177,$A29,FALSE)))","v":""},{"$f":"IF(I$6=\"\",\"\",IF($B29=\"\",\"\",HLOOKUP(I$6,CPPE!$A$1:$DB$177,$A29,FALSE)))","v":""},{"$f":"IF(J$6=\"\",\"\",IF($B29=\"\",\"\",HLOOKUP(J$6,CPPE!$A$1:$DB$177,$A29,FALSE)))","v":""},{"$f":"IF(K$6=\"\",\"\",IF($B29=\"\",\"\",HLOOKUP(K$6,CPPE!$A$1:$DB$177,$A29,FALSE)))","v":""},{"$f":"IF(L$6=\"\",\"\",IF($B29=\"\",\"\",HLOOKUP(L$6,CPPE!$A$1:$DB$177,$A29,FALSE)))","v":""}]
[{"$f":"VLOOKUP(B30,'Select Practices'!$W$10:$X$197,2,FALSE)","v":169},null,{"$f":"IF(C$6=\"\",\"\",IF($B30=\"\",\"\",HLOOKUP(C$6,CPPE!$A$1:$DB$177,$A30,FALSE)))","v":""},{"$f":"IF(D$6=\"\",\"\",IF($B30=\"\",\"\",HLOOKUP(D$6,CPPE!$A$1:$DB$177,$A30,FALSE)))","v":""},{"$f":"IF(E$6=\"\",\"\",IF($B30=\"\",\"\",HLOOKUP(E$6,CPPE!$A$1:$DB$177,$A30,FALSE)))","v":""},{"$f":"IF(F$6=\"\",\"\",IF($B30=\"\",\"\",HLOOKUP(F$6,CPPE!$A$1:$DB$177,$A30,FALSE)))","v":""},{"$f":"IF(G$6=\"\",\"\",IF($B30=\"\",\"\",HLOOKUP(G$6,CPPE!$A$1:$DB$177,$A30,FALSE)))","v":""},{"$f":"IF(H$6=\"\",\"\",IF($B30=\"\",\"\",HLOOKUP(H$6,CPPE!$A$1:$DB$177,$A30,FALSE)))","v":""},{"$f":"IF(I$6=\"\",\"\",IF($B30=\"\",\"\",HLOOKUP(I$6,CPPE!$A$1:$DB$177,$A30,FALSE)))","v":""},{"$f":"IF(J$6=\"\",\"\",IF($B30=\"\",\"\",HLOOKUP(J$6,CPPE!$A$1:$DB$177,$A30,FALSE)))","v":""},{"$f":"IF(K$6=\"\",\"\",IF($B30=\"\",\"\",HLOOKUP(K$6,CPPE!$A$1:$DB$177,$A30,FALSE)))","v":""},{"$f":"IF(L$6=\"\",\"\",IF($B30=\"\",\"\",HLOOKUP(L$6,CPPE!$A$1:$DB$177,$A30,FALSE)))","v":""}]
[{"$f":"VLOOKUP(B31,'Select Practices'!$W$10:$X$197,2,FALSE)","v":169},null,{"$f":"IF(C$6=\"\",\"\",IF($B31=\"\",\"\",HLOOKUP(C$6,CPPE!$A$1:$DB$177,$A31,FALSE)))","v":""},{"$f":"IF(D$6=\"\",\"\",IF($B31=\"\",\"\",HLOOKUP(D$6,CPPE!$A$1:$DB$177,$A31,FALSE)))","v":""},{"$f":"IF(E$6=\"\",\"\",IF($B31=\"\",\"\",HLOOKUP(E$6,CPPE!$A$1:$DB$177,$A31,FALSE)))","v":""},{"$f":"IF(F$6=\"\",\"\",IF($B31=\"\",\"\",HLOOKUP(F$6,CPPE!$A$1:$DB$177,$A31,FALSE)))","v":""},{"$f":"IF(G$6=\"\",\"\",IF($B31=\"\",\"\",HLOOKUP(G$6,CPPE!$A$1:$DB$177,$A31,FALSE)))","v":""},{"$f":"IF(H$6=\"\",\"\",IF($B31=\"\",\"\",HLOOKUP(H$6,CPPE!$A$1:$DB$177,$A31,FALSE)))","v":""},{"$f":"IF(I$6=\"\",\"\",IF($B31=\"\",\"\",HLOOKUP(I$6,CPPE!$A$1:$DB$177,$A31,FALSE)))","v":""},{"$f":"IF(J$6=\"\",\"\",IF($B31=\"\",\"\",HLOOKUP(J$6,CPPE!$A$1:$DB$177,$A31,FALSE)))","v":""},{"$f":"IF(K$6=\"\",\"\",IF($B31=\"\",\"\",HLOOKUP(K$6,CPPE!$A$1:$DB$177,$A31,FALSE)))","v":""},{"$f":"IF(L$6=\"\",\"\",IF($B31=\"\",\"\",HLOOKUP(L$6,CPPE!$A$1:$DB$177,$A31,FALSE)))","v":""}]
[{"$f":"VLOOKUP(B32,'Select Practices'!$W$10:$X$197,2,FALSE)","v":169},null,{"$f":"IF(C$6=\"\",\"\",IF($B32=\"\",\"\",HLOOKUP(C$6,CPPE!$A$1:$DB$177,$A32,FALSE)))","v":""},{"$f":"IF(D$6=\"\",\"\",IF($B32=\"\",\"\",HLOOKUP(D$6,CPPE!$A$1:$DB$177,$A32,FALSE)))","v":""},{"$f":"IF(E$6=\"\",\"\",IF($B32=\"\",\"\",HLOOKUP(E$6,CPPE!$A$1:$DB$177,$A32,FALSE)))","v":""},{"$f":"IF(F$6=\"\",\"\",IF($B32=\"\",\"\",HLOOKUP(F$6,CPPE!$A$1:$DB$177,$A32,FALSE)))","v":""},{"$f":"IF(G$6=\"\",\"\",IF($B32=\"\",\"\",HLOOKUP(G$6,CPPE!$A$1:$DB$177,$A32,FALSE)))","v":""},{"$f":"IF(H$6=\"\",\"\",IF($B32=\"\",\"\",HLOOKUP(H$6,CPPE!$A$1:$DB$177,$A32,FALSE)))","v":""},{"$f":"IF(I$6=\"\",\"\",IF($B32=\"\",\"\",HLOOKUP(I$6,CPPE!$A$1:$DB$177,$A32,FALSE)))","v":""},{"$f":"IF(J$6=\"\",\"\",IF($B32=\"\",\"\",HLOOKUP(J$6,CPPE!$A$1:$DB$177,$A32,FALSE)))","v":""},{"$f":"IF(K$6=\"\",\"\",IF($B32=\"\",\"\",HLOOKUP(K$6,CPPE!$A$1:$DB$177,$A32,FALSE)))","v":""},{"$f":"IF(L$6=\"\",\"\",IF($B32=\"\",\"\",HLOOKUP(L$6,CPPE!$A$1:$DB$177,$A32,FALSE)))","v":""}]
[{"$f":"VLOOKUP(B33,'Select Practices'!$W$10:$X$197,2,FALSE)","v":169},null,{"$f":"IF(C$6=\"\",\"\",IF($B33=\"\",\"\",HLOOKUP(C$6,CPPE!$A$1:$DB$177,$A33,FALSE)))","v":""},{"$f":"IF(D$6=\"\",\"\",IF($B33=\"\",\"\",HLOOKUP(D$6,CPPE!$A$1:$DB$177,$A33,FALSE)))","v":""},{"$f":"IF(E$6=\"\",\"\",IF($B33=\"\",\"\",HLOOKUP(E$6,CPPE!$A$1:$DB$177,$A33,FALSE)))","v":""},{"$f":"IF(F$6=\"\",\"\",IF($B33=\"\",\"\",HLOOKUP(F$6,CPPE!$A$1:$DB$177,$A33,FALSE)))","v":""},{"$f":"IF(G$6=\"\",\"\",IF($B33=\"\",\"\",HLOOKUP(G$6,CPPE!$A$1:$DB$177,$A33,FALSE)))","v":""},{"$f":"IF(H$6=\"\",\"\",IF($B33=\"\",\"\",HLOOKUP(H$6,CPPE!$A$1:$DB$177,$A33,FALSE)))","v":""},{"$f":"IF(I$6=\"\",\"\",IF($B33=\"\",\"\",HLOOKUP(I$6,CPPE!$A$1:$DB$177,$A33,FALSE)))","v":""},{"$f":"IF(J$6=\"\",\"\",IF($B33=\"\",\"\",HLOOKUP(J$6,CPPE!$A$1:$DB$177,$A33,FALSE)))","v":""},{"$f":"IF(K$6=\"\",\"\",IF($B33=\"\",\"\",HLOOKUP(K$6,CPPE!$A$1:$DB$177,$A33,FALSE)))","v":""},{"$f":"IF(L$6=\"\",\"\",IF($B33=\"\",\"\",HLOOKUP(L$6,CPPE!$A$1:$DB$177,$A33,FALSE)))","v":""}]
[{"$f":"VLOOKUP(B34,'Select Practices'!$W$10:$X$197,2,FALSE)","v":169},null,{"$f":"IF(C$6=\"\",\"\",IF($B34=\"\",\"\",HLOOKUP(C$6,CPPE!$A$1:$DB$177,$A34,FALSE)))","v":""},{"$f":"IF(D$6=\"\",\"\",IF($B34=\"\",\"\",HLOOKUP(D$6,CPPE!$A$1:$DB$177,$A34,FALSE)))","v":""},{"$f":"IF(E$6=\"\",\"\",IF($B34=\"\",\"\",HLOOKUP(E$6,CPPE!$A$1:$DB$177,$A34,FALSE)))","v":""},{"$f":"IF(F$6=\"\",\"\",IF($B34=\"\",\"\",HLOOKUP(F$6,CPPE!$A$1:$DB$177,$A34,FALSE)))","v":""},{"$f":"IF(G$6=\"\",\"\",IF($B34=\"\",\"\",HLOOKUP(G$6,CPPE!$A$1:$DB$177,$A34,FALSE)))","v":""},{"$f":"IF(H$6=\"\",\"\",IF($B34=\"\",\"\",HLOOKUP(H$6,CPPE!$A$1:$DB$177,$A34,FALSE)))","v":""},{"$f":"IF(I$6=\"\",\"\",IF($B34=\"\",\"\",HLOOKUP(I$6,CPPE!$A$1:$DB$177,$A34,FALSE)))","v":""},{"$f":"IF(J$6=\"\",\"\",IF($B34=\"\",\"\",HLOOKUP(J$6,CPPE!$A$1:$DB$177,$A34,FALSE)))","v":""},{"$f":"IF(K$6=\"\",\"\",IF($B34=\"\",\"\",HLOOKUP(K$6,CPPE!$A$1:$DB$177,$A34,FALSE)))","v":""},{"$f":"IF(L$6=\"\",\"\",IF($B34=\"\",\"\",HLOOKUP(L$6,CPPE!$A$1:$DB$177,$A34,FALSE)))","v":""}]
[{"$f":"VLOOKUP(B35,'Select Practices'!$W$10:$X$197,2,FALSE)","v":169},null,{"$f":"IF(C$6=\"\",\"\",IF($B35=\"\",\"\",HLOOKUP(C$6,CPPE!$A$1:$DB$177,$A35,FALSE)))","v":""},{"$f":"IF(D$6=\"\",\"\",IF($B35=\"\",\"\",HLOOKUP(D$6,CPPE!$A$1:$DB$177,$A35,FALSE)))","v":""},{"$f":"IF(E$6=\"\",\"\",IF($B35=\"\",\"\",HLOOKUP(E$6,CPPE!$A$1:$DB$177,$A35,FALSE)))","v":""},{"$f":"IF(F$6=\"\",\"\",IF($B35=\"\",\"\",HLOOKUP(F$6,CPPE!$A$1:$DB$177,$A35,FALSE)))","v":""},{"$f":"IF(G$6=\"\",\"\",IF($B35=\"\",\"\",HLOOKUP(G$6,CPPE!$A$1:$DB$177,$A35,FALSE)))","v":""},{"$f":"IF(H$6=\"\",\"\",IF($B35=\"\",\"\",HLOOKUP(H$6,CPPE!$A$1:$DB$177,$A35,FALSE)))","v":""},{"$f":"IF(I$6=\"\",\"\",IF($B35=\"\",\"\",HLOOKUP(I$6,CPPE!$A$1:$DB$177,$A35,FALSE)))","v":""},{"$f":"IF(J$6=\"\",\"\",IF($B35=\"\",\"\",HLOOKUP(J$6,CPPE!$A$1:$DB$177,$A35,FALSE)))","v":""},{"$f":"IF(K$6=\"\",\"\",IF($B35=\"\",\"\",HLOOKUP(K$6,CPPE!$A$1:$DB$177,$A35,FALSE)))","v":""},{"$f":"IF(L$6=\"\",\"\",IF($B35=\"\",\"\",HLOOKUP(L$6,CPPE!$A$1:$DB$177,$A35,FALSE)))","v":""}]
[{"$f":"VLOOKUP(B36,'Select Practices'!$W$10:$X$197,2,FALSE)","v":169},null,{"$f":"IF(C$6=\"\",\"\",IF($B36=\"\",\"\",HLOOKUP(C$6,CPPE!$A$1:$DB$177,$A36,FALSE)))","v":""},{"$f":"IF(D$6=\"\",\"\",IF($B36=\"\",\"\",HLOOKUP(D$6,CPPE!$A$1:$DB$177,$A36,FALSE)))","v":""},{"$f":"IF(E$6=\"\",\"\",IF($B36=\"\",\"\",HLOOKUP(E$6,CPPE!$A$1:$DB$177,$A36,FALSE)))","v":""},{"$f":"IF(F$6=\"\",\"\",IF($B36=\"\",\"\",HLOOKUP(F$6,CPPE!$A$1:$DB$177,$A36,FALSE)))","v":""},{"$f":"IF(G$6=\"\",\"\",IF($B36=\"\",\"\",HLOOKUP(G$6,CPPE!$A$1:$DB$177,$A36,FALSE)))","v":""},{"$f":"IF(H$6=\"\",\"\",IF($B36=\"\",\"\",HLOOKUP(H$6,CPPE!$A$1:$DB$177,$A36,FALSE)))","v":""},{"$f":"IF(I$6=\"\",\"\",IF($B36=\"\",\"\",HLOOKUP(I$6,CPPE!$A$1:$DB$177,$A36,FALSE)))","v":""},{"$f":"IF(J$6=\"\",\"\",IF($B36=\"\",\"\",HLOOKUP(J$6,CPPE!$A$1:$DB$177,$A36,FALSE)))","v":""},{"$f":"IF(K$6=\"\",\"\",IF($B36=\"\",\"\",HLOOKUP(K$6,CPPE!$A$1:$DB$177,$A36,FALSE)))","v":""},{"$f":"IF(L$6=\"\",\"\",IF($B36=\"\",\"\",HLOOKUP(L$6,CPPE!$A$1:$DB$177,$A36,FALSE)))","v":""}]
[{"$f":"VLOOKUP(B37,'Select Practices'!$W$10:$X$197,2,FALSE)","v":169},null,{"$f":"IF(C$6=\"\",\"\",IF($B37=\"\",\"\",HLOOKUP(C$6,CPPE!$A$1:$DB$177,$A37,FALSE)))","v":""},{"$f":"IF(D$6=\"\",\"\",IF($B37=\"\",\"\",HLOOKUP(D$6,CPPE!$A$1:$DB$177,$A37,FALSE)))","v":""},{"$f":"IF(E$6=\"\",\"\",IF($B37=\"\",\"\",HLOOKUP(E$6,CPPE!$A$1:$DB$177,$A37,FALSE)))","v":""},{"$f":"IF(F$6=\"\",\"\",IF($B37=\"\",\"\",HLOOKUP(F$6,CPPE!$A$1:$DB$177,$A37,FALSE)))","v":""},{"$f":"IF(G$6=\"\",\"\",IF($B37=\"\",\"\",HLOOKUP(G$6,CPPE!$A$1:$DB$177,$A37,FALSE)))","v":""},{"$f":"IF(H$6=\"\",\"\",IF($B37=\"\",\"\",HLOOKUP(H$6,CPPE!$A$1:$DB$177,$A37,FALSE)))","v":""},{"$f":"IF(I$6=\"\",\"\",IF($B37=\"\",\"\",HLOOKUP(I$6,CPPE!$A$1:$DB$177,$A37,FALSE)))","v":""},{"$f":"IF(J$6=\"\",\"\",IF($B37=\"\",\"\",HLOOKUP(J$6,CPPE!$A$1:$DB$177,$A37,FALSE)))","v":""},{"$f":"IF(K$6=\"\",\"\",IF($B37=\"\",\"\",HLOOKUP(K$6,CPPE!$A$1:$DB$177,$A37,FALSE)))","v":""},{"$f":"IF(L$6=\"\",\"\",IF($B37=\"\",\"\",HLOOKUP(L$6,CPPE!$A$1:$DB$177,$A37,FALSE)))","v":""}]
[{"$f":"VLOOKUP(B38,'Select Practices'!$W$10:$X$197,2,FALSE)","v":169},null,{"$f":"IF(C$6=\"\",\"\",IF($B38=\"\",\"\",HLOOKUP(C$6,CPPE!$A$1:$DB$177,$A38,FALSE)))","v":""},{"$f":"IF(D$6=\"\",\"\",IF($B38=\"\",\"\",HLOOKUP(D$6,CPPE!$A$1:$DB$177,$A38,FALSE)))","v":""},{"$f":"IF(E$6=\"\",\"\",IF($B38=\"\",\"\",HLOOKUP(E$6,CPPE!$A$1:$DB$177,$A38,FALSE)))","v":""},{"$f":"IF(F$6=\"\",\"\",IF($B38=\"\",\"\",HLOOKUP(F$6,CPPE!$A$1:$DB$177,$A38,FALSE)))","v":""},{"$f":"IF(G$6=\"\",\"\",IF($B38=\"\",\"\",HLOOKUP(G$6,CPPE!$A$1:$DB$177,$A38,FALSE)))","v":""},{"$f":"IF(H$6=\"\",\"\",IF($B38=\"\",\"\",HLOOKUP(H$6,CPPE!$A$1:$DB$177,$A38,FALSE)))","v":""},{"$f":"IF(I$6=\"\",\"\",IF($B38=\"\",\"\",HLOOKUP(I$6,CPPE!$A$1:$DB$177,$A38,FALSE)))","v":""},{"$f":"IF(J$6=\"\",\"\",IF($B38=\"\",\"\",HLOOKUP(J$6,CPPE!$A$1:$DB$177,$A38,FALSE)))","v":""},{"$f":"IF(K$6=\"\",\"\",IF($B38=\"\",\"\",HLOOKUP(K$6,CPPE!$A$1:$DB$177,$A38,FALSE)))","v":""},{"$f":"IF(L$6=\"\",\"\",IF($B38=\"\",\"\",HLOOKUP(L$6,CPPE!$A$1:$DB$177,$A38,FALSE)))","v":""}]
[{"$f":"VLOOKUP(B39,'Select Practices'!$W$10:$X$197,2,FALSE)","v":169},null,{"$f":"IF(C$6=\"\",\"\",IF($B39=\"\",\"\",HLOOKUP(C$6,CPPE!$A$1:$DB$177,$A39,FALSE)))","v":""},{"$f":"IF(D$6=\"\",\"\",IF($B39=\"\",\"\",HLOOKUP(D$6,CPPE!$A$1:$DB$177,$A39,FALSE)))","v":""},{"$f":"IF(E$6=\"\",\"\",IF($B39=\"\",\"\",HLOOKUP(E$6,CPPE!$A$1:$DB$177,$A39,FALSE)))","v":""},{"$f":"IF(F$6=\"\",\"\",IF($B39=\"\",\"\",HLOOKUP(F$6,CPPE!$A$1:$DB$177,$A39,FALSE)))","v":""},{"$f":"IF(G$6=\"\",\"\",IF($B39=\"\",\"\",HLOOKUP(G$6,CPPE!$A$1:$DB$177,$A39,FALSE)))","v":""},{"$f":"IF(H$6=\"\",\"\",IF($B39=\"\",\"\",HLOOKUP(H$6,CPPE!$A$1:$DB$177,$A39,FALSE)))","v":""},{"$f":"IF(I$6=\"\",\"\",IF($B39=\"\",\"\",HLOOKUP(I$6,CPPE!$A$1:$DB$177,$A39,FALSE)))","v":""},{"$f":"IF(J$6=\"\",\"\",IF($B39=\"\",\"\",HLOOKUP(J$6,CPPE!$A$1:$DB$177,$A39,FALSE)))","v":""},{"$f":"IF(K$6=\"\",\"\",IF($B39=\"\",\"\",HLOOKUP(K$6,CPPE!$A$1:$DB$177,$A39,FALSE)))","v":""},{"$f":"IF(L$6=\"\",\"\",IF($B39=\"\",\"\",HLOOKUP(L$6,CPPE!$A$1:$DB$177,$A39,FALSE)))","v":""}]
[{"$f":"VLOOKUP(B40,'Select Practices'!$W$10:$X$197,2,FALSE)","v":169},null,{"$f":"IF(C$6=\"\",\"\",IF($B40=\"\",\"\",HLOOKUP(C$6,CPPE!$A$1:$DB$177,$A40,FALSE)))","v":""},{"$f":"IF(D$6=\"\",\"\",IF($B40=\"\",\"\",HLOOKUP(D$6,CPPE!$A$1:$DB$177,$A40,FALSE)))","v":""},{"$f":"IF(E$6=\"\",\"\",IF($B40=\"\",\"\",HLOOKUP(E$6,CPPE!$A$1:$DB$177,$A40,FALSE)))","v":""},{"$f":"IF(F$6=\"\",\"\",IF($B40=\"\",\"\",HLOOKUP(F$6,CPPE!$A$1:$DB$177,$A40,FALSE)))","v":""},{"$f":"IF(G$6=\"\",\"\",IF($B40=\"\",\"\",HLOOKUP(G$6,CPPE!$A$1:$DB$177,$A40,FALSE)))","v":""},{"$f":"IF(H$6=\"\",\"\",IF($B40=\"\",\"\",HLOOKUP(H$6,CPPE!$A$1:$DB$177,$A40,FALSE)))","v":""},{"$f":"IF(I$6=\"\",\"\",IF($B40=\"\",\"\",HLOOKUP(I$6,CPPE!$A$1:$DB$177,$A40,FALSE)))","v":""},{"$f":"IF(J$6=\"\",\"\",IF($B40=\"\",\"\",HLOOKUP(J$6,CPPE!$A$1:$DB$177,$A40,FALSE)))","v":""},{"$f":"IF(K$6=\"\",\"\",IF($B40=\"\",\"\",HLOOKUP(K$6,CPPE!$A$1:$DB$177,$A40,FALSE)))","v":""},{"$f":"IF(L$6=\"\",\"\",IF($B40=\"\",\"\",HLOOKUP(L$6,CPPE!$A$1:$DB$177,$A40,FALSE)))","v":""}]
[{"$f":"VLOOKUP(B41,'Select Practices'!$W$10:$X$197,2,FALSE)","v":169},null,{"$f":"IF(C$6=\"\",\"\",IF($B41=\"\",\"\",HLOOKUP(C$6,CPPE!$A$1:$DB$177,$A41,FALSE)))","v":""},{"$f":"IF(D$6=\"\",\"\",IF($B41=\"\",\"\",HLOOKUP(D$6,CPPE!$A$1:$DB$177,$A41,FALSE)))","v":""},{"$f":"IF(E$6=\"\",\"\",IF($B41=\"\",\"\",HLOOKUP(E$6,CPPE!$A$1:$DB$177,$A41,FALSE)))","v":""},{"$f":"IF(F$6=\"\",\"\",IF($B41=\"\",\"\",HLOOKUP(F$6,CPPE!$A$1:$DB$177,$A41,FALSE)))","v":""},{"$f":"IF(G$6=\"\",\"\",IF($B41=\"\",\"\",HLOOKUP(G$6,CPPE!$A$1:$DB$177,$A41,FALSE)))","v":""},{"$f":"IF(H$6=\"\",\"\",IF($B41=\"\",\"\",HLOOKUP(H$6,CPPE!$A$1:$DB$177,$A41,FALSE)))","v":""},{"$f":"IF(I$6=\"\",\"\",IF($B41=\"\",\"\",HLOOKUP(I$6,CPPE!$A$1:$DB$177,$A41,FALSE)))","v":""},{"$f":"IF(J$6=\"\",\"\",IF($B41=\"\",\"\",HLOOKUP(J$6,CPPE!$A$1:$DB$177,$A41,FALSE)))","v":""},{"$f":"IF(K$6=\"\",\"\",IF($B41=\"\",\"\",HLOOKUP(K$6,CPPE!$A$1:$DB$177,$A41,FALSE)))","v":""},{"$f":"IF(L$6=\"\",\"\",IF($B41=\"\",\"\",HLOOKUP(L$6,CPPE!$A$1:$DB$177,$A41,FALSE)))","v":""}]
[{"$f":"VLOOKUP(B42,'Select Practices'!$W$10:$X$197,2,FALSE)","v":169},null,{"$f":"IF(C$6=\"\",\"\",IF($B42=\"\",\"\",HLOOKUP(C$6,CPPE!$A$1:$DB$177,$A42,FALSE)))","v":""},{"$f":"IF(D$6=\"\",\"\",IF($B42=\"\",\"\",HLOOKUP(D$6,CPPE!$A$1:$DB$177,$A42,FALSE)))","v":""},{"$f":"IF(E$6=\"\",\"\",IF($B42=\"\",\"\",HLOOKUP(E$6,CPPE!$A$1:$DB$177,$A42,FALSE)))","v":""},{"$f":"IF(F$6=\"\",\"\",IF($B42=\"\",\"\",HLOOKUP(F$6,CPPE!$A$1:$DB$177,$A42,FALSE)))","v":""},{"$f":"IF(G$6=\"\",\"\",IF($B42=\"\",\"\",HLOOKUP(G$6,CPPE!$A$1:$DB$177,$A42,FALSE)))","v":""},{"$f":"IF(H$6=\"\",\"\",IF($B42=\"\",\"\",HLOOKUP(H$6,CPPE!$A$1:$DB$177,$A42,FALSE)))","v":""},{"$f":"IF(I$6=\"\",\"\",IF($B42=\"\",\"\",HLOOKUP(I$6,CPPE!$A$1:$DB$177,$A42,FALSE)))","v":""},{"$f":"IF(J$6=\"\",\"\",IF($B42=\"\",\"\",HLOOKUP(J$6,CPPE!$A$1:$DB$177,$A42,FALSE)))","v":""},{"$f":"IF(K$6=\"\",\"\",IF($B42=\"\",\"\",HLOOKUP(K$6,CPPE!$A$1:$DB$177,$A42,FALSE)))","v":""},{"$f":"IF(L$6=\"\",\"\",IF($B42=\"\",\"\",HLOOKUP(L$6,CPPE!$A$1:$DB$177,$A42,FALSE)))","v":""}]
[{"$f":"VLOOKUP(B43,'Select Practices'!$W$10:$X$197,2,FALSE)","v":169},null,{"$f":"IF(C$6=\"\",\"\",IF($B43=\"\",\"\",HLOOKUP(C$6,CPPE!$A$1:$DB$177,$A43,FALSE)))","v":""},{"$f":"IF(D$6=\"\",\"\",IF($B43=\"\",\"\",HLOOKUP(D$6,CPPE!$A$1:$DB$177,$A43,FALSE)))","v":""},{"$f":"IF(E$6=\"\",\"\",IF($B43=\"\",\"\",HLOOKUP(E$6,CPPE!$A$1:$DB$177,$A43,FALSE)))","v":""},{"$f":"IF(F$6=\"\",\"\",IF($B43=\"\",\"\",HLOOKUP(F$6,CPPE!$A$1:$DB$177,$A43,FALSE)))","v":""},{"$f":"IF(G$6=\"\",\"\",IF($B43=\"\",\"\",HLOOKUP(G$6,CPPE!$A$1:$DB$177,$A43,FALSE)))","v":""},{"$f":"IF(H$6=\"\",\"\",IF($B43=\"\",\"\",HLOOKUP(H$6,CPPE!$A$1:$DB$177,$A43,FALSE)))","v":""},{"$f":"IF(I$6=\"\",\"\",IF($B43=\"\",\"\",HLOOKUP(I$6,CPPE!$A$1:$DB$177,$A43,FALSE)))","v":""},{"$f":"IF(J$6=\"\",\"\",IF($B43=\"\",\"\",HLOOKUP(J$6,CPPE!$A$1:$DB$177,$A43,FALSE)))","v":""},{"$f":"IF(K$6=\"\",\"\",IF($B43=\"\",\"\",HLOOKUP(K$6,CPPE!$A$1:$DB$177,$A43,FALSE)))","v":""},{"$f":"IF(L$6=\"\",\"\",IF($B43=\"\",\"\",HLOOKUP(L$6,CPPE!$A$1:$DB$177,$A43,FALSE)))","v":""}]
[{"$f":"VLOOKUP(B44,'Select Practices'!$W$10:$X$197,2,FALSE)","v":169},null,{"$f":"IF(C$6=\"\",\"\",IF($B44=\"\",\"\",HLOOKUP(C$6,CPPE!$A$1:$DB$177,$A44,FALSE)))","v":""},{"$f":"IF(D$6=\"\",\"\",IF($B44=\"\",\"\",HLOOKUP(D$6,CPPE!$A$1:$DB$177,$A44,FALSE)))","v":""},{"$f":"IF(E$6=\"\",\"\",IF($B44=\"\",\"\",HLOOKUP(E$6,CPPE!$A$1:$DB$177,$A44,FALSE)))","v":""},{"$f":"IF(F$6=\"\",\"\",IF($B44=\"\",\"\",HLOOKUP(F$6,CPPE!$A$1:$DB$177,$A44,FALSE)))","v":""},{"$f":"IF(G$6=\"\",\"\",IF($B44=\"\",\"\",HLOOKUP(G$6,CPPE!$A$1:$DB$177,$A44,FALSE)))","v":""},{"$f":"IF(H$6=\"\",\"\",IF($B44=\"\",\"\",HLOOKUP(H$6,CPPE!$A$1:$DB$177,$A44,FALSE)))","v":""},{"$f":"IF(I$6=\"\",\"\",IF($B44=\"\",\"\",HLOOKUP(I$6,CPPE!$A$1:$DB$177,$A44,FALSE)))","v":""},{"$f":"IF(J$6=\"\",\"\",IF($B44=\"\",\"\",HLOOKUP(J$6,CPPE!$A$1:$DB$177,$A44,FALSE)))","v":""},{"$f":"IF(K$6=\"\",\"\",IF($B44=\"\",\"\",HLOOKUP(K$6,CPPE!$A$1:$DB$177,$A44,FALSE)))","v":""},{"$f":"IF(L$6=\"\",\"\",IF($B44=\"\",\"\",HLOOKUP(L$6,CPPE!$A$1:$DB$177,$A44,FALSE)))","v":""}]
[{"$f":"VLOOKUP(B45,'Select Practices'!$W$10:$X$197,2,FALSE)","v":169},null,{"$f":"IF(C$6=\"\",\"\",IF($B45=\"\",\"\",HLOOKUP(C$6,CPPE!$A$1:$DB$177,$A45,FALSE)))","v":""},{"$f":"IF(D$6=\"\",\"\",IF($B45=\"\",\"\",HLOOKUP(D$6,CPPE!$A$1:$DB$177,$A45,FALSE)))","v":""},{"$f":"IF(E$6=\"\",\"\",IF($B45=\"\",\"\",HLOOKUP(E$6,CPPE!$A$1:$DB$177,$A45,FALSE)))","v":""},{"$f":"IF(F$6=\"\",\"\",IF($B45=\"\",\"\",HLOOKUP(F$6,CPPE!$A$1:$DB$177,$A45,FALSE)))","v":""},{"$f":"IF(G$6=\"\",\"\",IF($B45=\"\",\"\",HLOOKUP(G$6,CPPE!$A$1:$DB$177,$A45,FALSE)))","v":""},{"$f":"IF(H$6=\"\",\"\",IF($B45=\"\",\"\",HLOOKUP(H$6,CPPE!$A$1:$DB$177,$A45,FALSE)))","v":""},{"$f":"IF(I$6=\"\",\"\",IF($B45=\"\",\"\",HLOOKUP(I$6,CPPE!$A$1:$DB$177,$A45,FALSE)))","v":""},{"$f":"IF(J$6=\"\",\"\",IF($B45=\"\",\"\",HLOOKUP(J$6,CPPE!$A$1:$DB$177,$A45,FALSE)))","v":""},{"$f":"IF(K$6=\"\",\"\",IF($B45=\"\",\"\",HLOOKUP(K$6,CPPE!$A$1:$DB$177,$A45,FALSE)))","v":""},{"$f":"IF(L$6=\"\",\"\",IF($B45=\"\",\"\",HLOOKUP(L$6,CPPE!$A$1:$DB$177,$A45,FALSE)))","v":""}]
[{"$f":"VLOOKUP(B46,'Select Practices'!$W$10:$X$197,2,FALSE)","v":169},null,{"$f":"IF(C$6=\"\",\"\",IF($B46=\"\",\"\",HLOOKUP(C$6,CPPE!$A$1:$DB$177,$A46,FALSE)))","v":""},{"$f":"IF(D$6=\"\",\"\",IF($B46=\"\",\"\",HLOOKUP(D$6,CPPE!$A$1:$DB$177,$A46,FALSE)))","v":""},{"$f":"IF(E$6=\"\",\"\",IF($B46=\"\",\"\",HLOOKUP(E$6,CPPE!$A$1:$DB$177,$A46,FALSE)))","v":""},{"$f":"IF(F$6=\"\",\"\",IF($B46=\"\",\"\",HLOOKUP(F$6,CPPE!$A$1:$DB$177,$A46,FALSE)))","v":""},{"$f":"IF(G$6=\"\",\"\",IF($B46=\"\",\"\",HLOOKUP(G$6,CPPE!$A$1:$DB$177,$A46,FALSE)))","v":""},{"$f":"IF(H$6=\"\",\"\",IF($B46=\"\",\"\",HLOOKUP(H$6,CPPE!$A$1:$DB$177,$A46,FALSE)))","v":""},{"$f":"IF(I$6=\"\",\"\",IF($B46=\"\",\"\",HLOOKUP(I$6,CPPE!$A$1:$DB$177,$A46,FALSE)))","v":""},{"$f":"IF(J$6=\"\",\"\",IF($B46=\"\",\"\",HLOOKUP(J$6,CPPE!$A$1:$DB$177,$A46,FALSE)))","v":""},{"$f":"IF(K$6=\"\",\"\",IF($B46=\"\",\"\",HLOOKUP(K$6,CPPE!$A$1:$DB$177,$A46,FALSE)))","v":""},{"$f":"IF(L$6=\"\",\"\",IF($B46=\"\",\"\",HLOOKUP(L$6,CPPE!$A$1:$DB$177,$A46,FALSE)))","v":""}]
[{"$f":"VLOOKUP(B47,'Select Practices'!$W$10:$X$197,2,FALSE)","v":169},null,{"$f":"IF(C$6=\"\",\"\",IF($B47=\"\",\"\",HLOOKUP(C$6,CPPE!$A$1:$DB$177,$A47,FALSE)))","v":""},{"$f":"IF(D$6=\"\",\"\",IF($B47=\"\",\"\",HLOOKUP(D$6,CPPE!$A$1:$DB$177,$A47,FALSE)))","v":""},{"$f":"IF(E$6=\"\",\"\",IF($B47=\"\",\"\",HLOOKUP(E$6,CPPE!$A$1:$DB$177,$A47,FALSE)))","v":""},{"$f":"IF(F$6=\"\",\"\",IF($B47=\"\",\"\",HLOOKUP(F$6,CPPE!$A$1:$DB$177,$A47,FALSE)))","v":""},{"$f":"IF(G$6=\"\",\"\",IF($B47=\"\",\"\",HLOOKUP(G$6,CPPE!$A$1:$DB$177,$A47,FALSE)))","v":""},{"$f":"IF(H$6=\"\",\"\",IF($B47=\"\",\"\",HLOOKUP(H$6,CPPE!$A$1:$DB$177,$A47,FALSE)))","v":""},{"$f":"IF(I$6=\"\",\"\",IF($B47=\"\",\"\",HLOOKUP(I$6,CPPE!$A$1:$DB$177,$A47,FALSE)))","v":""},{"$f":"IF(J$6=\"\",\"\",IF($B47=\"\",\"\",HLOOKUP(J$6,CPPE!$A$1:$DB$177,$A47,FALSE)))","v":""},{"$f":"IF(K$6=\"\",\"\",IF($B47=\"\",\"\",HLOOKUP(K$6,CPPE!$A$1:$DB$177,$A47,FALSE)))","v":""},{"$f":"IF(L$6=\"\",\"\",IF($B47=\"\",\"\",HLOOKUP(L$6,CPPE!$A$1:$DB$177,$A47,FALSE)))","v":""}]
[{"$f":"VLOOKUP(B48,'Select Practices'!$W$10:$X$197,2,FALSE)","v":169},null,{"$f":"IF(C$6=\"\",\"\",IF($B48=\"\",\"\",HLOOKUP(C$6,CPPE!$A$1:$DB$177,$A48,FALSE)))","v":""},{"$f":"IF(D$6=\"\",\"\",IF($B48=\"\",\"\",HLOOKUP(D$6,CPPE!$A$1:$DB$177,$A48,FALSE)))","v":""},{"$f":"IF(E$6=\"\",\"\",IF($B48=\"\",\"\",HLOOKUP(E$6,CPPE!$A$1:$DB$177,$A48,FALSE)))","v":""},{"$f":"IF(F$6=\"\",\"\",IF($B48=\"\",\"\",HLOOKUP(F$6,CPPE!$A$1:$DB$177,$A48,FALSE)))","v":""},{"$f":"IF(G$6=\"\",\"\",IF($B48=\"\",\"\",HLOOKUP(G$6,CPPE!$A$1:$DB$177,$A48,FALSE)))","v":""},{"$f":"IF(H$6=\"\",\"\",IF($B48=\"\",\"\",HLOOKUP(H$6,CPPE!$A$1:$DB$177,$A48,FALSE)))","v":""},{"$f":"IF(I$6=\"\",\"\",IF($B48=\"\",\"\",HLOOKUP(I$6,CPPE!$A$1:$DB$177,$A48,FALSE)))","v":""},{"$f":"IF(J$6=\"\",\"\",IF($B48=\"\",\"\",HLOOKUP(J$6,CPPE!$A$1:$DB$177,$A48,FALSE)))","v":""},{"$f":"IF(K$6=\"\",\"\",IF($B48=\"\",\"\",HLOOKUP(K$6,CPPE!$A$1:$DB$177,$A48,FALSE)))","v":""},{"$f":"IF(L$6=\"\",\"\",IF($B48=\"\",\"\",HLOOKUP(L$6,CPPE!$A$1:$DB$177,$A48,FALSE)))","v":""}]
[{"$f":"VLOOKUP(B49,'Select Practices'!$W$10:$X$197,2,FALSE)","v":169},null,{"$f":"IF(C$6=\"\",\"\",IF($B49=\"\",\"\",HLOOKUP(C$6,CPPE!$A$1:$DB$177,$A49,FALSE)))","v":""},{"$f":"IF(D$6=\"\",\"\",IF($B49=\"\",\"\",HLOOKUP(D$6,CPPE!$A$1:$DB$177,$A49,FALSE)))","v":""},{"$f":"IF(E$6=\"\",\"\",IF($B49=\"\",\"\",HLOOKUP(E$6,CPPE!$A$1:$DB$177,$A49,FALSE)))","v":""},{"$f":"IF(F$6=\"\",\"\",IF($B49=\"\",\"\",HLOOKUP(F$6,CPPE!$A$1:$DB$177,$A49,FALSE)))","v":""},{"$f":"IF(G$6=\"\",\"\",IF($B49=\"\",\"\",HLOOKUP(G$6,CPPE!$A$1:$DB$177,$A49,FALSE)))","v":""},{"$f":"IF(H$6=\"\",\"\",IF($B49=\"\",\"\",HLOOKUP(H$6,CPPE!$A$1:$DB$177,$A49,FALSE)))","v":""},{"$f":"IF(I$6=\"\",\"\",IF($B49=\"\",\"\",HLOOKUP(I$6,CPPE!$A$1:$DB$177,$A49,FALSE)))","v":""},{"$f":"IF(J$6=\"\",\"\",IF($B49=\"\",\"\",HLOOKUP(J$6,CPPE!$A$1:$DB$177,$A49,FALSE)))","v":""},{"$f":"IF(K$6=\"\",\"\",IF($B49=\"\",\"\",HLOOKUP(K$6,CPPE!$A$1:$DB$177,$A49,FALSE)))","v":""},{"$f":"IF(L$6=\"\",\"\",IF($B49=\"\",\"\",HLOOKUP(L$6,CPPE!$A$1:$DB$177,$A49,FALSE)))","v":""}]
[{"$f":"VLOOKUP(B50,'Select Practices'!$W$10:$X$197,2,FALSE)","v":169},null,{"$f":"IF(C$6=\"\",\"\",IF($B50=\"\",\"\",HLOOKUP(C$6,CPPE!$A$1:$DB$177,$A50,FALSE)))","v":""},{"$f":"IF(D$6=\"\",\"\",IF($B50=\"\",\"\",HLOOKUP(D$6,CPPE!$A$1:$DB$177,$A50,FALSE)))","v":""},{"$f":"IF(E$6=\"\",\"\",IF($B50=\"\",\"\",HLOOKUP(E$6,CPPE!$A$1:$DB$177,$A50,FALSE)))","v":""},{"$f":"IF(F$6=\"\",\"\",IF($B50=\"\",\"\",HLOOKUP(F$6,CPPE!$A$1:$DB$177,$A50,FALSE)))","v":""},{"$f":"IF(G$6=\"\",\"\",IF($B50=\"\",\"\",HLOOKUP(G$6,CPPE!$A$1:$DB$177,$A50,FALSE)))","v":""},{"$f":"IF(H$6=\"\",\"\",IF($B50=\"\",\"\",HLOOKUP(H$6,CPPE!$A$1:$DB$177,$A50,FALSE)))","v":""},{"$f":"IF(I$6=\"\",\"\",IF($B50=\"\",\"\",HLOOKUP(I$6,CPPE!$A$1:$DB$177,$A50,FALSE)))","v":""},{"$f":"IF(J$6=\"\",\"\",IF($B50=\"\",\"\",HLOOKUP(J$6,CPPE!$A$1:$DB$177,$A50,FALSE)))","v":""},{"$f":"IF(K$6=\"\",\"\",IF($B50=\"\",\"\",HLOOKUP(K$6,CPPE!$A$1:$DB$177,$A50,FALSE)))","v":""},{"$f":"IF(L$6=\"\",\"\",IF($B50=\"\",\"\",HLOOKUP(L$6,CPPE!$A$1:$DB$177,$A50,FALSE)))","v":""}]
[{"$f":"VLOOKUP(B51,'Select Practices'!$W$10:$X$197,2,FALSE)","v":169},null,{"$f":"IF(C$6=\"\",\"\",IF($B51=\"\",\"\",HLOOKUP(C$6,CPPE!$A$1:$DB$177,$A51,FALSE)))","v":""},{"$f":"IF(D$6=\"\",\"\",IF($B51=\"\",\"\",HLOOKUP(D$6,CPPE!$A$1:$DB$177,$A51,FALSE)))","v":""},{"$f":"IF(E$6=\"\",\"\",IF($B51=\"\",\"\",HLOOKUP(E$6,CPPE!$A$1:$DB$177,$A51,FALSE)))","v":""},{"$f":"IF(F$6=\"\",\"\",IF($B51=\"\",\"\",HLOOKUP(F$6,CPPE!$A$1:$DB$177,$A51,FALSE)))","v":""},{"$f":"IF(G$6=\"\",\"\",IF($B51=\"\",\"\",HLOOKUP(G$6,CPPE!$A$1:$DB$177,$A51,FALSE)))","v":""},{"$f":"IF(H$6=\"\",\"\",IF($B51=\"\",\"\",HLOOKUP(H$6,CPPE!$A$1:$DB$177,$A51,FALSE)))","v":""},{"$f":"IF(I$6=\"\",\"\",IF($B51=\"\",\"\",HLOOKUP(I$6,CPPE!$A$1:$DB$177,$A51,FALSE)))","v":""},{"$f":"IF(J$6=\"\",\"\",IF($B51=\"\",\"\",HLOOKUP(J$6,CPPE!$A$1:$DB$177,$A51,FALSE)))","v":""},{"$f":"IF(K$6=\"\",\"\",IF($B51=\"\",\"\",HLOOKUP(K$6,CPPE!$A$1:$DB$177,$A51,FALSE)))","v":""},{"$f":"IF(L$6=\"\",\"\",IF($B51=\"\",\"\",HLOOKUP(L$6,CPPE!$A$1:$DB$177,$A51,FALSE)))","v":""}]
[{"$f":"VLOOKUP(B52,'Select Practices'!$W$10:$X$197,2,FALSE)","v":169},null,{"$f":"IF(C$6=\"\",\"\",IF($B52=\"\",\"\",HLOOKUP(C$6,CPPE!$A$1:$DB$177,$A52,FALSE)))","v":""},{"$f":"IF(D$6=\"\",\"\",IF($B52=\"\",\"\",HLOOKUP(D$6,CPPE!$A$1:$DB$177,$A52,FALSE)))","v":""},{"$f":"IF(E$6=\"\",\"\",IF($B52=\"\",\"\",HLOOKUP(E$6,CPPE!$A$1:$DB$177,$A52,FALSE)))","v":""},{"$f":"IF(F$6=\"\",\"\",IF($B52=\"\",\"\",HLOOKUP(F$6,CPPE!$A$1:$DB$177,$A52,FALSE)))","v":""},{"$f":"IF(G$6=\"\",\"\",IF($B52=\"\",\"\",HLOOKUP(G$6,CPPE!$A$1:$DB$177,$A52,FALSE)))","v":""},{"$f":"IF(H$6=\"\",\"\",IF($B52=\"\",\"\",HLOOKUP(H$6,CPPE!$A$1:$DB$177,$A52,FALSE)))","v":""},{"$f":"IF(I$6=\"\",\"\",IF($B52=\"\",\"\",HLOOKUP(I$6,CPPE!$A$1:$DB$177,$A52,FALSE)))","v":""},{"$f":"IF(J$6=\"\",\"\",IF($B52=\"\",\"\",HLOOKUP(J$6,CPPE!$A$1:$DB$177,$A52,FALSE)))","v":""},{"$f":"IF(K$6=\"\",\"\",IF($B52=\"\",\"\",HLOOKUP(K$6,CPPE!$A$1:$DB$177,$A52,FALSE)))","v":""},{"$f":"IF(L$6=\"\",\"\",IF($B52=\"\",\"\",HLOOKUP(L$6,CPPE!$A$1:$DB$177,$A52,FALSE)))","v":""}]
[{"$f":"VLOOKUP(B53,'Select Practices'!$W$10:$X$197,2,FALSE)","v":169},null,{"$f":"IF(C$6=\"\",\"\",IF($B53=\"\",\"\",HLOOKUP(C$6,CPPE!$A$1:$DB$177,$A53,FALSE)))","v":""},{"$f":"IF(D$6=\"\",\"\",IF($B53=\"\",\"\",HLOOKUP(D$6,CPPE!$A$1:$DB$177,$A53,FALSE)))","v":""},{"$f":"IF(E$6=\"\",\"\",IF($B53=\"\",\"\",HLOOKUP(E$6,CPPE!$A$1:$DB$177,$A53,FALSE)))","v":""},{"$f":"IF(F$6=\"\",\"\",IF($B53=\"\",\"\",HLOOKUP(F$6,CPPE!$A$1:$DB$177,$A53,FALSE)))","v":""},{"$f":"IF(G$6=\"\",\"\",IF($B53=\"\",\"\",HLOOKUP(G$6,CPPE!$A$1:$DB$177,$A53,FALSE)))","v":""},{"$f":"IF(H$6=\"\",\"\",IF($B53=\"\",\"\",HLOOKUP(H$6,CPPE!$A$1:$DB$177,$A53,FALSE)))","v":""},{"$f":"IF(I$6=\"\",\"\",IF($B53=\"\",\"\",HLOOKUP(I$6,CPPE!$A$1:$DB$177,$A53,FALSE)))","v":""},{"$f":"IF(J$6=\"\",\"\",IF($B53=\"\",\"\",HLOOKUP(J$6,CPPE!$A$1:$DB$177,$A53,FALSE)))","v":""},{"$f":"IF(K$6=\"\",\"\",IF($B53=\"\",\"\",HLOOKUP(K$6,CPPE!$A$1:$DB$177,$A53,FALSE)))","v":""},{"$f":"IF(L$6=\"\",\"\",IF($B53=\"\",\"\",HLOOKUP(L$6,CPPE!$A$1:$DB$177,$A53,FALSE)))","v":""}]
[{"$f":"VLOOKUP(B54,'Select Practices'!$W$10:$X$197,2,FALSE)","v":169},null,{"$f":"IF(C$6=\"\",\"\",IF($B54=\"\",\"\",HLOOKUP(C$6,CPPE!$A$1:$DB$177,$A54,FALSE)))","v":""},{"$f":"IF(D$6=\"\",\"\",IF($B54=\"\",\"\",HLOOKUP(D$6,CPPE!$A$1:$DB$177,$A54,FALSE)))","v":""},{"$f":"IF(E$6=\"\",\"\",IF($B54=\"\",\"\",HLOOKUP(E$6,CPPE!$A$1:$DB$177,$A54,FALSE)))","v":""},{"$f":"IF(F$6=\"\",\"\",IF($B54=\"\",\"\",HLOOKUP(F$6,CPPE!$A$1:$DB$177,$A54,FALSE)))","v":""},{"$f":"IF(G$6=\"\",\"\",IF($B54=\"\",\"\",HLOOKUP(G$6,CPPE!$A$1:$DB$177,$A54,FALSE)))","v":""},{"$f":"IF(H$6=\"\",\"\",IF($B54=\"\",\"\",HLOOKUP(H$6,CPPE!$A$1:$DB$177,$A54,FALSE)))","v":""},{"$f":"IF(I$6=\"\",\"\",IF($B54=\"\",\"\",HLOOKUP(I$6,CPPE!$A$1:$DB$177,$A54,FALSE)))","v":""},{"$f":"IF(J$6=\"\",\"\",IF($B54=\"\",\"\",HLOOKUP(J$6,CPPE!$A$1:$DB$177,$A54,FALSE)))","v":""},{"$f":"IF(K$6=\"\",\"\",IF($B54=\"\",\"\",HLOOKUP(K$6,CPPE!$A$1:$DB$177,$A54,FALSE)))","v":""},{"$f":"IF(L$6=\"\",\"\",IF($B54=\"\",\"\",HLOOKUP(L$6,CPPE!$A$1:$DB$177,$A54,FALSE)))","v":""}]
[{"$f":"VLOOKUP(B55,'Select Practices'!$W$10:$X$197,2,FALSE)","v":169},null,{"$f":"IF(C$6=\"\",\"\",IF($B55=\"\",\"\",HLOOKUP(C$6,CPPE!$A$1:$DB$177,$A55,FALSE)))","v":""},{"$f":"IF(D$6=\"\",\"\",IF($B55=\"\",\"\",HLOOKUP(D$6,CPPE!$A$1:$DB$177,$A55,FALSE)))","v":""},{"$f":"IF(E$6=\"\",\"\",IF($B55=\"\",\"\",HLOOKUP(E$6,CPPE!$A$1:$DB$177,$A55,FALSE)))","v":""},{"$f":"IF(F$6=\"\",\"\",IF($B55=\"\",\"\",HLOOKUP(F$6,CPPE!$A$1:$DB$177,$A55,FALSE)))","v":""},{"$f":"IF(G$6=\"\",\"\",IF($B55=\"\",\"\",HLOOKUP(G$6,CPPE!$A$1:$DB$177,$A55,FALSE)))","v":""},{"$f":"IF(H$6=\"\",\"\",IF($B55=\"\",\"\",HLOOKUP(H$6,CPPE!$A$1:$DB$177,$A55,FALSE)))","v":""},{"$f":"IF(I$6=\"\",\"\",IF($B55=\"\",\"\",HLOOKUP(I$6,CPPE!$A$1:$DB$177,$A55,FALSE)))","v":""},{"$f":"IF(J$6=\"\",\"\",IF($B55=\"\",\"\",HLOOKUP(J$6,CPPE!$A$1:$DB$177,$A55,FALSE)))","v":""},{"$f":"IF(K$6=\"\",\"\",IF($B55=\"\",\"\",HLOOKUP(K$6,CPPE!$A$1:$DB$177,$A55,FALSE)))","v":""},{"$f":"IF(L$6=\"\",\"\",IF($B55=\"\",\"\",HLOOKUP(L$6,CPPE!$A$1:$DB$177,$A55,FALSE)))","v":""}]
[{"$f":"VLOOKUP(B56,'Select Practices'!$W$10:$X$197,2,FALSE)","v":169},null,{"$f":"IF(C$6=\"\",\"\",IF($B56=\"\",\"\",HLOOKUP(C$6,CPPE!$A$1:$DB$177,$A56,FALSE)))","v":""},{"$f":"IF(D$6=\"\",\"\",IF($B56=\"\",\"\",HLOOKUP(D$6,CPPE!$A$1:$DB$177,$A56,FALSE)))","v":""},{"$f":"IF(E$6=\"\",\"\",IF($B56=\"\",\"\",HLOOKUP(E$6,CPPE!$A$1:$DB$177,$A56,FALSE)))","v":""},{"$f":"IF(F$6=\"\",\"\",IF($B56=\"\",\"\",HLOOKUP(F$6,CPPE!$A$1:$DB$177,$A56,FALSE)))","v":""},{"$f":"IF(G$6=\"\",\"\",IF($B56=\"\",\"\",HLOOKUP(G$6,CPPE!$A$1:$DB$177,$A56,FALSE)))","v":""},{"$f":"IF(H$6=\"\",\"\",IF($B56=\"\",\"\",HLOOKUP(H$6,CPPE!$A$1:$DB$177,$A56,FALSE)))","v":""},{"$f":"IF(I$6=\"\",\"\",IF($B56=\"\",\"\",HLOOKUP(I$6,CPPE!$A$1:$DB$177,$A56,FALSE)))","v":""},{"$f":"IF(J$6=\"\",\"\",IF($B56=\"\",\"\",HLOOKUP(J$6,CPPE!$A$1:$DB$177,$A56,FALSE)))","v":""},{"$f":"IF(K$6=\"\",\"\",IF($B56=\"\",\"\",HLOOKUP(K$6,CPPE!$A$1:$DB$177,$A56,FALSE)))","v":""},{"$f":"IF(L$6=\"\",\"\",IF($B56=\"\",\"\",HLOOKUP(L$6,CPPE!$A$1:$DB$177,$A56,FALSE)))","v":""}]
[{"$f":"VLOOKUP(B57,'Select Practices'!$W$10:$X$197,2,FALSE)","v":169},null,{"$f":"IF(C$6=\"\",\"\",IF($B57=\"\",\"\",HLOOKUP(C$6,CPPE!$A$1:$DB$177,$A57,FALSE)))","v":""},{"$f":"IF(D$6=\"\",\"\",IF($B57=\"\",\"\",HLOOKUP(D$6,CPPE!$A$1:$DB$177,$A57,FALSE)))","v":""},{"$f":"IF(E$6=\"\",\"\",IF($B57=\"\",\"\",HLOOKUP(E$6,CPPE!$A$1:$DB$177,$A57,FALSE)))","v":""},{"$f":"IF(F$6=\"\",\"\",IF($B57=\"\",\"\",HLOOKUP(F$6,CPPE!$A$1:$DB$177,$A57,FALSE)))","v":""},{"$f":"IF(G$6=\"\",\"\",IF($B57=\"\",\"\",HLOOKUP(G$6,CPPE!$A$1:$DB$177,$A57,FALSE)))","v":""},{"$f":"IF(H$6=\"\",\"\",IF($B57=\"\",\"\",HLOOKUP(H$6,CPPE!$A$1:$DB$177,$A57,FALSE)))","v":""},{"$f":"IF(I$6=\"\",\"\",IF($B57=\"\",\"\",HLOOKUP(I$6,CPPE!$A$1:$DB$177,$A57,FALSE)))","v":""},{"$f":"IF(J$6=\"\",\"\",IF($B57=\"\",\"\",HLOOKUP(J$6,CPPE!$A$1:$DB$177,$A57,FALSE)))","v":""},{"$f":"IF(K$6=\"\",\"\",IF($B57=\"\",\"\",HLOOKUP(K$6,CPPE!$A$1:$DB$177,$A57,FALSE)))","v":""},{"$f":"IF(L$6=\"\",\"\",IF($B57=\"\",\"\",HLOOKUP(L$6,CPPE!$A$1:$DB$177,$A57,FALSE)))","v":""}]
[{"$f":"VLOOKUP(B58,'Select Practices'!$W$10:$X$197,2,FALSE)","v":169},null,{"$f":"IF(C$6=\"\",\"\",IF($B58=\"\",\"\",HLOOKUP(C$6,CPPE!$A$1:$DB$177,$A58,FALSE)))","v":""},{"$f":"IF(D$6=\"\",\"\",IF($B58=\"\",\"\",HLOOKUP(D$6,CPPE!$A$1:$DB$177,$A58,FALSE)))","v":""},{"$f":"IF(E$6=\"\",\"\",IF($B58=\"\",\"\",HLOOKUP(E$6,CPPE!$A$1:$DB$177,$A58,FALSE)))","v":""},{"$f":"IF(F$6=\"\",\"\",IF($B58=\"\",\"\",HLOOKUP(F$6,CPPE!$A$1:$DB$177,$A58,FALSE)))","v":""},{"$f":"IF(G$6=\"\",\"\",IF($B58=\"\",\"\",HLOOKUP(G$6,CPPE!$A$1:$DB$177,$A58,FALSE)))","v":""},{"$f":"IF(H$6=\"\",\"\",IF($B58=\"\",\"\",HLOOKUP(H$6,CPPE!$A$1:$DB$177,$A58,FALSE)))","v":""},{"$f":"IF(I$6=\"\",\"\",IF($B58=\"\",\"\",HLOOKUP(I$6,CPPE!$A$1:$DB$177,$A58,FALSE)))","v":""},{"$f":"IF(J$6=\"\",\"\",IF($B58=\"\",\"\",HLOOKUP(J$6,CPPE!$A$1:$DB$177,$A58,FALSE)))","v":""},{"$f":"IF(K$6=\"\",\"\",IF($B58=\"\",\"\",HLOOKUP(K$6,CPPE!$A$1:$DB$177,$A58,FALSE)))","v":""},{"$f":"IF(L$6=\"\",\"\",IF($B58=\"\",\"\",HLOOKUP(L$6,CPPE!$A$1:$DB$177,$A58,FALSE)))","v":""}]
[{"$f":"VLOOKUP(B59,'Select Practices'!$W$10:$X$197,2,FALSE)","v":169},null,{"$f":"IF(C$6=\"\",\"\",IF($B59=\"\",\"\",HLOOKUP(C$6,CPPE!$A$1:$DB$177,$A59,FALSE)))","v":""},{"$f":"IF(D$6=\"\",\"\",IF($B59=\"\",\"\",HLOOKUP(D$6,CPPE!$A$1:$DB$177,$A59,FALSE)))","v":""},{"$f":"IF(E$6=\"\",\"\",IF($B59=\"\",\"\",HLOOKUP(E$6,CPPE!$A$1:$DB$177,$A59,FALSE)))","v":""},{"$f":"IF(F$6=\"\",\"\",IF($B59=\"\",\"\",HLOOKUP(F$6,CPPE!$A$1:$DB$177,$A59,FALSE)))","v":""},{"$f":"IF(G$6=\"\",\"\",IF($B59=\"\",\"\",HLOOKUP(G$6,CPPE!$A$1:$DB$177,$A59,FALSE)))","v":""},{"$f":"IF(H$6=\"\",\"\",IF($B59=\"\",\"\",HLOOKUP(H$6,CPPE!$A$1:$DB$177,$A59,FALSE)))","v":""},{"$f":"IF(I$6=\"\",\"\",IF($B59=\"\",\"\",HLOOKUP(I$6,CPPE!$A$1:$DB$177,$A59,FALSE)))","v":""},{"$f":"IF(J$6=\"\",\"\",IF($B59=\"\",\"\",HLOOKUP(J$6,CPPE!$A$1:$DB$177,$A59,FALSE)))","v":""},{"$f":"IF(K$6=\"\",\"\",IF($B59=\"\",\"\",HLOOKUP(K$6,CPPE!$A$1:$DB$177,$A59,FALSE)))","v":""},{"$f":"IF(L$6=\"\",\"\",IF($B59=\"\",\"\",HLOOKUP(L$6,CPPE!$A$1:$DB$177,$A59,FALSE)))","v":""}]
[{"$f":"VLOOKUP(B60,'Select Practices'!$W$10:$X$197,2,FALSE)","v":169},null,{"$f":"IF(C$6=\"\",\"\",IF($B60=\"\",\"\",HLOOKUP(C$6,CPPE!$A$1:$DB$177,$A60,FALSE)))","v":""},{"$f":"IF(D$6=\"\",\"\",IF($B60=\"\",\"\",HLOOKUP(D$6,CPPE!$A$1:$DB$177,$A60,FALSE)))","v":""},{"$f":"IF(E$6=\"\",\"\",IF($B60=\"\",\"\",HLOOKUP(E$6,CPPE!$A$1:$DB$177,$A60,FALSE)))","v":""},{"$f":"IF(F$6=\"\",\"\",IF($B60=\"\",\"\",HLOOKUP(F$6,CPPE!$A$1:$DB$177,$A60,FALSE)))","v":""},{"$f":"IF(G$6=\"\",\"\",IF($B60=\"\",\"\",HLOOKUP(G$6,CPPE!$A$1:$DB$177,$A60,FALSE)))","v":""},{"$f":"IF(H$6=\"\",\"\",IF($B60=\"\",\"\",HLOOKUP(H$6,CPPE!$A$1:$DB$177,$A60,FALSE)))","v":""},{"$f":"IF(I$6=\"\",\"\",IF($B60=\"\",\"\",HLOOKUP(I$6,CPPE!$A$1:$DB$177,$A60,FALSE)))","v":""},{"$f":"IF(J$6=\"\",\"\",IF($B60=\"\",\"\",HLOOKUP(J$6,CPPE!$A$1:$DB$177,$A60,FALSE)))","v":""},{"$f":"IF(K$6=\"\",\"\",IF($B60=\"\",\"\",HLOOKUP(K$6,CPPE!$A$1:$DB$177,$A60,FALSE)))","v":""},{"$f":"IF(L$6=\"\",\"\",IF($B60=\"\",\"\",HLOOKUP(L$6,CPPE!$A$1:$DB$177,$A60,FALSE)))","v":""}]
[{"$f":"VLOOKUP(B61,'Select Practices'!$W$10:$X$197,2,FALSE)","v":169},null,{"$f":"IF(C$6=\"\",\"\",IF($B61=\"\",\"\",HLOOKUP(C$6,CPPE!$A$1:$DB$177,$A61,FALSE)))","v":""},{"$f":"IF(D$6=\"\",\"\",IF($B61=\"\",\"\",HLOOKUP(D$6,CPPE!$A$1:$DB$177,$A61,FALSE)))","v":""},{"$f":"IF(E$6=\"\",\"\",IF($B61=\"\",\"\",HLOOKUP(E$6,CPPE!$A$1:$DB$177,$A61,FALSE)))","v":""},{"$f":"IF(F$6=\"\",\"\",IF($B61=\"\",\"\",HLOOKUP(F$6,CPPE!$A$1:$DB$177,$A61,FALSE)))","v":""},{"$f":"IF(G$6=\"\",\"\",IF($B61=\"\",\"\",HLOOKUP(G$6,CPPE!$A$1:$DB$177,$A61,FALSE)))","v":""},{"$f":"IF(H$6=\"\",\"\",IF($B61=\"\",\"\",HLOOKUP(H$6,CPPE!$A$1:$DB$177,$A61,FALSE)))","v":""},{"$f":"IF(I$6=\"\",\"\",IF($B61=\"\",\"\",HLOOKUP(I$6,CPPE!$A$1:$DB$177,$A61,FALSE)))","v":""},{"$f":"IF(J$6=\"\",\"\",IF($B61=\"\",\"\",HLOOKUP(J$6,CPPE!$A$1:$DB$177,$A61,FALSE)))","v":""},{"$f":"IF(K$6=\"\",\"\",IF($B61=\"\",\"\",HLOOKUP(K$6,CPPE!$A$1:$DB$177,$A61,FALSE)))","v":""},{"$f":"IF(L$6=\"\",\"\",IF($B61=\"\",\"\",HLOOKUP(L$6,CPPE!$A$1:$DB$177,$A61,FALSE)))","v":""}]
[{"$f":"VLOOKUP(B62,'Select Practices'!$W$10:$X$197,2,FALSE)","v":169},null,{"$f":"IF(C$6=\"\",\"\",IF($B62=\"\",\"\",HLOOKUP(C$6,CPPE!$A$1:$DB$177,$A62,FALSE)))","v":""},{"$f":"IF(D$6=\"\",\"\",IF($B62=\"\",\"\",HLOOKUP(D$6,CPPE!$A$1:$DB$177,$A62,FALSE)))","v":""},{"$f":"IF(E$6=\"\",\"\",IF($B62=\"\",\"\",HLOOKUP(E$6,CPPE!$A$1:$DB$177,$A62,FALSE)))","v":""},{"$f":"IF(F$6=\"\",\"\",IF($B62=\"\",\"\",HLOOKUP(F$6,CPPE!$A$1:$DB$177,$A62,FALSE)))","v":""},{"$f":"IF(G$6=\"\",\"\",IF($B62=\"\",\"\",HLOOKUP(G$6,CPPE!$A$1:$DB$177,$A62,FALSE)))","v":""},{"$f":"IF(H$6=\"\",\"\",IF($B62=\"\",\"\",HLOOKUP(H$6,CPPE!$A$1:$DB$177,$A62,FALSE)))","v":""},{"$f":"IF(I$6=\"\",\"\",IF($B62=\"\",\"\",HLOOKUP(I$6,CPPE!$A$1:$DB$177,$A62,FALSE)))","v":""},{"$f":"IF(J$6=\"\",\"\",IF($B62=\"\",\"\",HLOOKUP(J$6,CPPE!$A$1:$DB$177,$A62,FALSE)))","v":""},{"$f":"IF(K$6=\"\",\"\",IF($B62=\"\",\"\",HLOOKUP(K$6,CPPE!$A$1:$DB$177,$A62,FALSE)))","v":""},{"$f":"IF(L$6=\"\",\"\",IF($B62=\"\",\"\",HLOOKUP(L$6,CPPE!$A$1:$DB$177,$A62,FALSE)))","v":""}]
[{"$f":"VLOOKUP(B63,'Select Practices'!$W$10:$X$197,2,FALSE)","v":169},null,{"$f":"IF(C$6=\"\",\"\",IF($B63=\"\",\"\",HLOOKUP(C$6,CPPE!$A$1:$DB$177,$A63,FALSE)))","v":""},{"$f":"IF(D$6=\"\",\"\",IF($B63=\"\",\"\",HLOOKUP(D$6,CPPE!$A$1:$DB$177,$A63,FALSE)))","v":""},{"$f":"IF(E$6=\"\",\"\",IF($B63=\"\",\"\",HLOOKUP(E$6,CPPE!$A$1:$DB$177,$A63,FALSE)))","v":""},{"$f":"IF(F$6=\"\",\"\",IF($B63=\"\",\"\",HLOOKUP(F$6,CPPE!$A$1:$DB$177,$A63,FALSE)))","v":""},{"$f":"IF(G$6=\"\",\"\",IF($B63=\"\",\"\",HLOOKUP(G$6,CPPE!$A$1:$DB$177,$A63,FALSE)))","v":""},{"$f":"IF(H$6=\"\",\"\",IF($B63=\"\",\"\",HLOOKUP(H$6,CPPE!$A$1:$DB$177,$A63,FALSE)))","v":""},{"$f":"IF(I$6=\"\",\"\",IF($B63=\"\",\"\",HLOOKUP(I$6,CPPE!$A$1:$DB$177,$A63,FALSE)))","v":""},{"$f":"IF(J$6=\"\",\"\",IF($B63=\"\",\"\",HLOOKUP(J$6,CPPE!$A$1:$DB$177,$A63,FALSE)))","v":""},{"$f":"IF(K$6=\"\",\"\",IF($B63=\"\",\"\",HLOOKUP(K$6,CPPE!$A$1:$DB$177,$A63,FALSE)))","v":""},{"$f":"IF(L$6=\"\",\"\",IF($B63=\"\",\"\",HLOOKUP(L$6,CPPE!$A$1:$DB$177,$A63,FALSE)))","v":""}]
[{"$f":"VLOOKUP(B64,'Select Practices'!$W$10:$X$197,2,FALSE)","v":169},null,{"$f":"IF(C$6=\"\",\"\",IF($B64=\"\",\"\",HLOOKUP(C$6,CPPE!$A$1:$DB$177,$A64,FALSE)))","v":""},{"$f":"IF(D$6=\"\",\"\",IF($B64=\"\",\"\",HLOOKUP(D$6,CPPE!$A$1:$DB$177,$A64,FALSE)))","v":""},{"$f":"IF(E$6=\"\",\"\",IF($B64=\"\",\"\",HLOOKUP(E$6,CPPE!$A$1:$DB$177,$A64,FALSE)))","v":""},{"$f":"IF(F$6=\"\",\"\",IF($B64=\"\",\"\",HLOOKUP(F$6,CPPE!$A$1:$DB$177,$A64,FALSE)))","v":""},{"$f":"IF(G$6=\"\",\"\",IF($B64=\"\",\"\",HLOOKUP(G$6,CPPE!$A$1:$DB$177,$A64,FALSE)))","v":""},{"$f":"IF(H$6=\"\",\"\",IF($B64=\"\",\"\",HLOOKUP(H$6,CPPE!$A$1:$DB$177,$A64,FALSE)))","v":""},{"$f":"IF(I$6=\"\",\"\",IF($B64=\"\",\"\",HLOOKUP(I$6,CPPE!$A$1:$DB$177,$A64,FALSE)))","v":""},{"$f":"IF(J$6=\"\",\"\",IF($B64=\"\",\"\",HLOOKUP(J$6,CPPE!$A$1:$DB$177,$A64,FALSE)))","v":""},{"$f":"IF(K$6=\"\",\"\",IF($B64=\"\",\"\",HLOOKUP(K$6,CPPE!$A$1:$DB$177,$A64,FALSE)))","v":""},{"$f":"IF(L$6=\"\",\"\",IF($B64=\"\",\"\",HLOOKUP(L$6,CPPE!$A$1:$DB$177,$A64,FALSE)))","v":""}]
[{"$f":"VLOOKUP(B65,'Select Practices'!$W$10:$X$197,2,FALSE)","v":169},null,{"$f":"IF(C$6=\"\",\"\",IF($B65=\"\",\"\",HLOOKUP(C$6,CPPE!$A$1:$DB$177,$A65,FALSE)))","v":""},{"$f":"IF(D$6=\"\",\"\",IF($B65=\"\",\"\",HLOOKUP(D$6,CPPE!$A$1:$DB$177,$A65,FALSE)))","v":""},{"$f":"IF(E$6=\"\",\"\",IF($B65=\"\",\"\",HLOOKUP(E$6,CPPE!$A$1:$DB$177,$A65,FALSE)))","v":""},{"$f":"IF(F$6=\"\",\"\",IF($B65=\"\",\"\",HLOOKUP(F$6,CPPE!$A$1:$DB$177,$A65,FALSE)))","v":""},{"$f":"IF(G$6=\"\",\"\",IF($B65=\"\",\"\",HLOOKUP(G$6,CPPE!$A$1:$DB$177,$A65,FALSE)))","v":""},{"$f":"IF(H$6=\"\",\"\",IF($B65=\"\",\"\",HLOOKUP(H$6,CPPE!$A$1:$DB$177,$A65,FALSE)))","v":""},{"$f":"IF(I$6=\"\",\"\",IF($B65=\"\",\"\",HLOOKUP(I$6,CPPE!$A$1:$DB$177,$A65,FALSE)))","v":""},{"$f":"IF(J$6=\"\",\"\",IF($B65=\"\",\"\",HLOOKUP(J$6,CPPE!$A$1:$DB$177,$A65,FALSE)))","v":""},{"$f":"IF(K$6=\"\",\"\",IF($B65=\"\",\"\",HLOOKUP(K$6,CPPE!$A$1:$DB$177,$A65,FALSE)))","v":""},{"$f":"IF(L$6=\"\",\"\",IF($B65=\"\",\"\",HLOOKUP(L$6,CPPE!$A$1:$DB$177,$A65,FALSE)))","v":""}]
[{"$f":"VLOOKUP(B66,'Select Practices'!$W$10:$X$197,2,FALSE)","v":169},null,{"$f":"IF(C$6=\"\",\"\",IF($B66=\"\",\"\",HLOOKUP(C$6,CPPE!$A$1:$DB$177,$A66,FALSE)))","v":""},{"$f":"IF(D$6=\"\",\"\",IF($B66=\"\",\"\",HLOOKUP(D$6,CPPE!$A$1:$DB$177,$A66,FALSE)))","v":""},{"$f":"IF(E$6=\"\",\"\",IF($B66=\"\",\"\",HLOOKUP(E$6,CPPE!$A$1:$DB$177,$A66,FALSE)))","v":""},{"$f":"IF(F$6=\"\",\"\",IF($B66=\"\",\"\",HLOOKUP(F$6,CPPE!$A$1:$DB$177,$A66,FALSE)))","v":""},{"$f":"IF(G$6=\"\",\"\",IF($B66=\"\",\"\",HLOOKUP(G$6,CPPE!$A$1:$DB$177,$A66,FALSE)))","v":""},{"$f":"IF(H$6=\"\",\"\",IF($B66=\"\",\"\",HLOOKUP(H$6,CPPE!$A$1:$DB$177,$A66,FALSE)))","v":""},{"$f":"IF(I$6=\"\",\"\",IF($B66=\"\",\"\",HLOOKUP(I$6,CPPE!$A$1:$DB$177,$A66,FALSE)))","v":""},{"$f":"IF(J$6=\"\",\"\",IF($B66=\"\",\"\",HLOOKUP(J$6,CPPE!$A$1:$DB$177,$A66,FALSE)))","v":""},{"$f":"IF(K$6=\"\",\"\",IF($B66=\"\",\"\",HLOOKUP(K$6,CPPE!$A$1:$DB$177,$A66,FALSE)))","v":""},{"$f":"IF(L$6=\"\",\"\",IF($B66=\"\",\"\",HLOOKUP(L$6,CPPE!$A$1:$DB$177,$A66,FALSE)))","v":""}]
[{"$f":"VLOOKUP(B67,'Select Practices'!$W$10:$X$197,2,FALSE)","v":169},null,{"$f":"IF(C$6=\"\",\"\",IF($B67=\"\",\"\",HLOOKUP(C$6,CPPE!$A$1:$DB$177,$A67,FALSE)))","v":""},{"$f":"IF(D$6=\"\",\"\",IF($B67=\"\",\"\",HLOOKUP(D$6,CPPE!$A$1:$DB$177,$A67,FALSE)))","v":""},{"$f":"IF(E$6=\"\",\"\",IF($B67=\"\",\"\",HLOOKUP(E$6,CPPE!$A$1:$DB$177,$A67,FALSE)))","v":""},{"$f":"IF(F$6=\"\",\"\",IF($B67=\"\",\"\",HLOOKUP(F$6,CPPE!$A$1:$DB$177,$A67,FALSE)))","v":""},{"$f":"IF(G$6=\"\",\"\",IF($B67=\"\",\"\",HLOOKUP(G$6,CPPE!$A$1:$DB$177,$A67,FALSE)))","v":""},{"$f":"IF(H$6=\"\",\"\",IF($B67=\"\",\"\",HLOOKUP(H$6,CPPE!$A$1:$DB$177,$A67,FALSE)))","v":""},{"$f":"IF(I$6=\"\",\"\",IF($B67=\"\",\"\",HLOOKUP(I$6,CPPE!$A$1:$DB$177,$A67,FALSE)))","v":""},{"$f":"IF(J$6=\"\",\"\",IF($B67=\"\",\"\",HLOOKUP(J$6,CPPE!$A$1:$DB$177,$A67,FALSE)))","v":""},{"$f":"IF(K$6=\"\",\"\",IF($B67=\"\",\"\",HLOOKUP(K$6,CPPE!$A$1:$DB$177,$A67,FALSE)))","v":""},{"$f":"IF(L$6=\"\",\"\",IF($B67=\"\",\"\",HLOOKUP(L$6,CPPE!$A$1:$DB$177,$A67,FALSE)))","v":""}]
[{"$f":"VLOOKUP(B68,'Select Practices'!$W$10:$X$197,2,FALSE)","v":169},null,{"$f":"IF(C$6=\"\",\"\",IF($B68=\"\",\"\",HLOOKUP(C$6,CPPE!$A$1:$DB$177,$A68,FALSE)))","v":""},{"$f":"IF(D$6=\"\",\"\",IF($B68=\"\",\"\",HLOOKUP(D$6,CPPE!$A$1:$DB$177,$A68,FALSE)))","v":""},{"$f":"IF(E$6=\"\",\"\",IF($B68=\"\",\"\",HLOOKUP(E$6,CPPE!$A$1:$DB$177,$A68,FALSE)))","v":""},{"$f":"IF(F$6=\"\",\"\",IF($B68=\"\",\"\",HLOOKUP(F$6,CPPE!$A$1:$DB$177,$A68,FALSE)))","v":""},{"$f":"IF(G$6=\"\",\"\",IF($B68=\"\",\"\",HLOOKUP(G$6,CPPE!$A$1:$DB$177,$A68,FALSE)))","v":""},{"$f":"IF(H$6=\"\",\"\",IF($B68=\"\",\"\",HLOOKUP(H$6,CPPE!$A$1:$DB$177,$A68,FALSE)))","v":""},{"$f":"IF(I$6=\"\",\"\",IF($B68=\"\",\"\",HLOOKUP(I$6,CPPE!$A$1:$DB$177,$A68,FALSE)))","v":""},{"$f":"IF(J$6=\"\",\"\",IF($B68=\"\",\"\",HLOOKUP(J$6,CPPE!$A$1:$DB$177,$A68,FALSE)))","v":""},{"$f":"IF(K$6=\"\",\"\",IF($B68=\"\",\"\",HLOOKUP(K$6,CPPE!$A$1:$DB$177,$A68,FALSE)))","v":""},{"$f":"IF(L$6=\"\",\"\",IF($B68=\"\",\"\",HLOOKUP(L$6,CPPE!$A$1:$DB$177,$A68,FALSE)))","v":""}]
[{"$f":"VLOOKUP(B69,'Select Practices'!$W$10:$X$197,2,FALSE)","v":169},null,{"$f":"IF(C$6=\"\",\"\",IF($B69=\"\",\"\",HLOOKUP(C$6,CPPE!$A$1:$DB$177,$A69,FALSE)))","v":""},{"$f":"IF(D$6=\"\",\"\",IF($B69=\"\",\"\",HLOOKUP(D$6,CPPE!$A$1:$DB$177,$A69,FALSE)))","v":""},{"$f":"IF(E$6=\"\",\"\",IF($B69=\"\",\"\",HLOOKUP(E$6,CPPE!$A$1:$DB$177,$A69,FALSE)))","v":""},{"$f":"IF(F$6=\"\",\"\",IF($B69=\"\",\"\",HLOOKUP(F$6,CPPE!$A$1:$DB$177,$A69,FALSE)))","v":""},{"$f":"IF(G$6=\"\",\"\",IF($B69=\"\",\"\",HLOOKUP(G$6,CPPE!$A$1:$DB$177,$A69,FALSE)))","v":""},{"$f":"IF(H$6=\"\",\"\",IF($B69=\"\",\"\",HLOOKUP(H$6,CPPE!$A$1:$DB$177,$A69,FALSE)))","v":""},{"$f":"IF(I$6=\"\",\"\",IF($B69=\"\",\"\",HLOOKUP(I$6,CPPE!$A$1:$DB$177,$A69,FALSE)))","v":""},{"$f":"IF(J$6=\"\",\"\",IF($B69=\"\",\"\",HLOOKUP(J$6,CPPE!$A$1:$DB$177,$A69,FALSE)))","v":""},{"$f":"IF(K$6=\"\",\"\",IF($B69=\"\",\"\",HLOOKUP(K$6,CPPE!$A$1:$DB$177,$A69,FALSE)))","v":""},{"$f":"IF(L$6=\"\",\"\",IF($B69=\"\",\"\",HLOOKUP(L$6,CPPE!$A$1:$DB$177,$A69,FALSE)))","v":""}]
[{"$f":"VLOOKUP(B70,'Select Practices'!$W$10:$X$197,2,FALSE)","v":169},null,{"$f":"IF(C$6=\"\",\"\",IF($B70=\"\",\"\",HLOOKUP(C$6,CPPE!$A$1:$DB$177,$A70,FALSE)))","v":""},{"$f":"IF(D$6=\"\",\"\",IF($B70=\"\",\"\",HLOOKUP(D$6,CPPE!$A$1:$DB$177,$A70,FALSE)))","v":""},{"$f":"IF(E$6=\"\",\"\",IF($B70=\"\",\"\",HLOOKUP(E$6,CPPE!$A$1:$DB$177,$A70,FALSE)))","v":""},{"$f":"IF(F$6=\"\",\"\",IF($B70=\"\",\"\",HLOOKUP(F$6,CPPE!$A$1:$DB$177,$A70,FALSE)))","v":""},{"$f":"IF(G$6=\"\",\"\",IF($B70=\"\",\"\",HLOOKUP(G$6,CPPE!$A$1:$DB$177,$A70,FALSE)))","v":""},{"$f":"IF(H$6=\"\",\"\",IF($B70=\"\",\"\",HLOOKUP(H$6,CPPE!$A$1:$DB$177,$A70,FALSE)))","v":""},{"$f":"IF(I$6=\"\",\"\",IF($B70=\"\",\"\",HLOOKUP(I$6,CPPE!$A$1:$DB$177,$A70,FALSE)))","v":""},{"$f":"IF(J$6=\"\",\"\",IF($B70=\"\",\"\",HLOOKUP(J$6,CPPE!$A$1:$DB$177,$A70,FALSE)))","v":""},{"$f":"IF(K$6=\"\",\"\",IF($B70=\"\",\"\",HLOOKUP(K$6,CPPE!$A$1:$DB$177,$A70,FALSE)))","v":""},{"$f":"IF(L$6=\"\",\"\",IF($B70=\"\",\"\",HLOOKUP(L$6,CPPE!$A$1:$DB$177,$A70,FALSE)))","v":""}]
[{"$f":"VLOOKUP(B71,'Select Practices'!$W$10:$X$197,2,FALSE)","v":169},null,{"$f":"IF(C$6=\"\",\"\",IF($B71=\"\",\"\",HLOOKUP(C$6,CPPE!$A$1:$DB$177,$A71,FALSE)))","v":""},{"$f":"IF(D$6=\"\",\"\",IF($B71=\"\",\"\",HLOOKUP(D$6,CPPE!$A$1:$DB$177,$A71,FALSE)))","v":""},{"$f":"IF(E$6=\"\",\"\",IF($B71=\"\",\"\",HLOOKUP(E$6,CPPE!$A$1:$DB$177,$A71,FALSE)))","v":""},{"$f":"IF(F$6=\"\",\"\",IF($B71=\"\",\"\",HLOOKUP(F$6,CPPE!$A$1:$DB$177,$A71,FALSE)))","v":""},{"$f":"IF(G$6=\"\",\"\",IF($B71=\"\",\"\",HLOOKUP(G$6,CPPE!$A$1:$DB$177,$A71,FALSE)))","v":""},{"$f":"IF(H$6=\"\",\"\",IF($B71=\"\",\"\",HLOOKUP(H$6,CPPE!$A$1:$DB$177,$A71,FALSE)))","v":""},{"$f":"IF(I$6=\"\",\"\",IF($B71=\"\",\"\",HLOOKUP(I$6,CPPE!$A$1:$DB$177,$A71,FALSE)))","v":""},{"$f":"IF(J$6=\"\",\"\",IF($B71=\"\",\"\",HLOOKUP(J$6,CPPE!$A$1:$DB$177,$A71,FALSE)))","v":""},{"$f":"IF(K$6=\"\",\"\",IF($B71=\"\",\"\",HLOOKUP(K$6,CPPE!$A$1:$DB$177,$A71,FALSE)))","v":""},{"$f":"IF(L$6=\"\",\"\",IF($B71=\"\",\"\",HLOOKUP(L$6,CPPE!$A$1:$DB$177,$A71,FALSE)))","v":""}]
[{"$f":"VLOOKUP(B72,'Select Practices'!$W$10:$X$197,2,FALSE)","v":169},null,{"$f":"IF(C$6=\"\",\"\",IF($B72=\"\",\"\",HLOOKUP(C$6,CPPE!$A$1:$DB$177,$A72,FALSE)))","v":""},{"$f":"IF(D$6=\"\",\"\",IF($B72=\"\",\"\",HLOOKUP(D$6,CPPE!$A$1:$DB$177,$A72,FALSE)))","v":""},{"$f":"IF(E$6=\"\",\"\",IF($B72=\"\",\"\",HLOOKUP(E$6,CPPE!$A$1:$DB$177,$A72,FALSE)))","v":""},{"$f":"IF(F$6=\"\",\"\",IF($B72=\"\",\"\",HLOOKUP(F$6,CPPE!$A$1:$DB$177,$A72,FALSE)))","v":""},{"$f":"IF(G$6=\"\",\"\",IF($B72=\"\",\"\",HLOOKUP(G$6,CPPE!$A$1:$DB$177,$A72,FALSE)))","v":""},{"$f":"IF(H$6=\"\",\"\",IF($B72=\"\",\"\",HLOOKUP(H$6,CPPE!$A$1:$DB$177,$A72,FALSE)))","v":""},{"$f":"IF(I$6=\"\",\"\",IF($B72=\"\",\"\",HLOOKUP(I$6,CPPE!$A$1:$DB$177,$A72,FALSE)))","v":""},{"$f":"IF(J$6=\"\",\"\",IF($B72=\"\",\"\",HLOOKUP(J$6,CPPE!$A$1:$DB$177,$A72,FALSE)))","v":""},{"$f":"IF(K$6=\"\",\"\",IF($B72=\"\",\"\",HLOOKUP(K$6,CPPE!$A$1:$DB$177,$A72,FALSE)))","v":""},{"$f":"IF(L$6=\"\",\"\",IF($B72=\"\",\"\",HLOOKUP(L$6,CPPE!$A$1:$DB$177,$A72,FALSE)))","v":""}]
[{"$f":"VLOOKUP(B73,'Select Practices'!$W$10:$X$197,2,FALSE)","v":169},null,{"$f":"IF(C$6=\"\",\"\",IF($B73=\"\",\"\",HLOOKUP(C$6,CPPE!$A$1:$DB$177,$A73,FALSE)))","v":""},{"$f":"IF(D$6=\"\",\"\",IF($B73=\"\",\"\",HLOOKUP(D$6,CPPE!$A$1:$DB$177,$A73,FALSE)))","v":""},{"$f":"IF(E$6=\"\",\"\",IF($B73=\"\",\"\",HLOOKUP(E$6,CPPE!$A$1:$DB$177,$A73,FALSE)))","v":""},{"$f":"IF(F$6=\"\",\"\",IF($B73=\"\",\"\",HLOOKUP(F$6,CPPE!$A$1:$DB$177,$A73,FALSE)))","v":""},{"$f":"IF(G$6=\"\",\"\",IF($B73=\"\",\"\",HLOOKUP(G$6,CPPE!$A$1:$DB$177,$A73,FALSE)))","v":""},{"$f":"IF(H$6=\"\",\"\",IF($B73=\"\",\"\",HLOOKUP(H$6,CPPE!$A$1:$DB$177,$A73,FALSE)))","v":""},{"$f":"IF(I$6=\"\",\"\",IF($B73=\"\",\"\",HLOOKUP(I$6,CPPE!$A$1:$DB$177,$A73,FALSE)))","v":""},{"$f":"IF(J$6=\"\",\"\",IF($B73=\"\",\"\",HLOOKUP(J$6,CPPE!$A$1:$DB$177,$A73,FALSE)))","v":""},{"$f":"IF(K$6=\"\",\"\",IF($B73=\"\",\"\",HLOOKUP(K$6,CPPE!$A$1:$DB$177,$A73,FALSE)))","v":""},{"$f":"IF(L$6=\"\",\"\",IF($B73=\"\",\"\",HLOOKUP(L$6,CPPE!$A$1:$DB$177,$A73,FALSE)))","v":""}]
[{"$f":"VLOOKUP(B74,'Select Practices'!$W$10:$X$197,2,FALSE)","v":169},null,{"$f":"IF(C$6=\"\",\"\",IF($B74=\"\",\"\",HLOOKUP(C$6,CPPE!$A$1:$DB$177,$A74,FALSE)))","v":""},{"$f":"IF(D$6=\"\",\"\",IF($B74=\"\",\"\",HLOOKUP(D$6,CPPE!$A$1:$DB$177,$A74,FALSE)))","v":""},{"$f":"IF(E$6=\"\",\"\",IF($B74=\"\",\"\",HLOOKUP(E$6,CPPE!$A$1:$DB$177,$A74,FALSE)))","v":""},{"$f":"IF(F$6=\"\",\"\",IF($B74=\"\",\"\",HLOOKUP(F$6,CPPE!$A$1:$DB$177,$A74,FALSE)))","v":""},{"$f":"IF(G$6=\"\",\"\",IF($B74=\"\",\"\",HLOOKUP(G$6,CPPE!$A$1:$DB$177,$A74,FALSE)))","v":""},{"$f":"IF(H$6=\"\",\"\",IF($B74=\"\",\"\",HLOOKUP(H$6,CPPE!$A$1:$DB$177,$A74,FALSE)))","v":""},{"$f":"IF(I$6=\"\",\"\",IF($B74=\"\",\"\",HLOOKUP(I$6,CPPE!$A$1:$DB$177,$A74,FALSE)))","v":""},{"$f":"IF(J$6=\"\",\"\",IF($B74=\"\",\"\",HLOOKUP(J$6,CPPE!$A$1:$DB$177,$A74,FALSE)))","v":""},{"$f":"IF(K$6=\"\",\"\",IF($B74=\"\",\"\",HLOOKUP(K$6,CPPE!$A$1:$DB$177,$A74,FALSE)))","v":""},{"$f":"IF(L$6=\"\",\"\",IF($B74=\"\",\"\",HLOOKUP(L$6,CPPE!$A$1:$DB$177,$A74,FALSE)))","v":""}]
[{"$f":"VLOOKUP(B75,'Select Practices'!$W$10:$X$197,2,FALSE)","v":169},null,{"$f":"IF(C$6=\"\",\"\",IF($B75=\"\",\"\",HLOOKUP(C$6,CPPE!$A$1:$DB$177,$A75,FALSE)))","v":""},{"$f":"IF(D$6=\"\",\"\",IF($B75=\"\",\"\",HLOOKUP(D$6,CPPE!$A$1:$DB$177,$A75,FALSE)))","v":""},{"$f":"IF(E$6=\"\",\"\",IF($B75=\"\",\"\",HLOOKUP(E$6,CPPE!$A$1:$DB$177,$A75,FALSE)))","v":""},{"$f":"IF(F$6=\"\",\"\",IF($B75=\"\",\"\",HLOOKUP(F$6,CPPE!$A$1:$DB$177,$A75,FALSE)))","v":""},{"$f":"IF(G$6=\"\",\"\",IF($B75=\"\",\"\",HLOOKUP(G$6,CPPE!$A$1:$DB$177,$A75,FALSE)))","v":""},{"$f":"IF(H$6=\"\",\"\",IF($B75=\"\",\"\",HLOOKUP(H$6,CPPE!$A$1:$DB$177,$A75,FALSE)))","v":""},{"$f":"IF(I$6=\"\",\"\",IF($B75=\"\",\"\",HLOOKUP(I$6,CPPE!$A$1:$DB$177,$A75,FALSE)))","v":""},{"$f":"IF(J$6=\"\",\"\",IF($B75=\"\",\"\",HLOOKUP(J$6,CPPE!$A$1:$DB$177,$A75,FALSE)))","v":""},{"$f":"IF(K$6=\"\",\"\",IF($B75=\"\",\"\",HLOOKUP(K$6,CPPE!$A$1:$DB$177,$A75,FALSE)))","v":""},{"$f":"IF(L$6=\"\",\"\",IF($B75=\"\",\"\",HLOOKUP(L$6,CPPE!$A$1:$DB$177,$A75,FALSE)))","v":""}]
[{"$f":"VLOOKUP(B76,'Select Practices'!$W$10:$X$197,2,FALSE)","v":169},null,{"$f":"IF(C$6=\"\",\"\",IF($B76=\"\",\"\",HLOOKUP(C$6,CPPE!$A$1:$DB$177,$A76,FALSE)))","v":""},{"$f":"IF(D$6=\"\",\"\",IF($B76=\"\",\"\",HLOOKUP(D$6,CPPE!$A$1:$DB$177,$A76,FALSE)))","v":""},{"$f":"IF(E$6=\"\",\"\",IF($B76=\"\",\"\",HLOOKUP(E$6,CPPE!$A$1:$DB$177,$A76,FALSE)))","v":""},{"$f":"IF(F$6=\"\",\"\",IF($B76=\"\",\"\",HLOOKUP(F$6,CPPE!$A$1:$DB$177,$A76,FALSE)))","v":""},{"$f":"IF(G$6=\"\",\"\",IF($B76=\"\",\"\",HLOOKUP(G$6,CPPE!$A$1:$DB$177,$A76,FALSE)))","v":""},{"$f":"IF(H$6=\"\",\"\",IF($B76=\"\",\"\",HLOOKUP(H$6,CPPE!$A$1:$DB$177,$A76,FALSE)))","v":""},{"$f":"IF(I$6=\"\",\"\",IF($B76=\"\",\"\",HLOOKUP(I$6,CPPE!$A$1:$DB$177,$A76,FALSE)))","v":""},{"$f":"IF(J$6=\"\",\"\",IF($B76=\"\",\"\",HLOOKUP(J$6,CPPE!$A$1:$DB$177,$A76,FALSE)))","v":""},{"$f":"IF(K$6=\"\",\"\",IF($B76=\"\",\"\",HLOOKUP(K$6,CPPE!$A$1:$DB$177,$A76,FALSE)))","v":""},{"$f":"IF(L$6=\"\",\"\",IF($B76=\"\",\"\",HLOOKUP(L$6,CPPE!$A$1:$DB$177,$A76,FALSE)))","v":""}]
[{"$f":"VLOOKUP(B77,'Select Practices'!$W$10:$X$197,2,FALSE)","v":169},null,{"$f":"IF(C$6=\"\",\"\",IF($B77=\"\",\"\",HLOOKUP(C$6,CPPE!$A$1:$DB$177,$A77,FALSE)))","v":""},{"$f":"IF(D$6=\"\",\"\",IF($B77=\"\",\"\",HLOOKUP(D$6,CPPE!$A$1:$DB$177,$A77,FALSE)))","v":""},{"$f":"IF(E$6=\"\",\"\",IF($B77=\"\",\"\",HLOOKUP(E$6,CPPE!$A$1:$DB$177,$A77,FALSE)))","v":""},{"$f":"IF(F$6=\"\",\"\",IF($B77=\"\",\"\",HLOOKUP(F$6,CPPE!$A$1:$DB$177,$A77,FALSE)))","v":""},{"$f":"IF(G$6=\"\",\"\",IF($B77=\"\",\"\",HLOOKUP(G$6,CPPE!$A$1:$DB$177,$A77,FALSE)))","v":""},{"$f":"IF(H$6=\"\",\"\",IF($B77=\"\",\"\",HLOOKUP(H$6,CPPE!$A$1:$DB$177,$A77,FALSE)))","v":""},{"$f":"IF(I$6=\"\",\"\",IF($B77=\"\",\"\",HLOOKUP(I$6,CPPE!$A$1:$DB$177,$A77,FALSE)))","v":""},{"$f":"IF(J$6=\"\",\"\",IF($B77=\"\",\"\",HLOOKUP(J$6,CPPE!$A$1:$DB$177,$A77,FALSE)))","v":""},{"$f":"IF(K$6=\"\",\"\",IF($B77=\"\",\"\",HLOOKUP(K$6,CPPE!$A$1:$DB$177,$A77,FALSE)))","v":""},{"$f":"IF(L$6=\"\",\"\",IF($B77=\"\",\"\",HLOOKUP(L$6,CPPE!$A$1:$DB$177,$A77,FALSE)))","v":""}]
[{"$f":"VLOOKUP(B78,'Select Practices'!$W$10:$X$197,2,FALSE)","v":169},null,{"$f":"IF(C$6=\"\",\"\",IF($B78=\"\",\"\",HLOOKUP(C$6,CPPE!$A$1:$DB$177,$A78,FALSE)))","v":""},{"$f":"IF(D$6=\"\",\"\",IF($B78=\"\",\"\",HLOOKUP(D$6,CPPE!$A$1:$DB$177,$A78,FALSE)))","v":""},{"$f":"IF(E$6=\"\",\"\",IF($B78=\"\",\"\",HLOOKUP(E$6,CPPE!$A$1:$DB$177,$A78,FALSE)))","v":""},{"$f":"IF(F$6=\"\",\"\",IF($B78=\"\",\"\",HLOOKUP(F$6,CPPE!$A$1:$DB$177,$A78,FALSE)))","v":""},{"$f":"IF(G$6=\"\",\"\",IF($B78=\"\",\"\",HLOOKUP(G$6,CPPE!$A$1:$DB$177,$A78,FALSE)))","v":""},{"$f":"IF(H$6=\"\",\"\",IF($B78=\"\",\"\",HLOOKUP(H$6,CPPE!$A$1:$DB$177,$A78,FALSE)))","v":""},{"$f":"IF(I$6=\"\",\"\",IF($B78=\"\",\"\",HLOOKUP(I$6,CPPE!$A$1:$DB$177,$A78,FALSE)))","v":""},{"$f":"IF(J$6=\"\",\"\",IF($B78=\"\",\"\",HLOOKUP(J$6,CPPE!$A$1:$DB$177,$A78,FALSE)))","v":""},{"$f":"IF(K$6=\"\",\"\",IF($B78=\"\",\"\",HLOOKUP(K$6,CPPE!$A$1:$DB$177,$A78,FALSE)))","v":""},{"$f":"IF(L$6=\"\",\"\",IF($B78=\"\",\"\",HLOOKUP(L$6,CPPE!$A$1:$DB$177,$A78,FALSE)))","v":""}]
[{"$f":"VLOOKUP(B79,'Select Practices'!$W$10:$X$197,2,FALSE)","v":169},null,{"$f":"IF(C$6=\"\",\"\",IF($B79=\"\",\"\",HLOOKUP(C$6,CPPE!$A$1:$DB$177,$A79,FALSE)))","v":""},{"$f":"IF(D$6=\"\",\"\",IF($B79=\"\",\"\",HLOOKUP(D$6,CPPE!$A$1:$DB$177,$A79,FALSE)))","v":""},{"$f":"IF(E$6=\"\",\"\",IF($B79=\"\",\"\",HLOOKUP(E$6,CPPE!$A$1:$DB$177,$A79,FALSE)))","v":""},{"$f":"IF(F$6=\"\",\"\",IF($B79=\"\",\"\",HLOOKUP(F$6,CPPE!$A$1:$DB$177,$A79,FALSE)))","v":""},{"$f":"IF(G$6=\"\",\"\",IF($B79=\"\",\"\",HLOOKUP(G$6,CPPE!$A$1:$DB$177,$A79,FALSE)))","v":""},{"$f":"IF(H$6=\"\",\"\",IF($B79=\"\",\"\",HLOOKUP(H$6,CPPE!$A$1:$DB$177,$A79,FALSE)))","v":""},{"$f":"IF(I$6=\"\",\"\",IF($B79=\"\",\"\",HLOOKUP(I$6,CPPE!$A$1:$DB$177,$A79,FALSE)))","v":""},{"$f":"IF(J$6=\"\",\"\",IF($B79=\"\",\"\",HLOOKUP(J$6,CPPE!$A$1:$DB$177,$A79,FALSE)))","v":""},{"$f":"IF(K$6=\"\",\"\",IF($B79=\"\",\"\",HLOOKUP(K$6,CPPE!$A$1:$DB$177,$A79,FALSE)))","v":""},{"$f":"IF(L$6=\"\",\"\",IF($B79=\"\",\"\",HLOOKUP(L$6,CPPE!$A$1:$DB$177,$A79,FALSE)))","v":""}]
[{"$f":"VLOOKUP(B80,'Select Practices'!$W$10:$X$197,2,FALSE)","v":169},null,{"$f":"IF(C$6=\"\",\"\",IF($B80=\"\",\"\",HLOOKUP(C$6,CPPE!$A$1:$DB$177,$A80,FALSE)))","v":""},{"$f":"IF(D$6=\"\",\"\",IF($B80=\"\",\"\",HLOOKUP(D$6,CPPE!$A$1:$DB$177,$A80,FALSE)))","v":""},{"$f":"IF(E$6=\"\",\"\",IF($B80=\"\",\"\",HLOOKUP(E$6,CPPE!$A$1:$DB$177,$A80,FALSE)))","v":""},{"$f":"IF(F$6=\"\",\"\",IF($B80=\"\",\"\",HLOOKUP(F$6,CPPE!$A$1:$DB$177,$A80,FALSE)))","v":""},{"$f":"IF(G$6=\"\",\"\",IF($B80=\"\",\"\",HLOOKUP(G$6,CPPE!$A$1:$DB$177,$A80,FALSE)))","v":""},{"$f":"IF(H$6=\"\",\"\",IF($B80=\"\",\"\",HLOOKUP(H$6,CPPE!$A$1:$DB$177,$A80,FALSE)))","v":""},{"$f":"IF(I$6=\"\",\"\",IF($B80=\"\",\"\",HLOOKUP(I$6,CPPE!$A$1:$DB$177,$A80,FALSE)))","v":""},{"$f":"IF(J$6=\"\",\"\",IF($B80=\"\",\"\",HLOOKUP(J$6,CPPE!$A$1:$DB$177,$A80,FALSE)))","v":""},{"$f":"IF(K$6=\"\",\"\",IF($B80=\"\",\"\",HLOOKUP(K$6,CPPE!$A$1:$DB$177,$A80,FALSE)))","v":""},{"$f":"IF(L$6=\"\",\"\",IF($B80=\"\",\"\",HLOOKUP(L$6,CPPE!$A$1:$DB$177,$A80,FALSE)))","v":""}]
[{"$f":"VLOOKUP(B81,'Select Practices'!$W$10:$X$197,2,FALSE)","v":169},null,{"$f":"IF(C$6=\"\",\"\",IF($B81=\"\",\"\",HLOOKUP(C$6,CPPE!$A$1:$DB$177,$A81,FALSE)))","v":""},{"$f":"IF(D$6=\"\",\"\",IF($B81=\"\",\"\",HLOOKUP(D$6,CPPE!$A$1:$DB$177,$A81,FALSE)))","v":""},{"$f":"IF(E$6=\"\",\"\",IF($B81=\"\",\"\",HLOOKUP(E$6,CPPE!$A$1:$DB$177,$A81,FALSE)))","v":""},{"$f":"IF(F$6=\"\",\"\",IF($B81=\"\",\"\",HLOOKUP(F$6,CPPE!$A$1:$DB$177,$A81,FALSE)))","v":""},{"$f":"IF(G$6=\"\",\"\",IF($B81=\"\",\"\",HLOOKUP(G$6,CPPE!$A$1:$DB$177,$A81,FALSE)))","v":""},{"$f":"IF(H$6=\"\",\"\",IF($B81=\"\",\"\",HLOOKUP(H$6,CPPE!$A$1:$DB$177,$A81,FALSE)))","v":""},{"$f":"IF(I$6=\"\",\"\",IF($B81=\"\",\"\",HLOOKUP(I$6,CPPE!$A$1:$DB$177,$A81,FALSE)))","v":""},{"$f":"IF(J$6=\"\",\"\",IF($B81=\"\",\"\",HLOOKUP(J$6,CPPE!$A$1:$DB$177,$A81,FALSE)))","v":""},{"$f":"IF(K$6=\"\",\"\",IF($B81=\"\",\"\",HLOOKUP(K$6,CPPE!$A$1:$DB$177,$A81,FALSE)))","v":""},{"$f":"IF(L$6=\"\",\"\",IF($B81=\"\",\"\",HLOOKUP(L$6,CPPE!$A$1:$DB$177,$A81,FALSE)))","v":""}]
[{"$f":"VLOOKUP(B82,'Select Practices'!$W$10:$X$197,2,FALSE)","v":169},null,{"$f":"IF(C$6=\"\",\"\",IF($B82=\"\",\"\",HLOOKUP(C$6,CPPE!$A$1:$DB$177,$A82,FALSE)))","v":""},{"$f":"IF(D$6=\"\",\"\",IF($B82=\"\",\"\",HLOOKUP(D$6,CPPE!$A$1:$DB$177,$A82,FALSE)))","v":""},{"$f":"IF(E$6=\"\",\"\",IF($B82=\"\",\"\",HLOOKUP(E$6,CPPE!$A$1:$DB$177,$A82,FALSE)))","v":""},{"$f":"IF(F$6=\"\",\"\",IF($B82=\"\",\"\",HLOOKUP(F$6,CPPE!$A$1:$DB$177,$A82,FALSE)))","v":""},{"$f":"IF(G$6=\"\",\"\",IF($B82=\"\",\"\",HLOOKUP(G$6,CPPE!$A$1:$DB$177,$A82,FALSE)))","v":""},{"$f":"IF(H$6=\"\",\"\",IF($B82=\"\",\"\",HLOOKUP(H$6,CPPE!$A$1:$DB$177,$A82,FALSE)))","v":""},{"$f":"IF(I$6=\"\",\"\",IF($B82=\"\",\"\",HLOOKUP(I$6,CPPE!$A$1:$DB$177,$A82,FALSE)))","v":""},{"$f":"IF(J$6=\"\",\"\",IF($B82=\"\",\"\",HLOOKUP(J$6,CPPE!$A$1:$DB$177,$A82,FALSE)))","v":""},{"$f":"IF(K$6=\"\",\"\",IF($B82=\"\",\"\",HLOOKUP(K$6,CPPE!$A$1:$DB$177,$A82,FALSE)))","v":""},{"$f":"IF(L$6=\"\",\"\",IF($B82=\"\",\"\",HLOOKUP(L$6,CPPE!$A$1:$DB$177,$A82,FALSE)))","v":""}]
[{"$f":"VLOOKUP(B83,'Select Practices'!$W$10:$X$197,2,FALSE)","v":169},null,{"$f":"IF(C$6=\"\",\"\",IF($B83=\"\",\"\",HLOOKUP(C$6,CPPE!$A$1:$DB$177,$A83,FALSE)))","v":""},{"$f":"IF(D$6=\"\",\"\",IF($B83=\"\",\"\",HLOOKUP(D$6,CPPE!$A$1:$DB$177,$A83,FALSE)))","v":""},{"$f":"IF(E$6=\"\",\"\",IF($B83=\"\",\"\",HLOOKUP(E$6,CPPE!$A$1:$DB$177,$A83,FALSE)))","v":""},{"$f":"IF(F$6=\"\",\"\",IF($B83=\"\",\"\",HLOOKUP(F$6,CPPE!$A$1:$DB$177,$A83,FALSE)))","v":""},{"$f":"IF(G$6=\"\",\"\",IF($B83=\"\",\"\",HLOOKUP(G$6,CPPE!$A$1:$DB$177,$A83,FALSE)))","v":""},{"$f":"IF(H$6=\"\",\"\",IF($B83=\"\",\"\",HLOOKUP(H$6,CPPE!$A$1:$DB$177,$A83,FALSE)))","v":""},{"$f":"IF(I$6=\"\",\"\",IF($B83=\"\",\"\",HLOOKUP(I$6,CPPE!$A$1:$DB$177,$A83,FALSE)))","v":""},{"$f":"IF(J$6=\"\",\"\",IF($B83=\"\",\"\",HLOOKUP(J$6,CPPE!$A$1:$DB$177,$A83,FALSE)))","v":""},{"$f":"IF(K$6=\"\",\"\",IF($B83=\"\",\"\",HLOOKUP(K$6,CPPE!$A$1:$DB$177,$A83,FALSE)))","v":""},{"$f":"IF(L$6=\"\",\"\",IF($B83=\"\",\"\",HLOOKUP(L$6,CPPE!$A$1:$DB$177,$A83,FALSE)))","v":""}]
[{"$f":"VLOOKUP(B84,'Select Practices'!$W$10:$X$197,2,FALSE)","v":169},null,{"$f":"IF(C$6=\"\",\"\",IF($B84=\"\",\"\",HLOOKUP(C$6,CPPE!$A$1:$DB$177,$A84,FALSE)))","v":""},{"$f":"IF(D$6=\"\",\"\",IF($B84=\"\",\"\",HLOOKUP(D$6,CPPE!$A$1:$DB$177,$A84,FALSE)))","v":""},{"$f":"IF(E$6=\"\",\"\",IF($B84=\"\",\"\",HLOOKUP(E$6,CPPE!$A$1:$DB$177,$A84,FALSE)))","v":""},{"$f":"IF(F$6=\"\",\"\",IF($B84=\"\",\"\",HLOOKUP(F$6,CPPE!$A$1:$DB$177,$A84,FALSE)))","v":""},{"$f":"IF(G$6=\"\",\"\",IF($B84=\"\",\"\",HLOOKUP(G$6,CPPE!$A$1:$DB$177,$A84,FALSE)))","v":""},{"$f":"IF(H$6=\"\",\"\",IF($B84=\"\",\"\",HLOOKUP(H$6,CPPE!$A$1:$DB$177,$A84,FALSE)))","v":""},{"$f":"IF(I$6=\"\",\"\",IF($B84=\"\",\"\",HLOOKUP(I$6,CPPE!$A$1:$DB$177,$A84,FALSE)))","v":""},{"$f":"IF(J$6=\"\",\"\",IF($B84=\"\",\"\",HLOOKUP(J$6,CPPE!$A$1:$DB$177,$A84,FALSE)))","v":""},{"$f":"IF(K$6=\"\",\"\",IF($B84=\"\",\"\",HLOOKUP(K$6,CPPE!$A$1:$DB$177,$A84,FALSE)))","v":""},{"$f":"IF(L$6=\"\",\"\",IF($B84=\"\",\"\",HLOOKUP(L$6,CPPE!$A$1:$DB$177,$A84,FALSE)))","v":""}]
[{"$f":"VLOOKUP(B85,'Select Practices'!$W$10:$X$197,2,FALSE)","v":169},null,{"$f":"IF(C$6=\"\",\"\",IF($B85=\"\",\"\",HLOOKUP(C$6,CPPE!$A$1:$DB$177,$A85,FALSE)))","v":""},{"$f":"IF(D$6=\"\",\"\",IF($B85=\"\",\"\",HLOOKUP(D$6,CPPE!$A$1:$DB$177,$A85,FALSE)))","v":""},{"$f":"IF(E$6=\"\",\"\",IF($B85=\"\",\"\",HLOOKUP(E$6,CPPE!$A$1:$DB$177,$A85,FALSE)))","v":""},{"$f":"IF(F$6=\"\",\"\",IF($B85=\"\",\"\",HLOOKUP(F$6,CPPE!$A$1:$DB$177,$A85,FALSE)))","v":""},{"$f":"IF(G$6=\"\",\"\",IF($B85=\"\",\"\",HLOOKUP(G$6,CPPE!$A$1:$DB$177,$A85,FALSE)))","v":""},{"$f":"IF(H$6=\"\",\"\",IF($B85=\"\",\"\",HLOOKUP(H$6,CPPE!$A$1:$DB$177,$A85,FALSE)))","v":""},{"$f":"IF(I$6=\"\",\"\",IF($B85=\"\",\"\",HLOOKUP(I$6,CPPE!$A$1:$DB$177,$A85,FALSE)))","v":""},{"$f":"IF(J$6=\"\",\"\",IF($B85=\"\",\"\",HLOOKUP(J$6,CPPE!$A$1:$DB$177,$A85,FALSE)))","v":""},{"$f":"IF(K$6=\"\",\"\",IF($B85=\"\",\"\",HLOOKUP(K$6,CPPE!$A$1:$DB$177,$A85,FALSE)))","v":""},{"$f":"IF(L$6=\"\",\"\",IF($B85=\"\",\"\",HLOOKUP(L$6,CPPE!$A$1:$DB$177,$A85,FALSE)))","v":""}]
[{"$f":"VLOOKUP(B86,'Select Practices'!$W$10:$X$197,2,FALSE)","v":169},null,{"$f":"IF(C$6=\"\",\"\",IF($B86=\"\",\"\",HLOOKUP(C$6,CPPE!$A$1:$DB$177,$A86,FALSE)))","v":""},{"$f":"IF(D$6=\"\",\"\",IF($B86=\"\",\"\",HLOOKUP(D$6,CPPE!$A$1:$DB$177,$A86,FALSE)))","v":""},{"$f":"IF(E$6=\"\",\"\",IF($B86=\"\",\"\",HLOOKUP(E$6,CPPE!$A$1:$DB$177,$A86,FALSE)))","v":""},{"$f":"IF(F$6=\"\",\"\",IF($B86=\"\",\"\",HLOOKUP(F$6,CPPE!$A$1:$DB$177,$A86,FALSE)))","v":""},{"$f":"IF(G$6=\"\",\"\",IF($B86=\"\",\"\",HLOOKUP(G$6,CPPE!$A$1:$DB$177,$A86,FALSE)))","v":""},{"$f":"IF(H$6=\"\",\"\",IF($B86=\"\",\"\",HLOOKUP(H$6,CPPE!$A$1:$DB$177,$A86,FALSE)))","v":""},{"$f":"IF(I$6=\"\",\"\",IF($B86=\"\",\"\",HLOOKUP(I$6,CPPE!$A$1:$DB$177,$A86,FALSE)))","v":""},{"$f":"IF(J$6=\"\",\"\",IF($B86=\"\",\"\",HLOOKUP(J$6,CPPE!$A$1:$DB$177,$A86,FALSE)))","v":""},{"$f":"IF(K$6=\"\",\"\",IF($B86=\"\",\"\",HLOOKUP(K$6,CPPE!$A$1:$DB$177,$A86,FALSE)))","v":""},{"$f":"IF(L$6=\"\",\"\",IF($B86=\"\",\"\",HLOOKUP(L$6,CPPE!$A$1:$DB$177,$A86,FALSE)))","v":""}]
[{"$f":"VLOOKUP(B87,'Select Practices'!$W$10:$X$197,2,FALSE)","v":169},null,{"$f":"IF(C$6=\"\",\"\",IF($B87=\"\",\"\",HLOOKUP(C$6,CPPE!$A$1:$DB$177,$A87,FALSE)))","v":""},{"$f":"IF(D$6=\"\",\"\",IF($B87=\"\",\"\",HLOOKUP(D$6,CPPE!$A$1:$DB$177,$A87,FALSE)))","v":""},{"$f":"IF(E$6=\"\",\"\",IF($B87=\"\",\"\",HLOOKUP(E$6,CPPE!$A$1:$DB$177,$A87,FALSE)))","v":""},{"$f":"IF(F$6=\"\",\"\",IF($B87=\"\",\"\",HLOOKUP(F$6,CPPE!$A$1:$DB$177,$A87,FALSE)))","v":""},{"$f":"IF(G$6=\"\",\"\",IF($B87=\"\",\"\",HLOOKUP(G$6,CPPE!$A$1:$DB$177,$A87,FALSE)))","v":""},{"$f":"IF(H$6=\"\",\"\",IF($B87=\"\",\"\",HLOOKUP(H$6,CPPE!$A$1:$DB$177,$A87,FALSE)))","v":""},{"$f":"IF(I$6=\"\",\"\",IF($B87=\"\",\"\",HLOOKUP(I$6,CPPE!$A$1:$DB$177,$A87,FALSE)))","v":""},{"$f":"IF(J$6=\"\",\"\",IF($B87=\"\",\"\",HLOOKUP(J$6,CPPE!$A$1:$DB$177,$A87,FALSE)))","v":""},{"$f":"IF(K$6=\"\",\"\",IF($B87=\"\",\"\",HLOOKUP(K$6,CPPE!$A$1:$DB$177,$A87,FALSE)))","v":""},{"$f":"IF(L$6=\"\",\"\",IF($B87=\"\",\"\",HLOOKUP(L$6,CPPE!$A$1:$DB$177,$A87,FALSE)))","v":""}]
[{"$f":"VLOOKUP(B88,'Select Practices'!$W$10:$X$197,2,FALSE)","v":169},null,{"$f":"IF(C$6=\"\",\"\",IF($B88=\"\",\"\",HLOOKUP(C$6,CPPE!$A$1:$DB$177,$A88,FALSE)))","v":""},{"$f":"IF(D$6=\"\",\"\",IF($B88=\"\",\"\",HLOOKUP(D$6,CPPE!$A$1:$DB$177,$A88,FALSE)))","v":""},{"$f":"IF(E$6=\"\",\"\",IF($B88=\"\",\"\",HLOOKUP(E$6,CPPE!$A$1:$DB$177,$A88,FALSE)))","v":""},{"$f":"IF(F$6=\"\",\"\",IF($B88=\"\",\"\",HLOOKUP(F$6,CPPE!$A$1:$DB$177,$A88,FALSE)))","v":""},{"$f":"IF(G$6=\"\",\"\",IF($B88=\"\",\"\",HLOOKUP(G$6,CPPE!$A$1:$DB$177,$A88,FALSE)))","v":""},{"$f":"IF(H$6=\"\",\"\",IF($B88=\"\",\"\",HLOOKUP(H$6,CPPE!$A$1:$DB$177,$A88,FALSE)))","v":""},{"$f":"IF(I$6=\"\",\"\",IF($B88=\"\",\"\",HLOOKUP(I$6,CPPE!$A$1:$DB$177,$A88,FALSE)))","v":""},{"$f":"IF(J$6=\"\",\"\",IF($B88=\"\",\"\",HLOOKUP(J$6,CPPE!$A$1:$DB$177,$A88,FALSE)))","v":""},{"$f":"IF(K$6=\"\",\"\",IF($B88=\"\",\"\",HLOOKUP(K$6,CPPE!$A$1:$DB$177,$A88,FALSE)))","v":""},{"$f":"IF(L$6=\"\",\"\",IF($B88=\"\",\"\",HLOOKUP(L$6,CPPE!$A$1:$DB$177,$A88,FALSE)))","v":""}]
[{"$f":"VLOOKUP(B89,'Select Practices'!$W$10:$X$197,2,FALSE)","v":169},null,{"$f":"IF(C$6=\"\",\"\",IF($B89=\"\",\"\",HLOOKUP(C$6,CPPE!$A$1:$DB$177,$A89,FALSE)))","v":""},{"$f":"IF(D$6=\"\",\"\",IF($B89=\"\",\"\",HLOOKUP(D$6,CPPE!$A$1:$DB$177,$A89,FALSE)))","v":""},{"$f":"IF(E$6=\"\",\"\",IF($B89=\"\",\"\",HLOOKUP(E$6,CPPE!$A$1:$DB$177,$A89,FALSE)))","v":""},{"$f":"IF(F$6=\"\",\"\",IF($B89=\"\",\"\",HLOOKUP(F$6,CPPE!$A$1:$DB$177,$A89,FALSE)))","v":""},{"$f":"IF(G$6=\"\",\"\",IF($B89=\"\",\"\",HLOOKUP(G$6,CPPE!$A$1:$DB$177,$A89,FALSE)))","v":""},{"$f":"IF(H$6=\"\",\"\",IF($B89=\"\",\"\",HLOOKUP(H$6,CPPE!$A$1:$DB$177,$A89,FALSE)))","v":""},{"$f":"IF(I$6=\"\",\"\",IF($B89=\"\",\"\",HLOOKUP(I$6,CPPE!$A$1:$DB$177,$A89,FALSE)))","v":""},{"$f":"IF(J$6=\"\",\"\",IF($B89=\"\",\"\",HLOOKUP(J$6,CPPE!$A$1:$DB$177,$A89,FALSE)))","v":""},{"$f":"IF(K$6=\"\",\"\",IF($B89=\"\",\"\",HLOOKUP(K$6,CPPE!$A$1:$DB$177,$A89,FALSE)))","v":""},{"$f":"IF(L$6=\"\",\"\",IF($B89=\"\",\"\",HLOOKUP(L$6,CPPE!$A$1:$DB$177,$A89,FALSE)))","v":""}]
[{"$f":"VLOOKUP(B90,'Select Practices'!$W$10:$X$197,2,FALSE)","v":169},null,{"$f":"IF(C$6=\"\",\"\",IF($B90=\"\",\"\",HLOOKUP(C$6,CPPE!$A$1:$DB$177,$A90,FALSE)))","v":""},{"$f":"IF(D$6=\"\",\"\",IF($B90=\"\",\"\",HLOOKUP(D$6,CPPE!$A$1:$DB$177,$A90,FALSE)))","v":""},{"$f":"IF(E$6=\"\",\"\",IF($B90=\"\",\"\",HLOOKUP(E$6,CPPE!$A$1:$DB$177,$A90,FALSE)))","v":""},{"$f":"IF(F$6=\"\",\"\",IF($B90=\"\",\"\",HLOOKUP(F$6,CPPE!$A$1:$DB$177,$A90,FALSE)))","v":""},{"$f":"IF(G$6=\"\",\"\",IF($B90=\"\",\"\",HLOOKUP(G$6,CPPE!$A$1:$DB$177,$A90,FALSE)))","v":""},{"$f":"IF(H$6=\"\",\"\",IF($B90=\"\",\"\",HLOOKUP(H$6,CPPE!$A$1:$DB$177,$A90,FALSE)))","v":""},{"$f":"IF(I$6=\"\",\"\",IF($B90=\"\",\"\",HLOOKUP(I$6,CPPE!$A$1:$DB$177,$A90,FALSE)))","v":""},{"$f":"IF(J$6=\"\",\"\",IF($B90=\"\",\"\",HLOOKUP(J$6,CPPE!$A$1:$DB$177,$A90,FALSE)))","v":""},{"$f":"IF(K$6=\"\",\"\",IF($B90=\"\",\"\",HLOOKUP(K$6,CPPE!$A$1:$DB$177,$A90,FALSE)))","v":""},{"$f":"IF(L$6=\"\",\"\",IF($B90=\"\",\"\",HLOOKUP(L$6,CPPE!$A$1:$DB$177,$A90,FALSE)))","v":""}]
[{"$f":"VLOOKUP(B91,'Select Practices'!$W$10:$X$197,2,FALSE)","v":169},null,{"$f":"IF(C$6=\"\",\"\",IF($B91=\"\",\"\",HLOOKUP(C$6,CPPE!$A$1:$DB$177,$A91,FALSE)))","v":""},{"$f":"IF(D$6=\"\",\"\",IF($B91=\"\",\"\",HLOOKUP(D$6,CPPE!$A$1:$DB$177,$A91,FALSE)))","v":""},{"$f":"IF(E$6=\"\",\"\",IF($B91=\"\",\"\",HLOOKUP(E$6,CPPE!$A$1:$DB$177,$A91,FALSE)))","v":""},{"$f":"IF(F$6=\"\",\"\",IF($B91=\"\",\"\",HLOOKUP(F$6,CPPE!$A$1:$DB$177,$A91,FALSE)))","v":""},{"$f":"IF(G$6=\"\",\"\",IF($B91=\"\",\"\",HLOOKUP(G$6,CPPE!$A$1:$DB$177,$A91,FALSE)))","v":""},{"$f":"IF(H$6=\"\",\"\",IF($B91=\"\",\"\",HLOOKUP(H$6,CPPE!$A$1:$DB$177,$A91,FALSE)))","v":""},{"$f":"IF(I$6=\"\",\"\",IF($B91=\"\",\"\",HLOOKUP(I$6,CPPE!$A$1:$DB$177,$A91,FALSE)))","v":""},{"$f":"IF(J$6=\"\",\"\",IF($B91=\"\",\"\",HLOOKUP(J$6,CPPE!$A$1:$DB$177,$A91,FALSE)))","v":""},{"$f":"IF(K$6=\"\",\"\",IF($B91=\"\",\"\",HLOOKUP(K$6,CPPE!$A$1:$DB$177,$A91,FALSE)))","v":""},{"$f":"IF(L$6=\"\",\"\",IF($B91=\"\",\"\",HLOOKUP(L$6,CPPE!$A$1:$DB$177,$A91,FALSE)))","v":""}]
[{"$f":"VLOOKUP(B92,'Select Practices'!$W$10:$X$197,2,FALSE)","v":169},null,{"$f":"IF(C$6=\"\",\"\",IF($B92=\"\",\"\",HLOOKUP(C$6,CPPE!$A$1:$DB$177,$A92,FALSE)))","v":""},{"$f":"IF(D$6=\"\",\"\",IF($B92=\"\",\"\",HLOOKUP(D$6,CPPE!$A$1:$DB$177,$A92,FALSE)))","v":""},{"$f":"IF(E$6=\"\",\"\",IF($B92=\"\",\"\",HLOOKUP(E$6,CPPE!$A$1:$DB$177,$A92,FALSE)))","v":""},{"$f":"IF(F$6=\"\",\"\",IF($B92=\"\",\"\",HLOOKUP(F$6,CPPE!$A$1:$DB$177,$A92,FALSE)))","v":""},{"$f":"IF(G$6=\"\",\"\",IF($B92=\"\",\"\",HLOOKUP(G$6,CPPE!$A$1:$DB$177,$A92,FALSE)))","v":""},{"$f":"IF(H$6=\"\",\"\",IF($B92=\"\",\"\",HLOOKUP(H$6,CPPE!$A$1:$DB$177,$A92,FALSE)))","v":""},{"$f":"IF(I$6=\"\",\"\",IF($B92=\"\",\"\",HLOOKUP(I$6,CPPE!$A$1:$DB$177,$A92,FALSE)))","v":""},{"$f":"IF(J$6=\"\",\"\",IF($B92=\"\",\"\",HLOOKUP(J$6,CPPE!$A$1:$DB$177,$A92,FALSE)))","v":""},{"$f":"IF(K$6=\"\",\"\",IF($B92=\"\",\"\",HLOOKUP(K$6,CPPE!$A$1:$DB$177,$A92,FALSE)))","v":""},{"$f":"IF(L$6=\"\",\"\",IF($B92=\"\",\"\",HLOOKUP(L$6,CPPE!$A$1:$DB$177,$A92,FALSE)))","v":""}]
[{"$f":"VLOOKUP(B93,'Select Practices'!$W$10:$X$197,2,FALSE)","v":169},null,{"$f":"IF(C$6=\"\",\"\",IF($B93=\"\",\"\",HLOOKUP(C$6,CPPE!$A$1:$DB$177,$A93,FALSE)))","v":""},{"$f":"IF(D$6=\"\",\"\",IF($B93=\"\",\"\",HLOOKUP(D$6,CPPE!$A$1:$DB$177,$A93,FALSE)))","v":""},{"$f":"IF(E$6=\"\",\"\",IF($B93=\"\",\"\",HLOOKUP(E$6,CPPE!$A$1:$DB$177,$A93,FALSE)))","v":""},{"$f":"IF(F$6=\"\",\"\",IF($B93=\"\",\"\",HLOOKUP(F$6,CPPE!$A$1:$DB$177,$A93,FALSE)))","v":""},{"$f":"IF(G$6=\"\",\"\",IF($B93=\"\",\"\",HLOOKUP(G$6,CPPE!$A$1:$DB$177,$A93,FALSE)))","v":""},{"$f":"IF(H$6=\"\",\"\",IF($B93=\"\",\"\",HLOOKUP(H$6,CPPE!$A$1:$DB$177,$A93,FALSE)))","v":""},{"$f":"IF(I$6=\"\",\"\",IF($B93=\"\",\"\",HLOOKUP(I$6,CPPE!$A$1:$DB$177,$A93,FALSE)))","v":""},{"$f":"IF(J$6=\"\",\"\",IF($B93=\"\",\"\",HLOOKUP(J$6,CPPE!$A$1:$DB$177,$A93,FALSE)))","v":""},{"$f":"IF(K$6=\"\",\"\",IF($B93=\"\",\"\",HLOOKUP(K$6,CPPE!$A$1:$DB$177,$A93,FALSE)))","v":""},{"$f":"IF(L$6=\"\",\"\",IF($B93=\"\",\"\",HLOOKUP(L$6,CPPE!$A$1:$DB$177,$A93,FALSE)))","v":""}]
[{"$f":"VLOOKUP(B94,'Select Practices'!$W$10:$X$197,2,FALSE)","v":169},null,{"$f":"IF(C$6=\"\",\"\",IF($B94=\"\",\"\",HLOOKUP(C$6,CPPE!$A$1:$DB$177,$A94,FALSE)))","v":""},{"$f":"IF(D$6=\"\",\"\",IF($B94=\"\",\"\",HLOOKUP(D$6,CPPE!$A$1:$DB$177,$A94,FALSE)))","v":""},{"$f":"IF(E$6=\"\",\"\",IF($B94=\"\",\"\",HLOOKUP(E$6,CPPE!$A$1:$DB$177,$A94,FALSE)))","v":""},{"$f":"IF(F$6=\"\",\"\",IF($B94=\"\",\"\",HLOOKUP(F$6,CPPE!$A$1:$DB$177,$A94,FALSE)))","v":""},{"$f":"IF(G$6=\"\",\"\",IF($B94=\"\",\"\",HLOOKUP(G$6,CPPE!$A$1:$DB$177,$A94,FALSE)))","v":""},{"$f":"IF(H$6=\"\",\"\",IF($B94=\"\",\"\",HLOOKUP(H$6,CPPE!$A$1:$DB$177,$A94,FALSE)))","v":""},{"$f":"IF(I$6=\"\",\"\",IF($B94=\"\",\"\",HLOOKUP(I$6,CPPE!$A$1:$DB$177,$A94,FALSE)))","v":""},{"$f":"IF(J$6=\"\",\"\",IF($B94=\"\",\"\",HLOOKUP(J$6,CPPE!$A$1:$DB$177,$A94,FALSE)))","v":""},{"$f":"IF(K$6=\"\",\"\",IF($B94=\"\",\"\",HLOOKUP(K$6,CPPE!$A$1:$DB$177,$A94,FALSE)))","v":""},{"$f":"IF(L$6=\"\",\"\",IF($B94=\"\",\"\",HLOOKUP(L$6,CPPE!$A$1:$DB$177,$A94,FALSE)))","v":""}]
[{"$f":"VLOOKUP(B95,'Select Practices'!$W$10:$X$197,2,FALSE)","v":169},null,{"$f":"IF(C$6=\"\",\"\",IF($B95=\"\",\"\",HLOOKUP(C$6,CPPE!$A$1:$DB$177,$A95,FALSE)))","v":""},{"$f":"IF(D$6=\"\",\"\",IF($B95=\"\",\"\",HLOOKUP(D$6,CPPE!$A$1:$DB$177,$A95,FALSE)))","v":""},{"$f":"IF(E$6=\"\",\"\",IF($B95=\"\",\"\",HLOOKUP(E$6,CPPE!$A$1:$DB$177,$A95,FALSE)))","v":""},{"$f":"IF(F$6=\"\",\"\",IF($B95=\"\",\"\",HLOOKUP(F$6,CPPE!$A$1:$DB$177,$A95,FALSE)))","v":""},{"$f":"IF(G$6=\"\",\"\",IF($B95=\"\",\"\",HLOOKUP(G$6,CPPE!$A$1:$DB$177,$A95,FALSE)))","v":""},{"$f":"IF(H$6=\"\",\"\",IF($B95=\"\",\"\",HLOOKUP(H$6,CPPE!$A$1:$DB$177,$A95,FALSE)))","v":""},{"$f":"IF(I$6=\"\",\"\",IF($B95=\"\",\"\",HLOOKUP(I$6,CPPE!$A$1:$DB$177,$A95,FALSE)))","v":""},{"$f":"IF(J$6=\"\",\"\",IF($B95=\"\",\"\",HLOOKUP(J$6,CPPE!$A$1:$DB$177,$A95,FALSE)))","v":""},{"$f":"IF(K$6=\"\",\"\",IF($B95=\"\",\"\",HLOOKUP(K$6,CPPE!$A$1:$DB$177,$A95,FALSE)))","v":""},{"$f":"IF(L$6=\"\",\"\",IF($B95=\"\",\"\",HLOOKUP(L$6,CPPE!$A$1:$DB$177,$A95,FALSE)))","v":""}]
[{"$f":"VLOOKUP(B96,'Select Practices'!$W$10:$X$197,2,FALSE)","v":169},null,{"$f":"IF(C$6=\"\",\"\",IF($B96=\"\",\"\",HLOOKUP(C$6,CPPE!$A$1:$DB$177,$A96,FALSE)))","v":""},{"$f":"IF(D$6=\"\",\"\",IF($B96=\"\",\"\",HLOOKUP(D$6,CPPE!$A$1:$DB$177,$A96,FALSE)))","v":""},{"$f":"IF(E$6=\"\",\"\",IF($B96=\"\",\"\",HLOOKUP(E$6,CPPE!$A$1:$DB$177,$A96,FALSE)))","v":""},{"$f":"IF(F$6=\"\",\"\",IF($B96=\"\",\"\",HLOOKUP(F$6,CPPE!$A$1:$DB$177,$A96,FALSE)))","v":""},{"$f":"IF(G$6=\"\",\"\",IF($B96=\"\",\"\",HLOOKUP(G$6,CPPE!$A$1:$DB$177,$A96,FALSE)))","v":""},{"$f":"IF(H$6=\"\",\"\",IF($B96=\"\",\"\",HLOOKUP(H$6,CPPE!$A$1:$DB$177,$A96,FALSE)))","v":""},{"$f":"IF(I$6=\"\",\"\",IF($B96=\"\",\"\",HLOOKUP(I$6,CPPE!$A$1:$DB$177,$A96,FALSE)))","v":""},{"$f":"IF(J$6=\"\",\"\",IF($B96=\"\",\"\",HLOOKUP(J$6,CPPE!$A$1:$DB$177,$A96,FALSE)))","v":""},{"$f":"IF(K$6=\"\",\"\",IF($B96=\"\",\"\",HLOOKUP(K$6,CPPE!$A$1:$DB$177,$A96,FALSE)))","v":""},{"$f":"IF(L$6=\"\",\"\",IF($B96=\"\",\"\",HLOOKUP(L$6,CPPE!$A$1:$DB$177,$A96,FALSE)))","v":""}]
[{"$f":"VLOOKUP(B97,'Select Practices'!$W$10:$X$197,2,FALSE)","v":169},null,{"$f":"IF(C$6=\"\",\"\",IF($B97=\"\",\"\",HLOOKUP(C$6,CPPE!$A$1:$DB$177,$A97,FALSE)))","v":""},{"$f":"IF(D$6=\"\",\"\",IF($B97=\"\",\"\",HLOOKUP(D$6,CPPE!$A$1:$DB$177,$A97,FALSE)))","v":""},{"$f":"IF(E$6=\"\",\"\",IF($B97=\"\",\"\",HLOOKUP(E$6,CPPE!$A$1:$DB$177,$A97,FALSE)))","v":""},{"$f":"IF(F$6=\"\",\"\",IF($B97=\"\",\"\",HLOOKUP(F$6,CPPE!$A$1:$DB$177,$A97,FALSE)))","v":""},{"$f":"IF(G$6=\"\",\"\",IF($B97=\"\",\"\",HLOOKUP(G$6,CPPE!$A$1:$DB$177,$A97,FALSE)))","v":""},{"$f":"IF(H$6=\"\",\"\",IF($B97=\"\",\"\",HLOOKUP(H$6,CPPE!$A$1:$DB$177,$A97,FALSE)))","v":""},{"$f":"IF(I$6=\"\",\"\",IF($B97=\"\",\"\",HLOOKUP(I$6,CPPE!$A$1:$DB$177,$A97,FALSE)))","v":""},{"$f":"IF(J$6=\"\",\"\",IF($B97=\"\",\"\",HLOOKUP(J$6,CPPE!$A$1:$DB$177,$A97,FALSE)))","v":""},{"$f":"IF(K$6=\"\",\"\",IF($B97=\"\",\"\",HLOOKUP(K$6,CPPE!$A$1:$DB$177,$A97,FALSE)))","v":""},{"$f":"IF(L$6=\"\",\"\",IF($B97=\"\",\"\",HLOOKUP(L$6,CPPE!$A$1:$DB$177,$A97,FALSE)))","v":""}]
[{"$f":"VLOOKUP(B98,'Select Practices'!$W$10:$X$197,2,FALSE)","v":169},null,{"$f":"IF(C$6=\"\",\"\",IF($B98=\"\",\"\",HLOOKUP(C$6,CPPE!$A$1:$DB$177,$A98,FALSE)))","v":""},{"$f":"IF(D$6=\"\",\"\",IF($B98=\"\",\"\",HLOOKUP(D$6,CPPE!$A$1:$DB$177,$A98,FALSE)))","v":""},{"$f":"IF(E$6=\"\",\"\",IF($B98=\"\",\"\",HLOOKUP(E$6,CPPE!$A$1:$DB$177,$A98,FALSE)))","v":""},{"$f":"IF(F$6=\"\",\"\",IF($B98=\"\",\"\",HLOOKUP(F$6,CPPE!$A$1:$DB$177,$A98,FALSE)))","v":""},{"$f":"IF(G$6=\"\",\"\",IF($B98=\"\",\"\",HLOOKUP(G$6,CPPE!$A$1:$DB$177,$A98,FALSE)))","v":""},{"$f":"IF(H$6=\"\",\"\",IF($B98=\"\",\"\",HLOOKUP(H$6,CPPE!$A$1:$DB$177,$A98,FALSE)))","v":""},{"$f":"IF(I$6=\"\",\"\",IF($B98=\"\",\"\",HLOOKUP(I$6,CPPE!$A$1:$DB$177,$A98,FALSE)))","v":""},{"$f":"IF(J$6=\"\",\"\",IF($B98=\"\",\"\",HLOOKUP(J$6,CPPE!$A$1:$DB$177,$A98,FALSE)))","v":""},{"$f":"IF(K$6=\"\",\"\",IF($B98=\"\",\"\",HLOOKUP(K$6,CPPE!$A$1:$DB$177,$A98,FALSE)))","v":""},{"$f":"IF(L$6=\"\",\"\",IF($B98=\"\",\"\",HLOOKUP(L$6,CPPE!$A$1:$DB$177,$A98,FALSE)))","v":""}]
[{"$f":"VLOOKUP(B99,'Select Practices'!$W$10:$X$197,2,FALSE)","v":169},null,{"$f":"IF(C$6=\"\",\"\",IF($B99=\"\",\"\",HLOOKUP(C$6,CPPE!$A$1:$DB$177,$A99,FALSE)))","v":""},{"$f":"IF(D$6=\"\",\"\",IF($B99=\"\",\"\",HLOOKUP(D$6,CPPE!$A$1:$DB$177,$A99,FALSE)))","v":""},{"$f":"IF(E$6=\"\",\"\",IF($B99=\"\",\"\",HLOOKUP(E$6,CPPE!$A$1:$DB$177,$A99,FALSE)))","v":""},{"$f":"IF(F$6=\"\",\"\",IF($B99=\"\",\"\",HLOOKUP(F$6,CPPE!$A$1:$DB$177,$A99,FALSE)))","v":""},{"$f":"IF(G$6=\"\",\"\",IF($B99=\"\",\"\",HLOOKUP(G$6,CPPE!$A$1:$DB$177,$A99,FALSE)))","v":""},{"$f":"IF(H$6=\"\",\"\",IF($B99=\"\",\"\",HLOOKUP(H$6,CPPE!$A$1:$DB$177,$A99,FALSE)))","v":""},{"$f":"IF(I$6=\"\",\"\",IF($B99=\"\",\"\",HLOOKUP(I$6,CPPE!$A$1:$DB$177,$A99,FALSE)))","v":""},{"$f":"IF(J$6=\"\",\"\",IF($B99=\"\",\"\",HLOOKUP(J$6,CPPE!$A$1:$DB$177,$A99,FALSE)))","v":""},{"$f":"IF(K$6=\"\",\"\",IF($B99=\"\",\"\",HLOOKUP(K$6,CPPE!$A$1:$DB$177,$A99,FALSE)))","v":""},{"$f":"IF(L$6=\"\",\"\",IF($B99=\"\",\"\",HLOOKUP(L$6,CPPE!$A$1:$DB$177,$A99,FALSE)))","v":""}]
[{"$f":"VLOOKUP(B100,'Select Practices'!$W$10:$X$197,2,FALSE)","v":169},null,{"$f":"IF(C$6=\"\",\"\",IF($B100=\"\",\"\",HLOOKUP(C$6,CPPE!$A$1:$DB$177,$A100,FALSE)))","v":""},{"$f":"IF(D$6=\"\",\"\",IF($B100=\"\",\"\",HLOOKUP(D$6,CPPE!$A$1:$DB$177,$A100,FALSE)))","v":""},{"$f":"IF(E$6=\"\",\"\",IF($B100=\"\",\"\",HLOOKUP(E$6,CPPE!$A$1:$DB$177,$A100,FALSE)))","v":""},{"$f":"IF(F$6=\"\",\"\",IF($B100=\"\",\"\",HLOOKUP(F$6,CPPE!$A$1:$DB$177,$A100,FALSE)))","v":""},{"$f":"IF(G$6=\"\",\"\",IF($B100=\"\",\"\",HLOOKUP(G$6,CPPE!$A$1:$DB$177,$A100,FALSE)))","v":""},{"$f":"IF(H$6=\"\",\"\",IF($B100=\"\",\"\",HLOOKUP(H$6,CPPE!$A$1:$DB$177,$A100,FALSE)))","v":""},{"$f":"IF(I$6=\"\",\"\",IF($B100=\"\",\"\",HLOOKUP(I$6,CPPE!$A$1:$DB$177,$A100,FALSE)))","v":""},{"$f":"IF(J$6=\"\",\"\",IF($B100=\"\",\"\",HLOOKUP(J$6,CPPE!$A$1:$DB$177,$A100,FALSE)))","v":""},{"$f":"IF(K$6=\"\",\"\",IF($B100=\"\",\"\",HLOOKUP(K$6,CPPE!$A$1:$DB$177,$A100,FALSE)))","v":""},{"$f":"IF(L$6=\"\",\"\",IF($B100=\"\",\"\",HLOOKUP(L$6,CPPE!$A$1:$DB$177,$A100,FALSE)))","v":""}]
[{"$f":"VLOOKUP(B101,'Select Practices'!$W$10:$X$197,2,FALSE)","v":169},null,{"$f":"IF(C$6=\"\",\"\",IF($B101=\"\",\"\",HLOOKUP(C$6,CPPE!$A$1:$DB$177,$A101,FALSE)))","v":""},{"$f":"IF(D$6=\"\",\"\",IF($B101=\"\",\"\",HLOOKUP(D$6,CPPE!$A$1:$DB$177,$A101,FALSE)))","v":""},{"$f":"IF(E$6=\"\",\"\",IF($B101=\"\",\"\",HLOOKUP(E$6,CPPE!$A$1:$DB$177,$A101,FALSE)))","v":""},{"$f":"IF(F$6=\"\",\"\",IF($B101=\"\",\"\",HLOOKUP(F$6,CPPE!$A$1:$DB$177,$A101,FALSE)))","v":""},{"$f":"IF(G$6=\"\",\"\",IF($B101=\"\",\"\",HLOOKUP(G$6,CPPE!$A$1:$DB$177,$A101,FALSE)))","v":""},{"$f":"IF(H$6=\"\",\"\",IF($B101=\"\",\"\",HLOOKUP(H$6,CPPE!$A$1:$DB$177,$A101,FALSE)))","v":""},{"$f":"IF(I$6=\"\",\"\",IF($B101=\"\",\"\",HLOOKUP(I$6,CPPE!$A$1:$DB$177,$A101,FALSE)))","v":""},{"$f":"IF(J$6=\"\",\"\",IF($B101=\"\",\"\",HLOOKUP(J$6,CPPE!$A$1:$DB$177,$A101,FALSE)))","v":""},{"$f":"IF(K$6=\"\",\"\",IF($B101=\"\",\"\",HLOOKUP(K$6,CPPE!$A$1:$DB$177,$A101,FALSE)))","v":""},{"$f":"IF(L$6=\"\",\"\",IF($B101=\"\",\"\",HLOOKUP(L$6,CPPE!$A$1:$DB$177,$A101,FALSE)))","v":""}]
[{"$f":"VLOOKUP(B102,'Select Practices'!$W$10:$X$197,2,FALSE)","v":169},null,{"$f":"IF(C$6=\"\",\"\",IF($B102=\"\",\"\",HLOOKUP(C$6,CPPE!$A$1:$DB$177,$A102,FALSE)))","v":""},{"$f":"IF(D$6=\"\",\"\",IF($B102=\"\",\"\",HLOOKUP(D$6,CPPE!$A$1:$DB$177,$A102,FALSE)))","v":""},{"$f":"IF(E$6=\"\",\"\",IF($B102=\"\",\"\",HLOOKUP(E$6,CPPE!$A$1:$DB$177,$A102,FALSE)))","v":""},{"$f":"IF(F$6=\"\",\"\",IF($B102=\"\",\"\",HLOOKUP(F$6,CPPE!$A$1:$DB$177,$A102,FALSE)))","v":""},{"$f":"IF(G$6=\"\",\"\",IF($B102=\"\",\"\",HLOOKUP(G$6,CPPE!$A$1:$DB$177,$A102,FALSE)))","v":""},{"$f":"IF(H$6=\"\",\"\",IF($B102=\"\",\"\",HLOOKUP(H$6,CPPE!$A$1:$DB$177,$A102,FALSE)))","v":""},{"$f":"IF(I$6=\"\",\"\",IF($B102=\"\",\"\",HLOOKUP(I$6,CPPE!$A$1:$DB$177,$A102,FALSE)))","v":""},{"$f":"IF(J$6=\"\",\"\",IF($B102=\"\",\"\",HLOOKUP(J$6,CPPE!$A$1:$DB$177,$A102,FALSE)))","v":""},{"$f":"IF(K$6=\"\",\"\",IF($B102=\"\",\"\",HLOOKUP(K$6,CPPE!$A$1:$DB$177,$A102,FALSE)))","v":""},{"$f":"IF(L$6=\"\",\"\",IF($B102=\"\",\"\",HLOOKUP(L$6,CPPE!$A$1:$DB$177,$A102,FALSE)))","v":""}]
[{"$f":"VLOOKUP(B103,'Select Practices'!$W$10:$X$197,2,FALSE)","v":169},null,{"$f":"IF(C$6=\"\",\"\",IF($B103=\"\",\"\",HLOOKUP(C$6,CPPE!$A$1:$DB$177,$A103,FALSE)))","v":""},{"$f":"IF(D$6=\"\",\"\",IF($B103=\"\",\"\",HLOOKUP(D$6,CPPE!$A$1:$DB$177,$A103,FALSE)))","v":""},{"$f":"IF(E$6=\"\",\"\",IF($B103=\"\",\"\",HLOOKUP(E$6,CPPE!$A$1:$DB$177,$A103,FALSE)))","v":""},{"$f":"IF(F$6=\"\",\"\",IF($B103=\"\",\"\",HLOOKUP(F$6,CPPE!$A$1:$DB$177,$A103,FALSE)))","v":""},{"$f":"IF(G$6=\"\",\"\",IF($B103=\"\",\"\",HLOOKUP(G$6,CPPE!$A$1:$DB$177,$A103,FALSE)))","v":""},{"$f":"IF(H$6=\"\",\"\",IF($B103=\"\",\"\",HLOOKUP(H$6,CPPE!$A$1:$DB$177,$A103,FALSE)))","v":""},{"$f":"IF(I$6=\"\",\"\",IF($B103=\"\",\"\",HLOOKUP(I$6,CPPE!$A$1:$DB$177,$A103,FALSE)))","v":""},{"$f":"IF(J$6=\"\",\"\",IF($B103=\"\",\"\",HLOOKUP(J$6,CPPE!$A$1:$DB$177,$A103,FALSE)))","v":""},{"$f":"IF(K$6=\"\",\"\",IF($B103=\"\",\"\",HLOOKUP(K$6,CPPE!$A$1:$DB$177,$A103,FALSE)))","v":""},{"$f":"IF(L$6=\"\",\"\",IF($B103=\"\",\"\",HLOOKUP(L$6,CPPE!$A$1:$DB$177,$A103,FALSE)))","v":""}]
[{"$f":"VLOOKUP(B104,'Select Practices'!$W$10:$X$197,2,FALSE)","v":169},null,{"$f":"IF(C$6=\"\",\"\",IF($B104=\"\",\"\",HLOOKUP(C$6,CPPE!$A$1:$DB$177,$A104,FALSE)))","v":""},{"$f":"IF(D$6=\"\",\"\",IF($B104=\"\",\"\",HLOOKUP(D$6,CPPE!$A$1:$DB$177,$A104,FALSE)))","v":""},{"$f":"IF(E$6=\"\",\"\",IF($B104=\"\",\"\",HLOOKUP(E$6,CPPE!$A$1:$DB$177,$A104,FALSE)))","v":""},{"$f":"IF(F$6=\"\",\"\",IF($B104=\"\",\"\",HLOOKUP(F$6,CPPE!$A$1:$DB$177,$A104,FALSE)))","v":""},{"$f":"IF(G$6=\"\",\"\",IF($B104=\"\",\"\",HLOOKUP(G$6,CPPE!$A$1:$DB$177,$A104,FALSE)))","v":""},{"$f":"IF(H$6=\"\",\"\",IF($B104=\"\",\"\",HLOOKUP(H$6,CPPE!$A$1:$DB$177,$A104,FALSE)))","v":""},{"$f":"IF(I$6=\"\",\"\",IF($B104=\"\",\"\",HLOOKUP(I$6,CPPE!$A$1:$DB$177,$A104,FALSE)))","v":""},{"$f":"IF(J$6=\"\",\"\",IF($B104=\"\",\"\",HLOOKUP(J$6,CPPE!$A$1:$DB$177,$A104,FALSE)))","v":""},{"$f":"IF(K$6=\"\",\"\",IF($B104=\"\",\"\",HLOOKUP(K$6,CPPE!$A$1:$DB$177,$A104,FALSE)))","v":""},{"$f":"IF(L$6=\"\",\"\",IF($B104=\"\",\"\",HLOOKUP(L$6,CPPE!$A$1:$DB$177,$A104,FALSE)))","v":""}]
[{"$f":"VLOOKUP(B105,'Select Practices'!$W$10:$X$197,2,FALSE)","v":169},null,{"$f":"IF(C$6=\"\",\"\",IF($B105=\"\",\"\",HLOOKUP(C$6,CPPE!$A$1:$DB$177,$A105,FALSE)))","v":""},{"$f":"IF(D$6=\"\",\"\",IF($B105=\"\",\"\",HLOOKUP(D$6,CPPE!$A$1:$DB$177,$A105,FALSE)))","v":""},{"$f":"IF(E$6=\"\",\"\",IF($B105=\"\",\"\",HLOOKUP(E$6,CPPE!$A$1:$DB$177,$A105,FALSE)))","v":""},{"$f":"IF(F$6=\"\",\"\",IF($B105=\"\",\"\",HLOOKUP(F$6,CPPE!$A$1:$DB$177,$A105,FALSE)))","v":""},{"$f":"IF(G$6=\"\",\"\",IF($B105=\"\",\"\",HLOOKUP(G$6,CPPE!$A$1:$DB$177,$A105,FALSE)))","v":""},{"$f":"IF(H$6=\"\",\"\",IF($B105=\"\",\"\",HLOOKUP(H$6,CPPE!$A$1:$DB$177,$A105,FALSE)))","v":""},{"$f":"IF(I$6=\"\",\"\",IF($B105=\"\",\"\",HLOOKUP(I$6,CPPE!$A$1:$DB$177,$A105,FALSE)))","v":""},{"$f":"IF(J$6=\"\",\"\",IF($B105=\"\",\"\",HLOOKUP(J$6,CPPE!$A$1:$DB$177,$A105,FALSE)))","v":""},{"$f":"IF(K$6=\"\",\"\",IF($B105=\"\",\"\",HLOOKUP(K$6,CPPE!$A$1:$DB$177,$A105,FALSE)))","v":""},{"$f":"IF(L$6=\"\",\"\",IF($B105=\"\",\"\",HLOOKUP(L$6,CPPE!$A$1:$DB$177,$A105,FALSE)))","v":""}]
[{"$f":"VLOOKUP(B106,'Select Practices'!$W$10:$X$197,2,FALSE)","v":169},null,{"$f":"IF(C$6=\"\",\"\",IF($B106=\"\",\"\",HLOOKUP(C$6,CPPE!$A$1:$DB$177,$A106,FALSE)))","v":""},{"$f":"IF(D$6=\"\",\"\",IF($B106=\"\",\"\",HLOOKUP(D$6,CPPE!$A$1:$DB$177,$A106,FALSE)))","v":""},{"$f":"IF(E$6=\"\",\"\",IF($B106=\"\",\"\",HLOOKUP(E$6,CPPE!$A$1:$DB$177,$A106,FALSE)))","v":""},{"$f":"IF(F$6=\"\",\"\",IF($B106=\"\",\"\",HLOOKUP(F$6,CPPE!$A$1:$DB$177,$A106,FALSE)))","v":""},{"$f":"IF(G$6=\"\",\"\",IF($B106=\"\",\"\",HLOOKUP(G$6,CPPE!$A$1:$DB$177,$A106,FALSE)))","v":""},{"$f":"IF(H$6=\"\",\"\",IF($B106=\"\",\"\",HLOOKUP(H$6,CPPE!$A$1:$DB$177,$A106,FALSE)))","v":""},{"$f":"IF(I$6=\"\",\"\",IF($B106=\"\",\"\",HLOOKUP(I$6,CPPE!$A$1:$DB$177,$A106,FALSE)))","v":""},{"$f":"IF(J$6=\"\",\"\",IF($B106=\"\",\"\",HLOOKUP(J$6,CPPE!$A$1:$DB$177,$A106,FALSE)))","v":""},{"$f":"IF(K$6=\"\",\"\",IF($B106=\"\",\"\",HLOOKUP(K$6,CPPE!$A$1:$DB$177,$A106,FALSE)))","v":""},{"$f":"IF(L$6=\"\",\"\",IF($B106=\"\",\"\",HLOOKUP(L$6,CPPE!$A$1:$DB$177,$A106,FALSE)))","v":""}]
[{"$f":"VLOOKUP(B107,'Select Practices'!$W$10:$X$197,2,FALSE)","v":169},null,{"$f":"IF(C$6=\"\",\"\",IF($B107=\"\",\"\",HLOOKUP(C$6,CPPE!$A$1:$DB$177,$A107,FALSE)))","v":""},{"$f":"IF(D$6=\"\",\"\",IF($B107=\"\",\"\",HLOOKUP(D$6,CPPE!$A$1:$DB$177,$A107,FALSE)))","v":""},{"$f":"IF(E$6=\"\",\"\",IF($B107=\"\",\"\",HLOOKUP(E$6,CPPE!$A$1:$DB$177,$A107,FALSE)))","v":""},{"$f":"IF(F$6=\"\",\"\",IF($B107=\"\",\"\",HLOOKUP(F$6,CPPE!$A$1:$DB$177,$A107,FALSE)))","v":""},{"$f":"IF(G$6=\"\",\"\",IF($B107=\"\",\"\",HLOOKUP(G$6,CPPE!$A$1:$DB$177,$A107,FALSE)))","v":""},{"$f":"IF(H$6=\"\",\"\",IF($B107=\"\",\"\",HLOOKUP(H$6,CPPE!$A$1:$DB$177,$A107,FALSE)))","v":""},{"$f":"IF(I$6=\"\",\"\",IF($B107=\"\",\"\",HLOOKUP(I$6,CPPE!$A$1:$DB$177,$A107,FALSE)))","v":""},{"$f":"IF(J$6=\"\",\"\",IF($B107=\"\",\"\",HLOOKUP(J$6,CPPE!$A$1:$DB$177,$A107,FALSE)))","v":""},{"$f":"IF(K$6=\"\",\"\",IF($B107=\"\",\"\",HLOOKUP(K$6,CPPE!$A$1:$DB$177,$A107,FALSE)))","v":""},{"$f":"IF(L$6=\"\",\"\",IF($B107=\"\",\"\",HLOOKUP(L$6,CPPE!$A$1:$DB$177,$A107,FALSE)))","v":""}]
[{"$f":"VLOOKUP(B108,'Select Practices'!$W$10:$X$197,2,FALSE)","v":169},null,{"$f":"IF(C$6=\"\",\"\",IF($B108=\"\",\"\",HLOOKUP(C$6,CPPE!$A$1:$DB$177,$A108,FALSE)))","v":""},{"$f":"IF(D$6=\"\",\"\",IF($B108=\"\",\"\",HLOOKUP(D$6,CPPE!$A$1:$DB$177,$A108,FALSE)))","v":""},{"$f":"IF(E$6=\"\",\"\",IF($B108=\"\",\"\",HLOOKUP(E$6,CPPE!$A$1:$DB$177,$A108,FALSE)))","v":""},{"$f":"IF(F$6=\"\",\"\",IF($B108=\"\",\"\",HLOOKUP(F$6,CPPE!$A$1:$DB$177,$A108,FALSE)))","v":""},{"$f":"IF(G$6=\"\",\"\",IF($B108=\"\",\"\",HLOOKUP(G$6,CPPE!$A$1:$DB$177,$A108,FALSE)))","v":""},{"$f":"IF(H$6=\"\",\"\",IF($B108=\"\",\"\",HLOOKUP(H$6,CPPE!$A$1:$DB$177,$A108,FALSE)))","v":""},{"$f":"IF(I$6=\"\",\"\",IF($B108=\"\",\"\",HLOOKUP(I$6,CPPE!$A$1:$DB$177,$A108,FALSE)))","v":""},{"$f":"IF(J$6=\"\",\"\",IF($B108=\"\",\"\",HLOOKUP(J$6,CPPE!$A$1:$DB$177,$A108,FALSE)))","v":""},{"$f":"IF(K$6=\"\",\"\",IF($B108=\"\",\"\",HLOOKUP(K$6,CPPE!$A$1:$DB$177,$A108,FALSE)))","v":""},{"$f":"IF(L$6=\"\",\"\",IF($B108=\"\",\"\",HLOOKUP(L$6,CPPE!$A$1:$DB$177,$A108,FALSE)))","v":""}]
[{"$f":"VLOOKUP(B109,'Select Practices'!$W$10:$X$197,2,FALSE)","v":169},null,{"$f":"IF(C$6=\"\",\"\",IF($B109=\"\",\"\",HLOOKUP(C$6,CPPE!$A$1:$DB$177,$A109,FALSE)))","v":""},{"$f":"IF(D$6=\"\",\"\",IF($B109=\"\",\"\",HLOOKUP(D$6,CPPE!$A$1:$DB$177,$A109,FALSE)))","v":""},{"$f":"IF(E$6=\"\",\"\",IF($B109=\"\",\"\",HLOOKUP(E$6,CPPE!$A$1:$DB$177,$A109,FALSE)))","v":""},{"$f":"IF(F$6=\"\",\"\",IF($B109=\"\",\"\",HLOOKUP(F$6,CPPE!$A$1:$DB$177,$A109,FALSE)))","v":""},{"$f":"IF(G$6=\"\",\"\",IF($B109=\"\",\"\",HLOOKUP(G$6,CPPE!$A$1:$DB$177,$A109,FALSE)))","v":""},{"$f":"IF(H$6=\"\",\"\",IF($B109=\"\",\"\",HLOOKUP(H$6,CPPE!$A$1:$DB$177,$A109,FALSE)))","v":""},{"$f":"IF(I$6=\"\",\"\",IF($B109=\"\",\"\",HLOOKUP(I$6,CPPE!$A$1:$DB$177,$A109,FALSE)))","v":""},{"$f":"IF(J$6=\"\",\"\",IF($B109=\"\",\"\",HLOOKUP(J$6,CPPE!$A$1:$DB$177,$A109,FALSE)))","v":""},{"$f":"IF(K$6=\"\",\"\",IF($B109=\"\",\"\",HLOOKUP(K$6,CPPE!$A$1:$DB$177,$A109,FALSE)))","v":""},{"$f":"IF(L$6=\"\",\"\",IF($B109=\"\",\"\",HLOOKUP(L$6,CPPE!$A$1:$DB$177,$A109,FALSE)))","v":""}]
[{"$f":"VLOOKUP(B110,'Select Practices'!$W$10:$X$197,2,FALSE)","v":169},null,{"$f":"IF(C$6=\"\",\"\",IF($B110=\"\",\"\",HLOOKUP(C$6,CPPE!$A$1:$DB$177,$A110,FALSE)))","v":""},{"$f":"IF(D$6=\"\",\"\",IF($B110=\"\",\"\",HLOOKUP(D$6,CPPE!$A$1:$DB$177,$A110,FALSE)))","v":""},{"$f":"IF(E$6=\"\",\"\",IF($B110=\"\",\"\",HLOOKUP(E$6,CPPE!$A$1:$DB$177,$A110,FALSE)))","v":""},{"$f":"IF(F$6=\"\",\"\",IF($B110=\"\",\"\",HLOOKUP(F$6,CPPE!$A$1:$DB$177,$A110,FALSE)))","v":""},{"$f":"IF(G$6=\"\",\"\",IF($B110=\"\",\"\",HLOOKUP(G$6,CPPE!$A$1:$DB$177,$A110,FALSE)))","v":""},{"$f":"IF(H$6=\"\",\"\",IF($B110=\"\",\"\",HLOOKUP(H$6,CPPE!$A$1:$DB$177,$A110,FALSE)))","v":""},{"$f":"IF(I$6=\"\",\"\",IF($B110=\"\",\"\",HLOOKUP(I$6,CPPE!$A$1:$DB$177,$A110,FALSE)))","v":""},{"$f":"IF(J$6=\"\",\"\",IF($B110=\"\",\"\",HLOOKUP(J$6,CPPE!$A$1:$DB$177,$A110,FALSE)))","v":""},{"$f":"IF(K$6=\"\",\"\",IF($B110=\"\",\"\",HLOOKUP(K$6,CPPE!$A$1:$DB$177,$A110,FALSE)))","v":""},{"$f":"IF(L$6=\"\",\"\",IF($B110=\"\",\"\",HLOOKUP(L$6,CPPE!$A$1:$DB$177,$A110,FALSE)))","v":""}]
[{"$f":"VLOOKUP(B111,'Select Practices'!$W$10:$X$197,2,FALSE)","v":169},null,{"$f":"IF(C$6=\"\",\"\",IF($B111=\"\",\"\",HLOOKUP(C$6,CPPE!$A$1:$DB$177,$A111,FALSE)))","v":""},{"$f":"IF(D$6=\"\",\"\",IF($B111=\"\",\"\",HLOOKUP(D$6,CPPE!$A$1:$DB$177,$A111,FALSE)))","v":""},{"$f":"IF(E$6=\"\",\"\",IF($B111=\"\",\"\",HLOOKUP(E$6,CPPE!$A$1:$DB$177,$A111,FALSE)))","v":""},{"$f":"IF(F$6=\"\",\"\",IF($B111=\"\",\"\",HLOOKUP(F$6,CPPE!$A$1:$DB$177,$A111,FALSE)))","v":""},{"$f":"IF(G$6=\"\",\"\",IF($B111=\"\",\"\",HLOOKUP(G$6,CPPE!$A$1:$DB$177,$A111,FALSE)))","v":""},{"$f":"IF(H$6=\"\",\"\",IF($B111=\"\",\"\",HLOOKUP(H$6,CPPE!$A$1:$DB$177,$A111,FALSE)))","v":""},{"$f":"IF(I$6=\"\",\"\",IF($B111=\"\",\"\",HLOOKUP(I$6,CPPE!$A$1:$DB$177,$A111,FALSE)))","v":""},{"$f":"IF(J$6=\"\",\"\",IF($B111=\"\",\"\",HLOOKUP(J$6,CPPE!$A$1:$DB$177,$A111,FALSE)))","v":""},{"$f":"IF(K$6=\"\",\"\",IF($B111=\"\",\"\",HLOOKUP(K$6,CPPE!$A$1:$DB$177,$A111,FALSE)))","v":""},{"$f":"IF(L$6=\"\",\"\",IF($B111=\"\",\"\",HLOOKUP(L$6,CPPE!$A$1:$DB$177,$A111,FALSE)))","v":""}]
[{"$f":"VLOOKUP(B112,'Select Practices'!$W$10:$X$197,2,FALSE)","v":169},null,{"$f":"IF(C$6=\"\",\"\",IF($B112=\"\",\"\",HLOOKUP(C$6,CPPE!$A$1:$DB$177,$A112,FALSE)))","v":""},{"$f":"IF(D$6=\"\",\"\",IF($B112=\"\",\"\",HLOOKUP(D$6,CPPE!$A$1:$DB$177,$A112,FALSE)))","v":""},{"$f":"IF(E$6=\"\",\"\",IF($B112=\"\",\"\",HLOOKUP(E$6,CPPE!$A$1:$DB$177,$A112,FALSE)))","v":""},{"$f":"IF(F$6=\"\",\"\",IF($B112=\"\",\"\",HLOOKUP(F$6,CPPE!$A$1:$DB$177,$A112,FALSE)))","v":""},{"$f":"IF(G$6=\"\",\"\",IF($B112=\"\",\"\",HLOOKUP(G$6,CPPE!$A$1:$DB$177,$A112,FALSE)))","v":""},{"$f":"IF(H$6=\"\",\"\",IF($B112=\"\",\"\",HLOOKUP(H$6,CPPE!$A$1:$DB$177,$A112,FALSE)))","v":""},{"$f":"IF(I$6=\"\",\"\",IF($B112=\"\",\"\",HLOOKUP(I$6,CPPE!$A$1:$DB$177,$A112,FALSE)))","v":""},{"$f":"IF(J$6=\"\",\"\",IF($B112=\"\",\"\",HLOOKUP(J$6,CPPE!$A$1:$DB$177,$A112,FALSE)))","v":""},{"$f":"IF(K$6=\"\",\"\",IF($B112=\"\",\"\",HLOOKUP(K$6,CPPE!$A$1:$DB$177,$A112,FALSE)))","v":""},{"$f":"IF(L$6=\"\",\"\",IF($B112=\"\",\"\",HLOOKUP(L$6,CPPE!$A$1:$DB$177,$A112,FALSE)))","v":""}]
[{"$f":"VLOOKUP(B113,'Select Practices'!$W$10:$X$197,2,FALSE)","v":169},null,{"$f":"IF(C$6=\"\",\"\",IF($B113=\"\",\"\",HLOOKUP(C$6,CPPE!$A$1:$DB$177,$A113,FALSE)))","v":""},{"$f":"IF(D$6=\"\",\"\",IF($B113=\"\",\"\",HLOOKUP(D$6,CPPE!$A$1:$DB$177,$A113,FALSE)))","v":""},{"$f":"IF(E$6=\"\",\"\",IF($B113=\"\",\"\",HLOOKUP(E$6,CPPE!$A$1:$DB$177,$A113,FALSE)))","v":""},{"$f":"IF(F$6=\"\",\"\",IF($B113=\"\",\"\",HLOOKUP(F$6,CPPE!$A$1:$DB$177,$A113,FALSE)))","v":""},{"$f":"IF(G$6=\"\",\"\",IF($B113=\"\",\"\",HLOOKUP(G$6,CPPE!$A$1:$DB$177,$A113,FALSE)))","v":""},{"$f":"IF(H$6=\"\",\"\",IF($B113=\"\",\"\",HLOOKUP(H$6,CPPE!$A$1:$DB$177,$A113,FALSE)))","v":""},{"$f":"IF(I$6=\"\",\"\",IF($B113=\"\",\"\",HLOOKUP(I$6,CPPE!$A$1:$DB$177,$A113,FALSE)))","v":""},{"$f":"IF(J$6=\"\",\"\",IF($B113=\"\",\"\",HLOOKUP(J$6,CPPE!$A$1:$DB$177,$A113,FALSE)))","v":""},{"$f":"IF(K$6=\"\",\"\",IF($B113=\"\",\"\",HLOOKUP(K$6,CPPE!$A$1:$DB$177,$A113,FALSE)))","v":""},{"$f":"IF(L$6=\"\",\"\",IF($B113=\"\",\"\",HLOOKUP(L$6,CPPE!$A$1:$DB$177,$A113,FALSE)))","v":""}]
[{"$f":"VLOOKUP(B114,'Select Practices'!$W$10:$X$197,2,FALSE)","v":169},null,{"$f":"IF(C$6=\"\",\"\",IF($B114=\"\",\"\",HLOOKUP(C$6,CPPE!$A$1:$DB$177,$A114,FALSE)))","v":""},{"$f":"IF(D$6=\"\",\"\",IF($B114=\"\",\"\",HLOOKUP(D$6,CPPE!$A$1:$DB$177,$A114,FALSE)))","v":""},{"$f":"IF(E$6=\"\",\"\",IF($B114=\"\",\"\",HLOOKUP(E$6,CPPE!$A$1:$DB$177,$A114,FALSE)))","v":""},{"$f":"IF(F$6=\"\",\"\",IF($B114=\"\",\"\",HLOOKUP(F$6,CPPE!$A$1:$DB$177,$A114,FALSE)))","v":""},{"$f":"IF(G$6=\"\",\"\",IF($B114=\"\",\"\",HLOOKUP(G$6,CPPE!$A$1:$DB$177,$A114,FALSE)))","v":""},{"$f":"IF(H$6=\"\",\"\",IF($B114=\"\",\"\",HLOOKUP(H$6,CPPE!$A$1:$DB$177,$A114,FALSE)))","v":""},{"$f":"IF(I$6=\"\",\"\",IF($B114=\"\",\"\",HLOOKUP(I$6,CPPE!$A$1:$DB$177,$A114,FALSE)))","v":""},{"$f":"IF(J$6=\"\",\"\",IF($B114=\"\",\"\",HLOOKUP(J$6,CPPE!$A$1:$DB$177,$A114,FALSE)))","v":""},{"$f":"IF(K$6=\"\",\"\",IF($B114=\"\",\"\",HLOOKUP(K$6,CPPE!$A$1:$DB$177,$A114,FALSE)))","v":""},{"$f":"IF(L$6=\"\",\"\",IF($B114=\"\",\"\",HLOOKUP(L$6,CPPE!$A$1:$DB$177,$A114,FALSE)))","v":""}]
[{"$f":"VLOOKUP(B115,'Select Practices'!$W$10:$X$197,2,FALSE)","v":169},null,{"$f":"IF(C$6=\"\",\"\",IF($B115=\"\",\"\",HLOOKUP(C$6,CPPE!$A$1:$DB$177,$A115,FALSE)))","v":""},{"$f":"IF(D$6=\"\",\"\",IF($B115=\"\",\"\",HLOOKUP(D$6,CPPE!$A$1:$DB$177,$A115,FALSE)))","v":""},{"$f":"IF(E$6=\"\",\"\",IF($B115=\"\",\"\",HLOOKUP(E$6,CPPE!$A$1:$DB$177,$A115,FALSE)))","v":""},{"$f":"IF(F$6=\"\",\"\",IF($B115=\"\",\"\",HLOOKUP(F$6,CPPE!$A$1:$DB$177,$A115,FALSE)))","v":""},{"$f":"IF(G$6=\"\",\"\",IF($B115=\"\",\"\",HLOOKUP(G$6,CPPE!$A$1:$DB$177,$A115,FALSE)))","v":""},{"$f":"IF(H$6=\"\",\"\",IF($B115=\"\",\"\",HLOOKUP(H$6,CPPE!$A$1:$DB$177,$A115,FALSE)))","v":""},{"$f":"IF(I$6=\"\",\"\",IF($B115=\"\",\"\",HLOOKUP(I$6,CPPE!$A$1:$DB$177,$A115,FALSE)))","v":""},{"$f":"IF(J$6=\"\",\"\",IF($B115=\"\",\"\",HLOOKUP(J$6,CPPE!$A$1:$DB$177,$A115,FALSE)))","v":""},{"$f":"IF(K$6=\"\",\"\",IF($B115=\"\",\"\",HLOOKUP(K$6,CPPE!$A$1:$DB$177,$A115,FALSE)))","v":""},{"$f":"IF(L$6=\"\",\"\",IF($B115=\"\",\"\",HLOOKUP(L$6,CPPE!$A$1:$DB$177,$A115,FALSE)))","v":""}]
[{"$f":"VLOOKUP(B116,'Select Practices'!$W$10:$X$197,2,FALSE)","v":169},null,{"$f":"IF(C$6=\"\",\"\",IF($B116=\"\",\"\",HLOOKUP(C$6,CPPE!$A$1:$DB$177,$A116,FALSE)))","v":""},{"$f":"IF(D$6=\"\",\"\",IF($B116=\"\",\"\",HLOOKUP(D$6,CPPE!$A$1:$DB$177,$A116,FALSE)))","v":""},{"$f":"IF(E$6=\"\",\"\",IF($B116=\"\",\"\",HLOOKUP(E$6,CPPE!$A$1:$DB$177,$A116,FALSE)))","v":""},{"$f":"IF(F$6=\"\",\"\",IF($B116=\"\",\"\",HLOOKUP(F$6,CPPE!$A$1:$DB$177,$A116,FALSE)))","v":""},{"$f":"IF(G$6=\"\",\"\",IF($B116=\"\",\"\",HLOOKUP(G$6,CPPE!$A$1:$DB$177,$A116,FALSE)))","v":""},{"$f":"IF(H$6=\"\",\"\",IF($B116=\"\",\"\",HLOOKUP(H$6,CPPE!$A$1:$DB$177,$A116,FALSE)))","v":""},{"$f":"IF(I$6=\"\",\"\",IF($B116=\"\",\"\",HLOOKUP(I$6,CPPE!$A$1:$DB$177,$A116,FALSE)))","v":""},{"$f":"IF(J$6=\"\",\"\",IF($B116=\"\",\"\",HLOOKUP(J$6,CPPE!$A$1:$DB$177,$A116,FALSE)))","v":""},{"$f":"IF(K$6=\"\",\"\",IF($B116=\"\",\"\",HLOOKUP(K$6,CPPE!$A$1:$DB$177,$A116,FALSE)))","v":""},{"$f":"IF(L$6=\"\",\"\",IF($B116=\"\",\"\",HLOOKUP(L$6,CPPE!$A$1:$DB$177,$A116,FALSE)))","v":""}]
[{"$f":"VLOOKUP(B117,'Select Practices'!$W$10:$X$197,2,FALSE)","v":169},null,{"$f":"IF(C$6=\"\",\"\",IF($B117=\"\",\"\",HLOOKUP(C$6,CPPE!$A$1:$DB$177,$A117,FALSE)))","v":""},{"$f":"IF(D$6=\"\",\"\",IF($B117=\"\",\"\",HLOOKUP(D$6,CPPE!$A$1:$DB$177,$A117,FALSE)))","v":""},{"$f":"IF(E$6=\"\",\"\",IF($B117=\"\",\"\",HLOOKUP(E$6,CPPE!$A$1:$DB$177,$A117,FALSE)))","v":""},{"$f":"IF(F$6=\"\",\"\",IF($B117=\"\",\"\",HLOOKUP(F$6,CPPE!$A$1:$DB$177,$A117,FALSE)))","v":""},{"$f":"IF(G$6=\"\",\"\",IF($B117=\"\",\"\",HLOOKUP(G$6,CPPE!$A$1:$DB$177,$A117,FALSE)))","v":""},{"$f":"IF(H$6=\"\",\"\",IF($B117=\"\",\"\",HLOOKUP(H$6,CPPE!$A$1:$DB$177,$A117,FALSE)))","v":""},{"$f":"IF(I$6=\"\",\"\",IF($B117=\"\",\"\",HLOOKUP(I$6,CPPE!$A$1:$DB$177,$A117,FALSE)))","v":""},{"$f":"IF(J$6=\"\",\"\",IF($B117=\"\",\"\",HLOOKUP(J$6,CPPE!$A$1:$DB$177,$A117,FALSE)))","v":""},{"$f":"IF(K$6=\"\",\"\",IF($B117=\"\",\"\",HLOOKUP(K$6,CPPE!$A$1:$DB$177,$A117,FALSE)))","v":""},{"$f":"IF(L$6=\"\",\"\",IF($B117=\"\",\"\",HLOOKUP(L$6,CPPE!$A$1:$DB$177,$A117,FALSE)))","v":""}]
[{"$f":"VLOOKUP(B118,'Select Practices'!$W$10:$X$197,2,FALSE)","v":169},null,{"$f":"IF(C$6=\"\",\"\",IF($B118=\"\",\"\",HLOOKUP(C$6,CPPE!$A$1:$DB$177,$A118,FALSE)))","v":""},{"$f":"IF(D$6=\"\",\"\",IF($B118=\"\",\"\",HLOOKUP(D$6,CPPE!$A$1:$DB$177,$A118,FALSE)))","v":""},{"$f":"IF(E$6=\"\",\"\",IF($B118=\"\",\"\",HLOOKUP(E$6,CPPE!$A$1:$DB$177,$A118,FALSE)))","v":""},{"$f":"IF(F$6=\"\",\"\",IF($B118=\"\",\"\",HLOOKUP(F$6,CPPE!$A$1:$DB$177,$A118,FALSE)))","v":""},{"$f":"IF(G$6=\"\",\"\",IF($B118=\"\",\"\",HLOOKUP(G$6,CPPE!$A$1:$DB$177,$A118,FALSE)))","v":""},{"$f":"IF(H$6=\"\",\"\",IF($B118=\"\",\"\",HLOOKUP(H$6,CPPE!$A$1:$DB$177,$A118,FALSE)))","v":""},{"$f":"IF(I$6=\"\",\"\",IF($B118=\"\",\"\",HLOOKUP(I$6,CPPE!$A$1:$DB$177,$A118,FALSE)))","v":""},{"$f":"IF(J$6=\"\",\"\",IF($B118=\"\",\"\",HLOOKUP(J$6,CPPE!$A$1:$DB$177,$A118,FALSE)))","v":""},{"$f":"IF(K$6=\"\",\"\",IF($B118=\"\",\"\",HLOOKUP(K$6,CPPE!$A$1:$DB$177,$A118,FALSE)))","v":""},{"$f":"IF(L$6=\"\",\"\",IF($B118=\"\",\"\",HLOOKUP(L$6,CPPE!$A$1:$DB$177,$A118,FALSE)))","v":""}]
[{"$f":"VLOOKUP(B119,'Select Practices'!$W$10:$X$197,2,FALSE)","v":169},null,{"$f":"IF(C$6=\"\",\"\",IF($B119=\"\",\"\",HLOOKUP(C$6,CPPE!$A$1:$DB$177,$A119,FALSE)))","v":""},{"$f":"IF(D$6=\"\",\"\",IF($B119=\"\",\"\",HLOOKUP(D$6,CPPE!$A$1:$DB$177,$A119,FALSE)))","v":""},{"$f":"IF(E$6=\"\",\"\",IF($B119=\"\",\"\",HLOOKUP(E$6,CPPE!$A$1:$DB$177,$A119,FALSE)))","v":""},{"$f":"IF(F$6=\"\",\"\",IF($B119=\"\",\"\",HLOOKUP(F$6,CPPE!$A$1:$DB$177,$A119,FALSE)))","v":""},{"$f":"IF(G$6=\"\",\"\",IF($B119=\"\",\"\",HLOOKUP(G$6,CPPE!$A$1:$DB$177,$A119,FALSE)))","v":""},{"$f":"IF(H$6=\"\",\"\",IF($B119=\"\",\"\",HLOOKUP(H$6,CPPE!$A$1:$DB$177,$A119,FALSE)))","v":""},{"$f":"IF(I$6=\"\",\"\",IF($B119=\"\",\"\",HLOOKUP(I$6,CPPE!$A$1:$DB$177,$A119,FALSE)))","v":""},{"$f":"IF(J$6=\"\",\"\",IF($B119=\"\",\"\",HLOOKUP(J$6,CPPE!$A$1:$DB$177,$A119,FALSE)))","v":""},{"$f":"IF(K$6=\"\",\"\",IF($B119=\"\",\"\",HLOOKUP(K$6,CPPE!$A$1:$DB$177,$A119,FALSE)))","v":""},{"$f":"IF(L$6=\"\",\"\",IF($B119=\"\",\"\",HLOOKUP(L$6,CPPE!$A$1:$DB$177,$A119,FALSE)))","v":""}]
[{"$f":"VLOOKUP(B120,'Select Practices'!$W$10:$X$197,2,FALSE)","v":169},null,{"$f":"IF(C$6=\"\",\"\",IF($B120=\"\",\"\",HLOOKUP(C$6,CPPE!$A$1:$DB$177,$A120,FALSE)))","v":""},{"$f":"IF(D$6=\"\",\"\",IF($B120=\"\",\"\",HLOOKUP(D$6,CPPE!$A$1:$DB$177,$A120,FALSE)))","v":""},{"$f":"IF(E$6=\"\",\"\",IF($B120=\"\",\"\",HLOOKUP(E$6,CPPE!$A$1:$DB$177,$A120,FALSE)))","v":""},{"$f":"IF(F$6=\"\",\"\",IF($B120=\"\",\"\",HLOOKUP(F$6,CPPE!$A$1:$DB$177,$A120,FALSE)))","v":""},{"$f":"IF(G$6=\"\",\"\",IF($B120=\"\",\"\",HLOOKUP(G$6,CPPE!$A$1:$DB$177,$A120,FALSE)))","v":""},{"$f":"IF(H$6=\"\",\"\",IF($B120=\"\",\"\",HLOOKUP(H$6,CPPE!$A$1:$DB$177,$A120,FALSE)))","v":""},{"$f":"IF(I$6=\"\",\"\",IF($B120=\"\",\"\",HLOOKUP(I$6,CPPE!$A$1:$DB$177,$A120,FALSE)))","v":""},{"$f":"IF(J$6=\"\",\"\",IF($B120=\"\",\"\",HLOOKUP(J$6,CPPE!$A$1:$DB$177,$A120,FALSE)))","v":""},{"$f":"IF(K$6=\"\",\"\",IF($B120=\"\",\"\",HLOOKUP(K$6,CPPE!$A$1:$DB$177,$A120,FALSE)))","v":""},{"$f":"IF(L$6=\"\",\"\",IF($B120=\"\",\"\",HLOOKUP(L$6,CPPE!$A$1:$DB$177,$A120,FALSE)))","v":""}]
[{"$f":"VLOOKUP(B121,'Select Practices'!$W$10:$X$197,2,FALSE)","v":169},null,{"$f":"IF(C$6=\"\",\"\",IF($B121=\"\",\"\",HLOOKUP(C$6,CPPE!$A$1:$DB$177,$A121,FALSE)))","v":""},{"$f":"IF(D$6=\"\",\"\",IF($B121=\"\",\"\",HLOOKUP(D$6,CPPE!$A$1:$DB$177,$A121,FALSE)))","v":""},{"$f":"IF(E$6=\"\",\"\",IF($B121=\"\",\"\",HLOOKUP(E$6,CPPE!$A$1:$DB$177,$A121,FALSE)))","v":""},{"$f":"IF(F$6=\"\",\"\",IF($B121=\"\",\"\",HLOOKUP(F$6,CPPE!$A$1:$DB$177,$A121,FALSE)))","v":""},{"$f":"IF(G$6=\"\",\"\",IF($B121=\"\",\"\",HLOOKUP(G$6,CPPE!$A$1:$DB$177,$A121,FALSE)))","v":""},{"$f":"IF(H$6=\"\",\"\",IF($B121=\"\",\"\",HLOOKUP(H$6,CPPE!$A$1:$DB$177,$A121,FALSE)))","v":""},{"$f":"IF(I$6=\"\",\"\",IF($B121=\"\",\"\",HLOOKUP(I$6,CPPE!$A$1:$DB$177,$A121,FALSE)))","v":""},{"$f":"IF(J$6=\"\",\"\",IF($B121=\"\",\"\",HLOOKUP(J$6,CPPE!$A$1:$DB$177,$A121,FALSE)))","v":""},{"$f":"IF(K$6=\"\",\"\",IF($B121=\"\",\"\",HLOOKUP(K$6,CPPE!$A$1:$DB$177,$A121,FALSE)))","v":""},{"$f":"IF(L$6=\"\",\"\",IF($B121=\"\",\"\",HLOOKUP(L$6,CPPE!$A$1:$DB$177,$A121,FALSE)))","v":""}]
[{"$f":"VLOOKUP(B122,'Select Practices'!$W$10:$X$197,2,FALSE)","v":169},null,{"$f":"IF(C$6=\"\",\"\",IF($B122=\"\",\"\",HLOOKUP(C$6,CPPE!$A$1:$DB$177,$A122,FALSE)))","v":""},{"$f":"IF(D$6=\"\",\"\",IF($B122=\"\",\"\",HLOOKUP(D$6,CPPE!$A$1:$DB$177,$A122,FALSE)))","v":""},{"$f":"IF(E$6=\"\",\"\",IF($B122=\"\",\"\",HLOOKUP(E$6,CPPE!$A$1:$DB$177,$A122,FALSE)))","v":""},{"$f":"IF(F$6=\"\",\"\",IF($B122=\"\",\"\",HLOOKUP(F$6,CPPE!$A$1:$DB$177,$A122,FALSE)))","v":""},{"$f":"IF(G$6=\"\",\"\",IF($B122=\"\",\"\",HLOOKUP(G$6,CPPE!$A$1:$DB$177,$A122,FALSE)))","v":""},{"$f":"IF(H$6=\"\",\"\",IF($B122=\"\",\"\",HLOOKUP(H$6,CPPE!$A$1:$DB$177,$A122,FALSE)))","v":""},{"$f":"IF(I$6=\"\",\"\",IF($B122=\"\",\"\",HLOOKUP(I$6,CPPE!$A$1:$DB$177,$A122,FALSE)))","v":""},{"$f":"IF(J$6=\"\",\"\",IF($B122=\"\",\"\",HLOOKUP(J$6,CPPE!$A$1:$DB$177,$A122,FALSE)))","v":""},{"$f":"IF(K$6=\"\",\"\",IF($B122=\"\",\"\",HLOOKUP(K$6,CPPE!$A$1:$DB$177,$A122,FALSE)))","v":""},{"$f":"IF(L$6=\"\",\"\",IF($B122=\"\",\"\",HLOOKUP(L$6,CPPE!$A$1:$DB$177,$A122,FALSE)))","v":""}]
[{"$f":"VLOOKUP(B123,'Select Practices'!$W$10:$X$197,2,FALSE)","v":169},null,{"$f":"IF(C$6=\"\",\"\",IF($B123=\"\",\"\",HLOOKUP(C$6,CPPE!$A$1:$DB$177,$A123,FALSE)))","v":""},{"$f":"IF(D$6=\"\",\"\",IF($B123=\"\",\"\",HLOOKUP(D$6,CPPE!$A$1:$DB$177,$A123,FALSE)))","v":""},{"$f":"IF(E$6=\"\",\"\",IF($B123=\"\",\"\",HLOOKUP(E$6,CPPE!$A$1:$DB$177,$A123,FALSE)))","v":""},{"$f":"IF(F$6=\"\",\"\",IF($B123=\"\",\"\",HLOOKUP(F$6,CPPE!$A$1:$DB$177,$A123,FALSE)))","v":""},{"$f":"IF(G$6=\"\",\"\",IF($B123=\"\",\"\",HLOOKUP(G$6,CPPE!$A$1:$DB$177,$A123,FALSE)))","v":""},{"$f":"IF(H$6=\"\",\"\",IF($B123=\"\",\"\",HLOOKUP(H$6,CPPE!$A$1:$DB$177,$A123,FALSE)))","v":""},{"$f":"IF(I$6=\"\",\"\",IF($B123=\"\",\"\",HLOOKUP(I$6,CPPE!$A$1:$DB$177,$A123,FALSE)))","v":""},{"$f":"IF(J$6=\"\",\"\",IF($B123=\"\",\"\",HLOOKUP(J$6,CPPE!$A$1:$DB$177,$A123,FALSE)))","v":""},{"$f":"IF(K$6=\"\",\"\",IF($B123=\"\",\"\",HLOOKUP(K$6,CPPE!$A$1:$DB$177,$A123,FALSE)))","v":""},{"$f":"IF(L$6=\"\",\"\",IF($B123=\"\",\"\",HLOOKUP(L$6,CPPE!$A$1:$DB$177,$A123,FALSE)))","v":""}]
[{"$f":"VLOOKUP(B124,'Select Practices'!$W$10:$X$197,2,FALSE)","v":169},null,{"$f":"IF(C$6=\"\",\"\",IF($B124=\"\",\"\",HLOOKUP(C$6,CPPE!$A$1:$DB$177,$A124,FALSE)))","v":""},{"$f":"IF(D$6=\"\",\"\",IF($B124=\"\",\"\",HLOOKUP(D$6,CPPE!$A$1:$DB$177,$A124,FALSE)))","v":""},{"$f":"IF(E$6=\"\",\"\",IF($B124=\"\",\"\",HLOOKUP(E$6,CPPE!$A$1:$DB$177,$A124,FALSE)))","v":""},{"$f":"IF(F$6=\"\",\"\",IF($B124=\"\",\"\",HLOOKUP(F$6,CPPE!$A$1:$DB$177,$A124,FALSE)))","v":""},{"$f":"IF(G$6=\"\",\"\",IF($B124=\"\",\"\",HLOOKUP(G$6,CPPE!$A$1:$DB$177,$A124,FALSE)))","v":""},{"$f":"IF(H$6=\"\",\"\",IF($B124=\"\",\"\",HLOOKUP(H$6,CPPE!$A$1:$DB$177,$A124,FALSE)))","v":""},{"$f":"IF(I$6=\"\",\"\",IF($B124=\"\",\"\",HLOOKUP(I$6,CPPE!$A$1:$DB$177,$A124,FALSE)))","v":""},{"$f":"IF(J$6=\"\",\"\",IF($B124=\"\",\"\",HLOOKUP(J$6,CPPE!$A$1:$DB$177,$A124,FALSE)))","v":""},{"$f":"IF(K$6=\"\",\"\",IF($B124=\"\",\"\",HLOOKUP(K$6,CPPE!$A$1:$DB$177,$A124,FALSE)))","v":""},{"$f":"IF(L$6=\"\",\"\",IF($B124=\"\",\"\",HLOOKUP(L$6,CPPE!$A$1:$DB$177,$A124,FALSE)))","v":""}]
[{"$f":"VLOOKUP(B125,'Select Practices'!$W$10:$X$197,2,FALSE)","v":169},null,{"$f":"IF(C$6=\"\",\"\",IF($B125=\"\",\"\",HLOOKUP(C$6,CPPE!$A$1:$DB$177,$A125,FALSE)))","v":""},{"$f":"IF(D$6=\"\",\"\",IF($B125=\"\",\"\",HLOOKUP(D$6,CPPE!$A$1:$DB$177,$A125,FALSE)))","v":""},{"$f":"IF(E$6=\"\",\"\",IF($B125=\"\",\"\",HLOOKUP(E$6,CPPE!$A$1:$DB$177,$A125,FALSE)))","v":""},{"$f":"IF(F$6=\"\",\"\",IF($B125=\"\",\"\",HLOOKUP(F$6,CPPE!$A$1:$DB$177,$A125,FALSE)))","v":""},{"$f":"IF(G$6=\"\",\"\",IF($B125=\"\",\"\",HLOOKUP(G$6,CPPE!$A$1:$DB$177,$A125,FALSE)))","v":""},{"$f":"IF(H$6=\"\",\"\",IF($B125=\"\",\"\",HLOOKUP(H$6,CPPE!$A$1:$DB$177,$A125,FALSE)))","v":""},{"$f":"IF(I$6=\"\",\"\",IF($B125=\"\",\"\",HLOOKUP(I$6,CPPE!$A$1:$DB$177,$A125,FALSE)))","v":""},{"$f":"IF(J$6=\"\",\"\",IF($B125=\"\",\"\",HLOOKUP(J$6,CPPE!$A$1:$DB$177,$A125,FALSE)))","v":""},{"$f":"IF(K$6=\"\",\"\",IF($B125=\"\",\"\",HLOOKUP(K$6,CPPE!$A$1:$DB$177,$A125,FALSE)))","v":""},{"$f":"IF(L$6=\"\",\"\",IF($B125=\"\",\"\",HLOOKUP(L$6,CPPE!$A$1:$DB$177,$A125,FALSE)))","v":""}]
[{"$f":"VLOOKUP(B126,'Select Practices'!$W$10:$X$197,2,FALSE)","v":169},null,{"$f":"IF(C$6=\"\",\"\",IF($B126=\"\",\"\",HLOOKUP(C$6,CPPE!$A$1:$DB$177,$A126,FALSE)))","v":""},{"$f":"IF(D$6=\"\",\"\",IF($B126=\"\",\"\",HLOOKUP(D$6,CPPE!$A$1:$DB$177,$A126,FALSE)))","v":""},{"$f":"IF(E$6=\"\",\"\",IF($B126=\"\",\"\",HLOOKUP(E$6,CPPE!$A$1:$DB$177,$A126,FALSE)))","v":""},{"$f":"IF(F$6=\"\",\"\",IF($B126=\"\",\"\",HLOOKUP(F$6,CPPE!$A$1:$DB$177,$A126,FALSE)))","v":""},{"$f":"IF(G$6=\"\",\"\",IF($B126=\"\",\"\",HLOOKUP(G$6,CPPE!$A$1:$DB$177,$A126,FALSE)))","v":""},{"$f":"IF(H$6=\"\",\"\",IF($B126=\"\",\"\",HLOOKUP(H$6,CPPE!$A$1:$DB$177,$A126,FALSE)))","v":""},{"$f":"IF(I$6=\"\",\"\",IF($B126=\"\",\"\",HLOOKUP(I$6,CPPE!$A$1:$DB$177,$A126,FALSE)))","v":""},{"$f":"IF(J$6=\"\",\"\",IF($B126=\"\",\"\",HLOOKUP(J$6,CPPE!$A$1:$DB$177,$A126,FALSE)))","v":""},{"$f":"IF(K$6=\"\",\"\",IF($B126=\"\",\"\",HLOOKUP(K$6,CPPE!$A$1:$DB$177,$A126,FALSE)))","v":""},{"$f":"IF(L$6=\"\",\"\",IF($B126=\"\",\"\",HLOOKUP(L$6,CPPE!$A$1:$DB$177,$A126,FALSE)))","v":""}]
[{"$f":"VLOOKUP(B127,'Select Practices'!$W$10:$X$197,2,FALSE)","v":169},null,{"$f":"IF(C$6=\"\",\"\",IF($B127=\"\",\"\",HLOOKUP(C$6,CPPE!$A$1:$DB$177,$A127,FALSE)))","v":""},{"$f":"IF(D$6=\"\",\"\",IF($B127=\"\",\"\",HLOOKUP(D$6,CPPE!$A$1:$DB$177,$A127,FALSE)))","v":""},{"$f":"IF(E$6=\"\",\"\",IF($B127=\"\",\"\",HLOOKUP(E$6,CPPE!$A$1:$DB$177,$A127,FALSE)))","v":""},{"$f":"IF(F$6=\"\",\"\",IF($B127=\"\",\"\",HLOOKUP(F$6,CPPE!$A$1:$DB$177,$A127,FALSE)))","v":""},{"$f":"IF(G$6=\"\",\"\",IF($B127=\"\",\"\",HLOOKUP(G$6,CPPE!$A$1:$DB$177,$A127,FALSE)))","v":""},{"$f":"IF(H$6=\"\",\"\",IF($B127=\"\",\"\",HLOOKUP(H$6,CPPE!$A$1:$DB$177,$A127,FALSE)))","v":""},{"$f":"IF(I$6=\"\",\"\",IF($B127=\"\",\"\",HLOOKUP(I$6,CPPE!$A$1:$DB$177,$A127,FALSE)))","v":""},{"$f":"IF(J$6=\"\",\"\",IF($B127=\"\",\"\",HLOOKUP(J$6,CPPE!$A$1:$DB$177,$A127,FALSE)))","v":""},{"$f":"IF(K$6=\"\",\"\",IF($B127=\"\",\"\",HLOOKUP(K$6,CPPE!$A$1:$DB$177,$A127,FALSE)))","v":""},{"$f":"IF(L$6=\"\",\"\",IF($B127=\"\",\"\",HLOOKUP(L$6,CPPE!$A$1:$DB$177,$A127,FALSE)))","v":""}]
[{"$f":"VLOOKUP(B128,'Select Practices'!$W$10:$X$197,2,FALSE)","v":169},null,{"$f":"IF(C$6=\"\",\"\",IF($B128=\"\",\"\",HLOOKUP(C$6,CPPE!$A$1:$DB$177,$A128,FALSE)))","v":""},{"$f":"IF(D$6=\"\",\"\",IF($B128=\"\",\"\",HLOOKUP(D$6,CPPE!$A$1:$DB$177,$A128,FALSE)))","v":""},{"$f":"IF(E$6=\"\",\"\",IF($B128=\"\",\"\",HLOOKUP(E$6,CPPE!$A$1:$DB$177,$A128,FALSE)))","v":""},{"$f":"IF(F$6=\"\",\"\",IF($B128=\"\",\"\",HLOOKUP(F$6,CPPE!$A$1:$DB$177,$A128,FALSE)))","v":""},{"$f":"IF(G$6=\"\",\"\",IF($B128=\"\",\"\",HLOOKUP(G$6,CPPE!$A$1:$DB$177,$A128,FALSE)))","v":""},{"$f":"IF(H$6=\"\",\"\",IF($B128=\"\",\"\",HLOOKUP(H$6,CPPE!$A$1:$DB$177,$A128,FALSE)))","v":""},{"$f":"IF(I$6=\"\",\"\",IF($B128=\"\",\"\",HLOOKUP(I$6,CPPE!$A$1:$DB$177,$A128,FALSE)))","v":""},{"$f":"IF(J$6=\"\",\"\",IF($B128=\"\",\"\",HLOOKUP(J$6,CPPE!$A$1:$DB$177,$A128,FALSE)))","v":""},{"$f":"IF(K$6=\"\",\"\",IF($B128=\"\",\"\",HLOOKUP(K$6,CPPE!$A$1:$DB$177,$A128,FALSE)))","v":""},{"$f":"IF(L$6=\"\",\"\",IF($B128=\"\",\"\",HLOOKUP(L$6,CPPE!$A$1:$DB$177,$A128,FALSE)))","v":""}]
[{"$f":"VLOOKUP(B129,'Select Practices'!$W$10:$X$197,2,FALSE)","v":169},null,{"$f":"IF(C$6=\"\",\"\",IF($B129=\"\",\"\",HLOOKUP(C$6,CPPE!$A$1:$DB$177,$A129,FALSE)))","v":""},{"$f":"IF(D$6=\"\",\"\",IF($B129=\"\",\"\",HLOOKUP(D$6,CPPE!$A$1:$DB$177,$A129,FALSE)))","v":""},{"$f":"IF(E$6=\"\",\"\",IF($B129=\"\",\"\",HLOOKUP(E$6,CPPE!$A$1:$DB$177,$A129,FALSE)))","v":""},{"$f":"IF(F$6=\"\",\"\",IF($B129=\"\",\"\",HLOOKUP(F$6,CPPE!$A$1:$DB$177,$A129,FALSE)))","v":""},{"$f":"IF(G$6=\"\",\"\",IF($B129=\"\",\"\",HLOOKUP(G$6,CPPE!$A$1:$DB$177,$A129,FALSE)))","v":""},{"$f":"IF(H$6=\"\",\"\",IF($B129=\"\",\"\",HLOOKUP(H$6,CPPE!$A$1:$DB$177,$A129,FALSE)))","v":""},{"$f":"IF(I$6=\"\",\"\",IF($B129=\"\",\"\",HLOOKUP(I$6,CPPE!$A$1:$DB$177,$A129,FALSE)))","v":""},{"$f":"IF(J$6=\"\",\"\",IF($B129=\"\",\"\",HLOOKUP(J$6,CPPE!$A$1:$DB$177,$A129,FALSE)))","v":""},{"$f":"IF(K$6=\"\",\"\",IF($B129=\"\",\"\",HLOOKUP(K$6,CPPE!$A$1:$DB$177,$A129,FALSE)))","v":""},{"$f":"IF(L$6=\"\",\"\",IF($B129=\"\",\"\",HLOOKUP(L$6,CPPE!$A$1:$DB$177,$A129,FALSE)))","v":""}]
[{"$f":"VLOOKUP(B130,'Select Practices'!$W$10:$X$197,2,FALSE)","v":169},null,{"$f":"IF(C$6=\"\",\"\",IF($B130=\"\",\"\",HLOOKUP(C$6,CPPE!$A$1:$DB$177,$A130,FALSE)))","v":""},{"$f":"IF(D$6=\"\",\"\",IF($B130=\"\",\"\",HLOOKUP(D$6,CPPE!$A$1:$DB$177,$A130,FALSE)))","v":""},{"$f":"IF(E$6=\"\",\"\",IF($B130=\"\",\"\",HLOOKUP(E$6,CPPE!$A$1:$DB$177,$A130,FALSE)))","v":""},{"$f":"IF(F$6=\"\",\"\",IF($B130=\"\",\"\",HLOOKUP(F$6,CPPE!$A$1:$DB$177,$A130,FALSE)))","v":""},{"$f":"IF(G$6=\"\",\"\",IF($B130=\"\",\"\",HLOOKUP(G$6,CPPE!$A$1:$DB$177,$A130,FALSE)))","v":""},{"$f":"IF(H$6=\"\",\"\",IF($B130=\"\",\"\",HLOOKUP(H$6,CPPE!$A$1:$DB$177,$A130,FALSE)))","v":""},{"$f":"IF(I$6=\"\",\"\",IF($B130=\"\",\"\",HLOOKUP(I$6,CPPE!$A$1:$DB$177,$A130,FALSE)))","v":""},{"$f":"IF(J$6=\"\",\"\",IF($B130=\"\",\"\",HLOOKUP(J$6,CPPE!$A$1:$DB$177,$A130,FALSE)))","v":""},{"$f":"IF(K$6=\"\",\"\",IF($B130=\"\",\"\",HLOOKUP(K$6,CPPE!$A$1:$DB$177,$A130,FALSE)))","v":""},{"$f":"IF(L$6=\"\",\"\",IF($B130=\"\",\"\",HLOOKUP(L$6,CPPE!$A$1:$DB$177,$A130,FALSE)))","v":""}]
[{"$f":"VLOOKUP(B131,'Select Practices'!$W$10:$X$197,2,FALSE)","v":169},null,{"$f":"IF(C$6=\"\",\"\",IF($B131=\"\",\"\",HLOOKUP(C$6,CPPE!$A$1:$DB$177,$A131,FALSE)))","v":""},{"$f":"IF(D$6=\"\",\"\",IF($B131=\"\",\"\",HLOOKUP(D$6,CPPE!$A$1:$DB$177,$A131,FALSE)))","v":""},{"$f":"IF(E$6=\"\",\"\",IF($B131=\"\",\"\",HLOOKUP(E$6,CPPE!$A$1:$DB$177,$A131,FALSE)))","v":""},{"$f":"IF(F$6=\"\",\"\",IF($B131=\"\",\"\",HLOOKUP(F$6,CPPE!$A$1:$DB$177,$A131,FALSE)))","v":""},{"$f":"IF(G$6=\"\",\"\",IF($B131=\"\",\"\",HLOOKUP(G$6,CPPE!$A$1:$DB$177,$A131,FALSE)))","v":""},{"$f":"IF(H$6=\"\",\"\",IF($B131=\"\",\"\",HLOOKUP(H$6,CPPE!$A$1:$DB$177,$A131,FALSE)))","v":""},{"$f":"IF(I$6=\"\",\"\",IF($B131=\"\",\"\",HLOOKUP(I$6,CPPE!$A$1:$DB$177,$A131,FALSE)))","v":""},{"$f":"IF(J$6=\"\",\"\",IF($B131=\"\",\"\",HLOOKUP(J$6,CPPE!$A$1:$DB$177,$A131,FALSE)))","v":""},{"$f":"IF(K$6=\"\",\"\",IF($B131=\"\",\"\",HLOOKUP(K$6,CPPE!$A$1:$DB$177,$A131,FALSE)))","v":""},{"$f":"IF(L$6=\"\",\"\",IF($B131=\"\",\"\",HLOOKUP(L$6,CPPE!$A$1:$DB$177,$A131,FALSE)))","v":""}]
[{"$f":"VLOOKUP(B132,'Select Practices'!$W$10:$X$197,2,FALSE)","v":169},null,{"$f":"IF(C$6=\"\",\"\",IF($B132=\"\",\"\",HLOOKUP(C$6,CPPE!$A$1:$DB$177,$A132,FALSE)))","v":""},{"$f":"IF(D$6=\"\",\"\",IF($B132=\"\",\"\",HLOOKUP(D$6,CPPE!$A$1:$DB$177,$A132,FALSE)))","v":""},{"$f":"IF(E$6=\"\",\"\",IF($B132=\"\",\"\",HLOOKUP(E$6,CPPE!$A$1:$DB$177,$A132,FALSE)))","v":""},{"$f":"IF(F$6=\"\",\"\",IF($B132=\"\",\"\",HLOOKUP(F$6,CPPE!$A$1:$DB$177,$A132,FALSE)))","v":""},{"$f":"IF(G$6=\"\",\"\",IF($B132=\"\",\"\",HLOOKUP(G$6,CPPE!$A$1:$DB$177,$A132,FALSE)))","v":""},{"$f":"IF(H$6=\"\",\"\",IF($B132=\"\",\"\",HLOOKUP(H$6,CPPE!$A$1:$DB$177,$A132,FALSE)))","v":""},{"$f":"IF(I$6=\"\",\"\",IF($B132=\"\",\"\",HLOOKUP(I$6,CPPE!$A$1:$DB$177,$A132,FALSE)))","v":""},{"$f":"IF(J$6=\"\",\"\",IF($B132=\"\",\"\",HLOOKUP(J$6,CPPE!$A$1:$DB$177,$A132,FALSE)))","v":""},{"$f":"IF(K$6=\"\",\"\",IF($B132=\"\",\"\",HLOOKUP(K$6,CPPE!$A$1:$DB$177,$A132,FALSE)))","v":""},{"$f":"IF(L$6=\"\",\"\",IF($B132=\"\",\"\",HLOOKUP(L$6,CPPE!$A$1:$DB$177,$A132,FALSE)))","v":""}]
[{"$f":"VLOOKUP(B133,'Select Practices'!$W$10:$X$197,2,FALSE)","v":169},null,{"$f":"IF(C$6=\"\",\"\",IF($B133=\"\",\"\",HLOOKUP(C$6,CPPE!$A$1:$DB$177,$A133,FALSE)))","v":""},{"$f":"IF(D$6=\"\",\"\",IF($B133=\"\",\"\",HLOOKUP(D$6,CPPE!$A$1:$DB$177,$A133,FALSE)))","v":""},{"$f":"IF(E$6=\"\",\"\",IF($B133=\"\",\"\",HLOOKUP(E$6,CPPE!$A$1:$DB$177,$A133,FALSE)))","v":""},{"$f":"IF(F$6=\"\",\"\",IF($B133=\"\",\"\",HLOOKUP(F$6,CPPE!$A$1:$DB$177,$A133,FALSE)))","v":""},{"$f":"IF(G$6=\"\",\"\",IF($B133=\"\",\"\",HLOOKUP(G$6,CPPE!$A$1:$DB$177,$A133,FALSE)))","v":""},{"$f":"IF(H$6=\"\",\"\",IF($B133=\"\",\"\",HLOOKUP(H$6,CPPE!$A$1:$DB$177,$A133,FALSE)))","v":""},{"$f":"IF(I$6=\"\",\"\",IF($B133=\"\",\"\",HLOOKUP(I$6,CPPE!$A$1:$DB$177,$A133,FALSE)))","v":""},{"$f":"IF(J$6=\"\",\"\",IF($B133=\"\",\"\",HLOOKUP(J$6,CPPE!$A$1:$DB$177,$A133,FALSE)))","v":""},{"$f":"IF(K$6=\"\",\"\",IF($B133=\"\",\"\",HLOOKUP(K$6,CPPE!$A$1:$DB$177,$A133,FALSE)))","v":""},{"$f":"IF(L$6=\"\",\"\",IF($B133=\"\",\"\",HLOOKUP(L$6,CPPE!$A$1:$DB$177,$A133,FALSE)))","v":""}]
[{"$f":"VLOOKUP(B134,'Select Practices'!$W$10:$X$197,2,FALSE)","v":169},null,{"$f":"IF(C$6=\"\",\"\",IF($B134=\"\",\"\",HLOOKUP(C$6,CPPE!$A$1:$DB$177,$A134,FALSE)))","v":""},{"$f":"IF(D$6=\"\",\"\",IF($B134=\"\",\"\",HLOOKUP(D$6,CPPE!$A$1:$DB$177,$A134,FALSE)))","v":""},{"$f":"IF(E$6=\"\",\"\",IF($B134=\"\",\"\",HLOOKUP(E$6,CPPE!$A$1:$DB$177,$A134,FALSE)))","v":""},{"$f":"IF(F$6=\"\",\"\",IF($B134=\"\",\"\",HLOOKUP(F$6,CPPE!$A$1:$DB$177,$A134,FALSE)))","v":""},{"$f":"IF(G$6=\"\",\"\",IF($B134=\"\",\"\",HLOOKUP(G$6,CPPE!$A$1:$DB$177,$A134,FALSE)))","v":""},{"$f":"IF(H$6=\"\",\"\",IF($B134=\"\",\"\",HLOOKUP(H$6,CPPE!$A$1:$DB$177,$A134,FALSE)))","v":""},{"$f":"IF(I$6=\"\",\"\",IF($B134=\"\",\"\",HLOOKUP(I$6,CPPE!$A$1:$DB$177,$A134,FALSE)))","v":""},{"$f":"IF(J$6=\"\",\"\",IF($B134=\"\",\"\",HLOOKUP(J$6,CPPE!$A$1:$DB$177,$A134,FALSE)))","v":""},{"$f":"IF(K$6=\"\",\"\",IF($B134=\"\",\"\",HLOOKUP(K$6,CPPE!$A$1:$DB$177,$A134,FALSE)))","v":""},{"$f":"IF(L$6=\"\",\"\",IF($B134=\"\",\"\",HLOOKUP(L$6,CPPE!$A$1:$DB$177,$A134,FALSE)))","v":""}]
[{"$f":"VLOOKUP(B135,'Select Practices'!$W$10:$X$197,2,FALSE)","v":169},null,{"$f":"IF(C$6=\"\",\"\",IF($B135=\"\",\"\",HLOOKUP(C$6,CPPE!$A$1:$DB$177,$A135,FALSE)))","v":""},{"$f":"IF(D$6=\"\",\"\",IF($B135=\"\",\"\",HLOOKUP(D$6,CPPE!$A$1:$DB$177,$A135,FALSE)))","v":""},{"$f":"IF(E$6=\"\",\"\",IF($B135=\"\",\"\",HLOOKUP(E$6,CPPE!$A$1:$DB$177,$A135,FALSE)))","v":""},{"$f":"IF(F$6=\"\",\"\",IF($B135=\"\",\"\",HLOOKUP(F$6,CPPE!$A$1:$DB$177,$A135,FALSE)))","v":""},{"$f":"IF(G$6=\"\",\"\",IF($B135=\"\",\"\",HLOOKUP(G$6,CPPE!$A$1:$DB$177,$A135,FALSE)))","v":""},{"$f":"IF(H$6=\"\",\"\",IF($B135=\"\",\"\",HLOOKUP(H$6,CPPE!$A$1:$DB$177,$A135,FALSE)))","v":""},{"$f":"IF(I$6=\"\",\"\",IF($B135=\"\",\"\",HLOOKUP(I$6,CPPE!$A$1:$DB$177,$A135,FALSE)))","v":""},{"$f":"IF(J$6=\"\",\"\",IF($B135=\"\",\"\",HLOOKUP(J$6,CPPE!$A$1:$DB$177,$A135,FALSE)))","v":""},{"$f":"IF(K$6=\"\",\"\",IF($B135=\"\",\"\",HLOOKUP(K$6,CPPE!$A$1:$DB$177,$A135,FALSE)))","v":""},{"$f":"IF(L$6=\"\",\"\",IF($B135=\"\",\"\",HLOOKUP(L$6,CPPE!$A$1:$DB$177,$A135,FALSE)))","v":""}]
[{"$f":"VLOOKUP(B136,'Select Practices'!$W$10:$X$197,2,FALSE)","v":169},null,{"$f":"IF(C$6=\"\",\"\",IF($B136=\"\",\"\",HLOOKUP(C$6,CPPE!$A$1:$DB$177,$A136,FALSE)))","v":""},{"$f":"IF(D$6=\"\",\"\",IF($B136=\"\",\"\",HLOOKUP(D$6,CPPE!$A$1:$DB$177,$A136,FALSE)))","v":""},{"$f":"IF(E$6=\"\",\"\",IF($B136=\"\",\"\",HLOOKUP(E$6,CPPE!$A$1:$DB$177,$A136,FALSE)))","v":""},{"$f":"IF(F$6=\"\",\"\",IF($B136=\"\",\"\",HLOOKUP(F$6,CPPE!$A$1:$DB$177,$A136,FALSE)))","v":""},{"$f":"IF(G$6=\"\",\"\",IF($B136=\"\",\"\",HLOOKUP(G$6,CPPE!$A$1:$DB$177,$A136,FALSE)))","v":""},{"$f":"IF(H$6=\"\",\"\",IF($B136=\"\",\"\",HLOOKUP(H$6,CPPE!$A$1:$DB$177,$A136,FALSE)))","v":""},{"$f":"IF(I$6=\"\",\"\",IF($B136=\"\",\"\",HLOOKUP(I$6,CPPE!$A$1:$DB$177,$A136,FALSE)))","v":""},{"$f":"IF(J$6=\"\",\"\",IF($B136=\"\",\"\",HLOOKUP(J$6,CPPE!$A$1:$DB$177,$A136,FALSE)))","v":""},{"$f":"IF(K$6=\"\",\"\",IF($B136=\"\",\"\",HLOOKUP(K$6,CPPE!$A$1:$DB$177,$A136,FALSE)))","v":""},{"$f":"IF(L$6=\"\",\"\",IF($B136=\"\",\"\",HLOOKUP(L$6,CPPE!$A$1:$DB$177,$A136,FALSE)))","v":""}]
[{"$f":"VLOOKUP(B137,'Select Practices'!$W$10:$X$197,2,FALSE)","v":169},null,{"$f":"IF(C$6=\"\",\"\",IF($B137=\"\",\"\",HLOOKUP(C$6,CPPE!$A$1:$DB$177,$A137,FALSE)))","v":""},{"$f":"IF(D$6=\"\",\"\",IF($B137=\"\",\"\",HLOOKUP(D$6,CPPE!$A$1:$DB$177,$A137,FALSE)))","v":""},{"$f":"IF(E$6=\"\",\"\",IF($B137=\"\",\"\",HLOOKUP(E$6,CPPE!$A$1:$DB$177,$A137,FALSE)))","v":""},{"$f":"IF(F$6=\"\",\"\",IF($B137=\"\",\"\",HLOOKUP(F$6,CPPE!$A$1:$DB$177,$A137,FALSE)))","v":""},{"$f":"IF(G$6=\"\",\"\",IF($B137=\"\",\"\",HLOOKUP(G$6,CPPE!$A$1:$DB$177,$A137,FALSE)))","v":""},{"$f":"IF(H$6=\"\",\"\",IF($B137=\"\",\"\",HLOOKUP(H$6,CPPE!$A$1:$DB$177,$A137,FALSE)))","v":""},{"$f":"IF(I$6=\"\",\"\",IF($B137=\"\",\"\",HLOOKUP(I$6,CPPE!$A$1:$DB$177,$A137,FALSE)))","v":""},{"$f":"IF(J$6=\"\",\"\",IF($B137=\"\",\"\",HLOOKUP(J$6,CPPE!$A$1:$DB$177,$A137,FALSE)))","v":""},{"$f":"IF(K$6=\"\",\"\",IF($B137=\"\",\"\",HLOOKUP(K$6,CPPE!$A$1:$DB$177,$A137,FALSE)))","v":""},{"$f":"IF(L$6=\"\",\"\",IF($B137=\"\",\"\",HLOOKUP(L$6,CPPE!$A$1:$DB$177,$A137,FALSE)))","v":""}]
[{"$f":"VLOOKUP(B138,'Select Practices'!$W$10:$X$197,2,FALSE)","v":169},null,{"$f":"IF(C$6=\"\",\"\",IF($B138=\"\",\"\",HLOOKUP(C$6,CPPE!$A$1:$DB$177,$A138,FALSE)))","v":""},{"$f":"IF(D$6=\"\",\"\",IF($B138=\"\",\"\",HLOOKUP(D$6,CPPE!$A$1:$DB$177,$A138,FALSE)))","v":""},{"$f":"IF(E$6=\"\",\"\",IF($B138=\"\",\"\",HLOOKUP(E$6,CPPE!$A$1:$DB$177,$A138,FALSE)))","v":""},{"$f":"IF(F$6=\"\",\"\",IF($B138=\"\",\"\",HLOOKUP(F$6,CPPE!$A$1:$DB$177,$A138,FALSE)))","v":""},{"$f":"IF(G$6=\"\",\"\",IF($B138=\"\",\"\",HLOOKUP(G$6,CPPE!$A$1:$DB$177,$A138,FALSE)))","v":""},{"$f":"IF(H$6=\"\",\"\",IF($B138=\"\",\"\",HLOOKUP(H$6,CPPE!$A$1:$DB$177,$A138,FALSE)))","v":""},{"$f":"IF(I$6=\"\",\"\",IF($B138=\"\",\"\",HLOOKUP(I$6,CPPE!$A$1:$DB$177,$A138,FALSE)))","v":""},{"$f":"IF(J$6=\"\",\"\",IF($B138=\"\",\"\",HLOOKUP(J$6,CPPE!$A$1:$DB$177,$A138,FALSE)))","v":""},{"$f":"IF(K$6=\"\",\"\",IF($B138=\"\",\"\",HLOOKUP(K$6,CPPE!$A$1:$DB$177,$A138,FALSE)))","v":""},{"$f":"IF(L$6=\"\",\"\",IF($B138=\"\",\"\",HLOOKUP(L$6,CPPE!$A$1:$DB$177,$A138,FALSE)))","v":""}]
[{"$f":"VLOOKUP(B139,'Select Practices'!$W$10:$X$197,2,FALSE)","v":169},null,{"$f":"IF(C$6=\"\",\"\",IF($B139=\"\",\"\",HLOOKUP(C$6,CPPE!$A$1:$DB$177,$A139,FALSE)))","v":""},{"$f":"IF(D$6=\"\",\"\",IF($B139=\"\",\"\",HLOOKUP(D$6,CPPE!$A$1:$DB$177,$A139,FALSE)))","v":""},{"$f":"IF(E$6=\"\",\"\",IF($B139=\"\",\"\",HLOOKUP(E$6,CPPE!$A$1:$DB$177,$A139,FALSE)))","v":""},{"$f":"IF(F$6=\"\",\"\",IF($B139=\"\",\"\",HLOOKUP(F$6,CPPE!$A$1:$DB$177,$A139,FALSE)))","v":""},{"$f":"IF(G$6=\"\",\"\",IF($B139=\"\",\"\",HLOOKUP(G$6,CPPE!$A$1:$DB$177,$A139,FALSE)))","v":""},{"$f":"IF(H$6=\"\",\"\",IF($B139=\"\",\"\",HLOOKUP(H$6,CPPE!$A$1:$DB$177,$A139,FALSE)))","v":""},{"$f":"IF(I$6=\"\",\"\",IF($B139=\"\",\"\",HLOOKUP(I$6,CPPE!$A$1:$DB$177,$A139,FALSE)))","v":""},{"$f":"IF(J$6=\"\",\"\",IF($B139=\"\",\"\",HLOOKUP(J$6,CPPE!$A$1:$DB$177,$A139,FALSE)))","v":""},{"$f":"IF(K$6=\"\",\"\",IF($B139=\"\",\"\",HLOOKUP(K$6,CPPE!$A$1:$DB$177,$A139,FALSE)))","v":""},{"$f":"IF(L$6=\"\",\"\",IF($B139=\"\",\"\",HLOOKUP(L$6,CPPE!$A$1:$DB$177,$A139,FALSE)))","v":""}]
[{"$f":"VLOOKUP(B140,'Select Practices'!$W$10:$X$197,2,FALSE)","v":169},null,{"$f":"IF(C$6=\"\",\"\",IF($B140=\"\",\"\",HLOOKUP(C$6,CPPE!$A$1:$DB$177,$A140,FALSE)))","v":""},{"$f":"IF(D$6=\"\",\"\",IF($B140=\"\",\"\",HLOOKUP(D$6,CPPE!$A$1:$DB$177,$A140,FALSE)))","v":""},{"$f":"IF(E$6=\"\",\"\",IF($B140=\"\",\"\",HLOOKUP(E$6,CPPE!$A$1:$DB$177,$A140,FALSE)))","v":""},{"$f":"IF(F$6=\"\",\"\",IF($B140=\"\",\"\",HLOOKUP(F$6,CPPE!$A$1:$DB$177,$A140,FALSE)))","v":""},{"$f":"IF(G$6=\"\",\"\",IF($B140=\"\",\"\",HLOOKUP(G$6,CPPE!$A$1:$DB$177,$A140,FALSE)))","v":""},{"$f":"IF(H$6=\"\",\"\",IF($B140=\"\",\"\",HLOOKUP(H$6,CPPE!$A$1:$DB$177,$A140,FALSE)))","v":""},{"$f":"IF(I$6=\"\",\"\",IF($B140=\"\",\"\",HLOOKUP(I$6,CPPE!$A$1:$DB$177,$A140,FALSE)))","v":""},{"$f":"IF(J$6=\"\",\"\",IF($B140=\"\",\"\",HLOOKUP(J$6,CPPE!$A$1:$DB$177,$A140,FALSE)))","v":""},{"$f":"IF(K$6=\"\",\"\",IF($B140=\"\",\"\",HLOOKUP(K$6,CPPE!$A$1:$DB$177,$A140,FALSE)))","v":""},{"$f":"IF(L$6=\"\",\"\",IF($B140=\"\",\"\",HLOOKUP(L$6,CPPE!$A$1:$DB$177,$A140,FALSE)))","v":""}]
[{"$f":"VLOOKUP(B141,'Select Practices'!$W$10:$X$197,2,FALSE)","v":169},null,{"$f":"IF(C$6=\"\",\"\",IF($B141=\"\",\"\",HLOOKUP(C$6,CPPE!$A$1:$DB$177,$A141,FALSE)))","v":""},{"$f":"IF(D$6=\"\",\"\",IF($B141=\"\",\"\",HLOOKUP(D$6,CPPE!$A$1:$DB$177,$A141,FALSE)))","v":""},{"$f":"IF(E$6=\"\",\"\",IF($B141=\"\",\"\",HLOOKUP(E$6,CPPE!$A$1:$DB$177,$A141,FALSE)))","v":""},{"$f":"IF(F$6=\"\",\"\",IF($B141=\"\",\"\",HLOOKUP(F$6,CPPE!$A$1:$DB$177,$A141,FALSE)))","v":""},{"$f":"IF(G$6=\"\",\"\",IF($B141=\"\",\"\",HLOOKUP(G$6,CPPE!$A$1:$DB$177,$A141,FALSE)))","v":""},{"$f":"IF(H$6=\"\",\"\",IF($B141=\"\",\"\",HLOOKUP(H$6,CPPE!$A$1:$DB$177,$A141,FALSE)))","v":""},{"$f":"IF(I$6=\"\",\"\",IF($B141=\"\",\"\",HLOOKUP(I$6,CPPE!$A$1:$DB$177,$A141,FALSE)))","v":""},{"$f":"IF(J$6=\"\",\"\",IF($B141=\"\",\"\",HLOOKUP(J$6,CPPE!$A$1:$DB$177,$A141,FALSE)))","v":""},{"$f":"IF(K$6=\"\",\"\",IF($B141=\"\",\"\",HLOOKUP(K$6,CPPE!$A$1:$DB$177,$A141,FALSE)))","v":""},{"$f":"IF(L$6=\"\",\"\",IF($B141=\"\",\"\",HLOOKUP(L$6,CPPE!$A$1:$DB$177,$A141,FALSE)))","v":""}]
[{"$f":"VLOOKUP(B142,'Select Practices'!$W$10:$X$197,2,FALSE)","v":169},null,{"$f":"IF(C$6=\"\",\"\",IF($B142=\"\",\"\",HLOOKUP(C$6,CPPE!$A$1:$DB$177,$A142,FALSE)))","v":""},{"$f":"IF(D$6=\"\",\"\",IF($B142=\"\",\"\",HLOOKUP(D$6,CPPE!$A$1:$DB$177,$A142,FALSE)))","v":""},{"$f":"IF(E$6=\"\",\"\",IF($B142=\"\",\"\",HLOOKUP(E$6,CPPE!$A$1:$DB$177,$A142,FALSE)))","v":""},{"$f":"IF(F$6=\"\",\"\",IF($B142=\"\",\"\",HLOOKUP(F$6,CPPE!$A$1:$DB$177,$A142,FALSE)))","v":""},{"$f":"IF(G$6=\"\",\"\",IF($B142=\"\",\"\",HLOOKUP(G$6,CPPE!$A$1:$DB$177,$A142,FALSE)))","v":""},{"$f":"IF(H$6=\"\",\"\",IF($B142=\"\",\"\",HLOOKUP(H$6,CPPE!$A$1:$DB$177,$A142,FALSE)))","v":""},{"$f":"IF(I$6=\"\",\"\",IF($B142=\"\",\"\",HLOOKUP(I$6,CPPE!$A$1:$DB$177,$A142,FALSE)))","v":""},{"$f":"IF(J$6=\"\",\"\",IF($B142=\"\",\"\",HLOOKUP(J$6,CPPE!$A$1:$DB$177,$A142,FALSE)))","v":""},{"$f":"IF(K$6=\"\",\"\",IF($B142=\"\",\"\",HLOOKUP(K$6,CPPE!$A$1:$DB$177,$A142,FALSE)))","v":""},{"$f":"IF(L$6=\"\",\"\",IF($B142=\"\",\"\",HLOOKUP(L$6,CPPE!$A$1:$DB$177,$A142,FALSE)))","v":""}]
[{"$f":"VLOOKUP(B143,'Select Practices'!$W$10:$X$197,2,FALSE)","v":169},null,{"$f":"IF(C$6=\"\",\"\",IF($B143=\"\",\"\",HLOOKUP(C$6,CPPE!$A$1:$DB$177,$A143,FALSE)))","v":""},{"$f":"IF(D$6=\"\",\"\",IF($B143=\"\",\"\",HLOOKUP(D$6,CPPE!$A$1:$DB$177,$A143,FALSE)))","v":""},{"$f":"IF(E$6=\"\",\"\",IF($B143=\"\",\"\",HLOOKUP(E$6,CPPE!$A$1:$DB$177,$A143,FALSE)))","v":""},{"$f":"IF(F$6=\"\",\"\",IF($B143=\"\",\"\",HLOOKUP(F$6,CPPE!$A$1:$DB$177,$A143,FALSE)))","v":""},{"$f":"IF(G$6=\"\",\"\",IF($B143=\"\",\"\",HLOOKUP(G$6,CPPE!$A$1:$DB$177,$A143,FALSE)))","v":""},{"$f":"IF(H$6=\"\",\"\",IF($B143=\"\",\"\",HLOOKUP(H$6,CPPE!$A$1:$DB$177,$A143,FALSE)))","v":""},{"$f":"IF(I$6=\"\",\"\",IF($B143=\"\",\"\",HLOOKUP(I$6,CPPE!$A$1:$DB$177,$A143,FALSE)))","v":""},{"$f":"IF(J$6=\"\",\"\",IF($B143=\"\",\"\",HLOOKUP(J$6,CPPE!$A$1:$DB$177,$A143,FALSE)))","v":""},{"$f":"IF(K$6=\"\",\"\",IF($B143=\"\",\"\",HLOOKUP(K$6,CPPE!$A$1:$DB$177,$A143,FALSE)))","v":""},{"$f":"IF(L$6=\"\",\"\",IF($B143=\"\",\"\",HLOOKUP(L$6,CPPE!$A$1:$DB$177,$A143,FALSE)))","v":""}]
[{"$f":"VLOOKUP(B144,'Select Practices'!$W$10:$X$197,2,FALSE)","v":169},null,{"$f":"IF(C$6=\"\",\"\",IF($B144=\"\",\"\",HLOOKUP(C$6,CPPE!$A$1:$DB$177,$A144,FALSE)))","v":""},{"$f":"IF(D$6=\"\",\"\",IF($B144=\"\",\"\",HLOOKUP(D$6,CPPE!$A$1:$DB$177,$A144,FALSE)))","v":""},{"$f":"IF(E$6=\"\",\"\",IF($B144=\"\",\"\",HLOOKUP(E$6,CPPE!$A$1:$DB$177,$A144,FALSE)))","v":""},{"$f":"IF(F$6=\"\",\"\",IF($B144=\"\",\"\",HLOOKUP(F$6,CPPE!$A$1:$DB$177,$A144,FALSE)))","v":""},{"$f":"IF(G$6=\"\",\"\",IF($B144=\"\",\"\",HLOOKUP(G$6,CPPE!$A$1:$DB$177,$A144,FALSE)))","v":""},{"$f":"IF(H$6=\"\",\"\",IF($B144=\"\",\"\",HLOOKUP(H$6,CPPE!$A$1:$DB$177,$A144,FALSE)))","v":""},{"$f":"IF(I$6=\"\",\"\",IF($B144=\"\",\"\",HLOOKUP(I$6,CPPE!$A$1:$DB$177,$A144,FALSE)))","v":""},{"$f":"IF(J$6=\"\",\"\",IF($B144=\"\",\"\",HLOOKUP(J$6,CPPE!$A$1:$DB$177,$A144,FALSE)))","v":""},{"$f":"IF(K$6=\"\",\"\",IF($B144=\"\",\"\",HLOOKUP(K$6,CPPE!$A$1:$DB$177,$A144,FALSE)))","v":""},{"$f":"IF(L$6=\"\",\"\",IF($B144=\"\",\"\",HLOOKUP(L$6,CPPE!$A$1:$DB$177,$A144,FALSE)))","v":""}]
[{"$f":"VLOOKUP(B145,'Select Practices'!$W$10:$X$197,2,FALSE)","v":169},null,{"$f":"IF(C$6=\"\",\"\",IF($B145=\"\",\"\",HLOOKUP(C$6,CPPE!$A$1:$DB$177,$A145,FALSE)))","v":""},{"$f":"IF(D$6=\"\",\"\",IF($B145=\"\",\"\",HLOOKUP(D$6,CPPE!$A$1:$DB$177,$A145,FALSE)))","v":""},{"$f":"IF(E$6=\"\",\"\",IF($B145=\"\",\"\",HLOOKUP(E$6,CPPE!$A$1:$DB$177,$A145,FALSE)))","v":""},{"$f":"IF(F$6=\"\",\"\",IF($B145=\"\",\"\",HLOOKUP(F$6,CPPE!$A$1:$DB$177,$A145,FALSE)))","v":""},{"$f":"IF(G$6=\"\",\"\",IF($B145=\"\",\"\",HLOOKUP(G$6,CPPE!$A$1:$DB$177,$A145,FALSE)))","v":""},{"$f":"IF(H$6=\"\",\"\",IF($B145=\"\",\"\",HLOOKUP(H$6,CPPE!$A$1:$DB$177,$A145,FALSE)))","v":""},{"$f":"IF(I$6=\"\",\"\",IF($B145=\"\",\"\",HLOOKUP(I$6,CPPE!$A$1:$DB$177,$A145,FALSE)))","v":""},{"$f":"IF(J$6=\"\",\"\",IF($B145=\"\",\"\",HLOOKUP(J$6,CPPE!$A$1:$DB$177,$A145,FALSE)))","v":""},{"$f":"IF(K$6=\"\",\"\",IF($B145=\"\",\"\",HLOOKUP(K$6,CPPE!$A$1:$DB$177,$A145,FALSE)))","v":""},{"$f":"IF(L$6=\"\",\"\",IF($B145=\"\",\"\",HLOOKUP(L$6,CPPE!$A$1:$DB$177,$A145,FALSE)))","v":""}]
[{"$f":"VLOOKUP(B146,'Select Practices'!$W$10:$X$197,2,FALSE)","v":169},null,{"$f":"IF(C$6=\"\",\"\",IF($B146=\"\",\"\",HLOOKUP(C$6,CPPE!$A$1:$DB$177,$A146,FALSE)))","v":""},{"$f":"IF(D$6=\"\",\"\",IF($B146=\"\",\"\",HLOOKUP(D$6,CPPE!$A$1:$DB$177,$A146,FALSE)))","v":""},{"$f":"IF(E$6=\"\",\"\",IF($B146=\"\",\"\",HLOOKUP(E$6,CPPE!$A$1:$DB$177,$A146,FALSE)))","v":""},{"$f":"IF(F$6=\"\",\"\",IF($B146=\"\",\"\",HLOOKUP(F$6,CPPE!$A$1:$DB$177,$A146,FALSE)))","v":""},{"$f":"IF(G$6=\"\",\"\",IF($B146=\"\",\"\",HLOOKUP(G$6,CPPE!$A$1:$DB$177,$A146,FALSE)))","v":""},{"$f":"IF(H$6=\"\",\"\",IF($B146=\"\",\"\",HLOOKUP(H$6,CPPE!$A$1:$DB$177,$A146,FALSE)))","v":""},{"$f":"IF(I$6=\"\",\"\",IF($B146=\"\",\"\",HLOOKUP(I$6,CPPE!$A$1:$DB$177,$A146,FALSE)))","v":""},{"$f":"IF(J$6=\"\",\"\",IF($B146=\"\",\"\",HLOOKUP(J$6,CPPE!$A$1:$DB$177,$A146,FALSE)))","v":""},{"$f":"IF(K$6=\"\",\"\",IF($B146=\"\",\"\",HLOOKUP(K$6,CPPE!$A$1:$DB$177,$A146,FALSE)))","v":""},{"$f":"IF(L$6=\"\",\"\",IF($B146=\"\",\"\",HLOOKUP(L$6,CPPE!$A$1:$DB$177,$A146,FALSE)))","v":""}]
[{"$f":"VLOOKUP(B147,'Select Practices'!$W$10:$X$197,2,FALSE)","v":169},null,{"$f":"IF(C$6=\"\",\"\",IF($B147=\"\",\"\",HLOOKUP(C$6,CPPE!$A$1:$DB$177,$A147,FALSE)))","v":""},{"$f":"IF(D$6=\"\",\"\",IF($B147=\"\",\"\",HLOOKUP(D$6,CPPE!$A$1:$DB$177,$A147,FALSE)))","v":""},{"$f":"IF(E$6=\"\",\"\",IF($B147=\"\",\"\",HLOOKUP(E$6,CPPE!$A$1:$DB$177,$A147,FALSE)))","v":""},{"$f":"IF(F$6=\"\",\"\",IF($B147=\"\",\"\",HLOOKUP(F$6,CPPE!$A$1:$DB$177,$A147,FALSE)))","v":""},{"$f":"IF(G$6=\"\",\"\",IF($B147=\"\",\"\",HLOOKUP(G$6,CPPE!$A$1:$DB$177,$A147,FALSE)))","v":""},{"$f":"IF(H$6=\"\",\"\",IF($B147=\"\",\"\",HLOOKUP(H$6,CPPE!$A$1:$DB$177,$A147,FALSE)))","v":""},{"$f":"IF(I$6=\"\",\"\",IF($B147=\"\",\"\",HLOOKUP(I$6,CPPE!$A$1:$DB$177,$A147,FALSE)))","v":""},{"$f":"IF(J$6=\"\",\"\",IF($B147=\"\",\"\",HLOOKUP(J$6,CPPE!$A$1:$DB$177,$A147,FALSE)))","v":""},{"$f":"IF(K$6=\"\",\"\",IF($B147=\"\",\"\",HLOOKUP(K$6,CPPE!$A$1:$DB$177,$A147,FALSE)))","v":""},{"$f":"IF(L$6=\"\",\"\",IF($B147=\"\",\"\",HLOOKUP(L$6,CPPE!$A$1:$DB$177,$A147,FALSE)))","v":""}]
[{"$f":"VLOOKUP(B148,'Select Practices'!$W$10:$X$197,2,FALSE)","v":169},null,{"$f":"IF(C$6=\"\",\"\",IF($B148=\"\",\"\",HLOOKUP(C$6,CPPE!$A$1:$DB$177,$A148,FALSE)))","v":""},{"$f":"IF(D$6=\"\",\"\",IF($B148=\"\",\"\",HLOOKUP(D$6,CPPE!$A$1:$DB$177,$A148,FALSE)))","v":""},{"$f":"IF(E$6=\"\",\"\",IF($B148=\"\",\"\",HLOOKUP(E$6,CPPE!$A$1:$DB$177,$A148,FALSE)))","v":""},{"$f":"IF(F$6=\"\",\"\",IF($B148=\"\",\"\",HLOOKUP(F$6,CPPE!$A$1:$DB$177,$A148,FALSE)))","v":""},{"$f":"IF(G$6=\"\",\"\",IF($B148=\"\",\"\",HLOOKUP(G$6,CPPE!$A$1:$DB$177,$A148,FALSE)))","v":""},{"$f":"IF(H$6=\"\",\"\",IF($B148=\"\",\"\",HLOOKUP(H$6,CPPE!$A$1:$DB$177,$A148,FALSE)))","v":""},{"$f":"IF(I$6=\"\",\"\",IF($B148=\"\",\"\",HLOOKUP(I$6,CPPE!$A$1:$DB$177,$A148,FALSE)))","v":""},{"$f":"IF(J$6=\"\",\"\",IF($B148=\"\",\"\",HLOOKUP(J$6,CPPE!$A$1:$DB$177,$A148,FALSE)))","v":""},{"$f":"IF(K$6=\"\",\"\",IF($B148=\"\",\"\",HLOOKUP(K$6,CPPE!$A$1:$DB$177,$A148,FALSE)))","v":""},{"$f":"IF(L$6=\"\",\"\",IF($B148=\"\",\"\",HLOOKUP(L$6,CPPE!$A$1:$DB$177,$A148,FALSE)))","v":""}]
[{"$f":"VLOOKUP(B149,'Select Practices'!$W$10:$X$197,2,FALSE)","v":169},null,{"$f":"IF(C$6=\"\",\"\",IF($B149=\"\",\"\",HLOOKUP(C$6,CPPE!$A$1:$DB$177,$A149,FALSE)))","v":""},{"$f":"IF(D$6=\"\",\"\",IF($B149=\"\",\"\",HLOOKUP(D$6,CPPE!$A$1:$DB$177,$A149,FALSE)))","v":""},{"$f":"IF(E$6=\"\",\"\",IF($B149=\"\",\"\",HLOOKUP(E$6,CPPE!$A$1:$DB$177,$A149,FALSE)))","v":""},{"$f":"IF(F$6=\"\",\"\",IF($B149=\"\",\"\",HLOOKUP(F$6,CPPE!$A$1:$DB$177,$A149,FALSE)))","v":""},{"$f":"IF(G$6=\"\",\"\",IF($B149=\"\",\"\",HLOOKUP(G$6,CPPE!$A$1:$DB$177,$A149,FALSE)))","v":""},{"$f":"IF(H$6=\"\",\"\",IF($B149=\"\",\"\",HLOOKUP(H$6,CPPE!$A$1:$DB$177,$A149,FALSE)))","v":""},{"$f":"IF(I$6=\"\",\"\",IF($B149=\"\",\"\",HLOOKUP(I$6,CPPE!$A$1:$DB$177,$A149,FALSE)))","v":""},{"$f":"IF(J$6=\"\",\"\",IF($B149=\"\",\"\",HLOOKUP(J$6,CPPE!$A$1:$DB$177,$A149,FALSE)))","v":""},{"$f":"IF(K$6=\"\",\"\",IF($B149=\"\",\"\",HLOOKUP(K$6,CPPE!$A$1:$DB$177,$A149,FALSE)))","v":""},{"$f":"IF(L$6=\"\",\"\",IF($B149=\"\",\"\",HLOOKUP(L$6,CPPE!$A$1:$DB$177,$A149,FALSE)))","v":""}]
[{"$f":"VLOOKUP(B150,'Select Practices'!$W$10:$X$197,2,FALSE)","v":169},null,{"$f":"IF(C$6=\"\",\"\",IF($B150=\"\",\"\",HLOOKUP(C$6,CPPE!$A$1:$DB$177,$A150,FALSE)))","v":""},{"$f":"IF(D$6=\"\",\"\",IF($B150=\"\",\"\",HLOOKUP(D$6,CPPE!$A$1:$DB$177,$A150,FALSE)))","v":""},{"$f":"IF(E$6=\"\",\"\",IF($B150=\"\",\"\",HLOOKUP(E$6,CPPE!$A$1:$DB$177,$A150,FALSE)))","v":""},{"$f":"IF(F$6=\"\",\"\",IF($B150=\"\",\"\",HLOOKUP(F$6,CPPE!$A$1:$DB$177,$A150,FALSE)))","v":""},{"$f":"IF(G$6=\"\",\"\",IF($B150=\"\",\"\",HLOOKUP(G$6,CPPE!$A$1:$DB$177,$A150,FALSE)))","v":""},{"$f":"IF(H$6=\"\",\"\",IF($B150=\"\",\"\",HLOOKUP(H$6,CPPE!$A$1:$DB$177,$A150,FALSE)))","v":""},{"$f":"IF(I$6=\"\",\"\",IF($B150=\"\",\"\",HLOOKUP(I$6,CPPE!$A$1:$DB$177,$A150,FALSE)))","v":""},{"$f":"IF(J$6=\"\",\"\",IF($B150=\"\",\"\",HLOOKUP(J$6,CPPE!$A$1:$DB$177,$A150,FALSE)))","v":""},{"$f":"IF(K$6=\"\",\"\",IF($B150=\"\",\"\",HLOOKUP(K$6,CPPE!$A$1:$DB$177,$A150,FALSE)))","v":""},{"$f":"IF(L$6=\"\",\"\",IF($B150=\"\",\"\",HLOOKUP(L$6,CPPE!$A$1:$DB$177,$A150,FALSE)))","v":""}]
[{"$f":"VLOOKUP(B151,'Select Practices'!$W$10:$X$197,2,FALSE)","v":169},null,{"$f":"IF(C$6=\"\",\"\",IF($B151=\"\",\"\",HLOOKUP(C$6,CPPE!$A$1:$DB$177,$A151,FALSE)))","v":""},{"$f":"IF(D$6=\"\",\"\",IF($B151=\"\",\"\",HLOOKUP(D$6,CPPE!$A$1:$DB$177,$A151,FALSE)))","v":""},{"$f":"IF(E$6=\"\",\"\",IF($B151=\"\",\"\",HLOOKUP(E$6,CPPE!$A$1:$DB$177,$A151,FALSE)))","v":""},{"$f":"IF(F$6=\"\",\"\",IF($B151=\"\",\"\",HLOOKUP(F$6,CPPE!$A$1:$DB$177,$A151,FALSE)))","v":""},{"$f":"IF(G$6=\"\",\"\",IF($B151=\"\",\"\",HLOOKUP(G$6,CPPE!$A$1:$DB$177,$A151,FALSE)))","v":""},{"$f":"IF(H$6=\"\",\"\",IF($B151=\"\",\"\",HLOOKUP(H$6,CPPE!$A$1:$DB$177,$A151,FALSE)))","v":""},{"$f":"IF(I$6=\"\",\"\",IF($B151=\"\",\"\",HLOOKUP(I$6,CPPE!$A$1:$DB$177,$A151,FALSE)))","v":""},{"$f":"IF(J$6=\"\",\"\",IF($B151=\"\",\"\",HLOOKUP(J$6,CPPE!$A$1:$DB$177,$A151,FALSE)))","v":""},{"$f":"IF(K$6=\"\",\"\",IF($B151=\"\",\"\",HLOOKUP(K$6,CPPE!$A$1:$DB$177,$A151,FALSE)))","v":""},{"$f":"IF(L$6=\"\",\"\",IF($B151=\"\",\"\",HLOOKUP(L$6,CPPE!$A$1:$DB$177,$A151,FALSE)))","v":""}]
[{"$f":"VLOOKUP(B152,'Select Practices'!$W$10:$X$197,2,FALSE)","v":169},null,{"$f":"IF(C$6=\"\",\"\",IF($B152=\"\",\"\",HLOOKUP(C$6,CPPE!$A$1:$DB$177,$A152,FALSE)))","v":""},{"$f":"IF(D$6=\"\",\"\",IF($B152=\"\",\"\",HLOOKUP(D$6,CPPE!$A$1:$DB$177,$A152,FALSE)))","v":""},{"$f":"IF(E$6=\"\",\"\",IF($B152=\"\",\"\",HLOOKUP(E$6,CPPE!$A$1:$DB$177,$A152,FALSE)))","v":""},{"$f":"IF(F$6=\"\",\"\",IF($B152=\"\",\"\",HLOOKUP(F$6,CPPE!$A$1:$DB$177,$A152,FALSE)))","v":""},{"$f":"IF(G$6=\"\",\"\",IF($B152=\"\",\"\",HLOOKUP(G$6,CPPE!$A$1:$DB$177,$A152,FALSE)))","v":""},{"$f":"IF(H$6=\"\",\"\",IF($B152=\"\",\"\",HLOOKUP(H$6,CPPE!$A$1:$DB$177,$A152,FALSE)))","v":""},{"$f":"IF(I$6=\"\",\"\",IF($B152=\"\",\"\",HLOOKUP(I$6,CPPE!$A$1:$DB$177,$A152,FALSE)))","v":""},{"$f":"IF(J$6=\"\",\"\",IF($B152=\"\",\"\",HLOOKUP(J$6,CPPE!$A$1:$DB$177,$A152,FALSE)))","v":""},{"$f":"IF(K$6=\"\",\"\",IF($B152=\"\",\"\",HLOOKUP(K$6,CPPE!$A$1:$DB$177,$A152,FALSE)))","v":""},{"$f":"IF(L$6=\"\",\"\",IF($B152=\"\",\"\",HLOOKUP(L$6,CPPE!$A$1:$DB$177,$A152,FALSE)))","v":""}]
[{"$f":"VLOOKUP(B153,'Select Practices'!$W$10:$X$197,2,FALSE)","v":169},null,{"$f":"IF(C$6=\"\",\"\",IF($B153=\"\",\"\",HLOOKUP(C$6,CPPE!$A$1:$DB$177,$A153,FALSE)))","v":""},{"$f":"IF(D$6=\"\",\"\",IF($B153=\"\",\"\",HLOOKUP(D$6,CPPE!$A$1:$DB$177,$A153,FALSE)))","v":""},{"$f":"IF(E$6=\"\",\"\",IF($B153=\"\",\"\",HLOOKUP(E$6,CPPE!$A$1:$DB$177,$A153,FALSE)))","v":""},{"$f":"IF(F$6=\"\",\"\",IF($B153=\"\",\"\",HLOOKUP(F$6,CPPE!$A$1:$DB$177,$A153,FALSE)))","v":""},{"$f":"IF(G$6=\"\",\"\",IF($B153=\"\",\"\",HLOOKUP(G$6,CPPE!$A$1:$DB$177,$A153,FALSE)))","v":""},{"$f":"IF(H$6=\"\",\"\",IF($B153=\"\",\"\",HLOOKUP(H$6,CPPE!$A$1:$DB$177,$A153,FALSE)))","v":""},{"$f":"IF(I$6=\"\",\"\",IF($B153=\"\",\"\",HLOOKUP(I$6,CPPE!$A$1:$DB$177,$A153,FALSE)))","v":""},{"$f":"IF(J$6=\"\",\"\",IF($B153=\"\",\"\",HLOOKUP(J$6,CPPE!$A$1:$DB$177,$A153,FALSE)))","v":""},{"$f":"IF(K$6=\"\",\"\",IF($B153=\"\",\"\",HLOOKUP(K$6,CPPE!$A$1:$DB$177,$A153,FALSE)))","v":""},{"$f":"IF(L$6=\"\",\"\",IF($B153=\"\",\"\",HLOOKUP(L$6,CPPE!$A$1:$DB$177,$A153,FALSE)))","v":""}]
[{"$f":"VLOOKUP(B154,'Select Practices'!$W$10:$X$197,2,FALSE)","v":169},null,{"$f":"IF(C$6=\"\",\"\",IF($B154=\"\",\"\",HLOOKUP(C$6,CPPE!$A$1:$DB$177,$A154,FALSE)))","v":""},{"$f":"IF(D$6=\"\",\"\",IF($B154=\"\",\"\",HLOOKUP(D$6,CPPE!$A$1:$DB$177,$A154,FALSE)))","v":""},{"$f":"IF(E$6=\"\",\"\",IF($B154=\"\",\"\",HLOOKUP(E$6,CPPE!$A$1:$DB$177,$A154,FALSE)))","v":""},{"$f":"IF(F$6=\"\",\"\",IF($B154=\"\",\"\",HLOOKUP(F$6,CPPE!$A$1:$DB$177,$A154,FALSE)))","v":""},{"$f":"IF(G$6=\"\",\"\",IF($B154=\"\",\"\",HLOOKUP(G$6,CPPE!$A$1:$DB$177,$A154,FALSE)))","v":""},{"$f":"IF(H$6=\"\",\"\",IF($B154=\"\",\"\",HLOOKUP(H$6,CPPE!$A$1:$DB$177,$A154,FALSE)))","v":""},{"$f":"IF(I$6=\"\",\"\",IF($B154=\"\",\"\",HLOOKUP(I$6,CPPE!$A$1:$DB$177,$A154,FALSE)))","v":""},{"$f":"IF(J$6=\"\",\"\",IF($B154=\"\",\"\",HLOOKUP(J$6,CPPE!$A$1:$DB$177,$A154,FALSE)))","v":""},{"$f":"IF(K$6=\"\",\"\",IF($B154=\"\",\"\",HLOOKUP(K$6,CPPE!$A$1:$DB$177,$A154,FALSE)))","v":""},{"$f":"IF(L$6=\"\",\"\",IF($B154=\"\",\"\",HLOOKUP(L$6,CPPE!$A$1:$DB$177,$A154,FALSE)))","v":""}]
[{"$f":"VLOOKUP(B155,'Select Practices'!$W$10:$X$197,2,FALSE)","v":169},null,{"$f":"IF(C$6=\"\",\"\",IF($B155=\"\",\"\",HLOOKUP(C$6,CPPE!$A$1:$DB$177,$A155,FALSE)))","v":""},{"$f":"IF(D$6=\"\",\"\",IF($B155=\"\",\"\",HLOOKUP(D$6,CPPE!$A$1:$DB$177,$A155,FALSE)))","v":""},{"$f":"IF(E$6=\"\",\"\",IF($B155=\"\",\"\",HLOOKUP(E$6,CPPE!$A$1:$DB$177,$A155,FALSE)))","v":""},{"$f":"IF(F$6=\"\",\"\",IF($B155=\"\",\"\",HLOOKUP(F$6,CPPE!$A$1:$DB$177,$A155,FALSE)))","v":""},{"$f":"IF(G$6=\"\",\"\",IF($B155=\"\",\"\",HLOOKUP(G$6,CPPE!$A$1:$DB$177,$A155,FALSE)))","v":""},{"$f":"IF(H$6=\"\",\"\",IF($B155=\"\",\"\",HLOOKUP(H$6,CPPE!$A$1:$DB$177,$A155,FALSE)))","v":""},{"$f":"IF(I$6=\"\",\"\",IF($B155=\"\",\"\",HLOOKUP(I$6,CPPE!$A$1:$DB$177,$A155,FALSE)))","v":""},{"$f":"IF(J$6=\"\",\"\",IF($B155=\"\",\"\",HLOOKUP(J$6,CPPE!$A$1:$DB$177,$A155,FALSE)))","v":""},{"$f":"IF(K$6=\"\",\"\",IF($B155=\"\",\"\",HLOOKUP(K$6,CPPE!$A$1:$DB$177,$A155,FALSE)))","v":""},{"$f":"IF(L$6=\"\",\"\",IF($B155=\"\",\"\",HLOOKUP(L$6,CPPE!$A$1:$DB$177,$A155,FALSE)))","v":""}]
[{"$f":"VLOOKUP(B156,'Select Practices'!$W$10:$X$197,2,FALSE)","v":169},null,{"$f":"IF(C$6=\"\",\"\",IF($B156=\"\",\"\",HLOOKUP(C$6,CPPE!$A$1:$DB$177,$A156,FALSE)))","v":""},{"$f":"IF(D$6=\"\",\"\",IF($B156=\"\",\"\",HLOOKUP(D$6,CPPE!$A$1:$DB$177,$A156,FALSE)))","v":""},{"$f":"IF(E$6=\"\",\"\",IF($B156=\"\",\"\",HLOOKUP(E$6,CPPE!$A$1:$DB$177,$A156,FALSE)))","v":""},{"$f":"IF(F$6=\"\",\"\",IF($B156=\"\",\"\",HLOOKUP(F$6,CPPE!$A$1:$DB$177,$A156,FALSE)))","v":""},{"$f":"IF(G$6=\"\",\"\",IF($B156=\"\",\"\",HLOOKUP(G$6,CPPE!$A$1:$DB$177,$A156,FALSE)))","v":""},{"$f":"IF(H$6=\"\",\"\",IF($B156=\"\",\"\",HLOOKUP(H$6,CPPE!$A$1:$DB$177,$A156,FALSE)))","v":""},{"$f":"IF(I$6=\"\",\"\",IF($B156=\"\",\"\",HLOOKUP(I$6,CPPE!$A$1:$DB$177,$A156,FALSE)))","v":""},{"$f":"IF(J$6=\"\",\"\",IF($B156=\"\",\"\",HLOOKUP(J$6,CPPE!$A$1:$DB$177,$A156,FALSE)))","v":""},{"$f":"IF(K$6=\"\",\"\",IF($B156=\"\",\"\",HLOOKUP(K$6,CPPE!$A$1:$DB$177,$A156,FALSE)))","v":""},{"$f":"IF(L$6=\"\",\"\",IF($B156=\"\",\"\",HLOOKUP(L$6,CPPE!$A$1:$DB$177,$A156,FALSE)))","v":""}]
[{"$f":"VLOOKUP(B157,'Select Practices'!$W$10:$X$197,2,FALSE)","v":169},null,{"$f":"IF(C$6=\"\",\"\",IF($B157=\"\",\"\",HLOOKUP(C$6,CPPE!$A$1:$DB$177,$A157,FALSE)))","v":""},{"$f":"IF(D$6=\"\",\"\",IF($B157=\"\",\"\",HLOOKUP(D$6,CPPE!$A$1:$DB$177,$A157,FALSE)))","v":""},{"$f":"IF(E$6=\"\",\"\",IF($B157=\"\",\"\",HLOOKUP(E$6,CPPE!$A$1:$DB$177,$A157,FALSE)))","v":""},{"$f":"IF(F$6=\"\",\"\",IF($B157=\"\",\"\",HLOOKUP(F$6,CPPE!$A$1:$DB$177,$A157,FALSE)))","v":""},{"$f":"IF(G$6=\"\",\"\",IF($B157=\"\",\"\",HLOOKUP(G$6,CPPE!$A$1:$DB$177,$A157,FALSE)))","v":""},{"$f":"IF(H$6=\"\",\"\",IF($B157=\"\",\"\",HLOOKUP(H$6,CPPE!$A$1:$DB$177,$A157,FALSE)))","v":""},{"$f":"IF(I$6=\"\",\"\",IF($B157=\"\",\"\",HLOOKUP(I$6,CPPE!$A$1:$DB$177,$A157,FALSE)))","v":""},{"$f":"IF(J$6=\"\",\"\",IF($B157=\"\",\"\",HLOOKUP(J$6,CPPE!$A$1:$DB$177,$A157,FALSE)))","v":""},{"$f":"IF(K$6=\"\",\"\",IF($B157=\"\",\"\",HLOOKUP(K$6,CPPE!$A$1:$DB$177,$A157,FALSE)))","v":""},{"$f":"IF(L$6=\"\",\"\",IF($B157=\"\",\"\",HLOOKUP(L$6,CPPE!$A$1:$DB$177,$A157,FALSE)))","v":""}]
[{"$f":"VLOOKUP(B158,'Select Practices'!$W$10:$X$197,2,FALSE)","v":169},null,{"$f":"IF(C$6=\"\",\"\",IF($B158=\"\",\"\",HLOOKUP(C$6,CPPE!$A$1:$DB$177,$A158,FALSE)))","v":""},{"$f":"IF(D$6=\"\",\"\",IF($B158=\"\",\"\",HLOOKUP(D$6,CPPE!$A$1:$DB$177,$A158,FALSE)))","v":""},{"$f":"IF(E$6=\"\",\"\",IF($B158=\"\",\"\",HLOOKUP(E$6,CPPE!$A$1:$DB$177,$A158,FALSE)))","v":""},{"$f":"IF(F$6=\"\",\"\",IF($B158=\"\",\"\",HLOOKUP(F$6,CPPE!$A$1:$DB$177,$A158,FALSE)))","v":""},{"$f":"IF(G$6=\"\",\"\",IF($B158=\"\",\"\",HLOOKUP(G$6,CPPE!$A$1:$DB$177,$A158,FALSE)))","v":""},{"$f":"IF(H$6=\"\",\"\",IF($B158=\"\",\"\",HLOOKUP(H$6,CPPE!$A$1:$DB$177,$A158,FALSE)))","v":""},{"$f":"IF(I$6=\"\",\"\",IF($B158=\"\",\"\",HLOOKUP(I$6,CPPE!$A$1:$DB$177,$A158,FALSE)))","v":""},{"$f":"IF(J$6=\"\",\"\",IF($B158=\"\",\"\",HLOOKUP(J$6,CPPE!$A$1:$DB$177,$A158,FALSE)))","v":""},{"$f":"IF(K$6=\"\",\"\",IF($B158=\"\",\"\",HLOOKUP(K$6,CPPE!$A$1:$DB$177,$A158,FALSE)))","v":""},{"$f":"IF(L$6=\"\",\"\",IF($B158=\"\",\"\",HLOOKUP(L$6,CPPE!$A$1:$DB$177,$A158,FALSE)))","v":""}]
[{"$f":"VLOOKUP(B159,'Select Practices'!$W$10:$X$197,2,FALSE)","v":169},null,{"$f":"IF(C$6=\"\",\"\",IF($B159=\"\",\"\",HLOOKUP(C$6,CPPE!$A$1:$DB$177,$A159,FALSE)))","v":""},{"$f":"IF(D$6=\"\",\"\",IF($B159=\"\",\"\",HLOOKUP(D$6,CPPE!$A$1:$DB$177,$A159,FALSE)))","v":""},{"$f":"IF(E$6=\"\",\"\",IF($B159=\"\",\"\",HLOOKUP(E$6,CPPE!$A$1:$DB$177,$A159,FALSE)))","v":""},{"$f":"IF(F$6=\"\",\"\",IF($B159=\"\",\"\",HLOOKUP(F$6,CPPE!$A$1:$DB$177,$A159,FALSE)))","v":""},{"$f":"IF(G$6=\"\",\"\",IF($B159=\"\",\"\",HLOOKUP(G$6,CPPE!$A$1:$DB$177,$A159,FALSE)))","v":""},{"$f":"IF(H$6=\"\",\"\",IF($B159=\"\",\"\",HLOOKUP(H$6,CPPE!$A$1:$DB$177,$A159,FALSE)))","v":""},{"$f":"IF(I$6=\"\",\"\",IF($B159=\"\",\"\",HLOOKUP(I$6,CPPE!$A$1:$DB$177,$A159,FALSE)))","v":""},{"$f":"IF(J$6=\"\",\"\",IF($B159=\"\",\"\",HLOOKUP(J$6,CPPE!$A$1:$DB$177,$A159,FALSE)))","v":""},{"$f":"IF(K$6=\"\",\"\",IF($B159=\"\",\"\",HLOOKUP(K$6,CPPE!$A$1:$DB$177,$A159,FALSE)))","v":""},{"$f":"IF(L$6=\"\",\"\",IF($B159=\"\",\"\",HLOOKUP(L$6,CPPE!$A$1:$DB$177,$A159,FALSE)))","v":""}]
[{"$f":"VLOOKUP(B160,'Select Practices'!$W$10:$X$197,2,FALSE)","v":169},null,{"$f":"IF(C$6=\"\",\"\",IF($B160=\"\",\"\",HLOOKUP(C$6,CPPE!$A$1:$DB$177,$A160,FALSE)))","v":""},{"$f":"IF(D$6=\"\",\"\",IF($B160=\"\",\"\",HLOOKUP(D$6,CPPE!$A$1:$DB$177,$A160,FALSE)))","v":""},{"$f":"IF(E$6=\"\",\"\",IF($B160=\"\",\"\",HLOOKUP(E$6,CPPE!$A$1:$DB$177,$A160,FALSE)))","v":""},{"$f":"IF(F$6=\"\",\"\",IF($B160=\"\",\"\",HLOOKUP(F$6,CPPE!$A$1:$DB$177,$A160,FALSE)))","v":""},{"$f":"IF(G$6=\"\",\"\",IF($B160=\"\",\"\",HLOOKUP(G$6,CPPE!$A$1:$DB$177,$A160,FALSE)))","v":""},{"$f":"IF(H$6=\"\",\"\",IF($B160=\"\",\"\",HLOOKUP(H$6,CPPE!$A$1:$DB$177,$A160,FALSE)))","v":""},{"$f":"IF(I$6=\"\",\"\",IF($B160=\"\",\"\",HLOOKUP(I$6,CPPE!$A$1:$DB$177,$A160,FALSE)))","v":""},{"$f":"IF(J$6=\"\",\"\",IF($B160=\"\",\"\",HLOOKUP(J$6,CPPE!$A$1:$DB$177,$A160,FALSE)))","v":""},{"$f":"IF(K$6=\"\",\"\",IF($B160=\"\",\"\",HLOOKUP(K$6,CPPE!$A$1:$DB$177,$A160,FALSE)))","v":""},{"$f":"IF(L$6=\"\",\"\",IF($B160=\"\",\"\",HLOOKUP(L$6,CPPE!$A$1:$DB$177,$A160,FALSE)))","v":""}]
[{"$f":"VLOOKUP(B161,'Select Practices'!$W$10:$X$197,2,FALSE)","v":169},null,{"$f":"IF(C$6=\"\",\"\",IF($B161=\"\",\"\",HLOOKUP(C$6,CPPE!$A$1:$DB$177,$A161,FALSE)))","v":""},{"$f":"IF(D$6=\"\",\"\",IF($B161=\"\",\"\",HLOOKUP(D$6,CPPE!$A$1:$DB$177,$A161,FALSE)))","v":""},{"$f":"IF(E$6=\"\",\"\",IF($B161=\"\",\"\",HLOOKUP(E$6,CPPE!$A$1:$DB$177,$A161,FALSE)))","v":""},{"$f":"IF(F$6=\"\",\"\",IF($B161=\"\",\"\",HLOOKUP(F$6,CPPE!$A$1:$DB$177,$A161,FALSE)))","v":""},{"$f":"IF(G$6=\"\",\"\",IF($B161=\"\",\"\",HLOOKUP(G$6,CPPE!$A$1:$DB$177,$A161,FALSE)))","v":""},{"$f":"IF(H$6=\"\",\"\",IF($B161=\"\",\"\",HLOOKUP(H$6,CPPE!$A$1:$DB$177,$A161,FALSE)))","v":""},{"$f":"IF(I$6=\"\",\"\",IF($B161=\"\",\"\",HLOOKUP(I$6,CPPE!$A$1:$DB$177,$A161,FALSE)))","v":""},{"$f":"IF(J$6=\"\",\"\",IF($B161=\"\",\"\",HLOOKUP(J$6,CPPE!$A$1:$DB$177,$A161,FALSE)))","v":""},{"$f":"IF(K$6=\"\",\"\",IF($B161=\"\",\"\",HLOOKUP(K$6,CPPE!$A$1:$DB$177,$A161,FALSE)))","v":""},{"$f":"IF(L$6=\"\",\"\",IF($B161=\"\",\"\",HLOOKUP(L$6,CPPE!$A$1:$DB$177,$A161,FALSE)))","v":""}]
[{"$f":"VLOOKUP(B162,'Select Practices'!$W$10:$X$197,2,FALSE)","v":169},null,{"$f":"IF(C$6=\"\",\"\",IF($B162=\"\",\"\",HLOOKUP(C$6,CPPE!$A$1:$DB$177,$A162,FALSE)))","v":""},{"$f":"IF(D$6=\"\",\"\",IF($B162=\"\",\"\",HLOOKUP(D$6,CPPE!$A$1:$DB$177,$A162,FALSE)))","v":""},{"$f":"IF(E$6=\"\",\"\",IF($B162=\"\",\"\",HLOOKUP(E$6,CPPE!$A$1:$DB$177,$A162,FALSE)))","v":""},{"$f":"IF(F$6=\"\",\"\",IF($B162=\"\",\"\",HLOOKUP(F$6,CPPE!$A$1:$DB$177,$A162,FALSE)))","v":""},{"$f":"IF(G$6=\"\",\"\",IF($B162=\"\",\"\",HLOOKUP(G$6,CPPE!$A$1:$DB$177,$A162,FALSE)))","v":""},{"$f":"IF(H$6=\"\",\"\",IF($B162=\"\",\"\",HLOOKUP(H$6,CPPE!$A$1:$DB$177,$A162,FALSE)))","v":""},{"$f":"IF(I$6=\"\",\"\",IF($B162=\"\",\"\",HLOOKUP(I$6,CPPE!$A$1:$DB$177,$A162,FALSE)))","v":""},{"$f":"IF(J$6=\"\",\"\",IF($B162=\"\",\"\",HLOOKUP(J$6,CPPE!$A$1:$DB$177,$A162,FALSE)))","v":""},{"$f":"IF(K$6=\"\",\"\",IF($B162=\"\",\"\",HLOOKUP(K$6,CPPE!$A$1:$DB$177,$A162,FALSE)))","v":""},{"$f":"IF(L$6=\"\",\"\",IF($B162=\"\",\"\",HLOOKUP(L$6,CPPE!$A$1:$DB$177,$A162,FALSE)))","v":""}]
[{"$f":"VLOOKUP(B163,'Select Practices'!$W$10:$X$197,2,FALSE)","v":169},null,{"$f":"IF(C$6=\"\",\"\",IF($B163=\"\",\"\",HLOOKUP(C$6,CPPE!$A$1:$DB$177,$A163,FALSE)))","v":""},{"$f":"IF(D$6=\"\",\"\",IF($B163=\"\",\"\",HLOOKUP(D$6,CPPE!$A$1:$DB$177,$A163,FALSE)))","v":""},{"$f":"IF(E$6=\"\",\"\",IF($B163=\"\",\"\",HLOOKUP(E$6,CPPE!$A$1:$DB$177,$A163,FALSE)))","v":""},{"$f":"IF(F$6=\"\",\"\",IF($B163=\"\",\"\",HLOOKUP(F$6,CPPE!$A$1:$DB$177,$A163,FALSE)))","v":""},{"$f":"IF(G$6=\"\",\"\",IF($B163=\"\",\"\",HLOOKUP(G$6,CPPE!$A$1:$DB$177,$A163,FALSE)))","v":""},{"$f":"IF(H$6=\"\",\"\",IF($B163=\"\",\"\",HLOOKUP(H$6,CPPE!$A$1:$DB$177,$A163,FALSE)))","v":""},{"$f":"IF(I$6=\"\",\"\",IF($B163=\"\",\"\",HLOOKUP(I$6,CPPE!$A$1:$DB$177,$A163,FALSE)))","v":""},{"$f":"IF(J$6=\"\",\"\",IF($B163=\"\",\"\",HLOOKUP(J$6,CPPE!$A$1:$DB$177,$A163,FALSE)))","v":""},{"$f":"IF(K$6=\"\",\"\",IF($B163=\"\",\"\",HLOOKUP(K$6,CPPE!$A$1:$DB$177,$A163,FALSE)))","v":""},{"$f":"IF(L$6=\"\",\"\",IF($B163=\"\",\"\",HLOOKUP(L$6,CPPE!$A$1:$DB$177,$A163,FALSE)))","v":""}]
[{"$f":"VLOOKUP(B164,'Select Practices'!$W$10:$X$197,2,FALSE)","v":169},null,{"$f":"IF(C$6=\"\",\"\",IF($B164=\"\",\"\",HLOOKUP(C$6,CPPE!$A$1:$DB$177,$A164,FALSE)))","v":""},{"$f":"IF(D$6=\"\",\"\",IF($B164=\"\",\"\",HLOOKUP(D$6,CPPE!$A$1:$DB$177,$A164,FALSE)))","v":""},{"$f":"IF(E$6=\"\",\"\",IF($B164=\"\",\"\",HLOOKUP(E$6,CPPE!$A$1:$DB$177,$A164,FALSE)))","v":""},{"$f":"IF(F$6=\"\",\"\",IF($B164=\"\",\"\",HLOOKUP(F$6,CPPE!$A$1:$DB$177,$A164,FALSE)))","v":""},{"$f":"IF(G$6=\"\",\"\",IF($B164=\"\",\"\",HLOOKUP(G$6,CPPE!$A$1:$DB$177,$A164,FALSE)))","v":""},{"$f":"IF(H$6=\"\",\"\",IF($B164=\"\",\"\",HLOOKUP(H$6,CPPE!$A$1:$DB$177,$A164,FALSE)))","v":""},{"$f":"IF(I$6=\"\",\"\",IF($B164=\"\",\"\",HLOOKUP(I$6,CPPE!$A$1:$DB$177,$A164,FALSE)))","v":""},{"$f":"IF(J$6=\"\",\"\",IF($B164=\"\",\"\",HLOOKUP(J$6,CPPE!$A$1:$DB$177,$A164,FALSE)))","v":""},{"$f":"IF(K$6=\"\",\"\",IF($B164=\"\",\"\",HLOOKUP(K$6,CPPE!$A$1:$DB$177,$A164,FALSE)))","v":""},{"$f":"IF(L$6=\"\",\"\",IF($B164=\"\",\"\",HLOOKUP(L$6,CPPE!$A$1:$DB$177,$A164,FALSE)))","v":""}]
[{"$f":"VLOOKUP(B165,'Select Practices'!$W$10:$X$197,2,FALSE)","v":169},null,{"$f":"IF(C$6=\"\",\"\",IF($B165=\"\",\"\",HLOOKUP(C$6,CPPE!$A$1:$DB$177,$A165,FALSE)))","v":""},{"$f":"IF(D$6=\"\",\"\",IF($B165=\"\",\"\",HLOOKUP(D$6,CPPE!$A$1:$DB$177,$A165,FALSE)))","v":""},{"$f":"IF(E$6=\"\",\"\",IF($B165=\"\",\"\",HLOOKUP(E$6,CPPE!$A$1:$DB$177,$A165,FALSE)))","v":""},{"$f":"IF(F$6=\"\",\"\",IF($B165=\"\",\"\",HLOOKUP(F$6,CPPE!$A$1:$DB$177,$A165,FALSE)))","v":""},{"$f":"IF(G$6=\"\",\"\",IF($B165=\"\",\"\",HLOOKUP(G$6,CPPE!$A$1:$DB$177,$A165,FALSE)))","v":""},{"$f":"IF(H$6=\"\",\"\",IF($B165=\"\",\"\",HLOOKUP(H$6,CPPE!$A$1:$DB$177,$A165,FALSE)))","v":""},{"$f":"IF(I$6=\"\",\"\",IF($B165=\"\",\"\",HLOOKUP(I$6,CPPE!$A$1:$DB$177,$A165,FALSE)))","v":""},{"$f":"IF(J$6=\"\",\"\",IF($B165=\"\",\"\",HLOOKUP(J$6,CPPE!$A$1:$DB$177,$A165,FALSE)))","v":""},{"$f":"IF(K$6=\"\",\"\",IF($B165=\"\",\"\",HLOOKUP(K$6,CPPE!$A$1:$DB$177,$A165,FALSE)))","v":""},{"$f":"IF(L$6=\"\",\"\",IF($B165=\"\",\"\",HLOOKUP(L$6,CPPE!$A$1:$DB$177,$A165,FALSE)))","v":""}]
[{"$f":"VLOOKUP(B166,'Select Practices'!$W$10:$X$197,2,FALSE)","v":169},null,{"$f":"IF(C$6=\"\",\"\",IF($B166=\"\",\"\",HLOOKUP(C$6,CPPE!$A$1:$DB$177,$A166,FALSE)))","v":""},{"$f":"IF(D$6=\"\",\"\",IF($B166=\"\",\"\",HLOOKUP(D$6,CPPE!$A$1:$DB$177,$A166,FALSE)))","v":""},{"$f":"IF(E$6=\"\",\"\",IF($B166=\"\",\"\",HLOOKUP(E$6,CPPE!$A$1:$DB$177,$A166,FALSE)))","v":""},{"$f":"IF(F$6=\"\",\"\",IF($B166=\"\",\"\",HLOOKUP(F$6,CPPE!$A$1:$DB$177,$A166,FALSE)))","v":""},{"$f":"IF(G$6=\"\",\"\",IF($B166=\"\",\"\",HLOOKUP(G$6,CPPE!$A$1:$DB$177,$A166,FALSE)))","v":""},{"$f":"IF(H$6=\"\",\"\",IF($B166=\"\",\"\",HLOOKUP(H$6,CPPE!$A$1:$DB$177,$A166,FALSE)))","v":""},{"$f":"IF(I$6=\"\",\"\",IF($B166=\"\",\"\",HLOOKUP(I$6,CPPE!$A$1:$DB$177,$A166,FALSE)))","v":""},{"$f":"IF(J$6=\"\",\"\",IF($B166=\"\",\"\",HLOOKUP(J$6,CPPE!$A$1:$DB$177,$A166,FALSE)))","v":""},{"$f":"IF(K$6=\"\",\"\",IF($B166=\"\",\"\",HLOOKUP(K$6,CPPE!$A$1:$DB$177,$A166,FALSE)))","v":""},{"$f":"IF(L$6=\"\",\"\",IF($B166=\"\",\"\",HLOOKUP(L$6,CPPE!$A$1:$DB$177,$A166,FALSE)))","v":""}]
[{"$f":"VLOOKUP(B167,'Select Practices'!$W$10:$X$197,2,FALSE)","v":169},null,{"$f":"IF(C$6=\"\",\"\",IF($B167=\"\",\"\",HLOOKUP(C$6,CPPE!$A$1:$DB$177,$A167,FALSE)))","v":""},{"$f":"IF(D$6=\"\",\"\",IF($B167=\"\",\"\",HLOOKUP(D$6,CPPE!$A$1:$DB$177,$A167,FALSE)))","v":""},{"$f":"IF(E$6=\"\",\"\",IF($B167=\"\",\"\",HLOOKUP(E$6,CPPE!$A$1:$DB$177,$A167,FALSE)))","v":""},{"$f":"IF(F$6=\"\",\"\",IF($B167=\"\",\"\",HLOOKUP(F$6,CPPE!$A$1:$DB$177,$A167,FALSE)))","v":""},{"$f":"IF(G$6=\"\",\"\",IF($B167=\"\",\"\",HLOOKUP(G$6,CPPE!$A$1:$DB$177,$A167,FALSE)))","v":""},{"$f":"IF(H$6=\"\",\"\",IF($B167=\"\",\"\",HLOOKUP(H$6,CPPE!$A$1:$DB$177,$A167,FALSE)))","v":""},{"$f":"IF(I$6=\"\",\"\",IF($B167=\"\",\"\",HLOOKUP(I$6,CPPE!$A$1:$DB$177,$A167,FALSE)))","v":""},{"$f":"IF(J$6=\"\",\"\",IF($B167=\"\",\"\",HLOOKUP(J$6,CPPE!$A$1:$DB$177,$A167,FALSE)))","v":""},{"$f":"IF(K$6=\"\",\"\",IF($B167=\"\",\"\",HLOOKUP(K$6,CPPE!$A$1:$DB$177,$A167,FALSE)))","v":""},{"$f":"IF(L$6=\"\",\"\",IF($B167=\"\",\"\",HLOOKUP(L$6,CPPE!$A$1:$DB$177,$A167,FALSE)))","v":""}]
[{"$f":"VLOOKUP(B168,'Select Practices'!$W$10:$X$197,2,FALSE)","v":169},null,{"$f":"IF(C$6=\"\",\"\",IF($B168=\"\",\"\",HLOOKUP(C$6,CPPE!$A$1:$DB$177,$A168,FALSE)))","v":""},{"$f":"IF(D$6=\"\",\"\",IF($B168=\"\",\"\",HLOOKUP(D$6,CPPE!$A$1:$DB$177,$A168,FALSE)))","v":""},{"$f":"IF(E$6=\"\",\"\",IF($B168=\"\",\"\",HLOOKUP(E$6,CPPE!$A$1:$DB$177,$A168,FALSE)))","v":""},{"$f":"IF(F$6=\"\",\"\",IF($B168=\"\",\"\",HLOOKUP(F$6,CPPE!$A$1:$DB$177,$A168,FALSE)))","v":""},{"$f":"IF(G$6=\"\",\"\",IF($B168=\"\",\"\",HLOOKUP(G$6,CPPE!$A$1:$DB$177,$A168,FALSE)))","v":""},{"$f":"IF(H$6=\"\",\"\",IF($B168=\"\",\"\",HLOOKUP(H$6,CPPE!$A$1:$DB$177,$A168,FALSE)))","v":""},{"$f":"IF(I$6=\"\",\"\",IF($B168=\"\",\"\",HLOOKUP(I$6,CPPE!$A$1:$DB$177,$A168,FALSE)))","v":""},{"$f":"IF(J$6=\"\",\"\",IF($B168=\"\",\"\",HLOOKUP(J$6,CPPE!$A$1:$DB$177,$A168,FALSE)))","v":""},{"$f":"IF(K$6=\"\",\"\",IF($B168=\"\",\"\",HLOOKUP(K$6,CPPE!$A$1:$DB$177,$A168,FALSE)))","v":""},{"$f":"IF(L$6=\"\",\"\",IF($B168=\"\",\"\",HLOOKUP(L$6,CPPE!$A$1:$DB$177,$A168,FALSE)))","v":""}]
[{"$f":"VLOOKUP(B169,'Select Practices'!$W$10:$X$197,2,FALSE)","v":169},null,{"$f":"IF(C$6=\"\",\"\",IF($B169=\"\",\"\",HLOOKUP(C$6,CPPE!$A$1:$DB$177,$A169,FALSE)))","v":""},{"$f":"IF(D$6=\"\",\"\",IF($B169=\"\",\"\",HLOOKUP(D$6,CPPE!$A$1:$DB$177,$A169,FALSE)))","v":""},{"$f":"IF(E$6=\"\",\"\",IF($B169=\"\",\"\",HLOOKUP(E$6,CPPE!$A$1:$DB$177,$A169,FALSE)))","v":""},{"$f":"IF(F$6=\"\",\"\",IF($B169=\"\",\"\",HLOOKUP(F$6,CPPE!$A$1:$DB$177,$A169,FALSE)))","v":""},{"$f":"IF(G$6=\"\",\"\",IF($B169=\"\",\"\",HLOOKUP(G$6,CPPE!$A$1:$DB$177,$A169,FALSE)))","v":""},{"$f":"IF(H$6=\"\",\"\",IF($B169=\"\",\"\",HLOOKUP(H$6,CPPE!$A$1:$DB$177,$A169,FALSE)))","v":""},{"$f":"IF(I$6=\"\",\"\",IF($B169=\"\",\"\",HLOOKUP(I$6,CPPE!$A$1:$DB$177,$A169,FALSE)))","v":""},{"$f":"IF(J$6=\"\",\"\",IF($B169=\"\",\"\",HLOOKUP(J$6,CPPE!$A$1:$DB$177,$A169,FALSE)))","v":""},{"$f":"IF(K$6=\"\",\"\",IF($B169=\"\",\"\",HLOOKUP(K$6,CPPE!$A$1:$DB$177,$A169,FALSE)))","v":""},{"$f":"IF(L$6=\"\",\"\",IF($B169=\"\",\"\",HLOOKUP(L$6,CPPE!$A$1:$DB$177,$A169,FALSE)))","v":""}]
[{"$f":"VLOOKUP(B170,'Select Practices'!$W$10:$X$197,2,FALSE)","v":169},null,{"$f":"IF(C$6=\"\",\"\",IF($B170=\"\",\"\",HLOOKUP(C$6,CPPE!$A$1:$DB$177,$A170,FALSE)))","v":""},{"$f":"IF(D$6=\"\",\"\",IF($B170=\"\",\"\",HLOOKUP(D$6,CPPE!$A$1:$DB$177,$A170,FALSE)))","v":""},{"$f":"IF(E$6=\"\",\"\",IF($B170=\"\",\"\",HLOOKUP(E$6,CPPE!$A$1:$DB$177,$A170,FALSE)))","v":""},{"$f":"IF(F$6=\"\",\"\",IF($B170=\"\",\"\",HLOOKUP(F$6,CPPE!$A$1:$DB$177,$A170,FALSE)))","v":""},{"$f":"IF(G$6=\"\",\"\",IF($B170=\"\",\"\",HLOOKUP(G$6,CPPE!$A$1:$DB$177,$A170,FALSE)))","v":""},{"$f":"IF(H$6=\"\",\"\",IF($B170=\"\",\"\",HLOOKUP(H$6,CPPE!$A$1:$DB$177,$A170,FALSE)))","v":""},{"$f":"IF(I$6=\"\",\"\",IF($B170=\"\",\"\",HLOOKUP(I$6,CPPE!$A$1:$DB$177,$A170,FALSE)))","v":""},{"$f":"IF(J$6=\"\",\"\",IF($B170=\"\",\"\",HLOOKUP(J$6,CPPE!$A$1:$DB$177,$A170,FALSE)))","v":""},{"$f":"IF(K$6=\"\",\"\",IF($B170=\"\",\"\",HLOOKUP(K$6,CPPE!$A$1:$DB$177,$A170,FALSE)))","v":""},{"$f":"IF(L$6=\"\",\"\",IF($B170=\"\",\"\",HLOOKUP(L$6,CPPE!$A$1:$DB$177,$A170,FALSE)))","v":""}]
[{"$f":"VLOOKUP(B171,'Select Practices'!$W$10:$X$197,2,FALSE)","v":169},null,{"$f":"IF(C$6=\"\",\"\",IF($B171=\"\",\"\",HLOOKUP(C$6,CPPE!$A$1:$DB$177,$A171,FALSE)))","v":""},{"$f":"IF(D$6=\"\",\"\",IF($B171=\"\",\"\",HLOOKUP(D$6,CPPE!$A$1:$DB$177,$A171,FALSE)))","v":""},{"$f":"IF(E$6=\"\",\"\",IF($B171=\"\",\"\",HLOOKUP(E$6,CPPE!$A$1:$DB$177,$A171,FALSE)))","v":""},{"$f":"IF(F$6=\"\",\"\",IF($B171=\"\",\"\",HLOOKUP(F$6,CPPE!$A$1:$DB$177,$A171,FALSE)))","v":""},{"$f":"IF(G$6=\"\",\"\",IF($B171=\"\",\"\",HLOOKUP(G$6,CPPE!$A$1:$DB$177,$A171,FALSE)))","v":""},{"$f":"IF(H$6=\"\",\"\",IF($B171=\"\",\"\",HLOOKUP(H$6,CPPE!$A$1:$DB$177,$A171,FALSE)))","v":""},{"$f":"IF(I$6=\"\",\"\",IF($B171=\"\",\"\",HLOOKUP(I$6,CPPE!$A$1:$DB$177,$A171,FALSE)))","v":""},{"$f":"IF(J$6=\"\",\"\",IF($B171=\"\",\"\",HLOOKUP(J$6,CPPE!$A$1:$DB$177,$A171,FALSE)))","v":""},{"$f":"IF(K$6=\"\",\"\",IF($B171=\"\",\"\",HLOOKUP(K$6,CPPE!$A$1:$DB$177,$A171,FALSE)))","v":""},{"$f":"IF(L$6=\"\",\"\",IF($B171=\"\",\"\",HLOOKUP(L$6,CPPE!$A$1:$DB$177,$A171,FALSE)))","v":""}]
[{"$f":"VLOOKUP(B172,'Select Practices'!$W$10:$X$197,2,FALSE)","v":169},null,{"$f":"IF(C$6=\"\",\"\",IF($B172=\"\",\"\",HLOOKUP(C$6,CPPE!$A$1:$DB$177,$A172,FALSE)))","v":""},{"$f":"IF(D$6=\"\",\"\",IF($B172=\"\",\"\",HLOOKUP(D$6,CPPE!$A$1:$DB$177,$A172,FALSE)))","v":""},{"$f":"IF(E$6=\"\",\"\",IF($B172=\"\",\"\",HLOOKUP(E$6,CPPE!$A$1:$DB$177,$A172,FALSE)))","v":""},{"$f":"IF(F$6=\"\",\"\",IF($B172=\"\",\"\",HLOOKUP(F$6,CPPE!$A$1:$DB$177,$A172,FALSE)))","v":""},{"$f":"IF(G$6=\"\",\"\",IF($B172=\"\",\"\",HLOOKUP(G$6,CPPE!$A$1:$DB$177,$A172,FALSE)))","v":""},{"$f":"IF(H$6=\"\",\"\",IF($B172=\"\",\"\",HLOOKUP(H$6,CPPE!$A$1:$DB$177,$A172,FALSE)))","v":""},{"$f":"IF(I$6=\"\",\"\",IF($B172=\"\",\"\",HLOOKUP(I$6,CPPE!$A$1:$DB$177,$A172,FALSE)))","v":""},{"$f":"IF(J$6=\"\",\"\",IF($B172=\"\",\"\",HLOOKUP(J$6,CPPE!$A$1:$DB$177,$A172,FALSE)))","v":""},{"$f":"IF(K$6=\"\",\"\",IF($B172=\"\",\"\",HLOOKUP(K$6,CPPE!$A$1:$DB$177,$A172,FALSE)))","v":""},{"$f":"IF(L$6=\"\",\"\",IF($B172=\"\",\"\",HLOOKUP(L$6,CPPE!$A$1:$DB$177,$A172,FALSE)))","v":""}]
[null,null,{"$f":"IF(C$6=\"\",\"\",IF($B173=\"\",\"\",HLOOKUP(C$6,CPPE!$A$1:$DB$177,$A173,FALSE)))","v":""},{"$f":"IF(D$6=\"\",\"\",IF($B173=\"\",\"\",HLOOKUP(D$6,CPPE!$A$1:$DB$177,$A173,FALSE)))","v":""},{"$f":"IF(E$6=\"\",\"\",IF($B173=\"\",\"\",HLOOKUP(E$6,CPPE!$A$1:$DB$177,$A173,FALSE)))","v":""},{"$f":"IF(F$6=\"\",\"\",IF($B173=\"\",\"\",HLOOKUP(F$6,CPPE!$A$1:$DB$177,$A173,FALSE)))","v":""},{"$f":"IF(G$6=\"\",\"\",IF($B173=\"\",\"\",HLOOKUP(G$6,CPPE!$A$1:$DB$177,$A173,FALSE)))","v":""},{"$f":"IF(H$6=\"\",\"\",IF($B173=\"\",\"\",HLOOKUP(H$6,CPPE!$A$1:$DB$177,$A173,FALSE)))","v":""},{"$f":"IF(I$6=\"\",\"\",IF($B173=\"\",\"\",HLOOKUP(I$6,CPPE!$A$1:$DB$177,$A173,FALSE)))","v":""},{"$f":"IF(J$6=\"\",\"\",IF($B173=\"\",\"\",HLOOKUP(J$6,CPPE!$A$1:$DB$177,$A173,FALSE)))","v":""},{"$f":"IF(K$6=\"\",\"\",IF($B173=\"\",\"\",HLOOKUP(K$6,CPPE!$A$1:$DB$177,$A173,FALSE)))","v":""},{"$f":"IF(L$6=\"\",\"\",IF($B173=\"\",\"\",HLOOKUP(L$6,CPPE!$A$1:$DB$177,$A173,FALSE)))","v":""}]
[null,null,{"$f":"IF(C$6=\"\",\"\",IF($B174=\"\",\"\",HLOOKUP(C$6,CPPE!$A$1:$DB$177,$A174,FALSE)))","v":""},{"$f":"IF(D$6=\"\",\"\",IF($B174=\"\",\"\",HLOOKUP(D$6,CPPE!$A$1:$DB$177,$A174,FALSE)))","v":""},{"$f":"IF(E$6=\"\",\"\",IF($B174=\"\",\"\",HLOOKUP(E$6,CPPE!$A$1:$DB$177,$A174,FALSE)))","v":""},{"$f":"IF(F$6=\"\",\"\",IF($B174=\"\",\"\",HLOOKUP(F$6,CPPE!$A$1:$DB$177,$A174,FALSE)))","v":""},{"$f":"IF(G$6=\"\",\"\",IF($B174=\"\",\"\",HLOOKUP(G$6,CPPE!$A$1:$DB$177,$A174,FALSE)))","v":""},{"$f":"IF(H$6=\"\",\"\",IF($B174=\"\",\"\",HLOOKUP(H$6,CPPE!$A$1:$DB$177,$A174,FALSE)))","v":""},{"$f":"IF(I$6=\"\",\"\",IF($B174=\"\",\"\",HLOOKUP(I$6,CPPE!$A$1:$DB$177,$A174,FALSE)))","v":""},{"$f":"IF(J$6=\"\",\"\",IF($B174=\"\",\"\",HLOOKUP(J$6,CPPE!$A$1:$DB$177,$A174,FALSE)))","v":""},{"$f":"IF(K$6=\"\",\"\",IF($B174=\"\",\"\",HLOOKUP(K$6,CPPE!$A$1:$DB$177,$A174,FALSE)))","v":""},{"$f":"IF(L$6=\"\",\"\",IF($B174=\"\",\"\",HLOOKUP(L$6,CPPE!$A$1:$DB$177,$A174,FALSE)))","v":""}]

{"sheet":"Result Negatives","index":4,"n_rows":50,"n_cols":60,"rows_kept":50,"cut":false,"hidden":false,"merged":[]}
[]
[null,"Negetative Effects of RMS Option Practices"]
[null,"* Copy and edit this marix to match on-site effects and conditions"]
[]
[]
[null,"Practices",{"$f":"+CPPE!B1","v":"Sheet and Rill Erosion"},{"$f":"+CPPE!C1","v":"Wind Erosion"},{"$f":"+CPPE!D1","v":"Ephemeral Gully Erosion"},{"$f":"+CPPE!E1","v":"Classic Gully Erosion"},{"$f":"+CPPE!F1","v":"Bank Erosion from Streams, Shorelines or Water Conveyance Channels"},{"$f":"+CPPE!G1","v":"Subsidence "},{"$f":"+CPPE!H1","v":"Compaction "},{"$f":"+CPPE!I1","v":"Organic Matter Depletion"},{"$f":"+CPPE!J1","v":"Concentration of Salts or other Chemicals"},{"$f":"+CPPE!K1","v":"Soil Organism Habitat Loss or Degradation"},{"$f":"+CPPE!L1","v":"Aggregate Instability"},{"$f":"+CPPE!M1","v":"Ponding and Flooding "},{"$f":"+CPPE!N1","v":"Seasonal High Water Table "},{"$f":"+CPPE!O1","v":"Seeps"},{"$f":"+CPPE!P1","v":"Drifted Snow"},{"$f":"+CPPE!Q1","v":"Naturally Available Moisture Use "},{"$f":"+CPPE!R1","v":"Surface Water Depletion"},{"$f":"+CPPE!S1","v":"Groundwater Depletion"},{"$f":"+CPPE!T1","v":"Inefficient Irrigation Water Use"},{"$f":"+CPPE!U1","v":"Nutrients Transported to Surface Water "},{"$f":"+CPPE!V1","v":"Nutrients Transported to Groundwater "},{"$f":"+CPPE!W1","v":"Pathogens and Chemicals from Manure, Bio-solids or Compost Applications Tranported to Surface Water "},{"$f":"+CPPE!X1","v":"Pathogens and Chemicals from Manure, Bio-solids or Compost Applications Tranported to Groundwater "},{"$f":"+CPPE!Y1","v":"Sediment Transported to Surface Water"},{"$f":"+CPPE!Z1","v":"Pesticides Transported to Surface Water"},{"$f":"+CPPE!AA1","v":"Pesticides Transported to Groundwater"},{"$f":"+CPPE!AB1","v":"Petroleum, Heavy Metals and Other Pollutants Transported to Surface Water"},{"$f":"+CPPE!AC1","v":"Petroleum, Heavy Metals and Other Pollutants Transported to Groundwater"},{"$f":"+CPPE!AD1","v":"Salts Transported to Surface Water"},{"$f":"+CPPE!AE1","v":"Salts Transported to Groundwater"},{"$f":"+CPPE!AF1","v":"Elevated water temperature"},{"$f":"+CPPE!AG1","v":"Emissions of Particulate Matter (PM) and PM Precursors"},{"$f":"+CPPE!AH1","v":"Emissions of Greenhouse Gasses - GHGs "},{"$f":"+CPPE!AI1","v":"Emissions of Ozone Precursors"},{"$f":"+CPPE!AJ1","v":"Objectionable Odor"},{"$f":"+CPPE!AK1","v":"Emissions of Airborne Reactive Nitrogen"},{"$f":"+CPPE!AL1","v":"Plant Pest Pressure "},{"$f":"+CPPE!AM1","v":"Plant Productivity and Health"},{"$f":"+CPPE!AN1","v":"Plant Structure and Composition"},{"$f":"+CPPE!AO1","v":"Wildfire Hazard from Biomass Accumulation"},{"$f":"+CPPE!AP1","v":"Feed and Forage Imbalance"},{"$f":"+CPPE!AQ1","v":"Inadequate Livestock Shelter"},{"$f":"+CPPE!AR1","v":"Inadequate Livestock Water Quantity, Quality and Distribution"},{"$f":"+CPPE!AS1","v":"Terrestrial Habitat for Wildlife and Invertebrates"},{"$f":"+CPPE!AT1","v":"Aquatic Habitat for Fish and other Organisms"},{"$f":"+CPPE!AU1","v":"Energy Efficiency of Equipment and Facilities"},{"$f":"+CPPE!AV1","v":"Energy Efficiency of Farming/Ranching Practices and Field Operations"},{"$f":"+CPPE!AW1","v":0},{"$f":"+CPPE!AX1","v":0},{"$f":"+CPPE!AY1","v":0},{"$f":"+CPPE!AZ1","v":0},{"$f":"+CPPE!BA1","v":0},{"$f":"+CPPE!BB1","v":0},{"$f":"+CPPE!BC1","v":0},{"$f":"+CPPE!BD1","v":0},{"$f":"+CPPE!BE1","v":0},{"$f":"+CPPE!BF1","v":0},{"$f":"+CPPE!BG1","v":0}]
[null,{"$f":"IF(Results!B7=\"\",\"\",Results!B7)","v":"Vegetated Treatment Area "},{"$f":"IF($B7=\"\",\"\",IF(VLOOKUP($B7,CPPE!$A$2:$BR$177,2,FALSE)<0,VLOOKUP($B7,CPPE!$A$2:$BR$177,2,FALSE),\"\"))","v":""},{"$f":"IF($B7=\"\",\"\",IF(VLOOKUP($B7,CPPE!$A$2:$BR$177,3,FALSE)<0,VLOOKUP($B7,CPPE!$A$2:$BR$177,3,FALSE),\"\"))","v":""},{"$f":"IF($B7=\"\",\"\",IF(VLOOKUP($B7,CPPE!$A$2:$BR$177,4,FALSE)<0,VLOOKUP($B7,CPPE!$A$2:$BR$177,4,FALSE),\"\"))","v":""},{"$f":"IF($B7=\"\",\"\",IF(VLOOKUP($B7,CPPE!$A$2:$BR$177,4,FALSE)<0,VLOOKUP($B7,CPPE!$A$2:$BR$177,5,FALSE),\"\"))","v":""},{"$f":"IF($B7=\"\",\"\",IF(VLOOKUP($B7,CPPE!$A$2:$BR$177,5,FALSE)<0,VLOOKUP($B7,CPPE!$A$2:$BR$177,6,FALSE),\"\"))","v":""},{"$f":"IF($B7=\"\",\"\",IF(VLOOKUP($B7,CPPE!$A$2:$BR$177,7,FALSE)<0,VLOOKUP($B7,CPPE!$A$2:$BR$177,7,FALSE),\"\"))","v":""},{"$f":"IF($B7=\"\",\"\",IF(VLOOKUP($B7,CPPE!$A$2:$BR$177,8,FALSE)<0,VLOOKUP($B7,CPPE!$A$2:$BR$177,8,FALSE),\"\"))","v":""},{"$f":"IF($B7=\"\",\"\",IF(VLOOKUP($B7,CPPE!$A$2:$BR$177,9,FALSE)<0,VLOOKUP($B7,CPPE!$A$2:$BR$177,9,FALSE),\"\"))","v":""},{"$f":"IF($B7=\"\",\"\",IF(VLOOKUP($B7,CPPE!$A$2:$BR$177,10,FALSE)<0,VLOOKUP($B7,CPPE!$A$2:$BR$177,10,FALSE),\"\"))","v":-2},{"$f":"IF($B7=\"\",\"\",IF(VLOOKUP($B7,CPPE!$A$2:$BR$177,11,FALSE)<0,VLOOKUP($B7,CPPE!$A$2:$BR$177,11,FALSE),\"\"))","v":""},{"$f":"IF($B7=\"\",\"\",IF(VLOOKUP($B7,CPPE!$A$2:$BR$177,12,FALSE)<0,VLOOKUP($B7,CPPE!$A$2:$BR$177,12,FALSE),\"\"))","v":""},{"$f":"IF($B7=\"\",\"\",IF(VLOOKUP($B7,CPPE!$A$2:$BR$177,13,FALSE)<0,VLOOKUP($B7,CPPE!$A$2:$BR$177,13,FALSE),\"\"))","v":""},{"$f":"IF($B7=\"\",\"\",IF(VLOOKUP($B7,CPPE!$A$2:$BR$177,14,FALSE)<0,VLOOKUP($B7,CPPE!$A$2:$BR$177,14,FALSE),\"\"))","v":-2},{"$f":"IF($B7=\"\",\"\",IF(VLOOKUP($B7,CPPE!$A$2:$BR$177,15,FALSE)<0,VLOOKUP($B7,CPPE!$A$2:$BR$177,15,FALSE),\"\"))","v":-1},{"$f":"IF($B7=\"\",\"\",IF(VLOOKUP($B7,CPPE!$A$2:$BR$177,16,FALSE)<0,VLOOKUP($B7,CPPE!$A$2:$BR$177,16,FALSE),\"\"))","v":""},{"$f":"IF($B7=\"\",\"\",IF(VLOOKUP($B7,CPPE!$A$2:$BR$177,17,FALSE)<0,VLOOKUP($B7,CPPE!$A$2:$BR$177,17,FALSE),\"\"))","v":""},{"$f":"IF($B7=\"\",\"\",IF(VLOOKUP($B7,CPPE!$A$2:$BR$177,18,FALSE)<0,VLOOKUP($B7,CPPE!$A$2:$BR$177,18,FALSE),\"\"))","v":""},{"$f":"IF($B7=\"\",\"\",IF(VLOOKUP($B7,CPPE!$A$2:$BR$177,19,FALSE)<0,VLOOKUP($B7,CPPE!$A$2:$BR$177,19,FALSE),\"\"))","v":""},{"$f":"IF($B7=\"\",\"\",IF(VLOOKUP($B7,CPPE!$A$2:$BR$177,20,FALSE)<0,VLOOKUP($B7,CPPE!$A$2:$BR$177,20,FALSE),\"\"))","v":""},{"$f":"IF($B7=\"\",\"\",IF(VLOOKUP($B7,CPPE!$A$2:$BR$177,21,FALSE)<0,VLOOKUP($B7,CPPE!$A$2:$BR$177,21,FALSE),\"\"))","v":""},{"$f":"IF($B7=\"\",\"\",IF(VLOOKUP($B7,CPPE!$A$2:$BR$177,22,FALSE)<0,VLOOKUP($B7,CPPE!$A$2:$BR$177,22,FALSE),\"\"))","v":-2},{"$f":"IF($B7=\"\",\"\",IF(VLOOKUP($B7,CPPE!$A$2:$BR$177,23,FALSE)<0,VLOOKUP($B7,CPPE!$A$2:$BR$177,23,FALSE),\"\"))","v":""},{"$f":"IF($B7=\"\",\"\",IF(VLOOKUP($B7,CPPE!$A$2:$BR$177,24,FALSE)<0,VLOOKUP($B7,CPPE!$A$2:$BR$177,24,FALSE),\"\"))","v":""},{"$f":"IF($B7=\"\",\"\",IF(VLOOKUP($B7,CPPE!$A$2:$BR$177,25,FALSE)<0,VLOOKUP($B7,CPPE!$A$2:$BR$177,25,FALSE),\"\"))","v":""},{"$f":"IF($B7=\"\",\"\",IF(VLOOKUP($B7,CPPE!$A$2:$BR$177,26,FALSE)<0,VLOOKUP($B7,CPPE!$A$2:$BR$177,26,FALSE),\"\"))","v":""},{"$f":"IF($B7=\"\",\"\",IF(VLOOKUP($B7,CPPE!$A$2:$BR$177,27,FALSE)<0,VLOOKUP($B7,CPPE!$A$2:$BR$177,27,FALSE),\"\"))","v":""},{"$f":"IF($B7=\"\",\"\",IF(VLOOKUP($B7,CPPE!$A$2:$BR$177,28,FALSE)<0,VLOOKUP($B7,CPPE!$A$2:$BR$177,28,FALSE),\"\"))","v":""},{"$f":"IF($B7=\"\",\"\",IF(VLOOKUP($B7,CPPE!$A$2:$BR$177,29,FALSE)<0,VLOOKUP($B7,CPPE!$A$2:$BR$177,29,FALSE),\"\"))","v":""},{"$f":"IF($B7=\"\",\"\",IF(VLOOKUP($B7,CPPE!$A$2:$BR$177,30,FALSE)<0,VLOOKUP($B7,CPPE!$A$2:$BR$177,30,FALSE),\"\"))","v":""},{"$f":"IF($B7=\"\",\"\",IF(VLOOKUP($B7,CPPE!$A$2:$BR$177,31,FALSE)<0,VLOOKUP($B7,CPPE!$A$2:$BR$177,31,FALSE),\"\"))","v":-2},{"$f":"IF($B7=\"\",\"\",IF(VLOOKUP($B7,CPPE!$A$2:$BR$177,32,FALSE)<0,VLOOKUP($B7,CPPE!$A$2:$BR$177,32,FALSE),\"\"))","v":""},{"$f":"IF($B7=\"\",\"\",IF(VLOOKUP($B7,CPPE!$A$2:$BR$177,33,FALSE)<0,VLOOKUP($B7,CPPE!$A$2:$BR$177,33,FALSE),\"\"))","v":""},{"$f":"IF($B7=\"\",\"\",IF(VLOOKUP($B7,CPPE!$A$2:$BR$177,34,FALSE)<0,VLOOKUP($B7,CPPE!$A$2:$BR$177,34,FALSE),\"\"))","v":""},{"$f":"IF($B7=\"\",\"\",IF(VLOOKUP($B7,CPPE!$A$2:$BR$177,35,FALSE)<0,VLOOKUP($B7,CPPE!$A$2:$BR$177,35,FALSE),\"\"))","v":""},{"$f":"IF($B7=\"\",\"\",IF(VLOOKUP($B7,CPPE!$A$2:$BR$177,36,FALSE)<0,VLOOKUP($B7,CPPE!$A$2:$BR$177,36,FALSE),\"\"))","v":""},{"$f":"IF($B7=\"\",\"\",IF(VLOOKUP($B7,CPPE!$A$2:$BR$177,37,FALSE)<0,VLOOKUP($B7,CPPE!$A$2:$BR$177,37,FALSE),\"\"))","v":""},{"$f":"IF($B7=\"\",\"\",IF(VLOOKUP($B7,CPPE!$A$2:$BR$177,38,FALSE)<0,VLOOKUP($B7,CPPE!$A$2:$BR$177,38,FALSE),\"\"))","v":""},{"$f":"IF($B7=\"\",\"\",IF(VLOOKUP($B7,CPPE!$A$2:$BR$177,39,FALSE)<0,VLOOKUP($B7,CPPE!$A$2:$BR$177,39,FALSE),\"\"))","v":""},{"$f":"IF($B7=\"\",\"\",IF(VLOOKUP($B7,CPPE!$A$2:$BR$177,40,FALSE)<0,VLOOKUP($B7,CPPE!$A$2:$BR$177,40,FALSE),\"\"))","v":""},{"$f":"IF($B7=\"\",\"\",IF(VLOOKUP($B7,CPPE!$A$2:$BR$177,41,FALSE)<0,VLOOKUP($B7,CPPE!$A$2:$BR$177,41,FALSE),\"\"))","v":""},{"$f":"IF($B7=\"\",\"\",IF(VLOOKUP($B7,CPPE!$A$2:$BR$177,42,FALSE)<0,VLOOKUP($B7,CPPE!$A$2:$BR$177,42,FALSE),\"\"))","v":""},{"$f":"IF($B7=\"\",\"\",IF(VLOOKUP($B7,CPPE!$A$2:$BR$177,43,FALSE)<0,VLOOKUP($B7,CPPE!$A$2:$BR$177,43,FALSE),\"\"))","v":""},{"$f":"IF($B7=\"\",\"\",IF(VLOOKUP($B7,CPPE!$A$2:$BR$177,44,FALSE)<0,VLOOKUP($B7,CPPE!$A$2:$BR$177,44,FALSE),\"\"))","v":""},{"$f":"IF($B7=\"\",\"\",IF(VLOOKUP($B7,CPPE!$A$2:$BR$177,45,FALSE)<0,VLOOKUP($B7,CPPE!$A$2:$BR$177,45,FALSE),\"\"))","v":""},{"$f":"IF($B7=\"\",\"\",IF(VLOOKUP($B7,CPPE!$A$2:$BR$177,46,FALSE)<0,VLOOKUP($B7,CPPE!$A$2:$BR$177,46,FALSE),\"\"))","v":""},{"$f":"IF($B7=\"\",\"\",IF(VLOOKUP($B7,CPPE!$A$2:$BR$177,47,FALSE)<0,VLOOKUP($B7,CPPE!$A$2:$BR$177,47,FALSE),\"\"))","v":""},{"$f":"IF($B7=\"\",\"\",IF(VLOOKUP($B7,CPPE!$A$2:$BR$177,48,FALSE)<0,VLOOKUP($B7,CPPE!$A$2:$BR$177,48,FALSE),\"\"))","v":""},{"$f":"IF($B7=\"\",\"\",IF(VLOOKUP($B7,CPPE!$A$2:$BR$177,49,FALSE)<0,VLOOKUP($B7,CPPE!$A$2:$BR$177,49,FALSE),\"\"))","v":""},{"$f":"IF($B7=\"\",\"\",IF(VLOOKUP($B7,CPPE!$A$2:$BR$177,50,FALSE)<0,VLOOKUP($B7,CPPE!$A$2:$BR$177,50,FALSE),\"\"))","v":""},{"$f":"IF($B7=\"\",\"\",IF(VLOOKUP($B7,CPPE!$A$2:$BR$177,51,FALSE)<0,VLOOKUP($B7,CPPE!$A$2:$BR$177,51,FALSE),\"\"))","v":""},{"$f":"IF($B7=\"\",\"\",IF(VLOOKUP($B7,CPPE!$A$2:$BR$177,52,FALSE)<0,VLOOKUP($B7,CPPE!$A$2:$BR$177,52,FALSE),\"\"))","v":""},{"$f":"IF($B7=\"\",\"\",IF(VLOOKUP($B7,CPPE!$A$2:$BR$177,53,FALSE)<0,VLOOKUP($B7,CPPE!$A$2:$BR$177,53,FALSE),\"\"))","v":""},{"$f":"IF($B7=\"\",\"\",IF(VLOOKUP($B7,CPPE!$A$2:$BR$177,54,FALSE)<0,VLOOKUP($B7,CPPE!$A$2:$BR$177,54,FALSE),\"\"))","v":""},{"$f":"IF($B7=\"\",\"\",IF(VLOOKUP($B7,CPPE!$A$2:$BR$177,55,FALSE)<0,VLOOKUP($B7,CPPE!$A$2:$BR$177,55,FALSE),\"\"))","v":""},{"$f":"IF($B7=\"\",\"\",IF(VLOOKUP($B7,CPPE!$A$2:$BR$177,56,FALSE)<0,VLOOKUP($B7,CPPE!$A$2:$BR$177,56,FALSE),\"\"))","v":""},{"$f":"IF($B7=\"\",\"\",IF(VLOOKUP($B7,CPPE!$A$2:$BR$177,57,FALSE)<0,VLOOKUP($B7,CPPE!$A$2:$BR$177,57,FALSE),\"\"))","v":""},{"$f":"IF($B7=\"\",\"\",IF(VLOOKUP($B7,CPPE!$A$2:$BR$177,58,FALSE)<0,VLOOKUP($B7,CPPE!$A$2:$BR$177,58,FALSE),\"\"))","v":""},{"$f":"IF($B7=\"\",\"\",IF(VLOOKUP($B7,CPPE!$A$2:$BR$177,59,FALSE)<0,VLOOKUP($B7,CPPE!$A$2:$BR$177,59,FALSE),\"\"))","v":""}]
[null,{"$f":"IF(Results!B8=\"\",\"\",Results!B8)","v":"Tree/Shrub Establishment"},{"$f":"IF($B8=\"\",\"\",IF(VLOOKUP($B8,CPPE!$A$2:$BR$177,2,FALSE)<0,VLOOKUP($B8,CPPE!$A$2:$BR$177,2,FALSE),\"\"))","v":""},{"$f":"IF($B8=\"\",\"\",IF(VLOOKUP($B8,CPPE!$A$2:$BR$177,3,FALSE)<0,VLOOKUP($B8,CPPE!$A$2:$BR$177,3,FALSE),\"\"))","v":""},{"$f":"IF($B8=\"\",\"\",IF(VLOOKUP($B8,CPPE!$A$2:$BR$177,4,FALSE)<0,VLOOKUP($B8,CPPE!$A$2:$BR$177,4,FALSE),\"\"))","v":""},{"$f":"IF($B8=\"\",\"\",IF(VLOOKUP($B8,CPPE!$A$2:$BR$177,4,FALSE)<0,VLOOKUP($B8,CPPE!$A$2:$BR$177,5,FALSE),\"\"))","v":""},{"$f":"IF($B8=\"\",\"\",IF(VLOOKUP($B8,CPPE!$A$2:$BR$177,5,FALSE)<0,VLOOKUP($B8,CPPE!$A$2:$BR$177,6,FALSE),\"\"))","v":""},{"$f":"IF($B8=\"\",\"\",IF(VLOOKUP($B8,CPPE!$A$2:$BR$177,7,FALSE)<0,VLOOKUP($B8,CPPE!$A$2:$BR$177,7,FALSE),\"\"))","v":""},{"$f":"IF($B8=\"\",\"\",IF(VLOOKUP($B8,CPPE!$A$2:$BR$177,8,FALSE)<0,VLOOKUP($B8,CPPE!$A$2:$BR$177,8,FALSE),\"\"))","v":""},{"$f":"IF($B8=\"\",\"\",IF(VLOOKUP($B8,CPPE!$A$2:$BR$177,9,FALSE)<0,VLOOKUP($B8,CPPE!$A$2:$BR$177,9,FALSE),\"\"))","v":""},{"$f":"IF($B8=\"\",\"\",IF(VLOOKUP($B8,CPPE!$A$2:$BR$177,10,FALSE)<0,VLOOKUP($B8,CPPE!$A$2:$BR$177,10,FALSE),\"\"))","v":""},{"$f":"IF($B8=\"\",\"\",IF(VLOOKUP($B8,CPPE!$A$2:$BR$177,11,FALSE)<0,VLOOKUP($B8,CPPE!$A$2:$BR$177,11,FALSE),\"\"))","v":""},{"$f":"IF($B8=\"\",\"\",IF(VLOOKUP($B8,CPPE!$A$2:$BR$177,12,FALSE)<0,VLOOKUP($B8,CPPE!$A$2:$BR$177,12,FALSE),\"\"))","v":""},{"$f":"IF($B8=\"\",\"\",IF(VLOOKUP($B8,CPPE!$A$2:$BR$177,13,FALSE)<0,VLOOKUP($B8,CPPE!$A$2:$BR$177,13,FALSE),\"\"))","v":""},{"$f":"IF($B8=\"\",\"\",IF(VLOOKUP($B8,CPPE!$A$2:$BR$177,14,FALSE)<0,VLOOKUP($B8,CPPE!$A$2:$BR$177,14,FALSE),\"\"))","v":""},{"$f":"IF($B8=\"\",\"\",IF(VLOOKUP($B8,CPPE!$A$2:$BR$177,15,FALSE)<0,VLOOKUP($B8,CPPE!$A$2:$BR$177,15,FALSE),\"\"))","v":""},{"$f":"IF($B8=\"\",\"\",IF(VLOOKUP($B8,CPPE!$A$2:$BR$177,16,FALSE)<0,VLOOKUP($B8,CPPE!$A$2:$BR$177,16,FALSE),\"\"))","v":""},{"$f":"IF($B8=\"\",\"\",IF(VLOOKUP($B8,CPPE!$A$2:$BR$177,17,FALSE)<0,VLOOKUP($B8,CPPE!$A$2:$BR$177,17,FALSE),\"\"))","v":""},{"$f":"IF($B8=\"\",\"\",IF(VLOOKUP($B8,CPPE!$A$2:$BR$177,18,FALSE)<0,VLOOKUP($B8,CPPE!$A$2:$BR$177,18,FALSE),\"\"))","v":""},{"$f":"IF($B8=\"\",\"\",IF(VLOOKUP($B8,CPPE!$A$2:$BR$177,19,FALSE)<0,VLOOKUP($B8,CPPE!$A$2:$BR$177,19,FALSE),\"\"))","v":""},{"$f":"IF($B8=\"\",\"\",IF(VLOOKUP($B8,CPPE!$A$2:$BR$177,20,FALSE)<0,VLOOKUP($B8,CPPE!$A$2:$BR$177,20,FALSE),\"\"))","v":""},{"$f":"IF($B8=\"\",\"\",IF(VLOOKUP($B8,CPPE!$A$2:$BR$177,21,FALSE)<0,VLOOKUP($B8,CPPE!$A$2:$BR$177,21,FALSE),\"\"))","v":""},{"$f":"IF($B8=\"\",\"\",IF(VLOOKUP($B8,CPPE!$A$2:$BR$177,22,FALSE)<0,VLOOKUP($B8,CPPE!$A$2:$BR$177,22,FALSE),\"\"))","v":""},{"$f":"IF($B8=\"\",\"\",IF(VLOOKUP($B8,CPPE!$A$2:$BR$177,23,FALSE)<0,VLOOKUP($B8,CPPE!$A$2:$BR$177,23,FALSE),\"\"))","v":""},{"$f":"IF($B8=\"\",\"\",IF(VLOOKUP($B8,CPPE!$A$2:$BR$177,24,FALSE)<0,VLOOKUP($B8,CPPE!$A$2:$BR$177,24,FALSE),\"\"))","v":""},{"$f":"IF($B8=\"\",\"\",IF(VLOOKUP($B8,CPPE!$A$2:$BR$177,25,FALSE)<0,VLOOKUP($B8,CPPE!$A$2:$BR$177,25,FALSE),\"\"))","v":""},{"$f":"IF($B8=\"\",\"\",IF(VLOOKUP($B8,CPPE!$A$2:$BR$177,26,FALSE)<0,VLOOKUP($B8,CPPE!$A$2:$BR$177,26,FALSE),\"\"))","v":""},{"$f":"IF($B8=\"\",\"\",IF(VLOOKUP($B8,CPPE!$A$2:$BR$177,27,FALSE)<0,VLOOKUP($B8,CPPE!$A$2:$BR$177,27,FALSE),\"\"))","v":""},{"$f":"IF($B8=\"\",\"\",IF(VLOOKUP($B8,CPPE!$A$2:$BR$177,28,FALSE)<0,VLOOKUP($B8,CPPE!$A$2:$BR$177,28,FALSE),\"\"))","v":""},{"$f":"IF($B8=\"\",\"\",IF(VLOOKUP($B8,CPPE!$A$2:$BR$177,29,FALSE)<0,VLOOKUP($B8,CPPE!$A$2:$BR$177,29,FALSE),\"\"))","v":""},{"$f":"IF($B8=\"\",\"\",IF(VLOOKUP($B8,CPPE!$A$2:$BR$177,30,FALSE)<0,VLOOKUP($B8,CPPE!$A$2:$BR$177,30,FALSE),\"\"))","v":""},{"$f":"IF($B8=\"\",\"\",IF(VLOOKUP($B8,CPPE!$A$2:$BR$177,31,FALSE)<0,VLOOKUP($B8,CPPE!$A$2:$BR$177,31,FALSE),\"\"))","v":""},{"$f":"IF($B8=\"\",\"\",IF(VLOOKUP($B8,CPPE!$A$2:$BR$177,32,FALSE)<0,VLOOKUP($B8,CPPE!$A$2:$BR$177,32,FALSE),\"\"))","v":""},{"$f":"IF($B8=\"\",\"\",IF(VLOOKUP($B8,CPPE!$A$2:$BR$177,33,FALSE)<0,VLOOKUP($B8,CPPE!$A$2:$BR$177,33,FALSE),\"\"))","v":""},{"$f":"IF($B8=\"\",\"\",IF(VLOOKUP($B8,CPPE!$A$2:$BR$177,34,FALSE)<0,VLOOKUP($B8,CPPE!$A$2:$BR$177,34,FALSE),\"\"))","v":""},{"$f":"IF($B8=\"\",\"\",IF(VLOOKUP($B8,CPPE!$A$2:$BR$177,35,FALSE)<0,VLOOKUP($B8,CPPE!$A$2:$BR$177,35,FALSE),\"\"))","v":""},{"$f":"IF($B8=\"\",\"\",IF(VLOOKUP($B8,CPPE!$A$2:$BR$177,36,FALSE)<0,VLOOKUP($B8,CPPE!$A$2:$BR$177,36,FALSE),\"\"))","v":""},{"$f":"IF($B8=\"\",\"\",IF(VLOOKUP($B8,CPPE!$A$2:$BR$177,37,FALSE)<0,VLOOKUP($B8,CPPE!$A$2:$BR$177,37,FALSE),\"\"))","v":""},{"$f":"IF($B8=\"\",\"\",IF(VLOOKUP($B8,CPPE!$A$2:$BR$177,38,FALSE)<0,VLOOKUP($B8,CPPE!$A$2:$BR$177,38,FALSE),\"\"))","v":""},{"$f":"IF($B8=\"\",\"\",IF(VLOOKUP($B8,CPPE!$A$2:$BR$177,39,FALSE)<0,VLOOKUP($B8,CPPE!$A$2:$BR$177,39,FALSE),\"\"))","v":""},{"$f":"IF($B8=\"\",\"\",IF(VLOOKUP($B8,CPPE!$A$2:$BR$177,40,FALSE)<0,VLOOKUP($B8,CPPE!$A$2:$BR$177,40,FALSE),\"\"))","v":""},{"$f":"IF($B8=\"\",\"\",IF(VLOOKUP($B8,CPPE!$A$2:$BR$177,41,FALSE)<0,VLOOKUP($B8,CPPE!$A$2:$BR$177,41,FALSE),\"\"))","v":""},{"$f":"IF($B8=\"\",\"\",IF(VLOOKUP($B8,CPPE!$A$2:$BR$177,42,FALSE)<0,VLOOKUP($B8,CPPE!$A$2:$BR$177,42,FALSE),\"\"))","v":""},{"$f":"IF($B8=\"\",\"\",IF(VLOOKUP($B8,CPPE!$A$2:$BR$177,43,FALSE)<0,VLOOKUP($B8,CPPE!$A$2:$BR$177,43,FALSE),\"\"))","v":""},{"$f":"IF($B8=\"\",\"\",IF(VLOOKUP($B8,CPPE!$A$2:$BR$177,44,FALSE)<0,VLOOKUP($B8,CPPE!$A$2:$BR$177,44,FALSE),\"\"))","v":""},{"$f":"IF($B8=\"\",\"\",IF(VLOOKUP($B8,CPPE!$A$2:$BR$177,45,FALSE)<0,VLOOKUP($B8,CPPE!$A$2:$BR$177,45,FALSE),\"\"))","v":""},{"$f":"IF($B8=\"\",\"\",IF(VLOOKUP($B8,CPPE!$A$2:$BR$177,46,FALSE)<0,VLOOKUP($B8,CPPE!$A$2:$BR$177,46,FALSE),\"\"))","v":""},{"$f":"IF($B8=\"\",\"\",IF(VLOOKUP($B8,CPPE!$A$2:$BR$177,47,FALSE)<0,VLOOKUP($B8,CPPE!$A$2:$BR$177,47,FALSE),\"\"))","v":""},{"$f":"IF($B8=\"\",\"\",IF(VLOOKUP($B8,CPPE!$A$2:$BR$177,48,FALSE)<0,VLOOKUP($B8,CPPE!$A$2:$BR$177,48,FALSE),\"\"))","v":""},{"$f":"IF($B8=\"\",\"\",IF(VLOOKUP($B8,CPPE!$A$2:$BR$177,49,FALSE)<0,VLOOKUP($B8,CPPE!$A$2:$BR$177,49,FALSE),\"\"))","v":""},{"$f":"IF($B8=\"\",\"\",IF(VLOOKUP($B8,CPPE!$A$2:$BR$177,50,FALSE)<0,VLOOKUP($B8,CPPE!$A$2:$BR$177,50,FALSE),\"\"))","v":""},{"$f":"IF($B8=\"\",\"\",IF(VLOOKUP($B8,CPPE!$A$2:$BR$177,51,FALSE)<0,VLOOKUP($B8,CPPE!$A$2:$BR$177,51,FALSE),\"\"))","v":""},{"$f":"IF($B8=\"\",\"\",IF(VLOOKUP($B8,CPPE!$A$2:$BR$177,52,FALSE)<0,VLOOKUP($B8,CPPE!$A$2:$BR$177,52,FALSE),\"\"))","v":""},{"$f":"IF($B8=\"\",\"\",IF(VLOOKUP($B8,CPPE!$A$2:$BR$177,53,FALSE)<0,VLOOKUP($B8,CPPE!$A$2:$BR$177,53,FALSE),\"\"))","v":""},{"$f":"IF($B8=\"\",\"\",IF(VLOOKUP($B8,CPPE!$A$2:$BR$177,54,FALSE)<0,VLOOKUP($B8,CPPE!$A$2:$BR$177,54,FALSE),\"\"))","v":""},{"$f":"IF($B8=\"\",\"\",IF(VLOOKUP($B8,CPPE!$A$2:$BR$177,55,FALSE)<0,VLOOKUP($B8,CPPE!$A$2:$BR$177,55,FALSE),\"\"))","v":""},{"$f":"IF($B8=\"\",\"\",IF(VLOOKUP($B8,CPPE!$A$2:$BR$177,56,FALSE)<0,VLOOKUP($B8,CPPE!$A$2:$BR$177,56,FALSE),\"\"))","v":""},{"$f":"IF($B8=\"\",\"\",IF(VLOOKUP($B8,CPPE!$A$2:$BR$177,57,FALSE)<0,VLOOKUP($B8,CPPE!$A$2:$BR$177,57,FALSE),\"\"))","v":""},{"$f":"IF($B8=\"\",\"\",IF(VLOOKUP($B8,CPPE!$A$2:$BR$177,58,FALSE)<0,VLOOKUP($B8,CPPE!$A$2:$BR$177,58,FALSE),\"\"))","v":""},{"$f":"IF($B8=\"\",\"\",IF(VLOOKUP($B8,CPPE!$A$2:$BR$177,59,FALSE)<0,VLOOKUP($B8,CPPE!$A$2:$BR$177,59,FALSE),\"\"))","v":""}]
[null,{"$f":"IF(Results!B9=\"\",\"\",Results!B9)","v":"Terrace"},{"$f":"IF($B9=\"\",\"\",IF(VLOOKUP($B9,CPPE!$A$2:$BR$177,2,FALSE)<0,VLOOKUP($B9,CPPE!$A$2:$BR$177,2,FALSE),\"\"))","v":""},{"$f":"IF($B9=\"\",\"\",IF(VLOOKUP($B9,CPPE!$A$2:$BR$177,3,FALSE)<0,VLOOKUP($B9,CPPE!$A$2:$BR$177,3,FALSE),\"\"))","v":""},{"$f":"IF($B9=\"\",\"\",IF(VLOOKUP($B9,CPPE!$A$2:$BR$177,4,FALSE)<0,VLOOKUP($B9,CPPE!$A$2:$BR$177,4,FALSE),\"\"))","v":""},{"$f":"IF($B9=\"\",\"\",IF(VLOOKUP($B9,CPPE!$A$2:$BR$177,4,FALSE)<0,VLOOKUP($B9,CPPE!$A$2:$BR$177,5,FALSE),\"\"))","v":""},{"$f":"IF($B9=\"\",\"\",IF(VLOOKUP($B9,CPPE!$A$2:$BR$177,5,FALSE)<0,VLOOKUP($B9,CPPE!$A$2:$BR$177,6,FALSE),\"\"))","v":""},{"$f":"IF($B9=\"\",\"\",IF(VLOOKUP($B9,CPPE!$A$2:$BR$177,7,FALSE)<0,VLOOKUP($B9,CPPE!$A$2:$BR$177,7,FALSE),\"\"))","v":""},{"$f":"IF($B9=\"\",\"\",IF(VLOOKUP($B9,CPPE!$A$2:$BR$177,8,FALSE)<0,VLOOKUP($B9,CPPE!$A$2:$BR$177,8,FALSE),\"\"))","v":-1},{"$f":"IF($B9=\"\",\"\",IF(VLOOKUP($B9,CPPE!$A$2:$BR$177,9,FALSE)<0,VLOOKUP($B9,CPPE!$A$2:$BR$177,9,FALSE),\"\"))","v":""},{"$f":"IF($B9=\"\",\"\",IF(VLOOKUP($B9,CPPE!$A$2:$BR$177,10,FALSE)<0,VLOOKUP($B9,CPPE!$A$2:$BR$177,10,FALSE),\"\"))","v":""},{"$f":"IF($B9=\"\",\"\",IF(VLOOKUP($B9,CPPE!$A$2:$BR$177,11,FALSE)<0,VLOOKUP($B9,CPPE!$A$2:$BR$177,11,FALSE),\"\"))","v":-1},{"$f":"IF($B9=\"\",\"\",IF(VLOOKUP($B9,CPPE!$A$2:$BR$177,12,FALSE)<0,VLOOKUP($B9,CPPE!$A$2:$BR$177,12,FALSE),\"\"))","v":""},{"$f":"IF($B9=\"\",\"\",IF(VLOOKUP($B9,CPPE!$A$2:$BR$177,13,FALSE)<0,VLOOKUP($B9,CPPE!$A$2:$BR$177,13,FALSE),\"\"))","v":""},{"$f":"IF($B9=\"\",\"\",IF(VLOOKUP($B9,CPPE!$A$2:$BR$177,14,FALSE)<0,VLOOKUP($B9,CPPE!$A$2:$BR$177,14,FALSE),\"\"))","v":-1},{"$f":"IF($B9=\"\",\"\",IF(VLOOKUP($B9,CPPE!$A$2:$BR$177,15,FALSE)<0,VLOOKUP($B9,CPPE!$A$2:$BR$177,15,FALSE),\"\"))","v":-1},{"$f":"IF($B9=\"\",\"\",IF(VLOOKUP($B9,CPPE!$A$2:$BR$177,16,FALSE)<0,VLOOKUP($B9,CPPE!$A$2:$BR$177,16,FALSE),\"\"))","v":-1},{"$f":"IF($B9=\"\",\"\",IF(VLOOKUP($B9,CPPE!$A$2:$BR$177,17,FALSE)<0,VLOOKUP($B9,CPPE!$A$2:$BR$177,17,FALSE),\"\"))","v":""},{"$f":"IF($B9=\"\",\"\",IF(VLOOKUP($B9,CPPE!$A$2:$BR$177,18,FALSE)<0,VLOOKUP($B9,CPPE!$A$2:$BR$177,18,FALSE),\"\"))","v":-1},{"$f":"IF($B9=\"\",\"\",IF(VLOOKUP($B9,CPPE!$A$2:$BR$177,19,FALSE)<0,VLOOKUP($B9,CPPE!$A$2:$BR$177,19,FALSE),\"\"))","v":""},{"$f":"IF($B9=\"\",\"\",IF(VLOOKUP($B9,CPPE!$A$2:$BR$177,20,FALSE)<0,VLOOKUP($B9,CPPE!$A$2:$BR$177,20,FALSE),\"\"))","v":""},{"$f":"IF($B9=\"\",\"\",IF(VLOOKUP($B9,CPPE!$A$2:$BR$177,21,FALSE)<0,VLOOKUP($B9,CPPE!$A$2:$BR$177,21,FALSE),\"\"))","v":""},{"$f":"IF($B9=\"\",\"\",IF(VLOOKUP($B9,CPPE!$A$2:$BR$177,22,FALSE)<0,VLOOKUP($B9,CPPE!$A$2:$BR$177,22,FALSE),\"\"))","v":-1},{"$f":"IF($B9=\"\",\"\",IF(VLOOKUP($B9,CPPE!$A$2:$BR$177,23,FALSE)<0,VLOOKUP($B9,CPPE!$A$2:$BR$177,23,FALSE),\"\"))","v":""},{"$f":"IF($B9=\"\",\"\",IF(VLOOKUP($B9,CPPE!$A$2:$BR$177,24,FALSE)<0,VLOOKUP($B9,CPPE!$A$2:$BR$177,24,FALSE),\"\"))","v":""},{"$f":"IF($B9=\"\",\"\",IF(VLOOKUP($B9,CPPE!$A$2:$BR$177,25,FALSE)<0,VLOOKUP($B9,CPPE!$A$2:$BR$177,25,FALSE),\"\"))","v":""},{"$f":"IF($B9=\"\",\"\",IF(VLOOKUP($B9,CPPE!$A$2:$BR$177,26,FALSE)<0,VLOOKUP($B9,CPPE!$A$2:$BR$177,26,FALSE),\"\"))","v":""},{"$f":"IF($B9=\"\",\"\",IF(VLOOKUP($B9,CPPE!$A$2:$BR$177,27,FALSE)<0,VLOOKUP($B9,CPPE!$A$2:$BR$177,27,FALSE),\"\"))","v":-1},{"$f":"IF($B9=\"\",\"\",IF(VLOOKUP($B9,CPPE!$A$2:$BR$177,28,FALSE)<0,VLOOKUP($B9,CPPE!$A$2:$BR$177,28,FALSE),\"\"))","v":""},{"$f":"IF($B9=\"\",\"\",IF(VLOOKUP($B9,CPPE!$A$2:$BR$177,29,FALSE)<0,VLOOKUP($B9,CPPE!$A$2:$BR$177,29,FALSE),\"\"))","v":-1},{"$f":"IF($B9=\"\",\"\",IF(VLOOKUP($B9,CPPE!$A$2:$BR$177,30,FALSE)<0,VLOOKUP($B9,CPPE!$A$2:$BR$177,30,FALSE),\"\"))","v":""},{"$f":"IF($B9=\"\",\"\",IF(VLOOKUP($B9,CPPE!$A$2:$BR$177,31,FALSE)<0,VLOOKUP($B9,CPPE!$A$2:$BR$177,31,FALSE),\"\"))","v":-2},{"$f":"IF($B9=\"\",\"\",IF(VLOOKUP($B9,CPPE!$A$2:$BR$177,32,FALSE)<0,VLOOKUP($B9,CPPE!$A$2:$BR$177,32,FALSE),\"\"))","v":""},{"$f":"IF($B9=\"\",\"\",IF(VLOOKUP($B9,CPPE!$A$2:$BR$177,33,FALSE)<0,VLOOKUP($B9,CPPE!$A$2:$BR$177,33,FALSE),\"\"))","v":""},{"$f":"IF($B9=\"\",\"\",IF(VLOOKUP($B9,CPPE!$A$2:$BR$177,34,FALSE)<0,VLOOKUP($B9,CPPE!$A$2:$BR$177,34,FALSE),\"\"))","v":""},{"$f":"IF($B9=\"\",\"\",IF(VLOOKUP($B9,CPPE!$A$2:$BR$177,35,FALSE)<0,VLOOKUP($B9,CPPE!$A$2:$BR$177,35,FALSE),\"\"))","v":""},{"$f":"IF($B9=\"\",\"\",IF(VLOOKUP($B9,CPPE!$A$2:$BR$177,36,FALSE)<0,VLOOKUP($B9,CPPE!$A$2:$BR$177,36,FALSE),\"\"))","v":""},{"$f":"IF($B9=\"\",\"\",IF(VLOOKUP($B9,CPPE!$A$2:$BR$177,37,FALSE)<0,VLOOKUP($B9,CPPE!$A$2:$BR$177,37,FALSE),\"\"))","v":""},{"$f":"IF($B9=\"\",\"\",IF(VLOOKUP($B9,CPPE!$A$2:$BR$177,38,FALSE)<0,VLOOKUP($B9,CPPE!$A$2:$BR$177,38,FALSE),\"\"))","v":""},{"$f":"IF($B9=\"\",\"\",IF(VLOOKUP($B9,CPPE!$A$2:$BR$177,39,FALSE)<0,VLOOKUP($B9,CPPE!$A$2:$BR$177,39,FALSE),\"\"))","v":""},{"$f":"IF($B9=\"\",\"\",IF(VLOOKUP($B9,CPPE!$A$2:$BR$177,40,FALSE)<0,VLOOKUP($B9,CPPE!$A$2:$BR$177,40,FALSE),\"\"))","v":""},{"$f":"IF($B9=\"\",\"\",IF(VLOOKUP($B9,CPPE!$A$2:$BR$177,41,FALSE)<0,VLOOKUP($B9,CPPE!$A$2:$BR$177,41,FALSE),\"\"))","v":""},{"$f":"IF($B9=\"\",\"\",IF(VLOOKUP($B9,CPPE!$A$2:$BR$177,42,FALSE)<0,VLOOKUP($B9,CPPE!$A$2:$BR$177,42,FALSE),\"\"))","v":""},{"$f":"IF($B9=\"\",\"\",IF(VLOOKUP($B9,CPPE!$A$2:$BR$177,43,FALSE)<0,VLOOKUP($B9,CPPE!$A$2:$BR$177,43,FALSE),\"\"))","v":""},{"$f":"IF($B9=\"\",\"\",IF(VLOOKUP($B9,CPPE!$A$2:$BR$177,44,FALSE)<0,VLOOKUP($B9,CPPE!$A$2:$BR$177,44,FALSE),\"\"))","v":""},{"$f":"IF($B9=\"\",\"\",IF(VLOOKUP($B9,CPPE!$A$2:$BR$177,45,FALSE)<0,VLOOKUP($B9,CPPE!$A$2:$BR$177,45,FALSE),\"\"))","v":""},{"$f":"IF($B9=\"\",\"\",IF(VLOOKUP($B9,CPPE!$A$2:$BR$177,46,FALSE)<0,VLOOKUP($B9,CPPE!$A$2:$BR$177,46,FALSE),\"\"))","v":""},{"$f":"IF($B9=\"\",\"\",IF(VLOOKUP($B9,CPPE!$A$2:$BR$177,47,FALSE)<0,VLOOKUP($B9,CPPE!$A$2:$BR$177,47,FALSE),\"\"))","v":""},{"$f":"IF($B9=\"\",\"\",IF(VLOOKUP($B9,CPPE!$A$2:$BR$177,48,FALSE)<0,VLOOKUP($B9,CPPE!$A$2:$BR$177,48,FALSE),\"\"))","v":""},{"$f":"IF($B9=\"\",\"\",IF(VLOOKUP($B9,CPPE!$A$2:$BR$177,49,FALSE)<0,VLOOKUP($B9,CPPE!$A$2:$BR$177,49,FALSE),\"\"))","v":""},{"$f":"IF($B9=\"\",\"\",IF(VLOOKUP($B9,CPPE!$A$2:$BR$177,50,FALSE)<0,VLOOKUP($B9,CPPE!$A$2:$BR$177,50,FALSE),\"\"))","v":""},{"$f":"IF($B9=\"\",\"\",IF(VLOOKUP($B9,CPPE!$A$2:$BR$177,51,FALSE)<0,VLOOKUP($B9,CPPE!$A$2:$BR$177,51,FALSE),\"\"))","v":""},{"$f":"IF($B9=\"\",\"\",IF(VLOOKUP($B9,CPPE!$A$2:$BR$177,52,FALSE)<0,VLOOKUP($B9,CPPE!$A$2:$BR$177,52,FALSE),\"\"))","v":""},{"$f":"IF($B9=\"\",\"\",IF(VLOOKUP($B9,CPPE!$A$2:$BR$177,53,FALSE)<0,VLOOKUP($B9,CPPE!$A$2:$BR$177,53,FALSE),\"\"))","v":""},{"$f":"IF($B9=\"\",\"\",IF(VLOOKUP($B9,CPPE!$A$2:$BR$177,54,FALSE)<0,VLOOKUP($B9,CPPE!$A$2:$BR$177,54,FALSE),\"\"))","v":""},{"$f":"IF($B9=\"\",\"\",IF(VLOOKUP($B9,CPPE!$A$2:$BR$177,55,FALSE)<0,VLOOKUP($B9,CPPE!$A$2:$BR$177,55,FALSE),\"\"))","v":""},{"$f":"IF($B9=\"\",\"\",IF(VLOOKUP($B9,CPPE!$A$2:$BR$177,56,FALSE)<0,VLOOKUP($B9,CPPE!$A$2:$BR$177,56,FALSE),\"\"))","v":""},{"$f":"IF($B9=\"\",\"\",IF(VLOOKUP($B9,CPPE!$A$2:$BR$177,57,FALSE)<0,VLOOKUP($B9,CPPE!$A$2:$BR$177,57,FALSE),\"\"))","v":""},{"$f":"IF($B9=\"\",\"\",IF(VLOOKUP($B9,CPPE!$A$2:$BR$177,58,FALSE)<0,VLOOKUP($B9,CPPE!$A$2:$BR$177,58,FALSE),\"\"))","v":""},{"$f":"IF($B9=\"\",\"\",IF(VLOOKUP($B9,CPPE!$A$2:$BR$177,59,FALSE)<0,VLOOKUP($B9,CPPE!$A$2:$BR$177,59,FALSE),\"\"))","v":""}]
[null,{"$f":"IF(Results!B10=\"\",\"\",Results!B10)","v":"Riparian Herbaceous Cover"},{"$f":"IF($B10=\"\",\"\",IF(VLOOKUP($B10,CPPE!$A$2:$BR$177,2,FALSE)<0,VLOOKUP($B10,CPPE!$A$2:$BR$177,2,FALSE),\"\"))","v":""},{"$f":"IF($B10=\"\",\"\",IF(VLOOKUP($B10,CPPE!$A$2:$BR$177,3,FALSE)<0,VLOOKUP($B10,CPPE!$A$2:$BR$177,3,FALSE),\"\"))","v":""},{"$f":"IF($B10=\"\",\"\",IF(VLOOKUP($B10,CPPE!$A$2:$BR$177,4,FALSE)<0,VLOOKUP($B10,CPPE!$A$2:$BR$177,4,FALSE),\"\"))","v":""},{"$f":"IF($B10=\"\",\"\",IF(VLOOKUP($B10,CPPE!$A$2:$BR$177,4,FALSE)<0,VLOOKUP($B10,CPPE!$A$2:$BR$177,5,FALSE),\"\"))","v":""},{"$f":"IF($B10=\"\",\"\",IF(VLOOKUP($B10,CPPE!$A$2:$BR$177,5,FALSE)<0,VLOOKUP($B10,CPPE!$A$2:$BR$177,6,FALSE),\"\"))","v":""},{"$f":"IF($B10=\"\",\"\",IF(VLOOKUP($B10,CPPE!$A$2:$BR$177,7,FALSE)<0,VLOOKUP($B10,CPPE!$A$2:$BR$177,7,FALSE),\"\"))","v":""},{"$f":"IF($B10=\"\",\"\",IF(VLOOKUP($B10,CPPE!$A$2:$BR$177,8,FALSE)<0,VLOOKUP($B10,CPPE!$A$2:$BR$177,8,FALSE),\"\"))","v":""},{"$f":"IF($B10=\"\",\"\",IF(VLOOKUP($B10,CPPE!$A$2:$BR$177,9,FALSE)<0,VLOOKUP($B10,CPPE!$A$2:$BR$177,9,FALSE),\"\"))","v":""},{"$f":"IF($B10=\"\",\"\",IF(VLOOKUP($B10,CPPE!$A$2:$BR$177,10,FALSE)<0,VLOOKUP($B10,CPPE!$A$2:$BR$177,10,FALSE),\"\"))","v":""},{"$f":"IF($B10=\"\",\"\",IF(VLOOKUP($B10,CPPE!$A$2:$BR$177,11,FALSE)<0,VLOOKUP($B10,CPPE!$A$2:$BR$177,11,FALSE),\"\"))","v":""},{"$f":"IF($B10=\"\",\"\",IF(VLOOKUP($B10,CPPE!$A$2:$BR$177,12,FALSE)<0,VLOOKUP($B10,CPPE!$A$2:$BR$177,12,FALSE),\"\"))","v":""},{"$f":"IF($B10=\"\",\"\",IF(VLOOKUP($B10,CPPE!$A$2:$BR$177,13,FALSE)<0,VLOOKUP($B10,CPPE!$A$2:$BR$177,13,FALSE),\"\"))","v":-2},{"$f":"IF($B10=\"\",\"\",IF(VLOOKUP($B10,CPPE!$A$2:$BR$177,14,FALSE)<0,VLOOKUP($B10,CPPE!$A$2:$BR$177,14,FALSE),\"\"))","v":""},{"$f":"IF($B10=\"\",\"\",IF(VLOOKUP($B10,CPPE!$A$2:$BR$177,15,FALSE)<0,VLOOKUP($B10,CPPE!$A$2:$BR$177,15,FALSE),\"\"))","v":""},{"$f":"IF($B10=\"\",\"\",IF(VLOOKUP($B10,CPPE!$A$2:$BR$177,16,FALSE)<0,VLOOKUP($B10,CPPE!$A$2:$BR$177,16,FALSE),\"\"))","v":""},{"$f":"IF($B10=\"\",\"\",IF(VLOOKUP($B10,CPPE!$A$2:$BR$177,17,FALSE)<0,VLOOKUP($B10,CPPE!$A$2:$BR$177,17,FALSE),\"\"))","v":""},{"$f":"IF($B10=\"\",\"\",IF(VLOOKUP($B10,CPPE!$A$2:$BR$177,18,FALSE)<0,VLOOKUP($B10,CPPE!$A$2:$BR$177,18,FALSE),\"\"))","v":""},{"$f":"IF($B10=\"\",\"\",IF(VLOOKUP($B10,CPPE!$A$2:$BR$177,19,FALSE)<0,VLOOKUP($B10,CPPE!$A$2:$BR$177,19,FALSE),\"\"))","v":""},{"$f":"IF($B10=\"\",\"\",IF(VLOOKUP($B10,CPPE!$A$2:$BR$177,20,FALSE)<0,VLOOKUP($B10,CPPE!$A$2:$BR$177,20,FALSE),\"\"))","v":""},{"$f":"IF($B10=\"\",\"\",IF(VLOOKUP($B10,CPPE!$A$2:$BR$177,21,FALSE)<0,VLOOKUP($B10,CPPE!$A$2:$BR$177,21,FALSE),\"\"))","v":""},{"$f":"IF($B10=\"\",\"\",IF(VLOOKUP($B10,CPPE!$A$2:$BR$177,22,FALSE)<0,VLOOKUP($B10,CPPE!$A$2:$BR$177,22,FALSE),\"\"))","v":""},{"$f":"IF($B10=\"\",\"\",IF(VLOOKUP($B10,CPPE!$A$2:$BR$177,23,FALSE)<0,VLOOKUP($B10,CPPE!$A$2:$BR$177,23,FALSE),\"\"))","v":""},{"$f":"IF($B10=\"\",\"\",IF(VLOOKUP($B10,CPPE!$A$2:$BR$177,24,FALSE)<0,VLOOKUP($B10,CPPE!$A$2:$BR$177,24,FALSE),\"\"))","v":""},{"$f":"IF($B10=\"\",\"\",IF(VLOOKUP($B10,CPPE!$A$2:$BR$177,25,FALSE)<0,VLOOKUP($B10,CPPE!$A$2:$BR$177,25,FALSE),\"\"))","v":""},{"$f":"IF($B10=\"\",\"\",IF(VLOOKUP($B10,CPPE!$A$2:$BR$177,26,FALSE)<0,VLOOKUP($B10,CPPE!$A$2:$BR$177,26,FALSE),\"\"))","v":""},{"$f":"IF($B10=\"\",\"\",IF(VLOOKUP($B10,CPPE!$A$2:$BR$177,27,FALSE)<0,VLOOKUP($B10,CPPE!$A$2:$BR$177,27,FALSE),\"\"))","v":""},{"$f":"IF($B10=\"\",\"\",IF(VLOOKUP($B10,CPPE!$A$2:$BR$177,28,FALSE)<0,VLOOKUP($B10,CPPE!$A$2:$BR$177,28,FALSE),\"\"))","v":""},{"$f":"IF($B10=\"\",\"\",IF(VLOOKUP($B10,CPPE!$A$2:$BR$177,29,FALSE)<0,VLOOKUP($B10,CPPE!$A$2:$BR$177,29,FALSE),\"\"))","v":""},{"$f":"IF($B10=\"\",\"\",IF(VLOOKUP($B10,CPPE!$A$2:$BR$177,30,FALSE)<0,VLOOKUP($B10,CPPE!$A$2:$BR$177,30,FALSE),\"\"))","v":""},{"$f":"IF($B10=\"\",\"\",IF(VLOOKUP($B10,CPPE!$A$2:$BR$177,31,FALSE)<0,VLOOKUP($B10,CPPE!$A$2:$BR$177,31,FALSE),\"\"))","v":""},{"$f":"IF($B10=\"\",\"\",IF(VLOOKUP($B10,CPPE!$A$2:$BR$177,32,FALSE)<0,VLOOKUP($B10,CPPE!$A$2:$BR$177,32,FALSE),\"\"))","v":""},{"$f":"IF($B10=\"\",\"\",IF(VLOOKUP($B10,CPPE!$A$2:$BR$177,33,FALSE)<0,VLOOKUP($B10,CPPE!$A$2:$BR$177,33,FALSE),\"\"))","v":""},{"$f":"IF($B10=\"\",\"\",IF(VLOOKUP($B10,CPPE!$A$2:$BR$177,34,FALSE)<0,VLOOKUP($B10,CPPE!$A$2:$BR$177,34,FALSE),\"\"))","v":""},{"$f":"IF($B10=\"\",\"\",IF(VLOOKUP($B10,CPPE!$A$2:$BR$177,35,FALSE)<0,VLOOKUP($B10,CPPE!$A$2:$BR$177,35,FALSE),\"\"))","v":""},{"$f":"IF($B10=\"\",\"\",IF(VLOOKUP($B10,CPPE!$A$2:$BR$177,36,FALSE)<0,VLOOKUP($B10,CPPE!$A$2:$BR$177,36,FALSE),\"\"))","v":""},{"$f":"IF($B10=\"\",\"\",IF(VLOOKUP($B10,CPPE!$A$2:$BR$177,37,FALSE)<0,VLOOKUP($B10,CPPE!$A$2:$BR$177,37,FALSE),\"\"))","v":""},{"$f":"IF($B10=\"\",\"\",IF(VLOOKUP($B10,CPPE!$A$2:$BR$177,38,FALSE)<0,VLOOKUP($B10,CPPE!$A$2:$BR$177,38,FALSE),\"\"))","v":""},{"$f":"IF($B10=\"\",\"\",IF(VLOOKUP($B10,CPPE!$A$2:$BR$177,39,FALSE)<0,VLOOKUP($B10,CPPE!$A$2:$BR$177,39,FALSE),\"\"))","v":""},{"$f":"IF($B10=\"\",\"\",IF(VLOOKUP($B10,CPPE!$A$2:$BR$177,40,FALSE)<0,VLOOKUP($B10,CPPE!$A$2:$BR$177,40,FALSE),\"\"))","v":""},{"$f":"IF($B10=\"\",\"\",IF(VLOOKUP($B10,CPPE!$A$2:$BR$177,41,FALSE)<0,VLOOKUP($B10,CPPE!$A$2:$BR$177,41,FALSE),\"\"))","v":""},{"$f":"IF($B10=\"\",\"\",IF(VLOOKUP($B10,CPPE!$A$2:$BR$177,42,FALSE)<0,VLOOKUP($B10,CPPE!$A$2:$BR$177,42,FALSE),\"\"))","v":""},{"$f":"IF($B10=\"\",\"\",IF(VLOOKUP($B10,CPPE!$A$2:$BR$177,43,FALSE)<0,VLOOKUP($B10,CPPE!$A$2:$BR$177,43,FALSE),\"\"))","v":""},{"$f":"IF($B10=\"\",\"\",IF(VLOOKUP($B10,CPPE!$A$2:$BR$177,44,FALSE)<0,VLOOKUP($B10,CPPE!$A$2:$BR$177,44,FALSE),\"\"))","v":""},{"$f":"IF($B10=\"\",\"\",IF(VLOOKUP($B10,CPPE!$A$2:$BR$177,45,FALSE)<0,VLOOKUP($B10,CPPE!$A$2:$BR$177,45,FALSE),\"\"))","v":""},{"$f":"IF($B10=\"\",\"\",IF(VLOOKUP($B10,CPPE!$A$2:$BR$177,46,FALSE)<0,VLOOKUP($B10,CPPE!$A$2:$BR$177,46,FALSE),\"\"))","v":""},{"$f":"IF($B10=\"\",\"\",IF(VLOOKUP($B10,CPPE!$A$2:$BR$177,47,FALSE)<0,VLOOKUP($B10,CPPE!$A$2:$BR$177,47,FALSE),\"\"))","v":""},{"$f":"IF($B10=\"\",\"\",IF(VLOOKUP($B10,CPPE!$A$2:$BR$177,48,FALSE)<0,VLOOKUP($B10,CPPE!$A$2:$BR$177,48,FALSE),\"\"))","v":""},{"$f":"IF($B10=\"\",\"\",IF(VLOOKUP($B10,CPPE!$A$2:$BR$177,49,FALSE)<0,VLOOKUP($B10,CPPE!$A$2:$BR$177,49,FALSE),\"\"))","v":""},{"$f":"IF($B10=\"\",\"\",IF(VLOOKUP($B10,CPPE!$A$2:$BR$177,50,FALSE)<0,VLOOKUP($B10,CPPE!$A$2:$BR$177,50,FALSE),\"\"))","v":""},{"$f":"IF($B10=\"\",\"\",IF(VLOOKUP($B10,CPPE!$A$2:$BR$177,51,FALSE)<0,VLOOKUP($B10,CPPE!$A$2:$BR$177,51,FALSE),\"\"))","v":""},{"$f":"IF($B10=\"\",\"\",IF(VLOOKUP($B10,CPPE!$A$2:$BR$177,52,FALSE)<0,VLOOKUP($B10,CPPE!$A$2:$BR$177,52,FALSE),\"\"))","v":""},{"$f":"IF($B10=\"\",\"\",IF(VLOOKUP($B10,CPPE!$A$2:$BR$177,53,FALSE)<0,VLOOKUP($B10,CPPE!$A$2:$BR$177,53,FALSE),\"\"))","v":""},{"$f":"IF($B10=\"\",\"\",IF(VLOOKUP($B10,CPPE!$A$2:$BR$177,54,FALSE)<0,VLOOKUP($B10,CPPE!$A$2:$BR$177,54,FALSE),\"\"))","v":""},{"$f":"IF($B10=\"\",\"\",IF(VLOOKUP($B10,CPPE!$A$2:$BR$177,55,FALSE)<0,VLOOKUP($B10,CPPE!$A$2:$BR$177,55,FALSE),\"\"))","v":""},{"$f":"IF($B10=\"\",\"\",IF(VLOOKUP($B10,CPPE!$A$2:$BR$177,56,FALSE)<0,VLOOKUP($B10,CPPE!$A$2:$BR$177,56,FALSE),\"\"))","v":""},{"$f":"IF($B10=\"\",\"\",IF(VLOOKUP($B10,CPPE!$A$2:$BR$177,57,FALSE)<0,VLOOKUP($B10,CPPE!$A$2:$BR$177,57,FALSE),\"\"))","v":""},{"$f":"IF($B10=\"\",\"\",IF(VLOOKUP($B10,CPPE!$A$2:$BR$177,58,FALSE)<0,VLOOKUP($B10,CPPE!$A$2:$BR$177,58,FALSE),\"\"))","v":""},{"$f":"IF($B10=\"\",\"\",IF(VLOOKUP($B10,CPPE!$A$2:$BR$177,59,FALSE)<0,VLOOKUP($B10,CPPE!$A$2:$BR$177,59,FALSE),\"\"))","v":""}]
[null,{"$f":"IF(Results!B11=\"\",\"\",Results!B11)","v":"Riparian Forest Buffer"},{"$f":"IF($B11=\"\",\"\",IF(VLOOKUP($B11,CPPE!$A$2:$BR$177,2,FALSE)<0,VLOOKUP($B11,CPPE!$A$2:$BR$177,2,FALSE),\"\"))","v":""},{"$f":"IF($B11=\"\",\"\",IF(VLOOKUP($B11,CPPE!$A$2:$BR$177,3,FALSE)<0,VLOOKUP($B11,CPPE!$A$2:$BR$177,3,FALSE),\"\"))","v":""},{"$f":"IF($B11=\"\",\"\",IF(VLOOKUP($B11,CPPE!$A$2:$BR$177,4,FALSE)<0,VLOOKUP($B11,CPPE!$A$2:$BR$177,4,FALSE),\"\"))","v":""},{"$f":"IF($B11=\"\",\"\",IF(VLOOKUP($B11,CPPE!$A$2:$BR$177,4,FALSE)<0,VLOOKUP($B11,CPPE!$A$2:$BR$177,5,FALSE),\"\"))","v":""},{"$f":"IF($B11=\"\",\"\",IF(VLOOKUP($B11,CPPE!$A$2:$BR$177,5,FALSE)<0,VLOOKUP($B11,CPPE!$A$2:$BR$177,6,FALSE),\"\"))","v":""},{"$f":"IF($B11=\"\",\"\",IF(VLOOKUP($B11,CPPE!$A$2:$BR$177,7,FALSE)<0,VLOOKUP($B11,CPPE!$A$2:$BR$177,7,FALSE),\"\"))","v":""},{"$f":"IF($B11=\"\",\"\",IF(VLOOKUP($B11,CPPE!$A$2:$BR$177,8,FALSE)<0,VLOOKUP($B11,CPPE!$A$2:$BR$177,8,FALSE),\"\"))","v":""},{"$f":"IF($B11=\"\",\"\",IF(VLOOKUP($B11,CPPE!$A$2:$BR$177,9,FALSE)<0,VLOOKUP($B11,CPPE!$A$2:$BR$177,9,FALSE),\"\"))","v":""},{"$f":"IF($B11=\"\",\"\",IF(VLOOKUP($B11,CPPE!$A$2:$BR$177,10,FALSE)<0,VLOOKUP($B11,CPPE!$A$2:$BR$177,10,FALSE),\"\"))","v":""},{"$f":"IF($B11=\"\",\"\",IF(VLOOKUP($B11,CPPE!$A$2:$BR$177,11,FALSE)<0,VLOOKUP($B11,CPPE!$A$2:$BR$177,11,FALSE),\"\"))","v":""},{"$f":"IF($B11=\"\",\"\",IF(VLOOKUP($B11,CPPE!$A$2:$BR$177,12,FALSE)<0,VLOOKUP($B11,CPPE!$A$2:$BR$177,12,FALSE),\"\"))","v":""},{"$f":"IF($B11=\"\",\"\",IF(VLOOKUP($B11,CPPE!$A$2:$BR$177,13,FALSE)<0,VLOOKUP($B11,CPPE!$A$2:$BR$177,13,FALSE),\"\"))","v":-1},{"$f":"IF($B11=\"\",\"\",IF(VLOOKUP($B11,CPPE!$A$2:$BR$177,14,FALSE)<0,VLOOKUP($B11,CPPE!$A$2:$BR$177,14,FALSE),\"\"))","v":""},{"$f":"IF($B11=\"\",\"\",IF(VLOOKUP($B11,CPPE!$A$2:$BR$177,15,FALSE)<0,VLOOKUP($B11,CPPE!$A$2:$BR$177,15,FALSE),\"\"))","v":""},{"$f":"IF($B11=\"\",\"\",IF(VLOOKUP($B11,CPPE!$A$2:$BR$177,16,FALSE)<0,VLOOKUP($B11,CPPE!$A$2:$BR$177,16,FALSE),\"\"))","v":""},{"$f":"IF($B11=\"\",\"\",IF(VLOOKUP($B11,CPPE!$A$2:$BR$177,17,FALSE)<0,VLOOKUP($B11,CPPE!$A$2:$BR$177,17,FALSE),\"\"))","v":""},{"$f":"IF($B11=\"\",\"\",IF(VLOOKUP($B11,CPPE!$A$2:$BR$177,18,FALSE)<0,VLOOKUP($B11,CPPE!$A$2:$BR$177,18,FALSE),\"\"))","v":""},{"$f":"IF($B11=\"\",\"\",IF(VLOOKUP($B11,CPPE!$A$2:$BR$177,19,FALSE)<0,VLOOKUP($B11,CPPE!$A$2:$BR$177,19,FALSE),\"\"))","v":""},{"$f":"IF($B11=\"\",\"\",IF(VLOOKUP($B11,CPPE!$A$2:$BR$177,20,FALSE)<0,VLOOKUP($B11,CPPE!$A$2:$BR$177,20,FALSE),\"\"))","v":""},{"$f":"IF($B11=\"\",\"\",IF(VLOOKUP($B11,CPPE!$A$2:$BR$177,21,FALSE)<0,VLOOKUP($B11,CPPE!$A$2:$BR$177,21,FALSE),\"\"))","v":""},{"$f":"IF($B11=\"\",\"\",IF(VLOOKUP($B11,CPPE!$A$2:$BR$177,22,FALSE)<0,VLOOKUP($B11,CPPE!$A$2:$BR$177,22,FALSE),\"\"))","v":""},{"$f":"IF($B11=\"\",\"\",IF(VLOOKUP($B11,CPPE!$A$2:$BR$177,23,FALSE)<0,VLOOKUP($B11,CPPE!$A$2:$BR$177,23,FALSE),\"\"))","v":""},{"$f":"IF($B11=\"\",\"\",IF(VLOOKUP($B11,CPPE!$A$2:$BR$177,24,FALSE)<0,VLOOKUP($B11,CPPE!$A$2:$BR$177,24,FALSE),\"\"))","v":""},{"$f":"IF($B11=\"\",\"\",IF(VLOOKUP($B11,CPPE!$A$2:$BR$177,25,FALSE)<0,VLOOKUP($B11,CPPE!$A$2:$BR$177,25,FALSE),\"\"))","v":""},{"$f":"IF($B11=\"\",\"\",IF(VLOOKUP($B11,CPPE!$A$2:$BR$177,26,FALSE)<0,VLOOKUP($B11,CPPE!$A$2:$BR$177,26,FALSE),\"\"))","v":""},{"$f":"IF($B11=\"\",\"\",IF(VLOOKUP($B11,CPPE!$A$2:$BR$177,27,FALSE)<0,VLOOKUP($B11,CPPE!$A$2:$BR$177,27,FALSE),\"\"))","v":""},{"$f":"IF($B11=\"\",\"\",IF(VLOOKUP($B11,CPPE!$A$2:$BR$177,28,FALSE)<0,VLOOKUP($B11,CPPE!$A$2:$BR$177,28,FALSE),\"\"))","v":""},{"$f":"IF($B11=\"\",\"\",IF(VLOOKUP($B11,CPPE!$A$2:$BR$177,29,FALSE)<0,VLOOKUP($B11,CPPE!$A$2:$BR$177,29,FALSE),\"\"))","v":""},{"$f":"IF($B11=\"\",\"\",IF(VLOOKUP($B11,CPPE!$A$2:$BR$177,30,FALSE)<0,VLOOKUP($B11,CPPE!$A$2:$BR$177,30,FALSE),\"\"))","v":""},{"$f":"IF($B11=\"\",\"\",IF(VLOOKUP($B11,CPPE!$A$2:$BR$177,31,FALSE)<0,VLOOKUP($B11,CPPE!$A$2:$BR$177,31,FALSE),\"\"))","v":""},{"$f":"IF($B11=\"\",\"\",IF(VLOOKUP($B11,CPPE!$A$2:$BR$177,32,FALSE)<0,VLOOKUP($B11,CPPE!$A$2:$BR$177,32,FALSE),\"\"))","v":""},{"$f":"IF($B11=\"\",\"\",IF(VLOOKUP($B11,CPPE!$A$2:$BR$177,33,FALSE)<0,VLOOKUP($B11,CPPE!$A$2:$BR$177,33,FALSE),\"\"))","v":""},{"$f":"IF($B11=\"\",\"\",IF(VLOOKUP($B11,CPPE!$A$2:$BR$177,34,FALSE)<0,VLOOKUP($B11,CPPE!$A$2:$BR$177,34,FALSE),\"\"))","v":""},{"$f":"IF($B11=\"\",\"\",IF(VLOOKUP($B11,CPPE!$A$2:$BR$177,35,FALSE)<0,VLOOKUP($B11,CPPE!$A$2:$BR$177,35,FALSE),\"\"))","v":""},{"$f":"IF($B11=\"\",\"\",IF(VLOOKUP($B11,CPPE!$A$2:$BR$177,36,FALSE)<0,VLOOKUP($B11,CPPE!$A$2:$BR$177,36,FALSE),\"\"))","v":""},{"$f":"IF($B11=\"\",\"\",IF(VLOOKUP($B11,CPPE!$A$2:$BR$177,37,FALSE)<0,VLOOKUP($B11,CPPE!$A$2:$BR$177,37,FALSE),\"\"))","v":""},{"$f":"IF($B11=\"\",\"\",IF(VLOOKUP($B11,CPPE!$A$2:$BR$177,38,FALSE)<0,VLOOKUP($B11,CPPE!$A$2:$BR$177,38,FALSE),\"\"))","v":""},{"$f":"IF($B11=\"\",\"\",IF(VLOOKUP($B11,CPPE!$A$2:$BR$177,39,FALSE)<0,VLOOKUP($B11,CPPE!$A$2:$BR$177,39,FALSE),\"\"))","v":""},{"$f":"IF($B11=\"\",\"\",IF(VLOOKUP($B11,CPPE!$A$2:$BR$177,40,FALSE)<0,VLOOKUP($B11,CPPE!$A$2:$BR$177,40,FALSE),\"\"))","v":""},{"$f":"IF($B11=\"\",\"\",IF(VLOOKUP($B11,CPPE!$A$2:$BR$177,41,FALSE)<0,VLOOKUP($B11,CPPE!$A$2:$BR$177,41,FALSE),\"\"))","v":""},{"$f":"IF($B11=\"\",\"\",IF(VLOOKUP($B11,CPPE!$A$2:$BR$177,42,FALSE)<0,VLOOKUP($B11,CPPE!$A$2:$BR$177,42,FALSE),\"\"))","v":""},{"$f":"IF($B11=\"\",\"\",IF(VLOOKUP($B11,CPPE!$A$2:$BR$177,43,FALSE)<0,VLOOKUP($B11,CPPE!$A$2:$BR$177,43,FALSE),\"\"))","v":""},{"$f":"IF($B11=\"\",\"\",IF(VLOOKUP($B11,CPPE!$A$2:$BR$177,44,FALSE)<0,VLOOKUP($B11,CPPE!$A$2:$BR$177,44,FALSE),\"\"))","v":""},{"$f":"IF($B11=\"\",\"\",IF(VLOOKUP($B11,CPPE!$A$2:$BR$177,45,FALSE)<0,VLOOKUP($B11,CPPE!$A$2:$BR$177,45,FALSE),\"\"))","v":""},{"$f":"IF($B11=\"\",\"\",IF(VLOOKUP($B11,CPPE!$A$2:$BR$177,46,FALSE)<0,VLOOKUP($B11,CPPE!$A$2:$BR$177,46,FALSE),\"\"))","v":""},{"$f":"IF($B11=\"\",\"\",IF(VLOOKUP($B11,CPPE!$A$2:$BR$177,47,FALSE)<0,VLOOKUP($B11,CPPE!$A$2:$BR$177,47,FALSE),\"\"))","v":""},{"$f":"IF($B11=\"\",\"\",IF(VLOOKUP($B11,CPPE!$A$2:$BR$177,48,FALSE)<0,VLOOKUP($B11,CPPE!$A$2:$BR$177,48,FALSE),\"\"))","v":""},{"$f":"IF($B11=\"\",\"\",IF(VLOOKUP($B11,CPPE!$A$2:$BR$177,49,FALSE)<0,VLOOKUP($B11,CPPE!$A$2:$BR$177,49,FALSE),\"\"))","v":""},{"$f":"IF($B11=\"\",\"\",IF(VLOOKUP($B11,CPPE!$A$2:$BR$177,50,FALSE)<0,VLOOKUP($B11,CPPE!$A$2:$BR$177,50,FALSE),\"\"))","v":""},{"$f":"IF($B11=\"\",\"\",IF(VLOOKUP($B11,CPPE!$A$2:$BR$177,51,FALSE)<0,VLOOKUP($B11,CPPE!$A$2:$BR$177,51,FALSE),\"\"))","v":""},{"$f":"IF($B11=\"\",\"\",IF(VLOOKUP($B11,CPPE!$A$2:$BR$177,52,FALSE)<0,VLOOKUP($B11,CPPE!$A$2:$BR$177,52,FALSE),\"\"))","v":""},{"$f":"IF($B11=\"\",\"\",IF(VLOOKUP($B11,CPPE!$A$2:$BR$177,53,FALSE)<0,VLOOKUP($B11,CPPE!$A$2:$BR$177,53,FALSE),\"\"))","v":""},{"$f":"IF($B11=\"\",\"\",IF(VLOOKUP($B11,CPPE!$A$2:$BR$177,54,FALSE)<0,VLOOKUP($B11,CPPE!$A$2:$BR$177,54,FALSE),\"\"))","v":""},{"$f":"IF($B11=\"\",\"\",IF(VLOOKUP($B11,CPPE!$A$2:$BR$177,55,FALSE)<0,VLOOKUP($B11,CPPE!$A$2:$BR$177,55,FALSE),\"\"))","v":""},{"$f":"IF($B11=\"\",\"\",IF(VLOOKUP($B11,CPPE!$A$2:$BR$177,56,FALSE)<0,VLOOKUP($B11,CPPE!$A$2:$BR$177,56,FALSE),\"\"))","v":""},{"$f":"IF($B11=\"\",\"\",IF(VLOOKUP($B11,CPPE!$A$2:$BR$177,57,FALSE)<0,VLOOKUP($B11,CPPE!$A$2:$BR$177,57,FALSE),\"\"))","v":""},{"$f":"IF($B11=\"\",\"\",IF(VLOOKUP($B11,CPPE!$A$2:$BR$177,58,FALSE)<0,VLOOKUP($B11,CPPE!$A$2:$BR$177,58,FALSE),\"\"))","v":""},{"$f":"IF($B11=\"\",\"\",IF(VLOOKUP($B11,CPPE!$A$2:$BR$177,59,FALSE)<0,VLOOKUP($B11,CPPE!$A$2:$BR$177,59,FALSE),\"\"))","v":""}]
[null,{"$f":"IF(Results!B12=\"\",\"\",Results!B12)","v":"Residue and Tillage Management, No Till"},{"$f":"IF($B12=\"\",\"\",IF(VLOOKUP($B12,CPPE!$A$2:$BR$177,2,FALSE)<0,VLOOKUP($B12,CPPE!$A$2:$BR$177,2,FALSE),\"\"))","v":""},{"$f":"IF($B12=\"\",\"\",IF(VLOOKUP($B12,CPPE!$A$2:$BR$177,3,FALSE)<0,VLOOKUP($B12,CPPE!$A$2:$BR$177,3,FALSE),\"\"))","v":""},{"$f":"IF($B12=\"\",\"\",IF(VLOOKUP($B12,CPPE!$A$2:$BR$177,4,FALSE)<0,VLOOKUP($B12,CPPE!$A$2:$BR$177,4,FALSE),\"\"))","v":-1},{"$f":"IF($B12=\"\",\"\",IF(VLOOKUP($B12,CPPE!$A$2:$BR$177,4,FALSE)<0,VLOOKUP($B12,CPPE!$A$2:$BR$177,5,FALSE),\"\"))","v":0},{"$f":"IF($B12=\"\",\"\",IF(VLOOKUP($B12,CPPE!$A$2:$BR$177,5,FALSE)<0,VLOOKUP($B12,CPPE!$A$2:$BR$177,6,FALSE),\"\"))","v":""},{"$f":"IF($B12=\"\",\"\",IF(VLOOKUP($B12,CPPE!$A$2:$BR$177,7,FALSE)<0,VLOOKUP($B12,CPPE!$A$2:$BR$177,7,FALSE),\"\"))","v":""},{"$f":"IF($B12=\"\",\"\",IF(VLOOKUP($B12,CPPE!$A$2:$BR$177,8,FALSE)<0,VLOOKUP($B12,CPPE!$A$2:$BR$177,8,FALSE),\"\"))","v":""},{"$f":"IF($B12=\"\",\"\",IF(VLOOKUP($B12,CPPE!$A$2:$BR$177,9,FALSE)<0,VLOOKUP($B12,CPPE!$A$2:$BR$177,9,FALSE),\"\"))","v":""},{"$f":"IF($B12=\"\",\"\",IF(VLOOKUP($B12,CPPE!$A$2:$BR$177,10,FALSE)<0,VLOOKUP($B12,CPPE!$A$2:$BR$177,10,FALSE),\"\"))","v":""},{"$f":"IF($B12=\"\",\"\",IF(VLOOKUP($B12,CPPE!$A$2:$BR$177,11,FALSE)<0,VLOOKUP($B12,CPPE!$A$2:$BR$177,11,FALSE),\"\"))","v":""},{"$f":"IF($B12=\"\",\"\",IF(VLOOKUP($B12,CPPE!$A$2:$BR$177,12,FALSE)<0,VLOOKUP($B12,CPPE!$A$2:$BR$177,12,FALSE),\"\"))","v":""},{"$f":"IF($B12=\"\",\"\",IF(VLOOKUP($B12,CPPE!$A$2:$BR$177,13,FALSE)<0,VLOOKUP($B12,CPPE!$A$2:$BR$177,13,FALSE),\"\"))","v":""},{"$f":"IF($B12=\"\",\"\",IF(VLOOKUP($B12,CPPE!$A$2:$BR$177,14,FALSE)<0,VLOOKUP($B12,CPPE!$A$2:$BR$177,14,FALSE),\"\"))","v":""},{"$f":"IF($B12=\"\",\"\",IF(VLOOKUP($B12,CPPE!$A$2:$BR$177,15,FALSE)<0,VLOOKUP($B12,CPPE!$A$2:$BR$177,15,FALSE),\"\"))","v":""},{"$f":"IF($B12=\"\",\"\",IF(VLOOKUP($B12,CPPE!$A$2:$BR$177,16,FALSE)<0,VLOOKUP($B12,CPPE!$A$2:$BR$177,16,FALSE),\"\"))","v":""},{"$f":"IF($B12=\"\",\"\",IF(VLOOKUP($B12,CPPE!$A$2:$BR$177,17,FALSE)<0,VLOOKUP($B12,CPPE!$A$2:$BR$177,17,FALSE),\"\"))","v":""},{"$f":"IF($B12=\"\",\"\",IF(VLOOKUP($B12,CPPE!$A$2:$BR$177,18,FALSE)<0,VLOOKUP($B12,CPPE!$A$2:$BR$177,18,FALSE),\"\"))","v":""},{"$f":"IF($B12=\"\",\"\",IF(VLOOKUP($B12,CPPE!$A$2:$BR$177,19,FALSE)<0,VLOOKUP($B12,CPPE!$A$2:$BR$177,19,FALSE),\"\"))","v":""},{"$f":"IF($B12=\"\",\"\",IF(VLOOKUP($B12,CPPE!$A$2:$BR$177,20,FALSE)<0,VLOOKUP($B12,CPPE!$A$2:$BR$177,20,FALSE),\"\"))","v":""},{"$f":"IF($B12=\"\",\"\",IF(VLOOKUP($B12,CPPE!$A$2:$BR$177,21,FALSE)<0,VLOOKUP($B12,CPPE!$A$2:$BR$177,21,FALSE),\"\"))","v":""},{"$f":"IF($B12=\"\",\"\",IF(VLOOKUP($B12,CPPE!$A$2:$BR$177,22,FALSE)<0,VLOOKUP($B12,CPPE!$A$2:$BR$177,22,FALSE),\"\"))","v":-1},{"$f":"IF($B12=\"\",\"\",IF(VLOOKUP($B12,CPPE!$A$2:$BR$177,23,FALSE)<0,VLOOKUP($B12,CPPE!$A$2:$BR$177,23,FALSE),\"\"))","v":""},{"$f":"IF($B12=\"\",\"\",IF(VLOOKUP($B12,CPPE!$A$2:$BR$177,24,FALSE)<0,VLOOKUP($B12,CPPE!$A$2:$BR$177,24,FALSE),\"\"))","v":""},{"$f":"IF($B12=\"\",\"\",IF(VLOOKUP($B12,CPPE!$A$2:$BR$177,25,FALSE)<0,VLOOKUP($B12,CPPE!$A$2:$BR$177,25,FALSE),\"\"))","v":""},{"$f":"IF($B12=\"\",\"\",IF(VLOOKUP($B12,CPPE!$A$2:$BR$177,26,FALSE)<0,VLOOKUP($B12,CPPE!$A$2:$BR$177,26,FALSE),\"\"))","v":""},{"$f":"IF($B12=\"\",\"\",IF(VLOOKUP($B12,CPPE!$A$2:$BR$177,27,FALSE)<0,VLOOKUP($B12,CPPE!$A$2:$BR$177,27,FALSE),\"\"))","v":""},{"$f":"IF($B12=\"\",\"\",IF(VLOOKUP($B12,CPPE!$A$2:$BR$177,28,FALSE)<0,VLOOKUP($B12,CPPE!$A$2:$BR$177,28,FALSE),\"\"))","v":""},{"$f":"IF($B12=\"\",\"\",IF(VLOOKUP($B12,CPPE!$A$2:$BR$177,29,FALSE)<0,VLOOKUP($B12,CPPE!$A$2:$BR$177,29,FALSE),\"\"))","v":""},{"$f":"IF($B12=\"\",\"\",IF(VLOOKUP($B12,CPPE!$A$2:$BR$177,30,FALSE)<0,VLOOKUP($B12,CPPE!$A$2:$BR$177,30,FALSE),\"\"))","v":""},{"$f":"IF($B12=\"\",\"\",IF(VLOOKUP($B12,CPPE!$A$2:$BR$177,31,FALSE)<0,VLOOKUP($B12,CPPE!$A$2:$BR$177,31,FALSE),\"\"))","v":""},{"$f":"IF($B12=\"\",\"\",IF(VLOOKUP($B12,CPPE!$A$2:$BR$177,32,FALSE)<0,VLOOKUP($B12,CPPE!$A$2:$BR$177,32,FALSE),\"\"))","v":""},{"$f":"IF($B12=\"\",\"\",IF(VLOOKUP($B12,CPPE!$A$2:$BR$177,33,FALSE)<0,VLOOKUP($B12,CPPE!$A$2:$BR$177,33,FALSE),\"\"))","v":""},{"$f":"IF($B12=\"\",\"\",IF(VLOOKUP($B12,CPPE!$A$2:$BR$177,34,FALSE)<0,VLOOKUP($B12,CPPE!$A$2:$BR$177,34,FALSE),\"\"))","v":""},{"$f":"IF($B12=\"\",\"\",IF(VLOOKUP($B12,CPPE!$A$2:$BR$177,35,FALSE)<0,VLOOKUP($B12,CPPE!$A$2:$BR$177,35,FALSE),\"\"))","v":""},{"$f":"IF($B12=\"\",\"\",IF(VLOOKUP($B12,CPPE!$A$2:$BR$177,36,FALSE)<0,VLOOKUP($B12,CPPE!$A$2:$BR$177,36,FALSE),\"\"))","v":""},{"$f":"IF($B12=\"\",\"\",IF(VLOOKUP($B12,CPPE!$A$2:$BR$177,37,FALSE)<0,VLOOKUP($B12,CPPE!$A$2:$BR$177,37,FALSE),\"\"))","v":""},{"$f":"IF($B12=\"\",\"\",IF(VLOOKUP($B12,CPPE!$A$2:$BR$177,38,FALSE)<0,VLOOKUP($B12,CPPE!$A$2:$BR$177,38,FALSE),\"\"))","v":""},{"$f":"IF($B12=\"\",\"\",IF(VLOOKUP($B12,CPPE!$A$2:$BR$177,39,FALSE)<0,VLOOKUP($B12,CPPE!$A$2:$BR$177,39,FALSE),\"\"))","v":""},{"$f":"IF($B12=\"\",\"\",IF(VLOOKUP($B12,CPPE!$A$2:$BR$177,40,FALSE)<0,VLOOKUP($B12,CPPE!$A$2:$BR$177,40,FALSE),\"\"))","v":""},{"$f":"IF($B12=\"\",\"\",IF(VLOOKUP($B12,CPPE!$A$2:$BR$177,41,FALSE)<0,VLOOKUP($B12,CPPE!$A$2:$BR$177,41,FALSE),\"\"))","v":""},{"$f":"IF($B12=\"\",\"\",IF(VLOOKUP($B12,CPPE!$A$2:$BR$177,42,FALSE)<0,VLOOKUP($B12,CPPE!$A$2:$BR$177,42,FALSE),\"\"))","v":""},{"$f":"IF($B12=\"\",\"\",IF(VLOOKUP($B12,CPPE!$A$2:$BR$177,43,FALSE)<0,VLOOKUP($B12,CPPE!$A$2:$BR$177,43,FALSE),\"\"))","v":""},{"$f":"IF($B12=\"\",\"\",IF(VLOOKUP($B12,CPPE!$A$2:$BR$177,44,FALSE)<0,VLOOKUP($B12,CPPE!$A$2:$BR$177,44,FALSE),\"\"))","v":""},{"$f":"IF($B12=\"\",\"\",IF(VLOOKUP($B12,CPPE!$A$2:$BR$177,45,FALSE)<0,VLOOKUP($B12,CPPE!$A$2:$BR$177,45,FALSE),\"\"))","v":""},{"$f":"IF($B12=\"\",\"\",IF(VLOOKUP($B12,CPPE!$A$2:$BR$177,46,FALSE)<0,VLOOKUP($B12,CPPE!$A$2:$BR$177,46,FALSE),\"\"))","v":""},{"$f":"IF($B12=\"\",\"\",IF(VLOOKUP($B12,CPPE!$A$2:$BR$177,47,FALSE)<0,VLOOKUP($B12,CPPE!$A$2:$BR$177,47,FALSE),\"\"))","v":""},{"$f":"IF($B12=\"\",\"\",IF(VLOOKUP($B12,CPPE!$A$2:$BR$177,48,FALSE)<0,VLOOKUP($B12,CPPE!$A$2:$BR$177,48,FALSE),\"\"))","v":""},{"$f":"IF($B12=\"\",\"\",IF(VLOOKUP($B12,CPPE!$A$2:$BR$177,49,FALSE)<0,VLOOKUP($B12,CPPE!$A$2:$BR$177,49,FALSE),\"\"))","v":""},{"$f":"IF($B12=\"\",\"\",IF(VLOOKUP($B12,CPPE!$A$2:$BR$177,50,FALSE)<0,VLOOKUP($B12,CPPE!$A$2:$BR$177,50,FALSE),\"\"))","v":""},{"$f":"IF($B12=\"\",\"\",IF(VLOOKUP($B12,CPPE!$A$2:$BR$177,51,FALSE)<0,VLOOKUP($B12,CPPE!$A$2:$BR$177,51,FALSE),\"\"))","v":""},{"$f":"IF($B12=\"\",\"\",IF(VLOOKUP($B12,CPPE!$A$2:$BR$177,52,FALSE)<0,VLOOKUP($B12,CPPE!$A$2:$BR$177,52,FALSE),\"\"))","v":""},{"$f":"IF($B12=\"\",\"\",IF(VLOOKUP($B12,CPPE!$A$2:$BR$177,53,FALSE)<0,VLOOKUP($B12,CPPE!$A$2:$BR$177,53,FALSE),\"\"))","v":""},{"$f":"IF($B12=\"\",\"\",IF(VLOOKUP($B12,CPPE!$A$2:$BR$177,54,FALSE)<0,VLOOKUP($B12,CPPE!$A$2:$BR$177,54,FALSE),\"\"))","v":""},{"$f":"IF($B12=\"\",\"\",IF(VLOOKUP($B12,CPPE!$A$2:$BR$177,55,FALSE)<0,VLOOKUP($B12,CPPE!$A$2:$BR$177,55,FALSE),\"\"))","v":""},{"$f":"IF($B12=\"\",\"\",IF(VLOOKUP($B12,CPPE!$A$2:$BR$177,56,FALSE)<0,VLOOKUP($B12,CPPE!$A$2:$BR$177,56,FALSE),\"\"))","v":""},{"$f":"IF($B12=\"\",\"\",IF(VLOOKUP($B12,CPPE!$A$2:$BR$177,57,FALSE)<0,VLOOKUP($B12,CPPE!$A$2:$BR$177,57,FALSE),\"\"))","v":""},{"$f":"IF($B12=\"\",\"\",IF(VLOOKUP($B12,CPPE!$A$2:$BR$177,58,FALSE)<0,VLOOKUP($B12,CPPE!$A$2:$BR$177,58,FALSE),\"\"))","v":""},{"$f":"IF($B12=\"\",\"\",IF(VLOOKUP($B12,CPPE!$A$2:$BR$177,59,FALSE)<0,VLOOKUP($B12,CPPE!$A$2:$BR$177,59,FALSE),\"\"))","v":""}]
[null,{"$f":"IF(Results!B13=\"\",\"\",Results!B13)","v":"Controlled Traffic Farming"},{"$f":"IF($B13=\"\",\"\",IF(VLOOKUP($B13,CPPE!$A$2:$BR$177,2,FALSE)<0,VLOOKUP($B13,CPPE!$A$2:$BR$177,2,FALSE),\"\"))","v":""},{"$f":"IF($B13=\"\",\"\",IF(VLOOKUP($B13,CPPE!$A$2:$BR$177,3,FALSE)<0,VLOOKUP($B13,CPPE!$A$2:$BR$177,3,FALSE),\"\"))","v":""},{"$f":"IF($B13=\"\",\"\",IF(VLOOKUP($B13,CPPE!$A$2:$BR$177,4,FALSE)<0,VLOOKUP($B13,CPPE!$A$2:$BR$177,4,FALSE),\"\"))","v":""},{"$f":"IF($B13=\"\",\"\",IF(VLOOKUP($B13,CPPE!$A$2:$BR$177,4,FALSE)<0,VLOOKUP($B13,CPPE!$A$2:$BR$177,5,FALSE),\"\"))","v":""},{"$f":"IF($B13=\"\",\"\",IF(VLOOKUP($B13,CPPE!$A$2:$BR$177,5,FALSE)<0,VLOOKUP($B13,CPPE!$A$2:$BR$177,6,FALSE),\"\"))","v":""},{"$f":"IF($B13=\"\",\"\",IF(VLOOKUP($B13,CPPE!$A$2:$BR$177,7,FALSE)<0,VLOOKUP($B13,CPPE!$A$2:$BR$177,7,FALSE),\"\"))","v":""},{"$f":"IF($B13=\"\",\"\",IF(VLOOKUP($B13,CPPE!$A$2:$BR$177,8,FALSE)<0,VLOOKUP($B13,CPPE!$A$2:$BR$177,8,FALSE),\"\"))","v":""},{"$f":"IF($B13=\"\",\"\",IF(VLOOKUP($B13,CPPE!$A$2:$BR$177,9,FALSE)<0,VLOOKUP($B13,CPPE!$A$2:$BR$177,9,FALSE),\"\"))","v":""},{"$f":"IF($B13=\"\",\"\",IF(VLOOKUP($B13,CPPE!$A$2:$BR$177,10,FALSE)<0,VLOOKUP($B13,CPPE!$A$2:$BR$177,10,FALSE),\"\"))","v":""},{"$f":"IF($B13=\"\",\"\",IF(VLOOKUP($B13,CPPE!$A$2:$BR$177,11,FALSE)<0,VLOOKUP($B13,CPPE!$A$2:$BR$177,11,FALSE),\"\"))","v":""},{"$f":"IF($B13=\"\",\"\",IF(VLOOKUP($B13,CPPE!$A$2:$BR$177,12,FALSE)<0,VLOOKUP($B13,CPPE!$A$2:$BR$177,12,FALSE),\"\"))","v":""},{"$f":"IF($B13=\"\",\"\",IF(VLOOKUP($B13,CPPE!$A$2:$BR$177,13,FALSE)<0,VLOOKUP($B13,CPPE!$A$2:$BR$177,13,FALSE),\"\"))","v":""},{"$f":"IF($B13=\"\",\"\",IF(VLOOKUP($B13,CPPE!$A$2:$BR$177,14,FALSE)<0,VLOOKUP($B13,CPPE!$A$2:$BR$177,14,FALSE),\"\"))","v":""},{"$f":"IF($B13=\"\",\"\",IF(VLOOKUP($B13,CPPE!$A$2:$BR$177,15,FALSE)<0,VLOOKUP($B13,CPPE!$A$2:$BR$177,15,FALSE),\"\"))","v":""},{"$f":"IF($B13=\"\",\"\",IF(VLOOKUP($B13,CPPE!$A$2:$BR$177,16,FALSE)<0,VLOOKUP($B13,CPPE!$A$2:$BR$177,16,FALSE),\"\"))","v":""},{"$f":"IF($B13=\"\",\"\",IF(VLOOKUP($B13,CPPE!$A$2:$BR$177,17,FALSE)<0,VLOOKUP($B13,CPPE!$A$2:$BR$177,17,FALSE),\"\"))","v":""},{"$f":"IF($B13=\"\",\"\",IF(VLOOKUP($B13,CPPE!$A$2:$BR$177,18,FALSE)<0,VLOOKUP($B13,CPPE!$A$2:$BR$177,18,FALSE),\"\"))","v":""},{"$f":"IF($B13=\"\",\"\",IF(VLOOKUP($B13,CPPE!$A$2:$BR$177,19,FALSE)<0,VLOOKUP($B13,CPPE!$A$2:$BR$177,19,FALSE),\"\"))","v":""},{"$f":"IF($B13=\"\",\"\",IF(VLOOKUP($B13,CPPE!$A$2:$BR$177,20,FALSE)<0,VLOOKUP($B13,CPPE!$A$2:$BR$177,20,FALSE),\"\"))","v":""},{"$f":"IF($B13=\"\",\"\",IF(VLOOKUP($B13,CPPE!$A$2:$BR$177,21,FALSE)<0,VLOOKUP($B13,CPPE!$A$2:$BR$177,21,FALSE),\"\"))","v":""},{"$f":"IF($B13=\"\",\"\",IF(VLOOKUP($B13,CPPE!$A$2:$BR$177,22,FALSE)<0,VLOOKUP($B13,CPPE!$A$2:$BR$177,22,FALSE),\"\"))","v":""},{"$f":"IF($B13=\"\",\"\",IF(VLOOKUP($B13,CPPE!$A$2:$BR$177,23,FALSE)<0,VLOOKUP($B13,CPPE!$A$2:$BR$177,23,FALSE),\"\"))","v":""},{"$f":"IF($B13=\"\",\"\",IF(VLOOKUP($B13,CPPE!$A$2:$BR$177,24,FALSE)<0,VLOOKUP($B13,CPPE!$A$2:$BR$177,24,FALSE),\"\"))","v":""},{"$f":"IF($B13=\"\",\"\",IF(VLOOKUP($B13,CPPE!$A$2:$BR$177,25,FALSE)<0,VLOOKUP($B13,CPPE!$A$2:$BR$177,25,FALSE),\"\"))","v":""},{"$f":"IF($B13=\"\",\"\",IF(VLOOKUP($B13,CPPE!$A$2:$BR$177,26,FALSE)<0,VLOOKUP($B13,CPPE!$A$2:$BR$177,26,FALSE),\"\"))","v":""},{"$f":"IF($B13=\"\",\"\",IF(VLOOKUP($B13,CPPE!$A$2:$BR$177,27,FALSE)<0,VLOOKUP($B13,CPPE!$A$2:$BR$177,27,FALSE),\"\"))","v":""},{"$f":"IF($B13=\"\",\"\",IF(VLOOKUP($B13,CPPE!$A$2:$BR$177,28,FALSE)<0,VLOOKUP($B13,CPPE!$A$2:$BR$177,28,FALSE),\"\"))","v":""},{"$f":"IF($B13=\"\",\"\",IF(VLOOKUP($B13,CPPE!$A$2:$BR$177,29,FALSE)<0,VLOOKUP($B13,CPPE!$A$2:$BR$177,29,FALSE),\"\"))","v":""},{"$f":"IF($B13=\"\",\"\",IF(VLOOKUP($B13,CPPE!$A$2:$BR$177,30,FALSE)<0,VLOOKUP($B13,CPPE!$A$2:$BR$177,30,FALSE),\"\"))","v":""},{"$f":"IF($B13=\"\",\"\",IF(VLOOKUP($B13,CPPE!$A$2:$BR$177,31,FALSE)<0,VLOOKUP($B13,CPPE!$A$2:$BR$177,31,FALSE),\"\"))","v":""},{"$f":"IF($B13=\"\",\"\",IF(VLOOKUP($B13,CPPE!$A$2:$BR$177,32,FALSE)<0,VLOOKUP($B13,CPPE!$A$2:$BR$177,32,FALSE),\"\"))","v":""},{"$f":"IF($B13=\"\",\"\",IF(VLOOKUP($B13,CPPE!$A$2:$BR$177,33,FALSE)<0,VLOOKUP($B13,CPPE!$A$2:$BR$177,33,FALSE),\"\"))","v":""},{"$f":"IF($B13=\"\",\"\",IF(VLOOKUP($B13,CPPE!$A$2:$BR$177,34,FALSE)<0,VLOOKUP($B13,CPPE!$A$2:$BR$177,34,FALSE),\"\"))","v":""},{"$f":"IF($B13=\"\",\"\",IF(VLOOKUP($B13,CPPE!$A$2:$BR$177,35,FALSE)<0,VLOOKUP($B13,CPPE!$A$2:$BR$177,35,FALSE),\"\"))","v":""},{"$f":"IF($B13=\"\",\"\",IF(VLOOKUP($B13,CPPE!$A$2:$BR$177,36,FALSE)<0,VLOOKUP($B13,CPPE!$A$2:$BR$177,36,FALSE),\"\"))","v":""},{"$f":"IF($B13=\"\",\"\",IF(VLOOKUP($B13,CPPE!$A$2:$BR$177,37,FALSE)<0,VLOOKUP($B13,CPPE!$A$2:$BR$177,37,FALSE),\"\"))","v":""},{"$f":"IF($B13=\"\",\"\",IF(VLOOKUP($B13,CPPE!$A$2:$BR$177,38,FALSE)<0,VLOOKUP($B13,CPPE!$A$2:$BR$177,38,FALSE),\"\"))","v":""},{"$f":"IF($B13=\"\",\"\",IF(VLOOKUP($B13,CPPE!$A$2:$BR$177,39,FALSE)<0,VLOOKUP($B13,CPPE!$A$2:$BR$177,39,FALSE),\"\"))","v":""},{"$f":"IF($B13=\"\",\"\",IF(VLOOKUP($B13,CPPE!$A$2:$BR$177,40,FALSE)<0,VLOOKUP($B13,CPPE!$A$2:$BR$177,40,FALSE),\"\"))","v":""},{"$f":"IF($B13=\"\",\"\",IF(VLOOKUP($B13,CPPE!$A$2:$BR$177,41,FALSE)<0,VLOOKUP($B13,CPPE!$A$2:$BR$177,41,FALSE),\"\"))","v":""},{"$f":"IF($B13=\"\",\"\",IF(VLOOKUP($B13,CPPE!$A$2:$BR$177,42,FALSE)<0,VLOOKUP($B13,CPPE!$A$2:$BR$177,42,FALSE),\"\"))","v":""},{"$f":"IF($B13=\"\",\"\",IF(VLOOKUP($B13,CPPE!$A$2:$BR$177,43,FALSE)<0,VLOOKUP($B13,CPPE!$A$2:$BR$177,43,FALSE),\"\"))","v":""},{"$f":"IF($B13=\"\",\"\",IF(VLOOKUP($B13,CPPE!$A$2:$BR$177,44,FALSE)<0,VLOOKUP($B13,CPPE!$A$2:$BR$177,44,FALSE),\"\"))","v":""},{"$f":"IF($B13=\"\",\"\",IF(VLOOKUP($B13,CPPE!$A$2:$BR$177,45,FALSE)<0,VLOOKUP($B13,CPPE!$A$2:$BR$177,45,FALSE),\"\"))","v":""},{"$f":"IF($B13=\"\",\"\",IF(VLOOKUP($B13,CPPE!$A$2:$BR$177,46,FALSE)<0,VLOOKUP($B13,CPPE!$A$2:$BR$177,46,FALSE),\"\"))","v":""},{"$f":"IF($B13=\"\",\"\",IF(VLOOKUP($B13,CPPE!$A$2:$BR$177,47,FALSE)<0,VLOOKUP($B13,CPPE!$A$2:$BR$177,47,FALSE),\"\"))","v":""},{"$f":"IF($B13=\"\",\"\",IF(VLOOKUP($B13,CPPE!$A$2:$BR$177,48,FALSE)<0,VLOOKUP($B13,CPPE!$A$2:$BR$177,48,FALSE),\"\"))","v":""},{"$f":"IF($B13=\"\",\"\",IF(VLOOKUP($B13,CPPE!$A$2:$BR$177,49,FALSE)<0,VLOOKUP($B13,CPPE!$A$2:$BR$177,49,FALSE),\"\"))","v":""},{"$f":"IF($B13=\"\",\"\",IF(VLOOKUP($B13,CPPE!$A$2:$BR$177,50,FALSE)<0,VLOOKUP($B13,CPPE!$A$2:$BR$177,50,FALSE),\"\"))","v":""},{"$f":"IF($B13=\"\",\"\",IF(VLOOKUP($B13,CPPE!$A$2:$BR$177,51,FALSE)<0,VLOOKUP($B13,CPPE!$A$2:$BR$177,51,FALSE),\"\"))","v":""},{"$f":"IF($B13=\"\",\"\",IF(VLOOKUP($B13,CPPE!$A$2:$BR$177,52,FALSE)<0,VLOOKUP($B13,CPPE!$A$2:$BR$177,52,FALSE),\"\"))","v":""},{"$f":"IF($B13=\"\",\"\",IF(VLOOKUP($B13,CPPE!$A$2:$BR$177,53,FALSE)<0,VLOOKUP($B13,CPPE!$A$2:$BR$177,53,FALSE),\"\"))","v":""},{"$f":"IF($B13=\"\",\"\",IF(VLOOKUP($B13,CPPE!$A$2:$BR$177,54,FALSE)<0,VLOOKUP($B13,CPPE!$A$2:$BR$177,54,FALSE),\"\"))","v":""},{"$f":"IF($B13=\"\",\"\",IF(VLOOKUP($B13,CPPE!$A$2:$BR$177,55,FALSE)<0,VLOOKUP($B13,CPPE!$A$2:$BR$177,55,FALSE),\"\"))","v":""},{"$f":"IF($B13=\"\",\"\",IF(VLOOKUP($B13,CPPE!$A$2:$BR$177,56,FALSE)<0,VLOOKUP($B13,CPPE!$A$2:$BR$177,56,FALSE),\"\"))","v":""},{"$f":"IF($B13=\"\",\"\",IF(VLOOKUP($B13,CPPE!$A$2:$BR$177,57,FALSE)<0,VLOOKUP($B13,CPPE!$A$2:$BR$177,57,FALSE),\"\"))","v":""},{"$f":"IF($B13=\"\",\"\",IF(VLOOKUP($B13,CPPE!$A$2:$BR$177,58,FALSE)<0,VLOOKUP($B13,CPPE!$A$2:$BR$177,58,FALSE),\"\"))","v":""},{"$f":"IF($B13=\"\",\"\",IF(VLOOKUP($B13,CPPE!$A$2:$BR$177,59,FALSE)<0,VLOOKUP($B13,CPPE!$A$2:$BR$177,59,FALSE),\"\"))","v":""}]
[null,{"$f":"IF(Results!B14=\"\",\"\",Results!B14)","v":""},{"$f":"IF($B14=\"\",\"\",IF(VLOOKUP($B14,CPPE!$A$2:$BR$177,2,FALSE)<0,VLOOKUP($B14,CPPE!$A$2:$BR$177,2,FALSE),\"\"))","v":""},{"$f":"IF($B14=\"\",\"\",IF(VLOOKUP($B14,CPPE!$A$2:$BR$177,3,FALSE)<0,VLOOKUP($B14,CPPE!$A$2:$BR$177,3,FALSE),\"\"))","v":""},{"$f":"IF($B14=\"\",\"\",IF(VLOOKUP($B14,CPPE!$A$2:$BR$177,4,FALSE)<0,VLOOKUP($B14,CPPE!$A$2:$BR$177,4,FALSE),\"\"))","v":""},{"$f":"IF($B14=\"\",\"\",IF(VLOOKUP($B14,CPPE!$A$2:$BR$177,4,FALSE)<0,VLOOKUP($B14,CPPE!$A$2:$BR$177,5,FALSE),\"\"))","v":""},{"$f":"IF($B14=\"\",\"\",IF(VLOOKUP($B14,CPPE!$A$2:$BR$177,5,FALSE)<0,VLOOKUP($B14,CPPE!$A$2:$BR$177,6,FALSE),\"\"))","v":""},{"$f":"IF($B14=\"\",\"\",IF(VLOOKUP($B14,CPPE!$A$2:$BR$177,7,FALSE)<0,VLOOKUP($B14,CPPE!$A$2:$BR$177,7,FALSE),\"\"))","v":""},{"$f":"IF($B14=\"\",\"\",IF(VLOOKUP($B14,CPPE!$A$2:$BR$177,8,FALSE)<0,VLOOKUP($B14,CPPE!$A$2:$BR$177,8,FALSE),\"\"))","v":""},{"$f":"IF($B14=\"\",\"\",IF(VLOOKUP($B14,CPPE!$A$2:$BR$177,9,FALSE)<0,VLOOKUP($B14,CPPE!$A$2:$BR$177,9,FALSE),\"\"))","v":""},{"$f":"IF($B14=\"\",\"\",IF(VLOOKUP($B14,CPPE!$A$2:$BR$177,10,FALSE)<0,VLOOKUP($B14,CPPE!$A$2:$BR$177,10,FALSE),\"\"))","v":""},{"$f":"IF($B14=\"\",\"\",IF(VLOOKUP($B14,CPPE!$A$2:$BR$177,11,FALSE)<0,VLOOKUP($B14,CPPE!$A$2:$BR$177,11,FALSE),\"\"))","v":""},{"$f":"IF($B14=\"\",\"\",IF(VLOOKUP($B14,CPPE!$A$2:$BR$177,12,FALSE)<0,VLOOKUP($B14,CPPE!$A$2:$BR$177,12,FALSE),\"\"))","v":""},{"$f":"IF($B14=\"\",\"\",IF(VLOOKUP($B14,CPPE!$A$2:$BR$177,13,FALSE)<0,VLOOKUP($B14,CPPE!$A$2:$BR$177,13,FALSE),\"\"))","v":""},{"$f":"IF($B14=\"\",\"\",IF(VLOOKUP($B14,CPPE!$A$2:$BR$177,14,FALSE)<0,VLOOKUP($B14,CPPE!$A$2:$BR$177,14,FALSE),\"\"))","v":""},{"$f":"IF($B14=\"\",\"\",IF(VLOOKUP($B14,CPPE!$A$2:$BR$177,15,FALSE)<0,VLOOKUP($B14,CPPE!$A$2:$BR$177,15,FALSE),\"\"))","v":""},{"$f":"IF($B14=\"\",\"\",IF(VLOOKUP($B14,CPPE!$A$2:$BR$177,16,FALSE)<0,VLOOKUP($B14,CPPE!$A$2:$BR$177,16,FALSE),\"\"))","v":""},{"$f":"IF($B14=\"\",\"\",IF(VLOOKUP($B14,CPPE!$A$2:$BR$177,17,FALSE)<0,VLOOKUP($B14,CPPE!$A$2:$BR$177,17,FALSE),\"\"))","v":""},{"$f":"IF($B14=\"\",\"\",IF(VLOOKUP($B14,CPPE!$A$2:$BR$177,18,FALSE)<0,VLOOKUP($B14,CPPE!$A$2:$BR$177,18,FALSE),\"\"))","v":""},{"$f":"IF($B14=\"\",\"\",IF(VLOOKUP($B14,CPPE!$A$2:$BR$177,19,FALSE)<0,VLOOKUP($B14,CPPE!$A$2:$BR$177,19,FALSE),\"\"))","v":""},{"$f":"IF($B14=\"\",\"\",IF(VLOOKUP($B14,CPPE!$A$2:$BR$177,20,FALSE)<0,VLOOKUP($B14,CPPE!$A$2:$BR$177,20,FALSE),\"\"))","v":""},{"$f":"IF($B14=\"\",\"\",IF(VLOOKUP($B14,CPPE!$A$2:$BR$177,21,FALSE)<0,VLOOKUP($B14,CPPE!$A$2:$BR$177,21,FALSE),\"\"))","v":""},{"$f":"IF($B14=\"\",\"\",IF(VLOOKUP($B14,CPPE!$A$2:$BR$177,22,FALSE)<0,VLOOKUP($B14,CPPE!$A$2:$BR$177,22,FALSE),\"\"))","v":""},{"$f":"IF($B14=\"\",\"\",IF(VLOOKUP($B14,CPPE!$A$2:$BR$177,23,FALSE)<0,VLOOKUP($B14,CPPE!$A$2:$BR$177,23,FALSE),\"\"))","v":""},{"$f":"IF($B14=\"\",\"\",IF(VLOOKUP($B14,CPPE!$A$2:$BR$177,24,FALSE)<0,VLOOKUP($B14,CPPE!$A$2:$BR$177,24,FALSE),\"\"))","v":""},{"$f":"IF($B14=\"\",\"\",IF(VLOOKUP($B14,CPPE!$A$2:$BR$177,25,FALSE)<0,VLOOKUP($B14,CPPE!$A$2:$BR$177,25,FALSE),\"\"))","v":""},{"$f":"IF($B14=\"\",\"\",IF(VLOOKUP($B14,CPPE!$A$2:$BR$177,26,FALSE)<0,VLOOKUP($B14,CPPE!$A$2:$BR$177,26,FALSE),\"\"))","v":""},{"$f":"IF($B14=\"\",\"\",IF(VLOOKUP($B14,CPPE!$A$2:$BR$177,27,FALSE)<0,VLOOKUP($B14,CPPE!$A$2:$BR$177,27,FALSE),\"\"))","v":""},{"$f":"IF($B14=\"\",\"\",IF(VLOOKUP($B14,CPPE!$A$2:$BR$177,28,FALSE)<0,VLOOKUP($B14,CPPE!$A$2:$BR$177,28,FALSE),\"\"))","v":""},{"$f":"IF($B14=\"\",\"\",IF(VLOOKUP($B14,CPPE!$A$2:$BR$177,29,FALSE)<0,VLOOKUP($B14,CPPE!$A$2:$BR$177,29,FALSE),\"\"))","v":""},{"$f":"IF($B14=\"\",\"\",IF(VLOOKUP($B14,CPPE!$A$2:$BR$177,30,FALSE)<0,VLOOKUP($B14,CPPE!$A$2:$BR$177,30,FALSE),\"\"))","v":""},{"$f":"IF($B14=\"\",\"\",IF(VLOOKUP($B14,CPPE!$A$2:$BR$177,31,FALSE)<0,VLOOKUP($B14,CPPE!$A$2:$BR$177,31,FALSE),\"\"))","v":""},{"$f":"IF($B14=\"\",\"\",IF(VLOOKUP($B14,CPPE!$A$2:$BR$177,32,FALSE)<0,VLOOKUP($B14,CPPE!$A$2:$BR$177,32,FALSE),\"\"))","v":""},{"$f":"IF($B14=\"\",\"\",IF(VLOOKUP($B14,CPPE!$A$2:$BR$177,33,FALSE)<0,VLOOKUP($B14,CPPE!$A$2:$BR$177,33,FALSE),\"\"))","v":""},{"$f":"IF($B14=\"\",\"\",IF(VLOOKUP($B14,CPPE!$A$2:$BR$177,34,FALSE)<0,VLOOKUP($B14,CPPE!$A$2:$BR$177,34,FALSE),\"\"))","v":""},{"$f":"IF($B14=\"\",\"\",IF(VLOOKUP($B14,CPPE!$A$2:$BR$177,35,FALSE)<0,VLOOKUP($B14,CPPE!$A$2:$BR$177,35,FALSE),\"\"))","v":""},{"$f":"IF($B14=\"\",\"\",IF(VLOOKUP($B14,CPPE!$A$2:$BR$177,36,FALSE)<0,VLOOKUP($B14,CPPE!$A$2:$BR$177,36,FALSE),\"\"))","v":""},{"$f":"IF($B14=\"\",\"\",IF(VLOOKUP($B14,CPPE!$A$2:$BR$177,37,FALSE)<0,VLOOKUP($B14,CPPE!$A$2:$BR$177,37,FALSE),\"\"))","v":""},{"$f":"IF($B14=\"\",\"\",IF(VLOOKUP($B14,CPPE!$A$2:$BR$177,38,FALSE)<0,VLOOKUP($B14,CPPE!$A$2:$BR$177,38,FALSE),\"\"))","v":""},{"$f":"IF($B14=\"\",\"\",IF(VLOOKUP($B14,CPPE!$A$2:$BR$177,39,FALSE)<0,VLOOKUP($B14,CPPE!$A$2:$BR$177,39,FALSE),\"\"))","v":""},{"$f":"IF($B14=\"\",\"\",IF(VLOOKUP($B14,CPPE!$A$2:$BR$177,40,FALSE)<0,VLOOKUP($B14,CPPE!$A$2:$BR$177,40,FALSE),\"\"))","v":""},{"$f":"IF($B14=\"\",\"\",IF(VLOOKUP($B14,CPPE!$A$2:$BR$177,41,FALSE)<0,VLOOKUP($B14,CPPE!$A$2:$BR$177,41,FALSE),\"\"))","v":""},{"$f":"IF($B14=\"\",\"\",IF(VLOOKUP($B14,CPPE!$A$2:$BR$177,42,FALSE)<0,VLOOKUP($B14,CPPE!$A$2:$BR$177,42,FALSE),\"\"))","v":""},{"$f":"IF($B14=\"\",\"\",IF(VLOOKUP($B14,CPPE!$A$2:$BR$177,43,FALSE)<0,VLOOKUP($B14,CPPE!$A$2:$BR$177,43,FALSE),\"\"))","v":""},{"$f":"IF($B14=\"\",\"\",IF(VLOOKUP($B14,CPPE!$A$2:$BR$177,44,FALSE)<0,VLOOKUP($B14,CPPE!$A$2:$BR$177,44,FALSE),\"\"))","v":""},{"$f":"IF($B14=\"\",\"\",IF(VLOOKUP($B14,CPPE!$A$2:$BR$177,45,FALSE)<0,VLOOKUP($B14,CPPE!$A$2:$BR$177,45,FALSE),\"\"))","v":""},{"$f":"IF($B14=\"\",\"\",IF(VLOOKUP($B14,CPPE!$A$2:$BR$177,46,FALSE)<0,VLOOKUP($B14,CPPE!$A$2:$BR$177,46,FALSE),\"\"))","v":""},{"$f":"IF($B14=\"\",\"\",IF(VLOOKUP($B14,CPPE!$A$2:$BR$177,47,FALSE)<0,VLOOKUP($B14,CPPE!$A$2:$BR$177,47,FALSE),\"\"))","v":""},{"$f":"IF($B14=\"\",\"\",IF(VLOOKUP($B14,CPPE!$A$2:$BR$177,48,FALSE)<0,VLOOKUP($B14,CPPE!$A$2:$BR$177,48,FALSE),\"\"))","v":""},{"$f":"IF($B14=\"\",\"\",IF(VLOOKUP($B14,CPPE!$A$2:$BR$177,49,FALSE)<0,VLOOKUP($B14,CPPE!$A$2:$BR$177,49,FALSE),\"\"))","v":""},{"$f":"IF($B14=\"\",\"\",IF(VLOOKUP($B14,CPPE!$A$2:$BR$177,50,FALSE)<0,VLOOKUP($B14,CPPE!$A$2:$BR$177,50,FALSE),\"\"))","v":""},{"$f":"IF($B14=\"\",\"\",IF(VLOOKUP($B14,CPPE!$A$2:$BR$177,51,FALSE)<0,VLOOKUP($B14,CPPE!$A$2:$BR$177,51,FALSE),\"\"))","v":""},{"$f":"IF($B14=\"\",\"\",IF(VLOOKUP($B14,CPPE!$A$2:$BR$177,52,FALSE)<0,VLOOKUP($B14,CPPE!$A$2:$BR$177,52,FALSE),\"\"))","v":""},{"$f":"IF($B14=\"\",\"\",IF(VLOOKUP($B14,CPPE!$A$2:$BR$177,53,FALSE)<0,VLOOKUP($B14,CPPE!$A$2:$BR$177,53,FALSE),\"\"))","v":""},{"$f":"IF($B14=\"\",\"\",IF(VLOOKUP($B14,CPPE!$A$2:$BR$177,54,FALSE)<0,VLOOKUP($B14,CPPE!$A$2:$BR$177,54,FALSE),\"\"))","v":""},{"$f":"IF($B14=\"\",\"\",IF(VLOOKUP($B14,CPPE!$A$2:$BR$177,55,FALSE)<0,VLOOKUP($B14,CPPE!$A$2:$BR$177,55,FALSE),\"\"))","v":""},{"$f":"IF($B14=\"\",\"\",IF(VLOOKUP($B14,CPPE!$A$2:$BR$177,56,FALSE)<0,VLOOKUP($B14,CPPE!$A$2:$BR$177,56,FALSE),\"\"))","v":""},{"$f":"IF($B14=\"\",\"\",IF(VLOOKUP($B14,CPPE!$A$2:$BR$177,57,FALSE)<0,VLOOKUP($B14,CPPE!$A$2:$BR$177,57,FALSE),\"\"))","v":""},{"$f":"IF($B14=\"\",\"\",IF(VLOOKUP($B14,CPPE!$A$2:$BR$177,58,FALSE)<0,VLOOKUP($B14,CPPE!$A$2:$BR$177,58,FALSE),\"\"))","v":""},{"$f":"IF($B14=\"\",\"\",IF(VLOOKUP($B14,CPPE!$A$2:$BR$177,59,FALSE)<0,VLOOKUP($B14,CPPE!$A$2:$BR$177,59,FALSE),\"\"))","v":""}]
[null,{"$f":"IF(Results!B15=\"\",\"\",Results!B15)","v":""},{"$f":"IF($B15=\"\",\"\",IF(VLOOKUP($B15,CPPE!$A$2:$BR$177,2,FALSE)<0,VLOOKUP($B15,CPPE!$A$2:$BR$177,2,FALSE),\"\"))","v":""},{"$f":"IF($B15=\"\",\"\",IF(VLOOKUP($B15,CPPE!$A$2:$BR$177,3,FALSE)<0,VLOOKUP($B15,CPPE!$A$2:$BR$177,3,FALSE),\"\"))","v":""},{"$f":"IF($B15=\"\",\"\",IF(VLOOKUP($B15,CPPE!$A$2:$BR$177,4,FALSE)<0,VLOOKUP($B15,CPPE!$A$2:$BR$177,4,FALSE),\"\"))","v":""},{"$f":"IF($B15=\"\",\"\",IF(VLOOKUP($B15,CPPE!$A$2:$BR$177,4,FALSE)<0,VLOOKUP($B15,CPPE!$A$2:$BR$177,5,FALSE),\"\"))","v":""},{"$f":"IF($B15=\"\",\"\",IF(VLOOKUP($B15,CPPE!$A$2:$BR$177,5,FALSE)<0,VLOOKUP($B15,CPPE!$A$2:$BR$177,6,FALSE),\"\"))","v":""},{"$f":"IF($B15=\"\",\"\",IF(VLOOKUP($B15,CPPE!$A$2:$BR$177,7,FALSE)<0,VLOOKUP($B15,CPPE!$A$2:$BR$177,7,FALSE),\"\"))","v":""},{"$f":"IF($B15=\"\",\"\",IF(VLOOKUP($B15,CPPE!$A$2:$BR$177,8,FALSE)<0,VLOOKUP($B15,CPPE!$A$2:$BR$177,8,FALSE),\"\"))","v":""},{"$f":"IF($B15=\"\",\"\",IF(VLOOKUP($B15,CPPE!$A$2:$BR$177,9,FALSE)<0,VLOOKUP($B15,CPPE!$A$2:$BR$177,9,FALSE),\"\"))","v":""},{"$f":"IF($B15=\"\",\"\",IF(VLOOKUP($B15,CPPE!$A$2:$BR$177,10,FALSE)<0,VLOOKUP($B15,CPPE!$A$2:$BR$177,10,FALSE),\"\"))","v":""},{"$f":"IF($B15=\"\",\"\",IF(VLOOKUP($B15,CPPE!$A$2:$BR$177,11,FALSE)<0,VLOOKUP($B15,CPPE!$A$2:$BR$177,11,FALSE),\"\"))","v":""},{"$f":"IF($B15=\"\",\"\",IF(VLOOKUP($B15,CPPE!$A$2:$BR$177,12,FALSE)<0,VLOOKUP($B15,CPPE!$A$2:$BR$177,12,FALSE),\"\"))","v":""},{"$f":"IF($B15=\"\",\"\",IF(VLOOKUP($B15,CPPE!$A$2:$BR$177,13,FALSE)<0,VLOOKUP($B15,CPPE!$A$2:$BR$177,13,FALSE),\"\"))","v":""},{"$f":"IF($B15=\"\",\"\",IF(VLOOKUP($B15,CPPE!$A$2:$BR$177,14,FALSE)<0,VLOOKUP($B15,CPPE!$A$2:$BR$177,14,FALSE),\"\"))","v":""},{"$f":"IF($B15=\"\",\"\",IF(VLOOKUP($B15,CPPE!$A$2:$BR$177,15,FALSE)<0,VLOOKUP($B15,CPPE!$A$2:$BR$177,15,FALSE),\"\"))","v":""},{"$f":"IF($B15=\"\",\"\",IF(VLOOKUP($B15,CPPE!$A$2:$BR$177,16,FALSE)<0,VLOOKUP($B15,CPPE!$A$2:$BR$177,16,FALSE),\"\"))","v":""},{"$f":"IF($B15=\"\",\"\",IF(VLOOKUP($B15,CPPE!$A$2:$BR$177,17,FALSE)<0,VLOOKUP($B15,CPPE!$A$2:$BR$177,17,FALSE),\"\"))","v":""},{"$f":"IF($B15=\"\",\"\",IF(VLOOKUP($B15,CPPE!$A$2:$BR$177,18,FALSE)<0,VLOOKUP($B15,CPPE!$A$2:$BR$177,18,FALSE),\"\"))","v":""},{"$f":"IF($B15=\"\",\"\",IF(VLOOKUP($B15,CPPE!$A$2:$BR$177,19,FALSE)<0,VLOOKUP($B15,CPPE!$A$2:$BR$177,19,FALSE),\"\"))","v":""},{"$f":"IF($B15=\"\",\"\",IF(VLOOKUP($B15,CPPE!$A$2:$BR$177,20,FALSE)<0,VLOOKUP($B15,CPPE!$A$2:$BR$177,20,FALSE),\"\"))","v":""},{"$f":"IF($B15=\"\",\"\",IF(VLOOKUP($B15,CPPE!$A$2:$BR$177,21,FALSE)<0,VLOOKUP($B15,CPPE!$A$2:$BR$177,21,FALSE),\"\"))","v":""},{"$f":"IF($B15=\"\",\"\",IF(VLOOKUP($B15,CPPE!$A$2:$BR$177,22,FALSE)<0,VLOOKUP($B15,CPPE!$A$2:$BR$177,22,FALSE),\"\"))","v":""},{"$f":"IF($B15=\"\",\"\",IF(VLOOKUP($B15,CPPE!$A$2:$BR$177,23,FALSE)<0,VLOOKUP($B15,CPPE!$A$2:$BR$177,23,FALSE),\"\"))","v":""},{"$f":"IF($B15=\"\",\"\",IF(VLOOKUP($B15,CPPE!$A$2:$BR$177,24,FALSE)<0,VLOOKUP($B15,CPPE!$A$2:$BR$177,24,FALSE),\"\"))","v":""},{"$f":"IF($B15=\"\",\"\",IF(VLOOKUP($B15,CPPE!$A$2:$BR$177,25,FALSE)<0,VLOOKUP($B15,CPPE!$A$2:$BR$177,25,FALSE),\"\"))","v":""},{"$f":"IF($B15=\"\",\"\",IF(VLOOKUP($B15,CPPE!$A$2:$BR$177,26,FALSE)<0,VLOOKUP($B15,CPPE!$A$2:$BR$177,26,FALSE),\"\"))","v":""},{"$f":"IF($B15=\"\",\"\",IF(VLOOKUP($B15,CPPE!$A$2:$BR$177,27,FALSE)<0,VLOOKUP($B15,CPPE!$A$2:$BR$177,27,FALSE),\"\"))","v":""},{"$f":"IF($B15=\"\",\"\",IF(VLOOKUP($B15,CPPE!$A$2:$BR$177,28,FALSE)<0,VLOOKUP($B15,CPPE!$A$2:$BR$177,28,FALSE),\"\"))","v":""},{"$f":"IF($B15=\"\",\"\",IF(VLOOKUP($B15,CPPE!$A$2:$BR$177,29,FALSE)<0,VLOOKUP($B15,CPPE!$A$2:$BR$177,29,FALSE),\"\"))","v":""},{"$f":"IF($B15=\"\",\"\",IF(VLOOKUP($B15,CPPE!$A$2:$BR$177,30,FALSE)<0,VLOOKUP($B15,CPPE!$A$2:$BR$177,30,FALSE),\"\"))","v":""},{"$f":"IF($B15=\"\",\"\",IF(VLOOKUP($B15,CPPE!$A$2:$BR$177,31,FALSE)<0,VLOOKUP($B15,CPPE!$A$2:$BR$177,31,FALSE),\"\"))","v":""},{"$f":"IF($B15=\"\",\"\",IF(VLOOKUP($B15,CPPE!$A$2:$BR$177,32,FALSE)<0,VLOOKUP($B15,CPPE!$A$2:$BR$177,32,FALSE),\"\"))","v":""},{"$f":"IF($B15=\"\",\"\",IF(VLOOKUP($B15,CPPE!$A$2:$BR$177,33,FALSE)<0,VLOOKUP($B15,CPPE!$A$2:$BR$177,33,FALSE),\"\"))","v":""},{"$f":"IF($B15=\"\",\"\",IF(VLOOKUP($B15,CPPE!$A$2:$BR$177,34,FALSE)<0,VLOOKUP($B15,CPPE!$A$2:$BR$177,34,FALSE),\"\"))","v":""},{"$f":"IF($B15=\"\",\"\",IF(VLOOKUP($B15,CPPE!$A$2:$BR$177,35,FALSE)<0,VLOOKUP($B15,CPPE!$A$2:$BR$177,35,FALSE),\"\"))","v":""},{"$f":"IF($B15=\"\",\"\",IF(VLOOKUP($B15,CPPE!$A$2:$BR$177,36,FALSE)<0,VLOOKUP($B15,CPPE!$A$2:$BR$177,36,FALSE),\"\"))","v":""},{"$f":"IF($B15=\"\",\"\",IF(VLOOKUP($B15,CPPE!$A$2:$BR$177,37,FALSE)<0,VLOOKUP($B15,CPPE!$A$2:$BR$177,37,FALSE),\"\"))","v":""},{"$f":"IF($B15=\"\",\"\",IF(VLOOKUP($B15,CPPE!$A$2:$BR$177,38,FALSE)<0,VLOOKUP($B15,CPPE!$A$2:$BR$177,38,FALSE),\"\"))","v":""},{"$f":"IF($B15=\"\",\"\",IF(VLOOKUP($B15,CPPE!$A$2:$BR$177,39,FALSE)<0,VLOOKUP($B15,CPPE!$A$2:$BR$177,39,FALSE),\"\"))","v":""},{"$f":"IF($B15=\"\",\"\",IF(VLOOKUP($B15,CPPE!$A$2:$BR$177,40,FALSE)<0,VLOOKUP($B15,CPPE!$A$2:$BR$177,40,FALSE),\"\"))","v":""},{"$f":"IF($B15=\"\",\"\",IF(VLOOKUP($B15,CPPE!$A$2:$BR$177,41,FALSE)<0,VLOOKUP($B15,CPPE!$A$2:$BR$177,41,FALSE),\"\"))","v":""},{"$f":"IF($B15=\"\",\"\",IF(VLOOKUP($B15,CPPE!$A$2:$BR$177,42,FALSE)<0,VLOOKUP($B15,CPPE!$A$2:$BR$177,42,FALSE),\"\"))","v":""},{"$f":"IF($B15=\"\",\"\",IF(VLOOKUP($B15,CPPE!$A$2:$BR$177,43,FALSE)<0,VLOOKUP($B15,CPPE!$A$2:$BR$177,43,FALSE),\"\"))","v":""},{"$f":"IF($B15=\"\",\"\",IF(VLOOKUP($B15,CPPE!$A$2:$BR$177,44,FALSE)<0,VLOOKUP($B15,CPPE!$A$2:$BR$177,44,FALSE),\"\"))","v":""},{"$f":"IF($B15=\"\",\"\",IF(VLOOKUP($B15,CPPE!$A$2:$BR$177,45,FALSE)<0,VLOOKUP($B15,CPPE!$A$2:$BR$177,45,FALSE),\"\"))","v":""},{"$f":"IF($B15=\"\",\"\",IF(VLOOKUP($B15,CPPE!$A$2:$BR$177,46,FALSE)<0,VLOOKUP($B15,CPPE!$A$2:$BR$177,46,FALSE),\"\"))","v":""},{"$f":"IF($B15=\"\",\"\",IF(VLOOKUP($B15,CPPE!$A$2:$BR$177,47,FALSE)<0,VLOOKUP($B15,CPPE!$A$2:$BR$177,47,FALSE),\"\"))","v":""},{"$f":"IF($B15=\"\",\"\",IF(VLOOKUP($B15,CPPE!$A$2:$BR$177,48,FALSE)<0,VLOOKUP($B15,CPPE!$A$2:$BR$177,48,FALSE),\"\"))","v":""},{"$f":"IF($B15=\"\",\"\",IF(VLOOKUP($B15,CPPE!$A$2:$BR$177,49,FALSE)<0,VLOOKUP($B15,CPPE!$A$2:$BR$177,49,FALSE),\"\"))","v":""},{"$f":"IF($B15=\"\",\"\",IF(VLOOKUP($B15,CPPE!$A$2:$BR$177,50,FALSE)<0,VLOOKUP($B15,CPPE!$A$2:$BR$177,50,FALSE),\"\"))","v":""},{"$f":"IF($B15=\"\",\"\",IF(VLOOKUP($B15,CPPE!$A$2:$BR$177,51,FALSE)<0,VLOOKUP($B15,CPPE!$A$2:$BR$177,51,FALSE),\"\"))","v":""},{"$f":"IF($B15=\"\",\"\",IF(VLOOKUP($B15,CPPE!$A$2:$BR$177,52,FALSE)<0,VLOOKUP($B15,CPPE!$A$2:$BR$177,52,FALSE),\"\"))","v":""},{"$f":"IF($B15=\"\",\"\",IF(VLOOKUP($B15,CPPE!$A$2:$BR$177,53,FALSE)<0,VLOOKUP($B15,CPPE!$A$2:$BR$177,53,FALSE),\"\"))","v":""},{"$f":"IF($B15=\"\",\"\",IF(VLOOKUP($B15,CPPE!$A$2:$BR$177,54,FALSE)<0,VLOOKUP($B15,CPPE!$A$2:$BR$177,54,FALSE),\"\"))","v":""},{"$f":"IF($B15=\"\",\"\",IF(VLOOKUP($B15,CPPE!$A$2:$BR$177,55,FALSE)<0,VLOOKUP($B15,CPPE!$A$2:$BR$177,55,FALSE),\"\"))","v":""},{"$f":"IF($B15=\"\",\"\",IF(VLOOKUP($B15,CPPE!$A$2:$BR$177,56,FALSE)<0,VLOOKUP($B15,CPPE!$A$2:$BR$177,56,FALSE),\"\"))","v":""},{"$f":"IF($B15=\"\",\"\",IF(VLOOKUP($B15,CPPE!$A$2:$BR$177,57,FALSE)<0,VLOOKUP($B15,CPPE!$A$2:$BR$177,57,FALSE),\"\"))","v":""},{"$f":"IF($B15=\"\",\"\",IF(VLOOKUP($B15,CPPE!$A$2:$BR$177,58,FALSE)<0,VLOOKUP($B15,CPPE!$A$2:$BR$177,58,FALSE),\"\"))","v":""},{"$f":"IF($B15=\"\",\"\",IF(VLOOKUP($B15,CPPE!$A$2:$BR$177,59,FALSE)<0,VLOOKUP($B15,CPPE!$A$2:$BR$177,59,FALSE),\"\"))","v":""}]
[null,{"$f":"IF(Results!B16=\"\",\"\",Results!B16)","v":""},{"$f":"IF($B16=\"\",\"\",IF(VLOOKUP($B16,CPPE!$A$2:$BR$177,2,FALSE)<0,VLOOKUP($B16,CPPE!$A$2:$BR$177,2,FALSE),\"\"))","v":""},{"$f":"IF($B16=\"\",\"\",IF(VLOOKUP($B16,CPPE!$A$2:$BR$177,3,FALSE)<0,VLOOKUP($B16,CPPE!$A$2:$BR$177,3,FALSE),\"\"))","v":""},{"$f":"IF($B16=\"\",\"\",IF(VLOOKUP($B16,CPPE!$A$2:$BR$177,4,FALSE)<0,VLOOKUP($B16,CPPE!$A$2:$BR$177,4,FALSE),\"\"))","v":""},{"$f":"IF($B16=\"\",\"\",IF(VLOOKUP($B16,CPPE!$A$2:$BR$177,4,FALSE)<0,VLOOKUP($B16,CPPE!$A$2:$BR$177,5,FALSE),\"\"))","v":""},{"$f":"IF($B16=\"\",\"\",IF(VLOOKUP($B16,CPPE!$A$2:$BR$177,5,FALSE)<0,VLOOKUP($B16,CPPE!$A$2:$BR$177,6,FALSE),\"\"))","v":""},{"$f":"IF($B16=\"\",\"\",IF(VLOOKUP($B16,CPPE!$A$2:$BR$177,7,FALSE)<0,VLOOKUP($B16,CPPE!$A$2:$BR$177,7,FALSE),\"\"))","v":""},{"$f":"IF($B16=\"\",\"\",IF(VLOOKUP($B16,CPPE!$A$2:$BR$177,8,FALSE)<0,VLOOKUP($B16,CPPE!$A$2:$BR$177,8,FALSE),\"\"))","v":""},{"$f":"IF($B16=\"\",\"\",IF(VLOOKUP($B16,CPPE!$A$2:$BR$177,9,FALSE)<0,VLOOKUP($B16,CPPE!$A$2:$BR$177,9,FALSE),\"\"))","v":""},{"$f":"IF($B16=\"\",\"\",IF(VLOOKUP($B16,CPPE!$A$2:$BR$177,10,FALSE)<0,VLOOKUP($B16,CPPE!$A$2:$BR$177,10,FALSE),\"\"))","v":""},{"$f":"IF($B16=\"\",\"\",IF(VLOOKUP($B16,CPPE!$A$2:$BR$177,11,FALSE)<0,VLOOKUP($B16,CPPE!$A$2:$BR$177,11,FALSE),\"\"))","v":""},{"$f":"IF($B16=\"\",\"\",IF(VLOOKUP($B16,CPPE!$A$2:$BR$177,12,FALSE)<0,VLOOKUP($B16,CPPE!$A$2:$BR$177,12,FALSE),\"\"))","v":""},{"$f":"IF($B16=\"\",\"\",IF(VLOOKUP($B16,CPPE!$A$2:$BR$177,13,FALSE)<0,VLOOKUP($B16,CPPE!$A$2:$BR$177,13,FALSE),\"\"))","v":""},{"$f":"IF($B16=\"\",\"\",IF(VLOOKUP($B16,CPPE!$A$2:$BR$177,14,FALSE)<0,VLOOKUP($B16,CPPE!$A$2:$BR$177,14,FALSE),\"\"))","v":""},{"$f":"IF($B16=\"\",\"\",IF(VLOOKUP($B16,CPPE!$A$2:$BR$177,15,FALSE)<0,VLOOKUP($B16,CPPE!$A$2:$BR$177,15,FALSE),\"\"))","v":""},{"$f":"IF($B16=\"\",\"\",IF(VLOOKUP($B16,CPPE!$A$2:$BR$177,16,FALSE)<0,VLOOKUP($B16,CPPE!$A$2:$BR$177,16,FALSE),\"\"))","v":""},{"$f":"IF($B16=\"\",\"\",IF(VLOOKUP($B16,CPPE!$A$2:$BR$177,17,FALSE)<0,VLOOKUP($B16,CPPE!$A$2:$BR$177,17,FALSE),\"\"))","v":""},{"$f":"IF($B16=\"\",\"\",IF(VLOOKUP($B16,CPPE!$A$2:$BR$177,18,FALSE)<0,VLOOKUP($B16,CPPE!$A$2:$BR$177,18,FALSE),\"\"))","v":""},{"$f":"IF($B16=\"\",\"\",IF(VLOOKUP($B16,CPPE!$A$2:$BR$177,19,FALSE)<0,VLOOKUP($B16,CPPE!$A$2:$BR$177,19,FALSE),\"\"))","v":""},{"$f":"IF($B16=\"\",\"\",IF(VLOOKUP($B16,CPPE!$A$2:$BR$177,20,FALSE)<0,VLOOKUP($B16,CPPE!$A$2:$BR$177,20,FALSE),\"\"))","v":""},{"$f":"IF($B16=\"\",\"\",IF(VLOOKUP($B16,CPPE!$A$2:$BR$177,21,FALSE)<0,VLOOKUP($B16,CPPE!$A$2:$BR$177,21,FALSE),\"\"))","v":""},{"$f":"IF($B16=\"\",\"\",IF(VLOOKUP($B16,CPPE!$A$2:$BR$177,22,FALSE)<0,VLOOKUP($B16,CPPE!$A$2:$BR$177,22,FALSE),\"\"))","v":""},{"$f":"IF($B16=\"\",\"\",IF(VLOOKUP($B16,CPPE!$A$2:$BR$177,23,FALSE)<0,VLOOKUP($B16,CPPE!$A$2:$BR$177,23,FALSE),\"\"))","v":""},{"$f":"IF($B16=\"\",\"\",IF(VLOOKUP($B16,CPPE!$A$2:$BR$177,24,FALSE)<0,VLOOKUP($B16,CPPE!$A$2:$BR$177,24,FALSE),\"\"))","v":""},{"$f":"IF($B16=\"\",\"\",IF(VLOOKUP($B16,CPPE!$A$2:$BR$177,25,FALSE)<0,VLOOKUP($B16,CPPE!$A$2:$BR$177,25,FALSE),\"\"))","v":""},{"$f":"IF($B16=\"\",\"\",IF(VLOOKUP($B16,CPPE!$A$2:$BR$177,26,FALSE)<0,VLOOKUP($B16,CPPE!$A$2:$BR$177,26,FALSE),\"\"))","v":""},{"$f":"IF($B16=\"\",\"\",IF(VLOOKUP($B16,CPPE!$A$2:$BR$177,27,FALSE)<0,VLOOKUP($B16,CPPE!$A$2:$BR$177,27,FALSE),\"\"))","v":""},{"$f":"IF($B16=\"\",\"\",IF(VLOOKUP($B16,CPPE!$A$2:$BR$177,28,FALSE)<0,VLOOKUP($B16,CPPE!$A$2:$BR$177,28,FALSE),\"\"))","v":""},{"$f":"IF($B16=\"\",\"\",IF(VLOOKUP($B16,CPPE!$A$2:$BR$177,29,FALSE)<0,VLOOKUP($B16,CPPE!$A$2:$BR$177,29,FALSE),\"\"))","v":""},{"$f":"IF($B16=\"\",\"\",IF(VLOOKUP($B16,CPPE!$A$2:$BR$177,30,FALSE)<0,VLOOKUP($B16,CPPE!$A$2:$BR$177,30,FALSE),\"\"))","v":""},{"$f":"IF($B16=\"\",\"\",IF(VLOOKUP($B16,CPPE!$A$2:$BR$177,31,FALSE)<0,VLOOKUP($B16,CPPE!$A$2:$BR$177,31,FALSE),\"\"))","v":""},{"$f":"IF($B16=\"\",\"\",IF(VLOOKUP($B16,CPPE!$A$2:$BR$177,32,FALSE)<0,VLOOKUP($B16,CPPE!$A$2:$BR$177,32,FALSE),\"\"))","v":""},{"$f":"IF($B16=\"\",\"\",IF(VLOOKUP($B16,CPPE!$A$2:$BR$177,33,FALSE)<0,VLOOKUP($B16,CPPE!$A$2:$BR$177,33,FALSE),\"\"))","v":""},{"$f":"IF($B16=\"\",\"\",IF(VLOOKUP($B16,CPPE!$A$2:$BR$177,34,FALSE)<0,VLOOKUP($B16,CPPE!$A$2:$BR$177,34,FALSE),\"\"))","v":""},{"$f":"IF($B16=\"\",\"\",IF(VLOOKUP($B16,CPPE!$A$2:$BR$177,35,FALSE)<0,VLOOKUP($B16,CPPE!$A$2:$BR$177,35,FALSE),\"\"))","v":""},{"$f":"IF($B16=\"\",\"\",IF(VLOOKUP($B16,CPPE!$A$2:$BR$177,36,FALSE)<0,VLOOKUP($B16,CPPE!$A$2:$BR$177,36,FALSE),\"\"))","v":""},{"$f":"IF($B16=\"\",\"\",IF(VLOOKUP($B16,CPPE!$A$2:$BR$177,37,FALSE)<0,VLOOKUP($B16,CPPE!$A$2:$BR$177,37,FALSE),\"\"))","v":""},{"$f":"IF($B16=\"\",\"\",IF(VLOOKUP($B16,CPPE!$A$2:$BR$177,38,FALSE)<0,VLOOKUP($B16,CPPE!$A$2:$BR$177,38,FALSE),\"\"))","v":""},{"$f":"IF($B16=\"\",\"\",IF(VLOOKUP($B16,CPPE!$A$2:$BR$177,39,FALSE)<0,VLOOKUP($B16,CPPE!$A$2:$BR$177,39,FALSE),\"\"))","v":""},{"$f":"IF($B16=\"\",\"\",IF(VLOOKUP($B16,CPPE!$A$2:$BR$177,40,FALSE)<0,VLOOKUP($B16,CPPE!$A$2:$BR$177,40,FALSE),\"\"))","v":""},{"$f":"IF($B16=\"\",\"\",IF(VLOOKUP($B16,CPPE!$A$2:$BR$177,41,FALSE)<0,VLOOKUP($B16,CPPE!$A$2:$BR$177,41,FALSE),\"\"))","v":""},{"$f":"IF($B16=\"\",\"\",IF(VLOOKUP($B16,CPPE!$A$2:$BR$177,42,FALSE)<0,VLOOKUP($B16,CPPE!$A$2:$BR$177,42,FALSE),\"\"))","v":""},{"$f":"IF($B16=\"\",\"\",IF(VLOOKUP($B16,CPPE!$A$2:$BR$177,43,FALSE)<0,VLOOKUP($B16,CPPE!$A$2:$BR$177,43,FALSE),\"\"))","v":""},{"$f":"IF($B16=\"\",\"\",IF(VLOOKUP($B16,CPPE!$A$2:$BR$177,44,FALSE)<0,VLOOKUP($B16,CPPE!$A$2:$BR$177,44,FALSE),\"\"))","v":""},{"$f":"IF($B16=\"\",\"\",IF(VLOOKUP($B16,CPPE!$A$2:$BR$177,45,FALSE)<0,VLOOKUP($B16,CPPE!$A$2:$BR$177,45,FALSE),\"\"))","v":""},{"$f":"IF($B16=\"\",\"\",IF(VLOOKUP($B16,CPPE!$A$2:$BR$177,46,FALSE)<0,VLOOKUP($B16,CPPE!$A$2:$BR$177,46,FALSE),\"\"))","v":""},{"$f":"IF($B16=\"\",\"\",IF(VLOOKUP($B16,CPPE!$A$2:$BR$177,47,FALSE)<0,VLOOKUP($B16,CPPE!$A$2:$BR$177,47,FALSE),\"\"))","v":""},{"$f":"IF($B16=\"\",\"\",IF(VLOOKUP($B16,CPPE!$A$2:$BR$177,48,FALSE)<0,VLOOKUP($B16,CPPE!$A$2:$BR$177,48,FALSE),\"\"))","v":""},{"$f":"IF($B16=\"\",\"\",IF(VLOOKUP($B16,CPPE!$A$2:$BR$177,49,FALSE)<0,VLOOKUP($B16,CPPE!$A$2:$BR$177,49,FALSE),\"\"))","v":""},{"$f":"IF($B16=\"\",\"\",IF(VLOOKUP($B16,CPPE!$A$2:$BR$177,50,FALSE)<0,VLOOKUP($B16,CPPE!$A$2:$BR$177,50,FALSE),\"\"))","v":""},{"$f":"IF($B16=\"\",\"\",IF(VLOOKUP($B16,CPPE!$A$2:$BR$177,51,FALSE)<0,VLOOKUP($B16,CPPE!$A$2:$BR$177,51,FALSE),\"\"))","v":""},{"$f":"IF($B16=\"\",\"\",IF(VLOOKUP($B16,CPPE!$A$2:$BR$177,52,FALSE)<0,VLOOKUP($B16,CPPE!$A$2:$BR$177,52,FALSE),\"\"))","v":""},{"$f":"IF($B16=\"\",\"\",IF(VLOOKUP($B16,CPPE!$A$2:$BR$177,53,FALSE)<0,VLOOKUP($B16,CPPE!$A$2:$BR$177,53,FALSE),\"\"))","v":""},{"$f":"IF($B16=\"\",\"\",IF(VLOOKUP($B16,CPPE!$A$2:$BR$177,54,FALSE)<0,VLOOKUP($B16,CPPE!$A$2:$BR$177,54,FALSE),\"\"))","v":""},{"$f":"IF($B16=\"\",\"\",IF(VLOOKUP($B16,CPPE!$A$2:$BR$177,55,FALSE)<0,VLOOKUP($B16,CPPE!$A$2:$BR$177,55,FALSE),\"\"))","v":""},{"$f":"IF($B16=\"\",\"\",IF(VLOOKUP($B16,CPPE!$A$2:$BR$177,56,FALSE)<0,VLOOKUP($B16,CPPE!$A$2:$BR$177,56,FALSE),\"\"))","v":""},{"$f":"IF($B16=\"\",\"\",IF(VLOOKUP($B16,CPPE!$A$2:$BR$177,57,FALSE)<0,VLOOKUP($B16,CPPE!$A$2:$BR$177,57,FALSE),\"\"))","v":""},{"$f":"IF($B16=\"\",\"\",IF(VLOOKUP($B16,CPPE!$A$2:$BR$177,58,FALSE)<0,VLOOKUP($B16,CPPE!$A$2:$BR$177,58,FALSE),\"\"))","v":""},{"$f":"IF($B16=\"\",\"\",IF(VLOOKUP($B16,CPPE!$A$2:$BR$177,59,FALSE)<0,VLOOKUP($B16,CPPE!$A$2:$BR$177,59,FALSE),\"\"))","v":""}]
[null,{"$f":"IF(Results!B17=\"\",\"\",Results!B17)","v":""},{"$f":"IF($B17=\"\",\"\",IF(VLOOKUP($B17,CPPE!$A$2:$BR$177,2,FALSE)<0,VLOOKUP($B17,CPPE!$A$2:$BR$177,2,FALSE),\"\"))","v":""},{"$f":"IF($B17=\"\",\"\",IF(VLOOKUP($B17,CPPE!$A$2:$BR$177,3,FALSE)<0,VLOOKUP($B17,CPPE!$A$2:$BR$177,3,FALSE),\"\"))","v":""},{"$f":"IF($B17=\"\",\"\",IF(VLOOKUP($B17,CPPE!$A$2:$BR$177,4,FALSE)<0,VLOOKUP($B17,CPPE!$A$2:$BR$177,4,FALSE),\"\"))","v":""},{"$f":"IF($B17=\"\",\"\",IF(VLOOKUP($B17,CPPE!$A$2:$BR$177,4,FALSE)<0,VLOOKUP($B17,CPPE!$A$2:$BR$177,5,FALSE),\"\"))","v":""},{"$f":"IF($B17=\"\",\"\",IF(VLOOKUP($B17,CPPE!$A$2:$BR$177,5,FALSE)<0,VLOOKUP($B17,CPPE!$A$2:$BR$177,6,FALSE),\"\"))","v":""},{"$f":"IF($B17=\"\",\"\",IF(VLOOKUP($B17,CPPE!$A$2:$BR$177,7,FALSE)<0,VLOOKUP($B17,CPPE!$A$2:$BR$177,7,FALSE),\"\"))","v":""},{"$f":"IF($B17=\"\",\"\",IF(VLOOKUP($B17,CPPE!$A$2:$BR$177,8,FALSE)<0,VLOOKUP($B17,CPPE!$A$2:$BR$177,8,FALSE),\"\"))","v":""},{"$f":"IF($B17=\"\",\"\",IF(VLOOKUP($B17,CPPE!$A$2:$BR$177,9,FALSE)<0,VLOOKUP($B17,CPPE!$A$2:$BR$177,9,FALSE),\"\"))","v":""},{"$f":"IF($B17=\"\",\"\",IF(VLOOKUP($B17,CPPE!$A$2:$BR$177,10,FALSE)<0,VLOOKUP($B17,CPPE!$A$2:$BR$177,10,FALSE),\"\"))","v":""},{"$f":"IF($B17=\"\",\"\",IF(VLOOKUP($B17,CPPE!$A$2:$BR$177,11,FALSE)<0,VLOOKUP($B17,CPPE!$A$2:$BR$177,11,FALSE),\"\"))","v":""},{"$f":"IF($B17=\"\",\"\",IF(VLOOKUP($B17,CPPE!$A$2:$BR$177,12,FALSE)<0,VLOOKUP($B17,CPPE!$A$2:$BR$177,12,FALSE),\"\"))","v":""},{"$f":"IF($B17=\"\",\"\",IF(VLOOKUP($B17,CPPE!$A$2:$BR$177,13,FALSE)<0,VLOOKUP($B17,CPPE!$A$2:$BR$177,13,FALSE),\"\"))","v":""},{"$f":"IF($B17=\"\",\"\",IF(VLOOKUP($B17,CPPE!$A$2:$BR$177,14,FALSE)<0,VLOOKUP($B17,CPPE!$A$2:$BR$177,14,FALSE),\"\"))","v":""},{"$f":"IF($B17=\"\",\"\",IF(VLOOKUP($B17,CPPE!$A$2:$BR$177,15,FALSE)<0,VLOOKUP($B17,CPPE!$A$2:$BR$177,15,FALSE),\"\"))","v":""},{"$f":"IF($B17=\"\",\"\",IF(VLOOKUP($B17,CPPE!$A$2:$BR$177,16,FALSE)<0,VLOOKUP($B17,CPPE!$A$2:$BR$177,16,FALSE),\"\"))","v":""},{"$f":"IF($B17=\"\",\"\",IF(VLOOKUP($B17,CPPE!$A$2:$BR$177,17,FALSE)<0,VLOOKUP($B17,CPPE!$A$2:$BR$177,17,FALSE),\"\"))","v":""},{"$f":"IF($B17=\"\",\"\",IF(VLOOKUP($B17,CPPE!$A$2:$BR$177,18,FALSE)<0,VLOOKUP($B17,CPPE!$A$2:$BR$177,18,FALSE),\"\"))","v":""},{"$f":"IF($B17=\"\",\"\",IF(VLOOKUP($B17,CPPE!$A$2:$BR$177,19,FALSE)<0,VLOOKUP($B17,CPPE!$A$2:$BR$177,19,FALSE),\"\"))","v":""},{"$f":"IF($B17=\"\",\"\",IF(VLOOKUP($B17,CPPE!$A$2:$BR$177,20,FALSE)<0,VLOOKUP($B17,CPPE!$A$2:$BR$177,20,FALSE),\"\"))","v":""},{"$f":"IF($B17=\"\",\"\",IF(VLOOKUP($B17,CPPE!$A$2:$BR$177,21,FALSE)<0,VLOOKUP($B17,CPPE!$A$2:$BR$177,21,FALSE),\"\"))","v":""},{"$f":"IF($B17=\"\",\"\",IF(VLOOKUP($B17,CPPE!$A$2:$BR$177,22,FALSE)<0,VLOOKUP($B17,CPPE!$A$2:$BR$177,22,FALSE),\"\"))","v":""},{"$f":"IF($B17=\"\",\"\",IF(VLOOKUP($B17,CPPE!$A$2:$BR$177,23,FALSE)<0,VLOOKUP($B17,CPPE!$A$2:$BR$177,23,FALSE),\"\"))","v":""},{"$f":"IF($B17=\"\",\"\",IF(VLOOKUP($B17,CPPE!$A$2:$BR$177,24,FALSE)<0,VLOOKUP($B17,CPPE!$A$2:$BR$177,24,FALSE),\"\"))","v":""},{"$f":"IF($B17=\"\",\"\",IF(VLOOKUP($B17,CPPE!$A$2:$BR$177,25,FALSE)<0,VLOOKUP($B17,CPPE!$A$2:$BR$177,25,FALSE),\"\"))","v":""},{"$f":"IF($B17=\"\",\"\",IF(VLOOKUP($B17,CPPE!$A$2:$BR$177,26,FALSE)<0,VLOOKUP($B17,CPPE!$A$2:$BR$177,26,FALSE),\"\"))","v":""},{"$f":"IF($B17=\"\",\"\",IF(VLOOKUP($B17,CPPE!$A$2:$BR$177,27,FALSE)<0,VLOOKUP($B17,CPPE!$A$2:$BR$177,27,FALSE),\"\"))","v":""},{"$f":"IF($B17=\"\",\"\",IF(VLOOKUP($B17,CPPE!$A$2:$BR$177,28,FALSE)<0,VLOOKUP($B17,CPPE!$A$2:$BR$177,28,FALSE),\"\"))","v":""},{"$f":"IF($B17=\"\",\"\",IF(VLOOKUP($B17,CPPE!$A$2:$BR$177,29,FALSE)<0,VLOOKUP($B17,CPPE!$A$2:$BR$177,29,FALSE),\"\"))","v":""},{"$f":"IF($B17=\"\",\"\",IF(VLOOKUP($B17,CPPE!$A$2:$BR$177,30,FALSE)<0,VLOOKUP($B17,CPPE!$A$2:$BR$177,30,FALSE),\"\"))","v":""},{"$f":"IF($B17=\"\",\"\",IF(VLOOKUP($B17,CPPE!$A$2:$BR$177,31,FALSE)<0,VLOOKUP($B17,CPPE!$A$2:$BR$177,31,FALSE),\"\"))","v":""},{"$f":"IF($B17=\"\",\"\",IF(VLOOKUP($B17,CPPE!$A$2:$BR$177,32,FALSE)<0,VLOOKUP($B17,CPPE!$A$2:$BR$177,32,FALSE),\"\"))","v":""},{"$f":"IF($B17=\"\",\"\",IF(VLOOKUP($B17,CPPE!$A$2:$BR$177,33,FALSE)<0,VLOOKUP($B17,CPPE!$A$2:$BR$177,33,FALSE),\"\"))","v":""},{"$f":"IF($B17=\"\",\"\",IF(VLOOKUP($B17,CPPE!$A$2:$BR$177,34,FALSE)<0,VLOOKUP($B17,CPPE!$A$2:$BR$177,34,FALSE),\"\"))","v":""},{"$f":"IF($B17=\"\",\"\",IF(VLOOKUP($B17,CPPE!$A$2:$BR$177,35,FALSE)<0,VLOOKUP($B17,CPPE!$A$2:$BR$177,35,FALSE),\"\"))","v":""},{"$f":"IF($B17=\"\",\"\",IF(VLOOKUP($B17,CPPE!$A$2:$BR$177,36,FALSE)<0,VLOOKUP($B17,CPPE!$A$2:$BR$177,36,FALSE),\"\"))","v":""},{"$f":"IF($B17=\"\",\"\",IF(VLOOKUP($B17,CPPE!$A$2:$BR$177,37,FALSE)<0,VLOOKUP($B17,CPPE!$A$2:$BR$177,37,FALSE),\"\"))","v":""},{"$f":"IF($B17=\"\",\"\",IF(VLOOKUP($B17,CPPE!$A$2:$BR$177,38,FALSE)<0,VLOOKUP($B17,CPPE!$A$2:$BR$177,38,FALSE),\"\"))","v":""},{"$f":"IF($B17=\"\",\"\",IF(VLOOKUP($B17,CPPE!$A$2:$BR$177,39,FALSE)<0,VLOOKUP($B17,CPPE!$A$2:$BR$177,39,FALSE),\"\"))","v":""},{"$f":"IF($B17=\"\",\"\",IF(VLOOKUP($B17,CPPE!$A$2:$BR$177,40,FALSE)<0,VLOOKUP($B17,CPPE!$A$2:$BR$177,40,FALSE),\"\"))","v":""},{"$f":"IF($B17=\"\",\"\",IF(VLOOKUP($B17,CPPE!$A$2:$BR$177,41,FALSE)<0,VLOOKUP($B17,CPPE!$A$2:$BR$177,41,FALSE),\"\"))","v":""},{"$f":"IF($B17=\"\",\"\",IF(VLOOKUP($B17,CPPE!$A$2:$BR$177,42,FALSE)<0,VLOOKUP($B17,CPPE!$A$2:$BR$177,42,FALSE),\"\"))","v":""},{"$f":"IF($B17=\"\",\"\",IF(VLOOKUP($B17,CPPE!$A$2:$BR$177,43,FALSE)<0,VLOOKUP($B17,CPPE!$A$2:$BR$177,43,FALSE),\"\"))","v":""},{"$f":"IF($B17=\"\",\"\",IF(VLOOKUP($B17,CPPE!$A$2:$BR$177,44,FALSE)<0,VLOOKUP($B17,CPPE!$A$2:$BR$177,44,FALSE),\"\"))","v":""},{"$f":"IF($B17=\"\",\"\",IF(VLOOKUP($B17,CPPE!$A$2:$BR$177,45,FALSE)<0,VLOOKUP($B17,CPPE!$A$2:$BR$177,45,FALSE),\"\"))","v":""},{"$f":"IF($B17=\"\",\"\",IF(VLOOKUP($B17,CPPE!$A$2:$BR$177,46,FALSE)<0,VLOOKUP($B17,CPPE!$A$2:$BR$177,46,FALSE),\"\"))","v":""},{"$f":"IF($B17=\"\",\"\",IF(VLOOKUP($B17,CPPE!$A$2:$BR$177,47,FALSE)<0,VLOOKUP($B17,CPPE!$A$2:$BR$177,47,FALSE),\"\"))","v":""},{"$f":"IF($B17=\"\",\"\",IF(VLOOKUP($B17,CPPE!$A$2:$BR$177,48,FALSE)<0,VLOOKUP($B17,CPPE!$A$2:$BR$177,48,FALSE),\"\"))","v":""},{"$f":"IF($B17=\"\",\"\",IF(VLOOKUP($B17,CPPE!$A$2:$BR$177,49,FALSE)<0,VLOOKUP($B17,CPPE!$A$2:$BR$177,49,FALSE),\"\"))","v":""},{"$f":"IF($B17=\"\",\"\",IF(VLOOKUP($B17,CPPE!$A$2:$BR$177,50,FALSE)<0,VLOOKUP($B17,CPPE!$A$2:$BR$177,50,FALSE),\"\"))","v":""},{"$f":"IF($B17=\"\",\"\",IF(VLOOKUP($B17,CPPE!$A$2:$BR$177,51,FALSE)<0,VLOOKUP($B17,CPPE!$A$2:$BR$177,51,FALSE),\"\"))","v":""},{"$f":"IF($B17=\"\",\"\",IF(VLOOKUP($B17,CPPE!$A$2:$BR$177,52,FALSE)<0,VLOOKUP($B17,CPPE!$A$2:$BR$177,52,FALSE),\"\"))","v":""},{"$f":"IF($B17=\"\",\"\",IF(VLOOKUP($B17,CPPE!$A$2:$BR$177,53,FALSE)<0,VLOOKUP($B17,CPPE!$A$2:$BR$177,53,FALSE),\"\"))","v":""},{"$f":"IF($B17=\"\",\"\",IF(VLOOKUP($B17,CPPE!$A$2:$BR$177,54,FALSE)<0,VLOOKUP($B17,CPPE!$A$2:$BR$177,54,FALSE),\"\"))","v":""},{"$f":"IF($B17=\"\",\"\",IF(VLOOKUP($B17,CPPE!$A$2:$BR$177,55,FALSE)<0,VLOOKUP($B17,CPPE!$A$2:$BR$177,55,FALSE),\"\"))","v":""},{"$f":"IF($B17=\"\",\"\",IF(VLOOKUP($B17,CPPE!$A$2:$BR$177,56,FALSE)<0,VLOOKUP($B17,CPPE!$A$2:$BR$177,56,FALSE),\"\"))","v":""},{"$f":"IF($B17=\"\",\"\",IF(VLOOKUP($B17,CPPE!$A$2:$BR$177,57,FALSE)<0,VLOOKUP($B17,CPPE!$A$2:$BR$177,57,FALSE),\"\"))","v":""},{"$f":"IF($B17=\"\",\"\",IF(VLOOKUP($B17,CPPE!$A$2:$BR$177,58,FALSE)<0,VLOOKUP($B17,CPPE!$A$2:$BR$177,58,FALSE),\"\"))","v":""},{"$f":"IF($B17=\"\",\"\",IF(VLOOKUP($B17,CPPE!$A$2:$BR$177,59,FALSE)<0,VLOOKUP($B17,CPPE!$A$2:$BR$177,59,FALSE),\"\"))","v":""}]
[null,{"$f":"IF(Results!B18=\"\",\"\",Results!B18)","v":""},{"$f":"IF($B18=\"\",\"\",IF(VLOOKUP($B18,CPPE!$A$2:$BR$177,2,FALSE)<0,VLOOKUP($B18,CPPE!$A$2:$BR$177,2,FALSE),\"\"))","v":""},{"$f":"IF($B18=\"\",\"\",IF(VLOOKUP($B18,CPPE!$A$2:$BR$177,3,FALSE)<0,VLOOKUP($B18,CPPE!$A$2:$BR$177,3,FALSE),\"\"))","v":""},{"$f":"IF($B18=\"\",\"\",IF(VLOOKUP($B18,CPPE!$A$2:$BR$177,4,FALSE)<0,VLOOKUP($B18,CPPE!$A$2:$BR$177,4,FALSE),\"\"))","v":""},{"$f":"IF($B18=\"\",\"\",IF(VLOOKUP($B18,CPPE!$A$2:$BR$177,4,FALSE)<0,VLOOKUP($B18,CPPE!$A$2:$BR$177,5,FALSE),\"\"))","v":""},{"$f":"IF($B18=\"\",\"\",IF(VLOOKUP($B18,CPPE!$A$2:$BR$177,5,FALSE)<0,VLOOKUP($B18,CPPE!$A$2:$BR$177,6,FALSE),\"\"))","v":""},{"$f":"IF($B18=\"\",\"\",IF(VLOOKUP($B18,CPPE!$A$2:$BR$177,7,FALSE)<0,VLOOKUP($B18,CPPE!$A$2:$BR$177,7,FALSE),\"\"))","v":""},{"$f":"IF($B18=\"\",\"\",IF(VLOOKUP($B18,CPPE!$A$2:$BR$177,8,FALSE)<0,VLOOKUP($B18,CPPE!$A$2:$BR$177,8,FALSE),\"\"))","v":""},{"$f":"IF($B18=\"\",\"\",IF(VLOOKUP($B18,CPPE!$A$2:$BR$177,9,FALSE)<0,VLOOKUP($B18,CPPE!$A$2:$BR$177,9,FALSE),\"\"))","v":""},{"$f":"IF($B18=\"\",\"\",IF(VLOOKUP($B18,CPPE!$A$2:$BR$177,10,FALSE)<0,VLOOKUP($B18,CPPE!$A$2:$BR$177,10,FALSE),\"\"))","v":""},{"$f":"IF($B18=\"\",\"\",IF(VLOOKUP($B18,CPPE!$A$2:$BR$177,11,FALSE)<0,VLOOKUP($B18,CPPE!$A$2:$BR$177,11,FALSE),\"\"))","v":""},{"$f":"IF($B18=\"\",\"\",IF(VLOOKUP($B18,CPPE!$A$2:$BR$177,12,FALSE)<0,VLOOKUP($B18,CPPE!$A$2:$BR$177,12,FALSE),\"\"))","v":""},{"$f":"IF($B18=\"\",\"\",IF(VLOOKUP($B18,CPPE!$A$2:$BR$177,13,FALSE)<0,VLOOKUP($B18,CPPE!$A$2:$BR$177,13,FALSE),\"\"))","v":""},{"$f":"IF($B18=\"\",\"\",IF(VLOOKUP($B18,CPPE!$A$2:$BR$177,14,FALSE)<0,VLOOKUP($B18,CPPE!$A$2:$BR$177,14,FALSE),\"\"))","v":""},{"$f":"IF($B18=\"\",\"\",IF(VLOOKUP($B18,CPPE!$A$2:$BR$177,15,FALSE)<0,VLOOKUP($B18,CPPE!$A$2:$BR$177,15,FALSE),\"\"))","v":""},{"$f":"IF($B18=\"\",\"\",IF(VLOOKUP($B18,CPPE!$A$2:$BR$177,16,FALSE)<0,VLOOKUP($B18,CPPE!$A$2:$BR$177,16,FALSE),\"\"))","v":""},{"$f":"IF($B18=\"\",\"\",IF(VLOOKUP($B18,CPPE!$A$2:$BR$177,17,FALSE)<0,VLOOKUP($B18,CPPE!$A$2:$BR$177,17,FALSE),\"\"))","v":""},{"$f":"IF($B18=\"\",\"\",IF(VLOOKUP($B18,CPPE!$A$2:$BR$177,18,FALSE)<0,VLOOKUP($B18,CPPE!$A$2:$BR$177,18,FALSE),\"\"))","v":""},{"$f":"IF($B18=\"\",\"\",IF(VLOOKUP($B18,CPPE!$A$2:$BR$177,19,FALSE)<0,VLOOKUP($B18,CPPE!$A$2:$BR$177,19,FALSE),\"\"))","v":""},{"$f":"IF($B18=\"\",\"\",IF(VLOOKUP($B18,CPPE!$A$2:$BR$177,20,FALSE)<0,VLOOKUP($B18,CPPE!$A$2:$BR$177,20,FALSE),\"\"))","v":""},{"$f":"IF($B18=\"\",\"\",IF(VLOOKUP($B18,CPPE!$A$2:$BR$177,21,FALSE)<0,VLOOKUP($B18,CPPE!$A$2:$BR$177,21,FALSE),\"\"))","v":""},{"$f":"IF($B18=\"\",\"\",IF(VLOOKUP($B18,CPPE!$A$2:$BR$177,22,FALSE)<0,VLOOKUP($B18,CPPE!$A$2:$BR$177,22,FALSE),\"\"))","v":""},{"$f":"IF($B18=\"\",\"\",IF(VLOOKUP($B18,CPPE!$A$2:$BR$177,23,FALSE)<0,VLOOKUP($B18,CPPE!$A$2:$BR$177,23,FALSE),\"\"))","v":""},{"$f":"IF($B18=\"\",\"\",IF(VLOOKUP($B18,CPPE!$A$2:$BR$177,24,FALSE)<0,VLOOKUP($B18,CPPE!$A$2:$BR$177,24,FALSE),\"\"))","v":""},{"$f":"IF($B18=\"\",\"\",IF(VLOOKUP($B18,CPPE!$A$2:$BR$177,25,FALSE)<0,VLOOKUP($B18,CPPE!$A$2:$BR$177,25,FALSE),\"\"))","v":""},{"$f":"IF($B18=\"\",\"\",IF(VLOOKUP($B18,CPPE!$A$2:$BR$177,26,FALSE)<0,VLOOKUP($B18,CPPE!$A$2:$BR$177,26,FALSE),\"\"))","v":""},{"$f":"IF($B18=\"\",\"\",IF(VLOOKUP($B18,CPPE!$A$2:$BR$177,27,FALSE)<0,VLOOKUP($B18,CPPE!$A$2:$BR$177,27,FALSE),\"\"))","v":""},{"$f":"IF($B18=\"\",\"\",IF(VLOOKUP($B18,CPPE!$A$2:$BR$177,28,FALSE)<0,VLOOKUP($B18,CPPE!$A$2:$BR$177,28,FALSE),\"\"))","v":""},{"$f":"IF($B18=\"\",\"\",IF(VLOOKUP($B18,CPPE!$A$2:$BR$177,29,FALSE)<0,VLOOKUP($B18,CPPE!$A$2:$BR$177,29,FALSE),\"\"))","v":""},{"$f":"IF($B18=\"\",\"\",IF(VLOOKUP($B18,CPPE!$A$2:$BR$177,30,FALSE)<0,VLOOKUP($B18,CPPE!$A$2:$BR$177,30,FALSE),\"\"))","v":""},{"$f":"IF($B18=\"\",\"\",IF(VLOOKUP($B18,CPPE!$A$2:$BR$177,31,FALSE)<0,VLOOKUP($B18,CPPE!$A$2:$BR$177,31,FALSE),\"\"))","v":""},{"$f":"IF($B18=\"\",\"\",IF(VLOOKUP($B18,CPPE!$A$2:$BR$177,32,FALSE)<0,VLOOKUP($B18,CPPE!$A$2:$BR$177,32,FALSE),\"\"))","v":""},{"$f":"IF($B18=\"\",\"\",IF(VLOOKUP($B18,CPPE!$A$2:$BR$177,33,FALSE)<0,VLOOKUP($B18,CPPE!$A$2:$BR$177,33,FALSE),\"\"))","v":""},{"$f":"IF($B18=\"\",\"\",IF(VLOOKUP($B18,CPPE!$A$2:$BR$177,34,FALSE)<0,VLOOKUP($B18,CPPE!$A$2:$BR$177,34,FALSE),\"\"))","v":""},{"$f":"IF($B18=\"\",\"\",IF(VLOOKUP($B18,CPPE!$A$2:$BR$177,35,FALSE)<0,VLOOKUP($B18,CPPE!$A$2:$BR$177,35,FALSE),\"\"))","v":""},{"$f":"IF($B18=\"\",\"\",IF(VLOOKUP($B18,CPPE!$A$2:$BR$177,36,FALSE)<0,VLOOKUP($B18,CPPE!$A$2:$BR$177,36,FALSE),\"\"))","v":""},{"$f":"IF($B18=\"\",\"\",IF(VLOOKUP($B18,CPPE!$A$2:$BR$177,37,FALSE)<0,VLOOKUP($B18,CPPE!$A$2:$BR$177,37,FALSE),\"\"))","v":""},{"$f":"IF($B18=\"\",\"\",IF(VLOOKUP($B18,CPPE!$A$2:$BR$177,38,FALSE)<0,VLOOKUP($B18,CPPE!$A$2:$BR$177,38,FALSE),\"\"))","v":""},{"$f":"IF($B18=\"\",\"\",IF(VLOOKUP($B18,CPPE!$A$2:$BR$177,39,FALSE)<0,VLOOKUP($B18,CPPE!$A$2:$BR$177,39,FALSE),\"\"))","v":""},{"$f":"IF($B18=\"\",\"\",IF(VLOOKUP($B18,CPPE!$A$2:$BR$177,40,FALSE)<0,VLOOKUP($B18,CPPE!$A$2:$BR$177,40,FALSE),\"\"))","v":""},{"$f":"IF($B18=\"\",\"\",IF(VLOOKUP($B18,CPPE!$A$2:$BR$177,41,FALSE)<0,VLOOKUP($B18,CPPE!$A$2:$BR$177,41,FALSE),\"\"))","v":""},{"$f":"IF($B18=\"\",\"\",IF(VLOOKUP($B18,CPPE!$A$2:$BR$177,42,FALSE)<0,VLOOKUP($B18,CPPE!$A$2:$BR$177,42,FALSE),\"\"))","v":""},{"$f":"IF($B18=\"\",\"\",IF(VLOOKUP($B18,CPPE!$A$2:$BR$177,43,FALSE)<0,VLOOKUP($B18,CPPE!$A$2:$BR$177,43,FALSE),\"\"))","v":""},{"$f":"IF($B18=\"\",\"\",IF(VLOOKUP($B18,CPPE!$A$2:$BR$177,44,FALSE)<0,VLOOKUP($B18,CPPE!$A$2:$BR$177,44,FALSE),\"\"))","v":""},{"$f":"IF($B18=\"\",\"\",IF(VLOOKUP($B18,CPPE!$A$2:$BR$177,45,FALSE)<0,VLOOKUP($B18,CPPE!$A$2:$BR$177,45,FALSE),\"\"))","v":""},{"$f":"IF($B18=\"\",\"\",IF(VLOOKUP($B18,CPPE!$A$2:$BR$177,46,FALSE)<0,VLOOKUP($B18,CPPE!$A$2:$BR$177,46,FALSE),\"\"))","v":""},{"$f":"IF($B18=\"\",\"\",IF(VLOOKUP($B18,CPPE!$A$2:$BR$177,47,FALSE)<0,VLOOKUP($B18,CPPE!$A$2:$BR$177,47,FALSE),\"\"))","v":""},{"$f":"IF($B18=\"\",\"\",IF(VLOOKUP($B18,CPPE!$A$2:$BR$177,48,FALSE)<0,VLOOKUP($B18,CPPE!$A$2:$BR$177,48,FALSE),\"\"))","v":""},{"$f":"IF($B18=\"\",\"\",IF(VLOOKUP($B18,CPPE!$A$2:$BR$177,49,FALSE)<0,VLOOKUP($B18,CPPE!$A$2:$BR$177,49,FALSE),\"\"))","v":""},{"$f":"IF($B18=\"\",\"\",IF(VLOOKUP($B18,CPPE!$A$2:$BR$177,50,FALSE)<0,VLOOKUP($B18,CPPE!$A$2:$BR$177,50,FALSE),\"\"))","v":""},{"$f":"IF($B18=\"\",\"\",IF(VLOOKUP($B18,CPPE!$A$2:$BR$177,51,FALSE)<0,VLOOKUP($B18,CPPE!$A$2:$BR$177,51,FALSE),\"\"))","v":""},{"$f":"IF($B18=\"\",\"\",IF(VLOOKUP($B18,CPPE!$A$2:$BR$177,52,FALSE)<0,VLOOKUP($B18,CPPE!$A$2:$BR$177,52,FALSE),\"\"))","v":""},{"$f":"IF($B18=\"\",\"\",IF(VLOOKUP($B18,CPPE!$A$2:$BR$177,53,FALSE)<0,VLOOKUP($B18,CPPE!$A$2:$BR$177,53,FALSE),\"\"))","v":""},{"$f":"IF($B18=\"\",\"\",IF(VLOOKUP($B18,CPPE!$A$2:$BR$177,54,FALSE)<0,VLOOKUP($B18,CPPE!$A$2:$BR$177,54,FALSE),\"\"))","v":""},{"$f":"IF($B18=\"\",\"\",IF(VLOOKUP($B18,CPPE!$A$2:$BR$177,55,FALSE)<0,VLOOKUP($B18,CPPE!$A$2:$BR$177,55,FALSE),\"\"))","v":""},{"$f":"IF($B18=\"\",\"\",IF(VLOOKUP($B18,CPPE!$A$2:$BR$177,56,FALSE)<0,VLOOKUP($B18,CPPE!$A$2:$BR$177,56,FALSE),\"\"))","v":""},{"$f":"IF($B18=\"\",\"\",IF(VLOOKUP($B18,CPPE!$A$2:$BR$177,57,FALSE)<0,VLOOKUP($B18,CPPE!$A$2:$BR$177,57,FALSE),\"\"))","v":""},{"$f":"IF($B18=\"\",\"\",IF(VLOOKUP($B18,CPPE!$A$2:$BR$177,58,FALSE)<0,VLOOKUP($B18,CPPE!$A$2:$BR$177,58,FALSE),\"\"))","v":""},{"$f":"IF($B18=\"\",\"\",IF(VLOOKUP($B18,CPPE!$A$2:$BR$177,59,FALSE)<0,VLOOKUP($B18,CPPE!$A$2:$BR$177,59,FALSE),\"\"))","v":""}]
[null,{"$f":"IF(Results!B19=\"\",\"\",Results!B19)","v":""},{"$f":"IF($B19=\"\",\"\",IF(VLOOKUP($B19,CPPE!$A$2:$BR$177,2,FALSE)<0,VLOOKUP($B19,CPPE!$A$2:$BR$177,2,FALSE),\"\"))","v":""},{"$f":"IF($B19=\"\",\"\",IF(VLOOKUP($B19,CPPE!$A$2:$BR$177,3,FALSE)<0,VLOOKUP($B19,CPPE!$A$2:$BR$177,3,FALSE),\"\"))","v":""},{"$f":"IF($B19=\"\",\"\",IF(VLOOKUP($B19,CPPE!$A$2:$BR$177,4,FALSE)<0,VLOOKUP($B19,CPPE!$A$2:$BR$177,4,FALSE),\"\"))","v":""},{"$f":"IF($B19=\"\",\"\",IF(VLOOKUP($B19,CPPE!$A$2:$BR$177,4,FALSE)<0,VLOOKUP($B19,CPPE!$A$2:$BR$177,5,FALSE),\"\"))","v":""},{"$f":"IF($B19=\"\",\"\",IF(VLOOKUP($B19,CPPE!$A$2:$BR$177,5,FALSE)<0,VLOOKUP($B19,CPPE!$A$2:$BR$177,6,FALSE),\"\"))","v":""},{"$f":"IF($B19=\"\",\"\",IF(VLOOKUP($B19,CPPE!$A$2:$BR$177,7,FALSE)<0,VLOOKUP($B19,CPPE!$A$2:$BR$177,7,FALSE),\"\"))","v":""},{"$f":"IF($B19=\"\",\"\",IF(VLOOKUP($B19,CPPE!$A$2:$BR$177,8,FALSE)<0,VLOOKUP($B19,CPPE!$A$2:$BR$177,8,FALSE),\"\"))","v":""},{"$f":"IF($B19=\"\",\"\",IF(VLOOKUP($B19,CPPE!$A$2:$BR$177,9,FALSE)<0,VLOOKUP($B19,CPPE!$A$2:$BR$177,9,FALSE),\"\"))","v":""},{"$f":"IF($B19=\"\",\"\",IF(VLOOKUP($B19,CPPE!$A$2:$BR$177,10,FALSE)<0,VLOOKUP($B19,CPPE!$A$2:$BR$177,10,FALSE),\"\"))","v":""},{"$f":"IF($B19=\"\",\"\",IF(VLOOKUP($B19,CPPE!$A$2:$BR$177,11,FALSE)<0,VLOOKUP($B19,CPPE!$A$2:$BR$177,11,FALSE),\"\"))","v":""},{"$f":"IF($B19=\"\",\"\",IF(VLOOKUP($B19,CPPE!$A$2:$BR$177,12,FALSE)<0,VLOOKUP($B19,CPPE!$A$2:$BR$177,12,FALSE),\"\"))","v":""},{"$f":"IF($B19=\"\",\"\",IF(VLOOKUP($B19,CPPE!$A$2:$BR$177,13,FALSE)<0,VLOOKUP($B19,CPPE!$A$2:$BR$177,13,FALSE),\"\"))","v":""},{"$f":"IF($B19=\"\",\"\",IF(VLOOKUP($B19,CPPE!$A$2:$BR$177,14,FALSE)<0,VLOOKUP($B19,CPPE!$A$2:$BR$177,14,FALSE),\"\"))","v":""},{"$f":"IF($B19=\"\",\"\",IF(VLOOKUP($B19,CPPE!$A$2:$BR$177,15,FALSE)<0,VLOOKUP($B19,CPPE!$A$2:$BR$177,15,FALSE),\"\"))","v":""},{"$f":"IF($B19=\"\",\"\",IF(VLOOKUP($B19,CPPE!$A$2:$BR$177,16,FALSE)<0,VLOOKUP($B19,CPPE!$A$2:$BR$177,16,FALSE),\"\"))","v":""},{"$f":"IF($B19=\"\",\"\",IF(VLOOKUP($B19,CPPE!$A$2:$BR$177,17,FALSE)<0,VLOOKUP($B19,CPPE!$A$2:$BR$177,17,FALSE),\"\"))","v":""},{"$f":"IF($B19=\"\",\"\",IF(VLOOKUP($B19,CPPE!$A$2:$BR$177,18,FALSE)<0,VLOOKUP($B19,CPPE!$A$2:$BR$177,18,FALSE),\"\"))","v":""},{"$f":"IF($B19=\"\",\"\",IF(VLOOKUP($B19,CPPE!$A$2:$BR$177,19,FALSE)<0,VLOOKUP($B19,CPPE!$A$2:$BR$177,19,FALSE),\"\"))","v":""},{"$f":"IF($B19=\"\",\"\",IF(VLOOKUP($B19,CPPE!$A$2:$BR$177,20,FALSE)<0,VLOOKUP($B19,CPPE!$A$2:$BR$177,20,FALSE),\"\"))","v":""},{"$f":"IF($B19=\"\",\"\",IF(VLOOKUP($B19,CPPE!$A$2:$BR$177,21,FALSE)<0,VLOOKUP($B19,CPPE!$A$2:$BR$177,21,FALSE),\"\"))","v":""},{"$f":"IF($B19=\"\",\"\",IF(VLOOKUP($B19,CPPE!$A$2:$BR$177,22,FALSE)<0,VLOOKUP($B19,CPPE!$A$2:$BR$177,22,FALSE),\"\"))","v":""},{"$f":"IF($B19=\"\",\"\",IF(VLOOKUP($B19,CPPE!$A$2:$BR$177,23,FALSE)<0,VLOOKUP($B19,CPPE!$A$2:$BR$177,23,FALSE),\"\"))","v":""},{"$f":"IF($B19=\"\",\"\",IF(VLOOKUP($B19,CPPE!$A$2:$BR$177,24,FALSE)<0,VLOOKUP($B19,CPPE!$A$2:$BR$177,24,FALSE),\"\"))","v":""},{"$f":"IF($B19=\"\",\"\",IF(VLOOKUP($B19,CPPE!$A$2:$BR$177,25,FALSE)<0,VLOOKUP($B19,CPPE!$A$2:$BR$177,25,FALSE),\"\"))","v":""},{"$f":"IF($B19=\"\",\"\",IF(VLOOKUP($B19,CPPE!$A$2:$BR$177,26,FALSE)<0,VLOOKUP($B19,CPPE!$A$2:$BR$177,26,FALSE),\"\"))","v":""},{"$f":"IF($B19=\"\",\"\",IF(VLOOKUP($B19,CPPE!$A$2:$BR$177,27,FALSE)<0,VLOOKUP($B19,CPPE!$A$2:$BR$177,27,FALSE),\"\"))","v":""},{"$f":"IF($B19=\"\",\"\",IF(VLOOKUP($B19,CPPE!$A$2:$BR$177,28,FALSE)<0,VLOOKUP($B19,CPPE!$A$2:$BR$177,28,FALSE),\"\"))","v":""},{"$f":"IF($B19=\"\",\"\",IF(VLOOKUP($B19,CPPE!$A$2:$BR$177,29,FALSE)<0,VLOOKUP($B19,CPPE!$A$2:$BR$177,29,FALSE),\"\"))","v":""},{"$f":"IF($B19=\"\",\"\",IF(VLOOKUP($B19,CPPE!$A$2:$BR$177,30,FALSE)<0,VLOOKUP($B19,CPPE!$A$2:$BR$177,30,FALSE),\"\"))","v":""},{"$f":"IF($B19=\"\",\"\",IF(VLOOKUP($B19,CPPE!$A$2:$BR$177,31,FALSE)<0,VLOOKUP($B19,CPPE!$A$2:$BR$177,31,FALSE),\"\"))","v":""},{"$f":"IF($B19=\"\",\"\",IF(VLOOKUP($B19,CPPE!$A$2:$BR$177,32,FALSE)<0,VLOOKUP($B19,CPPE!$A$2:$BR$177,32,FALSE),\"\"))","v":""},{"$f":"IF($B19=\"\",\"\",IF(VLOOKUP($B19,CPPE!$A$2:$BR$177,33,FALSE)<0,VLOOKUP($B19,CPPE!$A$2:$BR$177,33,FALSE),\"\"))","v":""},{"$f":"IF($B19=\"\",\"\",IF(VLOOKUP($B19,CPPE!$A$2:$BR$177,34,FALSE)<0,VLOOKUP($B19,CPPE!$A$2:$BR$177,34,FALSE),\"\"))","v":""},{"$f":"IF($B19=\"\",\"\",IF(VLOOKUP($B19,CPPE!$A$2:$BR$177,35,FALSE)<0,VLOOKUP($B19,CPPE!$A$2:$BR$177,35,FALSE),\"\"))","v":""},{"$f":"IF($B19=\"\",\"\",IF(VLOOKUP($B19,CPPE!$A$2:$BR$177,36,FALSE)<0,VLOOKUP($B19,CPPE!$A$2:$BR$177,36,FALSE),\"\"))","v":""},{"$f":"IF($B19=\"\",\"\",IF(VLOOKUP($B19,CPPE!$A$2:$BR$177,37,FALSE)<0,VLOOKUP($B19,CPPE!$A$2:$BR$177,37,FALSE),\"\"))","v":""},{"$f":"IF($B19=\"\",\"\",IF(VLOOKUP($B19,CPPE!$A$2:$BR$177,38,FALSE)<0,VLOOKUP($B19,CPPE!$A$2:$BR$177,38,FALSE),\"\"))","v":""},{"$f":"IF($B19=\"\",\"\",IF(VLOOKUP($B19,CPPE!$A$2:$BR$177,39,FALSE)<0,VLOOKUP($B19,CPPE!$A$2:$BR$177,39,FALSE),\"\"))","v":""},{"$f":"IF($B19=\"\",\"\",IF(VLOOKUP($B19,CPPE!$A$2:$BR$177,40,FALSE)<0,VLOOKUP($B19,CPPE!$A$2:$BR$177,40,FALSE),\"\"))","v":""},{"$f":"IF($B19=\"\",\"\",IF(VLOOKUP($B19,CPPE!$A$2:$BR$177,41,FALSE)<0,VLOOKUP($B19,CPPE!$A$2:$BR$177,41,FALSE),\"\"))","v":""},{"$f":"IF($B19=\"\",\"\",IF(VLOOKUP($B19,CPPE!$A$2:$BR$177,42,FALSE)<0,VLOOKUP($B19,CPPE!$A$2:$BR$177,42,FALSE),\"\"))","v":""},{"$f":"IF($B19=\"\",\"\",IF(VLOOKUP($B19,CPPE!$A$2:$BR$177,43,FALSE)<0,VLOOKUP($B19,CPPE!$A$2:$BR$177,43,FALSE),\"\"))","v":""},{"$f":"IF($B19=\"\",\"\",IF(VLOOKUP($B19,CPPE!$A$2:$BR$177,44,FALSE)<0,VLOOKUP($B19,CPPE!$A$2:$BR$177,44,FALSE),\"\"))","v":""},{"$f":"IF($B19=\"\",\"\",IF(VLOOKUP($B19,CPPE!$A$2:$BR$177,45,FALSE)<0,VLOOKUP($B19,CPPE!$A$2:$BR$177,45,FALSE),\"\"))","v":""},{"$f":"IF($B19=\"\",\"\",IF(VLOOKUP($B19,CPPE!$A$2:$BR$177,46,FALSE)<0,VLOOKUP($B19,CPPE!$A$2:$BR$177,46,FALSE),\"\"))","v":""},{"$f":"IF($B19=\"\",\"\",IF(VLOOKUP($B19,CPPE!$A$2:$BR$177,47,FALSE)<0,VLOOKUP($B19,CPPE!$A$2:$BR$177,47,FALSE),\"\"))","v":""},{"$f":"IF($B19=\"\",\"\",IF(VLOOKUP($B19,CPPE!$A$2:$BR$177,48,FALSE)<0,VLOOKUP($B19,CPPE!$A$2:$BR$177,48,FALSE),\"\"))","v":""},{"$f":"IF($B19=\"\",\"\",IF(VLOOKUP($B19,CPPE!$A$2:$BR$177,49,FALSE)<0,VLOOKUP($B19,CPPE!$A$2:$BR$177,49,FALSE),\"\"))","v":""},{"$f":"IF($B19=\"\",\"\",IF(VLOOKUP($B19,CPPE!$A$2:$BR$177,50,FALSE)<0,VLOOKUP($B19,CPPE!$A$2:$BR$177,50,FALSE),\"\"))","v":""},{"$f":"IF($B19=\"\",\"\",IF(VLOOKUP($B19,CPPE!$A$2:$BR$177,51,FALSE)<0,VLOOKUP($B19,CPPE!$A$2:$BR$177,51,FALSE),\"\"))","v":""},{"$f":"IF($B19=\"\",\"\",IF(VLOOKUP($B19,CPPE!$A$2:$BR$177,52,FALSE)<0,VLOOKUP($B19,CPPE!$A$2:$BR$177,52,FALSE),\"\"))","v":""},{"$f":"IF($B19=\"\",\"\",IF(VLOOKUP($B19,CPPE!$A$2:$BR$177,53,FALSE)<0,VLOOKUP($B19,CPPE!$A$2:$BR$177,53,FALSE),\"\"))","v":""},{"$f":"IF($B19=\"\",\"\",IF(VLOOKUP($B19,CPPE!$A$2:$BR$177,54,FALSE)<0,VLOOKUP($B19,CPPE!$A$2:$BR$177,54,FALSE),\"\"))","v":""},{"$f":"IF($B19=\"\",\"\",IF(VLOOKUP($B19,CPPE!$A$2:$BR$177,55,FALSE)<0,VLOOKUP($B19,CPPE!$A$2:$BR$177,55,FALSE),\"\"))","v":""},{"$f":"IF($B19=\"\",\"\",IF(VLOOKUP($B19,CPPE!$A$2:$BR$177,56,FALSE)<0,VLOOKUP($B19,CPPE!$A$2:$BR$177,56,FALSE),\"\"))","v":""},{"$f":"IF($B19=\"\",\"\",IF(VLOOKUP($B19,CPPE!$A$2:$BR$177,57,FALSE)<0,VLOOKUP($B19,CPPE!$A$2:$BR$177,57,FALSE),\"\"))","v":""},{"$f":"IF($B19=\"\",\"\",IF(VLOOKUP($B19,CPPE!$A$2:$BR$177,58,FALSE)<0,VLOOKUP($B19,CPPE!$A$2:$BR$177,58,FALSE),\"\"))","v":""},{"$f":"IF($B19=\"\",\"\",IF(VLOOKUP($B19,CPPE!$A$2:$BR$177,59,FALSE)<0,VLOOKUP($B19,CPPE!$A$2:$BR$177,59,FALSE),\"\"))","v":""}]
[null,{"$f":"IF(Results!B20=\"\",\"\",Results!B20)","v":""},{"$f":"IF($B20=\"\",\"\",IF(VLOOKUP($B20,CPPE!$A$2:$BR$177,2,FALSE)<0,VLOOKUP($B20,CPPE!$A$2:$BR$177,2,FALSE),\"\"))","v":""},{"$f":"IF($B20=\"\",\"\",IF(VLOOKUP($B20,CPPE!$A$2:$BR$177,3,FALSE)<0,VLOOKUP($B20,CPPE!$A$2:$BR$177,3,FALSE),\"\"))","v":""},{"$f":"IF($B20=\"\",\"\",IF(VLOOKUP($B20,CPPE!$A$2:$BR$177,4,FALSE)<0,VLOOKUP($B20,CPPE!$A$2:$BR$177,4,FALSE),\"\"))","v":""},{"$f":"IF($B20=\"\",\"\",IF(VLOOKUP($B20,CPPE!$A$2:$BR$177,4,FALSE)<0,VLOOKUP($B20,CPPE!$A$2:$BR$177,5,FALSE),\"\"))","v":""},{"$f":"IF($B20=\"\",\"\",IF(VLOOKUP($B20,CPPE!$A$2:$BR$177,5,FALSE)<0,VLOOKUP($B20,CPPE!$A$2:$BR$177,6,FALSE),\"\"))","v":""},{"$f":"IF($B20=\"\",\"\",IF(VLOOKUP($B20,CPPE!$A$2:$BR$177,7,FALSE)<0,VLOOKUP($B20,CPPE!$A$2:$BR$177,7,FALSE),\"\"))","v":""},{"$f":"IF($B20=\"\",\"\",IF(VLOOKUP($B20,CPPE!$A$2:$BR$177,8,FALSE)<0,VLOOKUP($B20,CPPE!$A$2:$BR$177,8,FALSE),\"\"))","v":""},{"$f":"IF($B20=\"\",\"\",IF(VLOOKUP($B20,CPPE!$A$2:$BR$177,9,FALSE)<0,VLOOKUP($B20,CPPE!$A$2:$BR$177,9,FALSE),\"\"))","v":""},{"$f":"IF($B20=\"\",\"\",IF(VLOOKUP($B20,CPPE!$A$2:$BR$177,10,FALSE)<0,VLOOKUP($B20,CPPE!$A$2:$BR$177,10,FALSE),\"\"))","v":""},{"$f":"IF($B20=\"\",\"\",IF(VLOOKUP($B20,CPPE!$A$2:$BR$177,11,FALSE)<0,VLOOKUP($B20,CPPE!$A$2:$BR$177,11,FALSE),\"\"))","v":""},{"$f":"IF($B20=\"\",\"\",IF(VLOOKUP($B20,CPPE!$A$2:$BR$177,12,FALSE)<0,VLOOKUP($B20,CPPE!$A$2:$BR$177,12,FALSE),\"\"))","v":""},{"$f":"IF($B20=\"\",\"\",IF(VLOOKUP($B20,CPPE!$A$2:$BR$177,13,FALSE)<0,VLOOKUP($B20,CPPE!$A$2:$BR$177,13,FALSE),\"\"))","v":""},{"$f":"IF($B20=\"\",\"\",IF(VLOOKUP($B20,CPPE!$A$2:$BR$177,14,FALSE)<0,VLOOKUP($B20,CPPE!$A$2:$BR$177,14,FALSE),\"\"))","v":""},{"$f":"IF($B20=\"\",\"\",IF(VLOOKUP($B20,CPPE!$A$2:$BR$177,15,FALSE)<0,VLOOKUP($B20,CPPE!$A$2:$BR$177,15,FALSE),\"\"))","v":""},{"$f":"IF($B20=\"\",\"\",IF(VLOOKUP($B20,CPPE!$A$2:$BR$177,16,FALSE)<0,VLOOKUP($B20,CPPE!$A$2:$BR$177,16,FALSE),\"\"))","v":""},{"$f":"IF($B20=\"\",\"\",IF(VLOOKUP($B20,CPPE!$A$2:$BR$177,17,FALSE)<0,VLOOKUP($B20,CPPE!$A$2:$BR$177,17,FALSE),\"\"))","v":""},{"$f":"IF($B20=\"\",\"\",IF(VLOOKUP($B20,CPPE!$A$2:$BR$177,18,FALSE)<0,VLOOKUP($B20,CPPE!$A$2:$BR$177,18,FALSE),\"\"))","v":""},{"$f":"IF($B20=\"\",\"\",IF(VLOOKUP($B20,CPPE!$A$2:$BR$177,19,FALSE)<0,VLOOKUP($B20,CPPE!$A$2:$BR$177,19,FALSE),\"\"))","v":""},{"$f":"IF($B20=\"\",\"\",IF(VLOOKUP($B20,CPPE!$A$2:$BR$177,20,FALSE)<0,VLOOKUP($B20,CPPE!$A$2:$BR$177,20,FALSE),\"\"))","v":""},{"$f":"IF($B20=\"\",\"\",IF(VLOOKUP($B20,CPPE!$A$2:$BR$177,21,FALSE)<0,VLOOKUP($B20,CPPE!$A$2:$BR$177,21,FALSE),\"\"))","v":""},{"$f":"IF($B20=\"\",\"\",IF(VLOOKUP($B20,CPPE!$A$2:$BR$177,22,FALSE)<0,VLOOKUP($B20,CPPE!$A$2:$BR$177,22,FALSE),\"\"))","v":""},{"$f":"IF($B20=\"\",\"\",IF(VLOOKUP($B20,CPPE!$A$2:$BR$177,23,FALSE)<0,VLOOKUP($B20,CPPE!$A$2:$BR$177,23,FALSE),\"\"))","v":""},{"$f":"IF($B20=\"\",\"\",IF(VLOOKUP($B20,CPPE!$A$2:$BR$177,24,FALSE)<0,VLOOKUP($B20,CPPE!$A$2:$BR$177,24,FALSE),\"\"))","v":""},{"$f":"IF($B20=\"\",\"\",IF(VLOOKUP($B20,CPPE!$A$2:$BR$177,25,FALSE)<0,VLOOKUP($B20,CPPE!$A$2:$BR$177,25,FALSE),\"\"))","v":""},{"$f":"IF($B20=\"\",\"\",IF(VLOOKUP($B20,CPPE!$A$2:$BR$177,26,FALSE)<0,VLOOKUP($B20,CPPE!$A$2:$BR$177,26,FALSE),\"\"))","v":""},{"$f":"IF($B20=\"\",\"\",IF(VLOOKUP($B20,CPPE!$A$2:$BR$177,27,FALSE)<0,VLOOKUP($B20,CPPE!$A$2:$BR$177,27,FALSE),\"\"))","v":""},{"$f":"IF($B20=\"\",\"\",IF(VLOOKUP($B20,CPPE!$A$2:$BR$177,28,FALSE)<0,VLOOKUP($B20,CPPE!$A$2:$BR$177,28,FALSE),\"\"))","v":""},{"$f":"IF($B20=\"\",\"\",IF(VLOOKUP($B20,CPPE!$A$2:$BR$177,29,FALSE)<0,VLOOKUP($B20,CPPE!$A$2:$BR$177,29,FALSE),\"\"))","v":""},{"$f":"IF($B20=\"\",\"\",IF(VLOOKUP($B20,CPPE!$A$2:$BR$177,30,FALSE)<0,VLOOKUP($B20,CPPE!$A$2:$BR$177,30,FALSE),\"\"))","v":""},{"$f":"IF($B20=\"\",\"\",IF(VLOOKUP($B20,CPPE!$A$2:$BR$177,31,FALSE)<0,VLOOKUP($B20,CPPE!$A$2:$BR$177,31,FALSE),\"\"))","v":""},{"$f":"IF($B20=\"\",\"\",IF(VLOOKUP($B20,CPPE!$A$2:$BR$177,32,FALSE)<0,VLOOKUP($B20,CPPE!$A$2:$BR$177,32,FALSE),\"\"))","v":""},{"$f":"IF($B20=\"\",\"\",IF(VLOOKUP($B20,CPPE!$A$2:$BR$177,33,FALSE)<0,VLOOKUP($B20,CPPE!$A$2:$BR$177,33,FALSE),\"\"))","v":""},{"$f":"IF($B20=\"\",\"\",IF(VLOOKUP($B20,CPPE!$A$2:$BR$177,34,FALSE)<0,VLOOKUP($B20,CPPE!$A$2:$BR$177,34,FALSE),\"\"))","v":""},{"$f":"IF($B20=\"\",\"\",IF(VLOOKUP($B20,CPPE!$A$2:$BR$177,35,FALSE)<0,VLOOKUP($B20,CPPE!$A$2:$BR$177,35,FALSE),\"\"))","v":""},{"$f":"IF($B20=\"\",\"\",IF(VLOOKUP($B20,CPPE!$A$2:$BR$177,36,FALSE)<0,VLOOKUP($B20,CPPE!$A$2:$BR$177,36,FALSE),\"\"))","v":""},{"$f":"IF($B20=\"\",\"\",IF(VLOOKUP($B20,CPPE!$A$2:$BR$177,37,FALSE)<0,VLOOKUP($B20,CPPE!$A$2:$BR$177,37,FALSE),\"\"))","v":""},{"$f":"IF($B20=\"\",\"\",IF(VLOOKUP($B20,CPPE!$A$2:$BR$177,38,FALSE)<0,VLOOKUP($B20,CPPE!$A$2:$BR$177,38,FALSE),\"\"))","v":""},{"$f":"IF($B20=\"\",\"\",IF(VLOOKUP($B20,CPPE!$A$2:$BR$177,39,FALSE)<0,VLOOKUP($B20,CPPE!$A$2:$BR$177,39,FALSE),\"\"))","v":""},{"$f":"IF($B20=\"\",\"\",IF(VLOOKUP($B20,CPPE!$A$2:$BR$177,40,FALSE)<0,VLOOKUP($B20,CPPE!$A$2:$BR$177,40,FALSE),\"\"))","v":""},{"$f":"IF($B20=\"\",\"\",IF(VLOOKUP($B20,CPPE!$A$2:$BR$177,41,FALSE)<0,VLOOKUP($B20,CPPE!$A$2:$BR$177,41,FALSE),\"\"))","v":""},{"$f":"IF($B20=\"\",\"\",IF(VLOOKUP($B20,CPPE!$A$2:$BR$177,42,FALSE)<0,VLOOKUP($B20,CPPE!$A$2:$BR$177,42,FALSE),\"\"))","v":""},{"$f":"IF($B20=\"\",\"\",IF(VLOOKUP($B20,CPPE!$A$2:$BR$177,43,FALSE)<0,VLOOKUP($B20,CPPE!$A$2:$BR$177,43,FALSE),\"\"))","v":""},{"$f":"IF($B20=\"\",\"\",IF(VLOOKUP($B20,CPPE!$A$2:$BR$177,44,FALSE)<0,VLOOKUP($B20,CPPE!$A$2:$BR$177,44,FALSE),\"\"))","v":""},{"$f":"IF($B20=\"\",\"\",IF(VLOOKUP($B20,CPPE!$A$2:$BR$177,45,FALSE)<0,VLOOKUP($B20,CPPE!$A$2:$BR$177,45,FALSE),\"\"))","v":""},{"$f":"IF($B20=\"\",\"\",IF(VLOOKUP($B20,CPPE!$A$2:$BR$177,46,FALSE)<0,VLOOKUP($B20,CPPE!$A$2:$BR$177,46,FALSE),\"\"))","v":""},{"$f":"IF($B20=\"\",\"\",IF(VLOOKUP($B20,CPPE!$A$2:$BR$177,47,FALSE)<0,VLOOKUP($B20,CPPE!$A$2:$BR$177,47,FALSE),\"\"))","v":""},{"$f":"IF($B20=\"\",\"\",IF(VLOOKUP($B20,CPPE!$A$2:$BR$177,48,FALSE)<0,VLOOKUP($B20,CPPE!$A$2:$BR$177,48,FALSE),\"\"))","v":""},{"$f":"IF($B20=\"\",\"\",IF(VLOOKUP($B20,CPPE!$A$2:$BR$177,49,FALSE)<0,VLOOKUP($B20,CPPE!$A$2:$BR$177,49,FALSE),\"\"))","v":""},{"$f":"IF($B20=\"\",\"\",IF(VLOOKUP($B20,CPPE!$A$2:$BR$177,50,FALSE)<0,VLOOKUP($B20,CPPE!$A$2:$BR$177,50,FALSE),\"\"))","v":""},{"$f":"IF($B20=\"\",\"\",IF(VLOOKUP($B20,CPPE!$A$2:$BR$177,51,FALSE)<0,VLOOKUP($B20,CPPE!$A$2:$BR$177,51,FALSE),\"\"))","v":""},{"$f":"IF($B20=\"\",\"\",IF(VLOOKUP($B20,CPPE!$A$2:$BR$177,52,FALSE)<0,VLOOKUP($B20,CPPE!$A$2:$BR$177,52,FALSE),\"\"))","v":""},{"$f":"IF($B20=\"\",\"\",IF(VLOOKUP($B20,CPPE!$A$2:$BR$177,53,FALSE)<0,VLOOKUP($B20,CPPE!$A$2:$BR$177,53,FALSE),\"\"))","v":""},{"$f":"IF($B20=\"\",\"\",IF(VLOOKUP($B20,CPPE!$A$2:$BR$177,54,FALSE)<0,VLOOKUP($B20,CPPE!$A$2:$BR$177,54,FALSE),\"\"))","v":""},{"$f":"IF($B20=\"\",\"\",IF(VLOOKUP($B20,CPPE!$A$2:$BR$177,55,FALSE)<0,VLOOKUP($B20,CPPE!$A$2:$BR$177,55,FALSE),\"\"))","v":""},{"$f":"IF($B20=\"\",\"\",IF(VLOOKUP($B20,CPPE!$A$2:$BR$177,56,FALSE)<0,VLOOKUP($B20,CPPE!$A$2:$BR$177,56,FALSE),\"\"))","v":""},{"$f":"IF($B20=\"\",\"\",IF(VLOOKUP($B20,CPPE!$A$2:$BR$177,57,FALSE)<0,VLOOKUP($B20,CPPE!$A$2:$BR$177,57,FALSE),\"\"))","v":""},{"$f":"IF($B20=\"\",\"\",IF(VLOOKUP($B20,CPPE!$A$2:$BR$177,58,FALSE)<0,VLOOKUP($B20,CPPE!$A$2:$BR$177,58,FALSE),\"\"))","v":""},{"$f":"IF($B20=\"\",\"\",IF(VLOOKUP($B20,CPPE!$A$2:$BR$177,59,FALSE)<0,VLOOKUP($B20,CPPE!$A$2:$BR$177,59,FALSE),\"\"))","v":""}]
[null,{"$f":"IF(Results!B21=\"\",\"\",Results!B21)","v":""},{"$f":"IF($B21=\"\",\"\",IF(VLOOKUP($B21,CPPE!$A$2:$BR$177,2,FALSE)<0,VLOOKUP($B21,CPPE!$A$2:$BR$177,2,FALSE),\"\"))","v":""},{"$f":"IF($B21=\"\",\"\",IF(VLOOKUP($B21,CPPE!$A$2:$BR$177,3,FALSE)<0,VLOOKUP($B21,CPPE!$A$2:$BR$177,3,FALSE),\"\"))","v":""},{"$f":"IF($B21=\"\",\"\",IF(VLOOKUP($B21,CPPE!$A$2:$BR$177,4,FALSE)<0,VLOOKUP($B21,CPPE!$A$2:$BR$177,4,FALSE),\"\"))","v":""},{"$f":"IF($B21=\"\",\"\",IF(VLOOKUP($B21,CPPE!$A$2:$BR$177,4,FALSE)<0,VLOOKUP($B21,CPPE!$A$2:$BR$177,5,FALSE),\"\"))","v":""},{"$f":"IF($B21=\"\",\"\",IF(VLOOKUP($B21,CPPE!$A$2:$BR$177,5,FALSE)<0,VLOOKUP($B21,CPPE!$A$2:$BR$177,6,FALSE),\"\"))","v":""},{"$f":"IF($B21=\"\",\"\",IF(VLOOKUP($B21,CPPE!$A$2:$BR$177,7,FALSE)<0,VLOOKUP($B21,CPPE!$A$2:$BR$177,7,FALSE),\"\"))","v":""},{"$f":"IF($B21=\"\",\"\",IF(VLOOKUP($B21,CPPE!$A$2:$BR$177,8,FALSE)<0,VLOOKUP($B21,CPPE!$A$2:$BR$177,8,FALSE),\"\"))","v":""},{"$f":"IF($B21=\"\",\"\",IF(VLOOKUP($B21,CPPE!$A$2:$BR$177,9,FALSE)<0,VLOOKUP($B21,CPPE!$A$2:$BR$177,9,FALSE),\"\"))","v":""},{"$f":"IF($B21=\"\",\"\",IF(VLOOKUP($B21,CPPE!$A$2:$BR$177,10,FALSE)<0,VLOOKUP($B21,CPPE!$A$2:$BR$177,10,FALSE),\"\"))","v":""},{"$f":"IF($B21=\"\",\"\",IF(VLOOKUP($B21,CPPE!$A$2:$BR$177,11,FALSE)<0,VLOOKUP($B21,CPPE!$A$2:$BR$177,11,FALSE),\"\"))","v":""},{"$f":"IF($B21=\"\",\"\",IF(VLOOKUP($B21,CPPE!$A$2:$BR$177,12,FALSE)<0,VLOOKUP($B21,CPPE!$A$2:$BR$177,12,FALSE),\"\"))","v":""},{"$f":"IF($B21=\"\",\"\",IF(VLOOKUP($B21,CPPE!$A$2:$BR$177,13,FALSE)<0,VLOOKUP($B21,CPPE!$A$2:$BR$177,13,FALSE),\"\"))","v":""},{"$f":"IF($B21=\"\",\"\",IF(VLOOKUP($B21,CPPE!$A$2:$BR$177,14,FALSE)<0,VLOOKUP($B21,CPPE!$A$2:$BR$177,14,FALSE),\"\"))","v":""},{"$f":"IF($B21=\"\",\"\",IF(VLOOKUP($B21,CPPE!$A$2:$BR$177,15,FALSE)<0,VLOOKUP($B21,CPPE!$A$2:$BR$177,15,FALSE),\"\"))","v":""},{"$f":"IF($B21=\"\",\"\",IF(VLOOKUP($B21,CPPE!$A$2:$BR$177,16,FALSE)<0,VLOOKUP($B21,CPPE!$A$2:$BR$177,16,FALSE),\"\"))","v":""},{"$f":"IF($B21=\"\",\"\",IF(VLOOKUP($B21,CPPE!$A$2:$BR$177,17,FALSE)<0,VLOOKUP($B21,CPPE!$A$2:$BR$177,17,FALSE),\"\"))","v":""},{"$f":"IF($B21=\"\",\"\",IF(VLOOKUP($B21,CPPE!$A$2:$BR$177,18,FALSE)<0,VLOOKUP($B21,CPPE!$A$2:$BR$177,18,FALSE),\"\"))","v":""},{"$f":"IF($B21=\"\",\"\",IF(VLOOKUP($B21,CPPE!$A$2:$BR$177,19,FALSE)<0,VLOOKUP($B21,CPPE!$A$2:$BR$177,19,FALSE),\"\"))","v":""},{"$f":"IF($B21=\"\",\"\",IF(VLOOKUP($B21,CPPE!$A$2:$BR$177,20,FALSE)<0,VLOOKUP($B21,CPPE!$A$2:$BR$177,20,FALSE),\"\"))","v":""},{"$f":"IF($B21=\"\",\"\",IF(VLOOKUP($B21,CPPE!$A$2:$BR$177,21,FALSE)<0,VLOOKUP($B21,CPPE!$A$2:$BR$177,21,FALSE),\"\"))","v":""},{"$f":"IF($B21=\"\",\"\",IF(VLOOKUP($B21,CPPE!$A$2:$BR$177,22,FALSE)<0,VLOOKUP($B21,CPPE!$A$2:$BR$177,22,FALSE),\"\"))","v":""},{"$f":"IF($B21=\"\",\"\",IF(VLOOKUP($B21,CPPE!$A$2:$BR$177,23,FALSE)<0,VLOOKUP($B21,CPPE!$A$2:$BR$177,23,FALSE),\"\"))","v":""},{"$f":"IF($B21=\"\",\"\",IF(VLOOKUP($B21,CPPE!$A$2:$BR$177,24,FALSE)<0,VLOOKUP($B21,CPPE!$A$2:$BR$177,24,FALSE),\"\"))","v":""},{"$f":"IF($B21=\"\",\"\",IF(VLOOKUP($B21,CPPE!$A$2:$BR$177,25,FALSE)<0,VLOOKUP($B21,CPPE!$A$2:$BR$177,25,FALSE),\"\"))","v":""},{"$f":"IF($B21=\"\",\"\",IF(VLOOKUP($B21,CPPE!$A$2:$BR$177,26,FALSE)<0,VLOOKUP($B21,CPPE!$A$2:$BR$177,26,FALSE),\"\"))","v":""},{"$f":"IF($B21=\"\",\"\",IF(VLOOKUP($B21,CPPE!$A$2:$BR$177,27,FALSE)<0,VLOOKUP($B21,CPPE!$A$2:$BR$177,27,FALSE),\"\"))","v":""},{"$f":"IF($B21=\"\",\"\",IF(VLOOKUP($B21,CPPE!$A$2:$BR$177,28,FALSE)<0,VLOOKUP($B21,CPPE!$A$2:$BR$177,28,FALSE),\"\"))","v":""},{"$f":"IF($B21=\"\",\"\",IF(VLOOKUP($B21,CPPE!$A$2:$BR$177,29,FALSE)<0,VLOOKUP($B21,CPPE!$A$2:$BR$177,29,FALSE),\"\"))","v":""},{"$f":"IF($B21=\"\",\"\",IF(VLOOKUP($B21,CPPE!$A$2:$BR$177,30,FALSE)<0,VLOOKUP($B21,CPPE!$A$2:$BR$177,30,FALSE),\"\"))","v":""},{"$f":"IF($B21=\"\",\"\",IF(VLOOKUP($B21,CPPE!$A$2:$BR$177,31,FALSE)<0,VLOOKUP($B21,CPPE!$A$2:$BR$177,31,FALSE),\"\"))","v":""},{"$f":"IF($B21=\"\",\"\",IF(VLOOKUP($B21,CPPE!$A$2:$BR$177,32,FALSE)<0,VLOOKUP($B21,CPPE!$A$2:$BR$177,32,FALSE),\"\"))","v":""},{"$f":"IF($B21=\"\",\"\",IF(VLOOKUP($B21,CPPE!$A$2:$BR$177,33,FALSE)<0,VLOOKUP($B21,CPPE!$A$2:$BR$177,33,FALSE),\"\"))","v":""},{"$f":"IF($B21=\"\",\"\",IF(VLOOKUP($B21,CPPE!$A$2:$BR$177,34,FALSE)<0,VLOOKUP($B21,CPPE!$A$2:$BR$177,34,FALSE),\"\"))","v":""},{"$f":"IF($B21=\"\",\"\",IF(VLOOKUP($B21,CPPE!$A$2:$BR$177,35,FALSE)<0,VLOOKUP($B21,CPPE!$A$2:$BR$177,35,FALSE),\"\"))","v":""},{"$f":"IF($B21=\"\",\"\",IF(VLOOKUP($B21,CPPE!$A$2:$BR$177,36,FALSE)<0,VLOOKUP($B21,CPPE!$A$2:$BR$177,36,FALSE),\"\"))","v":""},{"$f":"IF($B21=\"\",\"\",IF(VLOOKUP($B21,CPPE!$A$2:$BR$177,37,FALSE)<0,VLOOKUP($B21,CPPE!$A$2:$BR$177,37,FALSE),\"\"))","v":""},{"$f":"IF($B21=\"\",\"\",IF(VLOOKUP($B21,CPPE!$A$2:$BR$177,38,FALSE)<0,VLOOKUP($B21,CPPE!$A$2:$BR$177,38,FALSE),\"\"))","v":""},{"$f":"IF($B21=\"\",\"\",IF(VLOOKUP($B21,CPPE!$A$2:$BR$177,39,FALSE)<0,VLOOKUP($B21,CPPE!$A$2:$BR$177,39,FALSE),\"\"))","v":""},{"$f":"IF($B21=\"\",\"\",IF(VLOOKUP($B21,CPPE!$A$2:$BR$177,40,FALSE)<0,VLOOKUP($B21,CPPE!$A$2:$BR$177,40,FALSE),\"\"))","v":""},{"$f":"IF($B21=\"\",\"\",IF(VLOOKUP($B21,CPPE!$A$2:$BR$177,41,FALSE)<0,VLOOKUP($B21,CPPE!$A$2:$BR$177,41,FALSE),\"\"))","v":""},{"$f":"IF($B21=\"\",\"\",IF(VLOOKUP($B21,CPPE!$A$2:$BR$177,42,FALSE)<0,VLOOKUP($B21,CPPE!$A$2:$BR$177,42,FALSE),\"\"))","v":""},{"$f":"IF($B21=\"\",\"\",IF(VLOOKUP($B21,CPPE!$A$2:$BR$177,43,FALSE)<0,VLOOKUP($B21,CPPE!$A$2:$BR$177,43,FALSE),\"\"))","v":""},{"$f":"IF($B21=\"\",\"\",IF(VLOOKUP($B21,CPPE!$A$2:$BR$177,44,FALSE)<0,VLOOKUP($B21,CPPE!$A$2:$BR$177,44,FALSE),\"\"))","v":""},{"$f":"IF($B21=\"\",\"\",IF(VLOOKUP($B21,CPPE!$A$2:$BR$177,45,FALSE)<0,VLOOKUP($B21,CPPE!$A$2:$BR$177,45,FALSE),\"\"))","v":""},{"$f":"IF($B21=\"\",\"\",IF(VLOOKUP($B21,CPPE!$A$2:$BR$177,46,FALSE)<0,VLOOKUP($B21,CPPE!$A$2:$BR$177,46,FALSE),\"\"))","v":""},{"$f":"IF($B21=\"\",\"\",IF(VLOOKUP($B21,CPPE!$A$2:$BR$177,47,FALSE)<0,VLOOKUP($B21,CPPE!$A$2:$BR$177,47,FALSE),\"\"))","v":""},{"$f":"IF($B21=\"\",\"\",IF(VLOOKUP($B21,CPPE!$A$2:$BR$177,48,FALSE)<0,VLOOKUP($B21,CPPE!$A$2:$BR$177,48,FALSE),\"\"))","v":""},{"$f":"IF($B21=\"\",\"\",IF(VLOOKUP($B21,CPPE!$A$2:$BR$177,49,FALSE)<0,VLOOKUP($B21,CPPE!$A$2:$BR$177,49,FALSE),\"\"))","v":""},{"$f":"IF($B21=\"\",\"\",IF(VLOOKUP($B21,CPPE!$A$2:$BR$177,50,FALSE)<0,VLOOKUP($B21,CPPE!$A$2:$BR$177,50,FALSE),\"\"))","v":""},{"$f":"IF($B21=\"\",\"\",IF(VLOOKUP($B21,CPPE!$A$2:$BR$177,51,FALSE)<0,VLOOKUP($B21,CPPE!$A$2:$BR$177,51,FALSE),\"\"))","v":""},{"$f":"IF($B21=\"\",\"\",IF(VLOOKUP($B21,CPPE!$A$2:$BR$177,52,FALSE)<0,VLOOKUP($B21,CPPE!$A$2:$BR$177,52,FALSE),\"\"))","v":""},{"$f":"IF($B21=\"\",\"\",IF(VLOOKUP($B21,CPPE!$A$2:$BR$177,53,FALSE)<0,VLOOKUP($B21,CPPE!$A$2:$BR$177,53,FALSE),\"\"))","v":""},{"$f":"IF($B21=\"\",\"\",IF(VLOOKUP($B21,CPPE!$A$2:$BR$177,54,FALSE)<0,VLOOKUP($B21,CPPE!$A$2:$BR$177,54,FALSE),\"\"))","v":""},{"$f":"IF($B21=\"\",\"\",IF(VLOOKUP($B21,CPPE!$A$2:$BR$177,55,FALSE)<0,VLOOKUP($B21,CPPE!$A$2:$BR$177,55,FALSE),\"\"))","v":""},{"$f":"IF($B21=\"\",\"\",IF(VLOOKUP($B21,CPPE!$A$2:$BR$177,56,FALSE)<0,VLOOKUP($B21,CPPE!$A$2:$BR$177,56,FALSE),\"\"))","v":""},{"$f":"IF($B21=\"\",\"\",IF(VLOOKUP($B21,CPPE!$A$2:$BR$177,57,FALSE)<0,VLOOKUP($B21,CPPE!$A$2:$BR$177,57,FALSE),\"\"))","v":""},{"$f":"IF($B21=\"\",\"\",IF(VLOOKUP($B21,CPPE!$A$2:$BR$177,58,FALSE)<0,VLOOKUP($B21,CPPE!$A$2:$BR$177,58,FALSE),\"\"))","v":""},{"$f":"IF($B21=\"\",\"\",IF(VLOOKUP($B21,CPPE!$A$2:$BR$177,59,FALSE)<0,VLOOKUP($B21,CPPE!$A$2:$BR$177,59,FALSE),\"\"))","v":""}]
[null,{"$f":"IF(Results!B22=\"\",\"\",Results!B22)","v":""},{"$f":"IF($B22=\"\",\"\",IF(VLOOKUP($B22,CPPE!$A$2:$BR$177,2,FALSE)<0,VLOOKUP($B22,CPPE!$A$2:$BR$177,2,FALSE),\"\"))","v":""},{"$f":"IF($B22=\"\",\"\",IF(VLOOKUP($B22,CPPE!$A$2:$BR$177,3,FALSE)<0,VLOOKUP($B22,CPPE!$A$2:$BR$177,3,FALSE),\"\"))","v":""},{"$f":"IF($B22=\"\",\"\",IF(VLOOKUP($B22,CPPE!$A$2:$BR$177,4,FALSE)<0,VLOOKUP($B22,CPPE!$A$2:$BR$177,4,FALSE),\"\"))","v":""},{"$f":"IF($B22=\"\",\"\",IF(VLOOKUP($B22,CPPE!$A$2:$BR$177,4,FALSE)<0,VLOOKUP($B22,CPPE!$A$2:$BR$177,5,FALSE),\"\"))","v":""},{"$f":"IF($B22=\"\",\"\",IF(VLOOKUP($B22,CPPE!$A$2:$BR$177,5,FALSE)<0,VLOOKUP($B22,CPPE!$A$2:$BR$177,6,FALSE),\"\"))","v":""},{"$f":"IF($B22=\"\",\"\",IF(VLOOKUP($B22,CPPE!$A$2:$BR$177,7,FALSE)<0,VLOOKUP($B22,CPPE!$A$2:$BR$177,7,FALSE),\"\"))","v":""},{"$f":"IF($B22=\"\",\"\",IF(VLOOKUP($B22,CPPE!$A$2:$BR$177,8,FALSE)<0,VLOOKUP($B22,CPPE!$A$2:$BR$177,8,FALSE),\"\"))","v":""},{"$f":"IF($B22=\"\",\"\",IF(VLOOKUP($B22,CPPE!$A$2:$BR$177,9,FALSE)<0,VLOOKUP($B22,CPPE!$A$2:$BR$177,9,FALSE),\"\"))","v":""},{"$f":"IF($B22=\"\",\"\",IF(VLOOKUP($B22,CPPE!$A$2:$BR$177,10,FALSE)<0,VLOOKUP($B22,CPPE!$A$2:$BR$177,10,FALSE),\"\"))","v":""},{"$f":"IF($B22=\"\",\"\",IF(VLOOKUP($B22,CPPE!$A$2:$BR$177,11,FALSE)<0,VLOOKUP($B22,CPPE!$A$2:$BR$177,11,FALSE),\"\"))","v":""},{"$f":"IF($B22=\"\",\"\",IF(VLOOKUP($B22,CPPE!$A$2:$BR$177,12,FALSE)<0,VLOOKUP($B22,CPPE!$A$2:$BR$177,12,FALSE),\"\"))","v":""},{"$f":"IF($B22=\"\",\"\",IF(VLOOKUP($B22,CPPE!$A$2:$BR$177,13,FALSE)<0,VLOOKUP($B22,CPPE!$A$2:$BR$177,13,FALSE),\"\"))","v":""},{"$f":"IF($B22=\"\",\"\",IF(VLOOKUP($B22,CPPE!$A$2:$BR$177,14,FALSE)<0,VLOOKUP($B22,CPPE!$A$2:$BR$177,14,FALSE),\"\"))","v":""},{"$f":"IF($B22=\"\",\"\",IF(VLOOKUP($B22,CPPE!$A$2:$BR$177,15,FALSE)<0,VLOOKUP($B22,CPPE!$A$2:$BR$177,15,FALSE),\"\"))","v":""},{"$f":"IF($B22=\"\",\"\",IF(VLOOKUP($B22,CPPE!$A$2:$BR$177,16,FALSE)<0,VLOOKUP($B22,CPPE!$A$2:$BR$177,16,FALSE),\"\"))","v":""},{"$f":"IF($B22=\"\",\"\",IF(VLOOKUP($B22,CPPE!$A$2:$BR$177,17,FALSE)<0,VLOOKUP($B22,CPPE!$A$2:$BR$177,17,FALSE),\"\"))","v":""},{"$f":"IF($B22=\"\",\"\",IF(VLOOKUP($B22,CPPE!$A$2:$BR$177,18,FALSE)<0,VLOOKUP($B22,CPPE!$A$2:$BR$177,18,FALSE),\"\"))","v":""},{"$f":"IF($B22=\"\",\"\",IF(VLOOKUP($B22,CPPE!$A$2:$BR$177,19,FALSE)<0,VLOOKUP($B22,CPPE!$A$2:$BR$177,19,FALSE),\"\"))","v":""},{"$f":"IF($B22=\"\",\"\",IF(VLOOKUP($B22,CPPE!$A$2:$BR$177,20,FALSE)<0,VLOOKUP($B22,CPPE!$A$2:$BR$177,20,FALSE),\"\"))","v":""},{"$f":"IF($B22=\"\",\"\",IF(VLOOKUP($B22,CPPE!$A$2:$BR$177,21,FALSE)<0,VLOOKUP($B22,CPPE!$A$2:$BR$177,21,FALSE),\"\"))","v":""},{"$f":"IF($B22=\"\",\"\",IF(VLOOKUP($B22,CPPE!$A$2:$BR$177,22,FALSE)<0,VLOOKUP($B22,CPPE!$A$2:$BR$177,22,FALSE),\"\"))","v":""},{"$f":"IF($B22=\"\",\"\",IF(VLOOKUP($B22,CPPE!$A$2:$BR$177,23,FALSE)<0,VLOOKUP($B22,CPPE!$A$2:$BR$177,23,FALSE),\"\"))","v":""},{"$f":"IF($B22=\"\",\"\",IF(VLOOKUP($B22,CPPE!$A$2:$BR$177,24,FALSE)<0,VLOOKUP($B22,CPPE!$A$2:$BR$177,24,FALSE),\"\"))","v":""},{"$f":"IF($B22=\"\",\"\",IF(VLOOKUP($B22,CPPE!$A$2:$BR$177,25,FALSE)<0,VLOOKUP($B22,CPPE!$A$2:$BR$177,25,FALSE),\"\"))","v":""},{"$f":"IF($B22=\"\",\"\",IF(VLOOKUP($B22,CPPE!$A$2:$BR$177,26,FALSE)<0,VLOOKUP($B22,CPPE!$A$2:$BR$177,26,FALSE),\"\"))","v":""},{"$f":"IF($B22=\"\",\"\",IF(VLOOKUP($B22,CPPE!$A$2:$BR$177,27,FALSE)<0,VLOOKUP($B22,CPPE!$A$2:$BR$177,27,FALSE),\"\"))","v":""},{"$f":"IF($B22=\"\",\"\",IF(VLOOKUP($B22,CPPE!$A$2:$BR$177,28,FALSE)<0,VLOOKUP($B22,CPPE!$A$2:$BR$177,28,FALSE),\"\"))","v":""},{"$f":"IF($B22=\"\",\"\",IF(VLOOKUP($B22,CPPE!$A$2:$BR$177,29,FALSE)<0,VLOOKUP($B22,CPPE!$A$2:$BR$177,29,FALSE),\"\"))","v":""},{"$f":"IF($B22=\"\",\"\",IF(VLOOKUP($B22,CPPE!$A$2:$BR$177,30,FALSE)<0,VLOOKUP($B22,CPPE!$A$2:$BR$177,30,FALSE),\"\"))","v":""},{"$f":"IF($B22=\"\",\"\",IF(VLOOKUP($B22,CPPE!$A$2:$BR$177,31,FALSE)<0,VLOOKUP($B22,CPPE!$A$2:$BR$177,31,FALSE),\"\"))","v":""},{"$f":"IF($B22=\"\",\"\",IF(VLOOKUP($B22,CPPE!$A$2:$BR$177,32,FALSE)<0,VLOOKUP($B22,CPPE!$A$2:$BR$177,32,FALSE),\"\"))","v":""},{"$f":"IF($B22=\"\",\"\",IF(VLOOKUP($B22,CPPE!$A$2:$BR$177,33,FALSE)<0,VLOOKUP($B22,CPPE!$A$2:$BR$177,33,FALSE),\"\"))","v":""},{"$f":"IF($B22=\"\",\"\",IF(VLOOKUP($B22,CPPE!$A$2:$BR$177,34,FALSE)<0,VLOOKUP($B22,CPPE!$A$2:$BR$177,34,FALSE),\"\"))","v":""},{"$f":"IF($B22=\"\",\"\",IF(VLOOKUP($B22,CPPE!$A$2:$BR$177,35,FALSE)<0,VLOOKUP($B22,CPPE!$A$2:$BR$177,35,FALSE),\"\"))","v":""},{"$f":"IF($B22=\"\",\"\",IF(VLOOKUP($B22,CPPE!$A$2:$BR$177,36,FALSE)<0,VLOOKUP($B22,CPPE!$A$2:$BR$177,36,FALSE),\"\"))","v":""},{"$f":"IF($B22=\"\",\"\",IF(VLOOKUP($B22,CPPE!$A$2:$BR$177,37,FALSE)<0,VLOOKUP($B22,CPPE!$A$2:$BR$177,37,FALSE),\"\"))","v":""},{"$f":"IF($B22=\"\",\"\",IF(VLOOKUP($B22,CPPE!$A$2:$BR$177,38,FALSE)<0,VLOOKUP($B22,CPPE!$A$2:$BR$177,38,FALSE),\"\"))","v":""},{"$f":"IF($B22=\"\",\"\",IF(VLOOKUP($B22,CPPE!$A$2:$BR$177,39,FALSE)<0,VLOOKUP($B22,CPPE!$A$2:$BR$177,39,FALSE),\"\"))","v":""},{"$f":"IF($B22=\"\",\"\",IF(VLOOKUP($B22,CPPE!$A$2:$BR$177,40,FALSE)<0,VLOOKUP($B22,CPPE!$A$2:$BR$177,40,FALSE),\"\"))","v":""},{"$f":"IF($B22=\"\",\"\",IF(VLOOKUP($B22,CPPE!$A$2:$BR$177,41,FALSE)<0,VLOOKUP($B22,CPPE!$A$2:$BR$177,41,FALSE),\"\"))","v":""},{"$f":"IF($B22=\"\",\"\",IF(VLOOKUP($B22,CPPE!$A$2:$BR$177,42,FALSE)<0,VLOOKUP($B22,CPPE!$A$2:$BR$177,42,FALSE),\"\"))","v":""},{"$f":"IF($B22=\"\",\"\",IF(VLOOKUP($B22,CPPE!$A$2:$BR$177,43,FALSE)<0,VLOOKUP($B22,CPPE!$A$2:$BR$177,43,FALSE),\"\"))","v":""},{"$f":"IF($B22=\"\",\"\",IF(VLOOKUP($B22,CPPE!$A$2:$BR$177,44,FALSE)<0,VLOOKUP($B22,CPPE!$A$2:$BR$177,44,FALSE),\"\"))","v":""},{"$f":"IF($B22=\"\",\"\",IF(VLOOKUP($B22,CPPE!$A$2:$BR$177,45,FALSE)<0,VLOOKUP($B22,CPPE!$A$2:$BR$177,45,FALSE),\"\"))","v":""},{"$f":"IF($B22=\"\",\"\",IF(VLOOKUP($B22,CPPE!$A$2:$BR$177,46,FALSE)<0,VLOOKUP($B22,CPPE!$A$2:$BR$177,46,FALSE),\"\"))","v":""},{"$f":"IF($B22=\"\",\"\",IF(VLOOKUP($B22,CPPE!$A$2:$BR$177,47,FALSE)<0,VLOOKUP($B22,CPPE!$A$2:$BR$177,47,FALSE),\"\"))","v":""},{"$f":"IF($B22=\"\",\"\",IF(VLOOKUP($B22,CPPE!$A$2:$BR$177,48,FALSE)<0,VLOOKUP($B22,CPPE!$A$2:$BR$177,48,FALSE),\"\"))","v":""},{"$f":"IF($B22=\"\",\"\",IF(VLOOKUP($B22,CPPE!$A$2:$BR$177,49,FALSE)<0,VLOOKUP($B22,CPPE!$A$2:$BR$177,49,FALSE),\"\"))","v":""},{"$f":"IF($B22=\"\",\"\",IF(VLOOKUP($B22,CPPE!$A$2:$BR$177,50,FALSE)<0,VLOOKUP($B22,CPPE!$A$2:$BR$177,50,FALSE),\"\"))","v":""},{"$f":"IF($B22=\"\",\"\",IF(VLOOKUP($B22,CPPE!$A$2:$BR$177,51,FALSE)<0,VLOOKUP($B22,CPPE!$A$2:$BR$177,51,FALSE),\"\"))","v":""},{"$f":"IF($B22=\"\",\"\",IF(VLOOKUP($B22,CPPE!$A$2:$BR$177,52,FALSE)<0,VLOOKUP($B22,CPPE!$A$2:$BR$177,52,FALSE),\"\"))","v":""},{"$f":"IF($B22=\"\",\"\",IF(VLOOKUP($B22,CPPE!$A$2:$BR$177,53,FALSE)<0,VLOOKUP($B22,CPPE!$A$2:$BR$177,53,FALSE),\"\"))","v":""},{"$f":"IF($B22=\"\",\"\",IF(VLOOKUP($B22,CPPE!$A$2:$BR$177,54,FALSE)<0,VLOOKUP($B22,CPPE!$A$2:$BR$177,54,FALSE),\"\"))","v":""},{"$f":"IF($B22=\"\",\"\",IF(VLOOKUP($B22,CPPE!$A$2:$BR$177,55,FALSE)<0,VLOOKUP($B22,CPPE!$A$2:$BR$177,55,FALSE),\"\"))","v":""},{"$f":"IF($B22=\"\",\"\",IF(VLOOKUP($B22,CPPE!$A$2:$BR$177,56,FALSE)<0,VLOOKUP($B22,CPPE!$A$2:$BR$177,56,FALSE),\"\"))","v":""},{"$f":"IF($B22=\"\",\"\",IF(VLOOKUP($B22,CPPE!$A$2:$BR$177,57,FALSE)<0,VLOOKUP($B22,CPPE!$A$2:$BR$177,57,FALSE),\"\"))","v":""},{"$f":"IF($B22=\"\",\"\",IF(VLOOKUP($B22,CPPE!$A$2:$BR$177,58,FALSE)<0,VLOOKUP($B22,CPPE!$A$2:$BR$177,58,FALSE),\"\"))","v":""},{"$f":"IF($B22=\"\",\"\",IF(VLOOKUP($B22,CPPE!$A$2:$BR$177,59,FALSE)<0,VLOOKUP($B22,CPPE!$A$2:$BR$177,59,FALSE),\"\"))","v":""}]
[null,{"$f":"IF(Results!B23=\"\",\"\",Results!B23)","v":""},{"$f":"IF($B23=\"\",\"\",IF(VLOOKUP($B23,CPPE!$A$2:$BR$177,2,FALSE)<0,VLOOKUP($B23,CPPE!$A$2:$BR$177,2,FALSE),\"\"))","v":""},{"$f":"IF($B23=\"\",\"\",IF(VLOOKUP($B23,CPPE!$A$2:$BR$177,3,FALSE)<0,VLOOKUP($B23,CPPE!$A$2:$BR$177,3,FALSE),\"\"))","v":""},{"$f":"IF($B23=\"\",\"\",IF(VLOOKUP($B23,CPPE!$A$2:$BR$177,4,FALSE)<0,VLOOKUP($B23,CPPE!$A$2:$BR$177,4,FALSE),\"\"))","v":""},{"$f":"IF($B23=\"\",\"\",IF(VLOOKUP($B23,CPPE!$A$2:$BR$177,4,FALSE)<0,VLOOKUP($B23,CPPE!$A$2:$BR$177,5,FALSE),\"\"))","v":""},{"$f":"IF($B23=\"\",\"\",IF(VLOOKUP($B23,CPPE!$A$2:$BR$177,5,FALSE)<0,VLOOKUP($B23,CPPE!$A$2:$BR$177,6,FALSE),\"\"))","v":""},{"$f":"IF($B23=\"\",\"\",IF(VLOOKUP($B23,CPPE!$A$2:$BR$177,7,FALSE)<0,VLOOKUP($B23,CPPE!$A$2:$BR$177,7,FALSE),\"\"))","v":""},{"$f":"IF($B23=\"\",\"\",IF(VLOOKUP($B23,CPPE!$A$2:$BR$177,8,FALSE)<0,VLOOKUP($B23,CPPE!$A$2:$BR$177,8,FALSE),\"\"))","v":""},{"$f":"IF($B23=\"\",\"\",IF(VLOOKUP($B23,CPPE!$A$2:$BR$177,9,FALSE)<0,VLOOKUP($B23,CPPE!$A$2:$BR$177,9,FALSE),\"\"))","v":""},{"$f":"IF($B23=\"\",\"\",IF(VLOOKUP($B23,CPPE!$A$2:$BR$177,10,FALSE)<0,VLOOKUP($B23,CPPE!$A$2:$BR$177,10,FALSE),\"\"))","v":""},{"$f":"IF($B23=\"\",\"\",IF(VLOOKUP($B23,CPPE!$A$2:$BR$177,11,FALSE)<0,VLOOKUP($B23,CPPE!$A$2:$BR$177,11,FALSE),\"\"))","v":""},{"$f":"IF($B23=\"\",\"\",IF(VLOOKUP($B23,CPPE!$A$2:$BR$177,12,FALSE)<0,VLOOKUP($B23,CPPE!$A$2:$BR$177,12,FALSE),\"\"))","v":""},{"$f":"IF($B23=\"\",\"\",IF(VLOOKUP($B23,CPPE!$A$2:$BR$177,13,FALSE)<0,VLOOKUP($B23,CPPE!$A$2:$BR$177,13,FALSE),\"\"))","v":""},{"$f":"IF($B23=\"\",\"\",IF(VLOOKUP($B23,CPPE!$A$2:$BR$177,14,FALSE)<0,VLOOKUP($B23,CPPE!$A$2:$BR$177,14,FALSE),\"\"))","v":""},{"$f":"IF($B23=\"\",\"\",IF(VLOOKUP($B23,CPPE!$A$2:$BR$177,15,FALSE)<0,VLOOKUP($B23,CPPE!$A$2:$BR$177,15,FALSE),\"\"))","v":""},{"$f":"IF($B23=\"\",\"\",IF(VLOOKUP($B23,CPPE!$A$2:$BR$177,16,FALSE)<0,VLOOKUP($B23,CPPE!$A$2:$BR$177,16,FALSE),\"\"))","v":""},{"$f":"IF($B23=\"\",\"\",IF(VLOOKUP($B23,CPPE!$A$2:$BR$177,17,FALSE)<0,VLOOKUP($B23,CPPE!$A$2:$BR$177,17,FALSE),\"\"))","v":""},{"$f":"IF($B23=\"\",\"\",IF(VLOOKUP($B23,CPPE!$A$2:$BR$177,18,FALSE)<0,VLOOKUP($B23,CPPE!$A$2:$BR$177,18,FALSE),\"\"))","v":""},{"$f":"IF($B23=\"\",\"\",IF(VLOOKUP($B23,CPPE!$A$2:$BR$177,19,FALSE)<0,VLOOKUP($B23,CPPE!$A$2:$BR$177,19,FALSE),\"\"))","v":""},{"$f":"IF($B23=\"\",\"\",IF(VLOOKUP($B23,CPPE!$A$2:$BR$177,20,FALSE)<0,VLOOKUP($B23,CPPE!$A$2:$BR$177,20,FALSE),\"\"))","v":""},{"$f":"IF($B23=\"\",\"\",IF(VLOOKUP($B23,CPPE!$A$2:$BR$177,21,FALSE)<0,VLOOKUP($B23,CPPE!$A$2:$BR$177,21,FALSE),\"\"))","v":""},{"$f":"IF($B23=\"\",\"\",IF(VLOOKUP($B23,CPPE!$A$2:$BR$177,22,FALSE)<0,VLOOKUP($B23,CPPE!$A$2:$BR$177,22,FALSE),\"\"))","v":""},{"$f":"IF($B23=\"\",\"\",IF(VLOOKUP($B23,CPPE!$A$2:$BR$177,23,FALSE)<0,VLOOKUP($B23,CPPE!$A$2:$BR$177,23,FALSE),\"\"))","v":""},{"$f":"IF($B23=\"\",\"\",IF(VLOOKUP($B23,CPPE!$A$2:$BR$177,24,FALSE)<0,VLOOKUP($B23,CPPE!$A$2:$BR$177,24,FALSE),\"\"))","v":""},{"$f":"IF($B23=\"\",\"\",IF(VLOOKUP($B23,CPPE!$A$2:$BR$177,25,FALSE)<0,VLOOKUP($B23,CPPE!$A$2:$BR$177,25,FALSE),\"\"))","v":""},{"$f":"IF($B23=\"\",\"\",IF(VLOOKUP($B23,CPPE!$A$2:$BR$177,26,FALSE)<0,VLOOKUP($B23,CPPE!$A$2:$BR$177,26,FALSE),\"\"))","v":""},{"$f":"IF($B23=\"\",\"\",IF(VLOOKUP($B23,CPPE!$A$2:$BR$177,27,FALSE)<0,VLOOKUP($B23,CPPE!$A$2:$BR$177,27,FALSE),\"\"))","v":""},{"$f":"IF($B23=\"\",\"\",IF(VLOOKUP($B23,CPPE!$A$2:$BR$177,28,FALSE)<0,VLOOKUP($B23,CPPE!$A$2:$BR$177,28,FALSE),\"\"))","v":""},{"$f":"IF($B23=\"\",\"\",IF(VLOOKUP($B23,CPPE!$A$2:$BR$177,29,FALSE)<0,VLOOKUP($B23,CPPE!$A$2:$BR$177,29,FALSE),\"\"))","v":""},{"$f":"IF($B23=\"\",\"\",IF(VLOOKUP($B23,CPPE!$A$2:$BR$177,30,FALSE)<0,VLOOKUP($B23,CPPE!$A$2:$BR$177,30,FALSE),\"\"))","v":""},{"$f":"IF($B23=\"\",\"\",IF(VLOOKUP($B23,CPPE!$A$2:$BR$177,31,FALSE)<0,VLOOKUP($B23,CPPE!$A$2:$BR$177,31,FALSE),\"\"))","v":""},{"$f":"IF($B23=\"\",\"\",IF(VLOOKUP($B23,CPPE!$A$2:$BR$177,32,FALSE)<0,VLOOKUP($B23,CPPE!$A$2:$BR$177,32,FALSE),\"\"))","v":""},{"$f":"IF($B23=\"\",\"\",IF(VLOOKUP($B23,CPPE!$A$2:$BR$177,33,FALSE)<0,VLOOKUP($B23,CPPE!$A$2:$BR$177,33,FALSE),\"\"))","v":""},{"$f":"IF($B23=\"\",\"\",IF(VLOOKUP($B23,CPPE!$A$2:$BR$177,34,FALSE)<0,VLOOKUP($B23,CPPE!$A$2:$BR$177,34,FALSE),\"\"))","v":""},{"$f":"IF($B23=\"\",\"\",IF(VLOOKUP($B23,CPPE!$A$2:$BR$177,35,FALSE)<0,VLOOKUP($B23,CPPE!$A$2:$BR$177,35,FALSE),\"\"))","v":""},{"$f":"IF($B23=\"\",\"\",IF(VLOOKUP($B23,CPPE!$A$2:$BR$177,36,FALSE)<0,VLOOKUP($B23,CPPE!$A$2:$BR$177,36,FALSE),\"\"))","v":""},{"$f":"IF($B23=\"\",\"\",IF(VLOOKUP($B23,CPPE!$A$2:$BR$177,37,FALSE)<0,VLOOKUP($B23,CPPE!$A$2:$BR$177,37,FALSE),\"\"))","v":""},{"$f":"IF($B23=\"\",\"\",IF(VLOOKUP($B23,CPPE!$A$2:$BR$177,38,FALSE)<0,VLOOKUP($B23,CPPE!$A$2:$BR$177,38,FALSE),\"\"))","v":""},{"$f":"IF($B23=\"\",\"\",IF(VLOOKUP($B23,CPPE!$A$2:$BR$177,39,FALSE)<0,VLOOKUP($B23,CPPE!$A$2:$BR$177,39,FALSE),\"\"))","v":""},{"$f":"IF($B23=\"\",\"\",IF(VLOOKUP($B23,CPPE!$A$2:$BR$177,40,FALSE)<0,VLOOKUP($B23,CPPE!$A$2:$BR$177,40,FALSE),\"\"))","v":""},{"$f":"IF($B23=\"\",\"\",IF(VLOOKUP($B23,CPPE!$A$2:$BR$177,41,FALSE)<0,VLOOKUP($B23,CPPE!$A$2:$BR$177,41,FALSE),\"\"))","v":""},{"$f":"IF($B23=\"\",\"\",IF(VLOOKUP($B23,CPPE!$A$2:$BR$177,42,FALSE)<0,VLOOKUP($B23,CPPE!$A$2:$BR$177,42,FALSE),\"\"))","v":""},{"$f":"IF($B23=\"\",\"\",IF(VLOOKUP($B23,CPPE!$A$2:$BR$177,43,FALSE)<0,VLOOKUP($B23,CPPE!$A$2:$BR$177,43,FALSE),\"\"))","v":""},{"$f":"IF($B23=\"\",\"\",IF(VLOOKUP($B23,CPPE!$A$2:$BR$177,44,FALSE)<0,VLOOKUP($B23,CPPE!$A$2:$BR$177,44,FALSE),\"\"))","v":""},{"$f":"IF($B23=\"\",\"\",IF(VLOOKUP($B23,CPPE!$A$2:$BR$177,45,FALSE)<0,VLOOKUP($B23,CPPE!$A$2:$BR$177,45,FALSE),\"\"))","v":""},{"$f":"IF($B23=\"\",\"\",IF(VLOOKUP($B23,CPPE!$A$2:$BR$177,46,FALSE)<0,VLOOKUP($B23,CPPE!$A$2:$BR$177,46,FALSE),\"\"))","v":""},{"$f":"IF($B23=\"\",\"\",IF(VLOOKUP($B23,CPPE!$A$2:$BR$177,47,FALSE)<0,VLOOKUP($B23,CPPE!$A$2:$BR$177,47,FALSE),\"\"))","v":""},{"$f":"IF($B23=\"\",\"\",IF(VLOOKUP($B23,CPPE!$A$2:$BR$177,48,FALSE)<0,VLOOKUP($B23,CPPE!$A$2:$BR$177,48,FALSE),\"\"))","v":""},{"$f":"IF($B23=\"\",\"\",IF(VLOOKUP($B23,CPPE!$A$2:$BR$177,49,FALSE)<0,VLOOKUP($B23,CPPE!$A$2:$BR$177,49,FALSE),\"\"))","v":""},{"$f":"IF($B23=\"\",\"\",IF(VLOOKUP($B23,CPPE!$A$2:$BR$177,50,FALSE)<0,VLOOKUP($B23,CPPE!$A$2:$BR$177,50,FALSE),\"\"))","v":""},{"$f":"IF($B23=\"\",\"\",IF(VLOOKUP($B23,CPPE!$A$2:$BR$177,51,FALSE)<0,VLOOKUP($B23,CPPE!$A$2:$BR$177,51,FALSE),\"\"))","v":""},{"$f":"IF($B23=\"\",\"\",IF(VLOOKUP($B23,CPPE!$A$2:$BR$177,52,FALSE)<0,VLOOKUP($B23,CPPE!$A$2:$BR$177,52,FALSE),\"\"))","v":""},{"$f":"IF($B23=\"\",\"\",IF(VLOOKUP($B23,CPPE!$A$2:$BR$177,53,FALSE)<0,VLOOKUP($B23,CPPE!$A$2:$BR$177,53,FALSE),\"\"))","v":""},{"$f":"IF($B23=\"\",\"\",IF(VLOOKUP($B23,CPPE!$A$2:$BR$177,54,FALSE)<0,VLOOKUP($B23,CPPE!$A$2:$BR$177,54,FALSE),\"\"))","v":""},{"$f":"IF($B23=\"\",\"\",IF(VLOOKUP($B23,CPPE!$A$2:$BR$177,55,FALSE)<0,VLOOKUP($B23,CPPE!$A$2:$BR$177,55,FALSE),\"\"))","v":""},{"$f":"IF($B23=\"\",\"\",IF(VLOOKUP($B23,CPPE!$A$2:$BR$177,56,FALSE)<0,VLOOKUP($B23,CPPE!$A$2:$BR$177,56,FALSE),\"\"))","v":""},{"$f":"IF($B23=\"\",\"\",IF(VLOOKUP($B23,CPPE!$A$2:$BR$177,57,FALSE)<0,VLOOKUP($B23,CPPE!$A$2:$BR$177,57,FALSE),\"\"))","v":""},{"$f":"IF($B23=\"\",\"\",IF(VLOOKUP($B23,CPPE!$A$2:$BR$177,58,FALSE)<0,VLOOKUP($B23,CPPE!$A$2:$BR$177,58,FALSE),\"\"))","v":""},{"$f":"IF($B23=\"\",\"\",IF(VLOOKUP($B23,CPPE!$A$2:$BR$177,59,FALSE)<0,VLOOKUP($B23,CPPE!$A$2:$BR$177,59,FALSE),\"\"))","v":""}]
[null,{"$f":"IF(Results!B24=\"\",\"\",Results!B24)","v":""},{"$f":"IF($B24=\"\",\"\",IF(VLOOKUP($B24,CPPE!$A$2:$BR$177,2,FALSE)<0,VLOOKUP($B24,CPPE!$A$2:$BR$177,2,FALSE),\"\"))","v":""},{"$f":"IF($B24=\"\",\"\",IF(VLOOKUP($B24,CPPE!$A$2:$BR$177,3,FALSE)<0,VLOOKUP($B24,CPPE!$A$2:$BR$177,3,FALSE),\"\"))","v":""},{"$f":"IF($B24=\"\",\"\",IF(VLOOKUP($B24,CPPE!$A$2:$BR$177,4,FALSE)<0,VLOOKUP($B24,CPPE!$A$2:$BR$177,4,FALSE),\"\"))","v":""},{"$f":"IF($B24=\"\",\"\",IF(VLOOKUP($B24,CPPE!$A$2:$BR$177,4,FALSE)<0,VLOOKUP($B24,CPPE!$A$2:$BR$177,5,FALSE),\"\"))","v":""},{"$f":"IF($B24=\"\",\"\",IF(VLOOKUP($B24,CPPE!$A$2:$BR$177,5,FALSE)<0,VLOOKUP($B24,CPPE!$A$2:$BR$177,6,FALSE),\"\"))","v":""},{"$f":"IF($B24=\"\",\"\",IF(VLOOKUP($B24,CPPE!$A$2:$BR$177,7,FALSE)<0,VLOOKUP($B24,CPPE!$A$2:$BR$177,7,FALSE),\"\"))","v":""},{"$f":"IF($B24=\"\",\"\",IF(VLOOKUP($B24,CPPE!$A$2:$BR$177,8,FALSE)<0,VLOOKUP($B24,CPPE!$A$2:$BR$177,8,FALSE),\"\"))","v":""},{"$f":"IF($B24=\"\",\"\",IF(VLOOKUP($B24,CPPE!$A$2:$BR$177,9,FALSE)<0,VLOOKUP($B24,CPPE!$A$2:$BR$177,9,FALSE),\"\"))","v":""},{"$f":"IF($B24=\"\",\"\",IF(VLOOKUP($B24,CPPE!$A$2:$BR$177,10,FALSE)<0,VLOOKUP($B24,CPPE!$A$2:$BR$177,10,FALSE),\"\"))","v":""},{"$f":"IF($B24=\"\",\"\",IF(VLOOKUP($B24,CPPE!$A$2:$BR$177,11,FALSE)<0,VLOOKUP($B24,CPPE!$A$2:$BR$177,11,FALSE),\"\"))","v":""},{"$f":"IF($B24=\"\",\"\",IF(VLOOKUP($B24,CPPE!$A$2:$BR$177,12,FALSE)<0,VLOOKUP($B24,CPPE!$A$2:$BR$177,12,FALSE),\"\"))","v":""},{"$f":"IF($B24=\"\",\"\",IF(VLOOKUP($B24,CPPE!$A$2:$BR$177,13,FALSE)<0,VLOOKUP($B24,CPPE!$A$2:$BR$177,13,FALSE),\"\"))","v":""},{"$f":"IF($B24=\"\",\"\",IF(VLOOKUP($B24,CPPE!$A$2:$BR$177,14,FALSE)<0,VLOOKUP($B24,CPPE!$A$2:$BR$177,14,FALSE),\"\"))","v":""},{"$f":"IF($B24=\"\",\"\",IF(VLOOKUP($B24,CPPE!$A$2:$BR$177,15,FALSE)<0,VLOOKUP($B24,CPPE!$A$2:$BR$177,15,FALSE),\"\"))","v":""},{"$f":"IF($B24=\"\",\"\",IF(VLOOKUP($B24,CPPE!$A$2:$BR$177,16,FALSE)<0,VLOOKUP($B24,CPPE!$A$2:$BR$177,16,FALSE),\"\"))","v":""},{"$f":"IF($B24=\"\",\"\",IF(VLOOKUP($B24,CPPE!$A$2:$BR$177,17,FALSE)<0,VLOOKUP($B24,CPPE!$A$2:$BR$177,17,FALSE),\"\"))","v":""},{"$f":"IF($B24=\"\",\"\",IF(VLOOKUP($B24,CPPE!$A$2:$BR$177,18,FALSE)<0,VLOOKUP($B24,CPPE!$A$2:$BR$177,18,FALSE),\"\"))","v":""},{"$f":"IF($B24=\"\",\"\",IF(VLOOKUP($B24,CPPE!$A$2:$BR$177,19,FALSE)<0,VLOOKUP($B24,CPPE!$A$2:$BR$177,19,FALSE),\"\"))","v":""},{"$f":"IF($B24=\"\",\"\",IF(VLOOKUP($B24,CPPE!$A$2:$BR$177,20,FALSE)<0,VLOOKUP($B24,CPPE!$A$2:$BR$177,20,FALSE),\"\"))","v":""},{"$f":"IF($B24=\"\",\"\",IF(VLOOKUP($B24,CPPE!$A$2:$BR$177,21,FALSE)<0,VLOOKUP($B24,CPPE!$A$2:$BR$177,21,FALSE),\"\"))","v":""},{"$f":"IF($B24=\"\",\"\",IF(VLOOKUP($B24,CPPE!$A$2:$BR$177,22,FALSE)<0,VLOOKUP($B24,CPPE!$A$2:$BR$177,22,FALSE),\"\"))","v":""},{"$f":"IF($B24=\"\",\"\",IF(VLOOKUP($B24,CPPE!$A$2:$BR$177,23,FALSE)<0,VLOOKUP($B24,CPPE!$A$2:$BR$177,23,FALSE),\"\"))","v":""},{"$f":"IF($B24=\"\",\"\",IF(VLOOKUP($B24,CPPE!$A$2:$BR$177,24,FALSE)<0,VLOOKUP($B24,CPPE!$A$2:$BR$177,24,FALSE),\"\"))","v":""},{"$f":"IF($B24=\"\",\"\",IF(VLOOKUP($B24,CPPE!$A$2:$BR$177,25,FALSE)<0,VLOOKUP($B24,CPPE!$A$2:$BR$177,25,FALSE),\"\"))","v":""},{"$f":"IF($B24=\"\",\"\",IF(VLOOKUP($B24,CPPE!$A$2:$BR$177,26,FALSE)<0,VLOOKUP($B24,CPPE!$A$2:$BR$177,26,FALSE),\"\"))","v":""},{"$f":"IF($B24=\"\",\"\",IF(VLOOKUP($B24,CPPE!$A$2:$BR$177,27,FALSE)<0,VLOOKUP($B24,CPPE!$A$2:$BR$177,27,FALSE),\"\"))","v":""},{"$f":"IF($B24=\"\",\"\",IF(VLOOKUP($B24,CPPE!$A$2:$BR$177,28,FALSE)<0,VLOOKUP($B24,CPPE!$A$2:$BR$177,28,FALSE),\"\"))","v":""},{"$f":"IF($B24=\"\",\"\",IF(VLOOKUP($B24,CPPE!$A$2:$BR$177,29,FALSE)<0,VLOOKUP($B24,CPPE!$A$2:$BR$177,29,FALSE),\"\"))","v":""},{"$f":"IF($B24=\"\",\"\",IF(VLOOKUP($B24,CPPE!$A$2:$BR$177,30,FALSE)<0,VLOOKUP($B24,CPPE!$A$2:$BR$177,30,FALSE),\"\"))","v":""},{"$f":"IF($B24=\"\",\"\",IF(VLOOKUP($B24,CPPE!$A$2:$BR$177,31,FALSE)<0,VLOOKUP($B24,CPPE!$A$2:$BR$177,31,FALSE),\"\"))","v":""},{"$f":"IF($B24=\"\",\"\",IF(VLOOKUP($B24,CPPE!$A$2:$BR$177,32,FALSE)<0,VLOOKUP($B24,CPPE!$A$2:$BR$177,32,FALSE),\"\"))","v":""},{"$f":"IF($B24=\"\",\"\",IF(VLOOKUP($B24,CPPE!$A$2:$BR$177,33,FALSE)<0,VLOOKUP($B24,CPPE!$A$2:$BR$177,33,FALSE),\"\"))","v":""},{"$f":"IF($B24=\"\",\"\",IF(VLOOKUP($B24,CPPE!$A$2:$BR$177,34,FALSE)<0,VLOOKUP($B24,CPPE!$A$2:$BR$177,34,FALSE),\"\"))","v":""},{"$f":"IF($B24=\"\",\"\",IF(VLOOKUP($B24,CPPE!$A$2:$BR$177,35,FALSE)<0,VLOOKUP($B24,CPPE!$A$2:$BR$177,35,FALSE),\"\"))","v":""},{"$f":"IF($B24=\"\",\"\",IF(VLOOKUP($B24,CPPE!$A$2:$BR$177,36,FALSE)<0,VLOOKUP($B24,CPPE!$A$2:$BR$177,36,FALSE),\"\"))","v":""},{"$f":"IF($B24=\"\",\"\",IF(VLOOKUP($B24,CPPE!$A$2:$BR$177,37,FALSE)<0,VLOOKUP($B24,CPPE!$A$2:$BR$177,37,FALSE),\"\"))","v":""},{"$f":"IF($B24=\"\",\"\",IF(VLOOKUP($B24,CPPE!$A$2:$BR$177,38,FALSE)<0,VLOOKUP($B24,CPPE!$A$2:$BR$177,38,FALSE),\"\"))","v":""},{"$f":"IF($B24=\"\",\"\",IF(VLOOKUP($B24,CPPE!$A$2:$BR$177,39,FALSE)<0,VLOOKUP($B24,CPPE!$A$2:$BR$177,39,FALSE),\"\"))","v":""},{"$f":"IF($B24=\"\",\"\",IF(VLOOKUP($B24,CPPE!$A$2:$BR$177,40,FALSE)<0,VLOOKUP($B24,CPPE!$A$2:$BR$177,40,FALSE),\"\"))","v":""},{"$f":"IF($B24=\"\",\"\",IF(VLOOKUP($B24,CPPE!$A$2:$BR$177,41,FALSE)<0,VLOOKUP($B24,CPPE!$A$2:$BR$177,41,FALSE),\"\"))","v":""},{"$f":"IF($B24=\"\",\"\",IF(VLOOKUP($B24,CPPE!$A$2:$BR$177,42,FALSE)<0,VLOOKUP($B24,CPPE!$A$2:$BR$177,42,FALSE),\"\"))","v":""},{"$f":"IF($B24=\"\",\"\",IF(VLOOKUP($B24,CPPE!$A$2:$BR$177,43,FALSE)<0,VLOOKUP($B24,CPPE!$A$2:$BR$177,43,FALSE),\"\"))","v":""},{"$f":"IF($B24=\"\",\"\",IF(VLOOKUP($B24,CPPE!$A$2:$BR$177,44,FALSE)<0,VLOOKUP($B24,CPPE!$A$2:$BR$177,44,FALSE),\"\"))","v":""},{"$f":"IF($B24=\"\",\"\",IF(VLOOKUP($B24,CPPE!$A$2:$BR$177,45,FALSE)<0,VLOOKUP($B24,CPPE!$A$2:$BR$177,45,FALSE),\"\"))","v":""},{"$f":"IF($B24=\"\",\"\",IF(VLOOKUP($B24,CPPE!$A$2:$BR$177,46,FALSE)<0,VLOOKUP($B24,CPPE!$A$2:$BR$177,46,FALSE),\"\"))","v":""},{"$f":"IF($B24=\"\",\"\",IF(VLOOKUP($B24,CPPE!$A$2:$BR$177,47,FALSE)<0,VLOOKUP($B24,CPPE!$A$2:$BR$177,47,FALSE),\"\"))","v":""},{"$f":"IF($B24=\"\",\"\",IF(VLOOKUP($B24,CPPE!$A$2:$BR$177,48,FALSE)<0,VLOOKUP($B24,CPPE!$A$2:$BR$177,48,FALSE),\"\"))","v":""},{"$f":"IF($B24=\"\",\"\",IF(VLOOKUP($B24,CPPE!$A$2:$BR$177,49,FALSE)<0,VLOOKUP($B24,CPPE!$A$2:$BR$177,49,FALSE),\"\"))","v":""},{"$f":"IF($B24=\"\",\"\",IF(VLOOKUP($B24,CPPE!$A$2:$BR$177,50,FALSE)<0,VLOOKUP($B24,CPPE!$A$2:$BR$177,50,FALSE),\"\"))","v":""},{"$f":"IF($B24=\"\",\"\",IF(VLOOKUP($B24,CPPE!$A$2:$BR$177,51,FALSE)<0,VLOOKUP($B24,CPPE!$A$2:$BR$177,51,FALSE),\"\"))","v":""},{"$f":"IF($B24=\"\",\"\",IF(VLOOKUP($B24,CPPE!$A$2:$BR$177,52,FALSE)<0,VLOOKUP($B24,CPPE!$A$2:$BR$177,52,FALSE),\"\"))","v":""},{"$f":"IF($B24=\"\",\"\",IF(VLOOKUP($B24,CPPE!$A$2:$BR$177,53,FALSE)<0,VLOOKUP($B24,CPPE!$A$2:$BR$177,53,FALSE),\"\"))","v":""},{"$f":"IF($B24=\"\",\"\",IF(VLOOKUP($B24,CPPE!$A$2:$BR$177,54,FALSE)<0,VLOOKUP($B24,CPPE!$A$2:$BR$177,54,FALSE),\"\"))","v":""},{"$f":"IF($B24=\"\",\"\",IF(VLOOKUP($B24,CPPE!$A$2:$BR$177,55,FALSE)<0,VLOOKUP($B24,CPPE!$A$2:$BR$177,55,FALSE),\"\"))","v":""},{"$f":"IF($B24=\"\",\"\",IF(VLOOKUP($B24,CPPE!$A$2:$BR$177,56,FALSE)<0,VLOOKUP($B24,CPPE!$A$2:$BR$177,56,FALSE),\"\"))","v":""},{"$f":"IF($B24=\"\",\"\",IF(VLOOKUP($B24,CPPE!$A$2:$BR$177,57,FALSE)<0,VLOOKUP($B24,CPPE!$A$2:$BR$177,57,FALSE),\"\"))","v":""},{"$f":"IF($B24=\"\",\"\",IF(VLOOKUP($B24,CPPE!$A$2:$BR$177,58,FALSE)<0,VLOOKUP($B24,CPPE!$A$2:$BR$177,58,FALSE),\"\"))","v":""},{"$f":"IF($B24=\"\",\"\",IF(VLOOKUP($B24,CPPE!$A$2:$BR$177,59,FALSE)<0,VLOOKUP($B24,CPPE!$A$2:$BR$177,59,FALSE),\"\"))","v":""}]
[null,{"$f":"IF(Results!B25=\"\",\"\",Results!B25)","v":""},{"$f":"IF($B25=\"\",\"\",IF(VLOOKUP($B25,CPPE!$A$2:$BR$177,2,FALSE)<0,VLOOKUP($B25,CPPE!$A$2:$BR$177,2,FALSE),\"\"))","v":""},{"$f":"IF($B25=\"\",\"\",IF(VLOOKUP($B25,CPPE!$A$2:$BR$177,3,FALSE)<0,VLOOKUP($B25,CPPE!$A$2:$BR$177,3,FALSE),\"\"))","v":""},{"$f":"IF($B25=\"\",\"\",IF(VLOOKUP($B25,CPPE!$A$2:$BR$177,4,FALSE)<0,VLOOKUP($B25,CPPE!$A$2:$BR$177,4,FALSE),\"\"))","v":""},{"$f":"IF($B25=\"\",\"\",IF(VLOOKUP($B25,CPPE!$A$2:$BR$177,4,FALSE)<0,VLOOKUP($B25,CPPE!$A$2:$BR$177,5,FALSE),\"\"))","v":""},{"$f":"IF($B25=\"\",\"\",IF(VLOOKUP($B25,CPPE!$A$2:$BR$177,5,FALSE)<0,VLOOKUP($B25,CPPE!$A$2:$BR$177,6,FALSE),\"\"))","v":""},{"$f":"IF($B25=\"\",\"\",IF(VLOOKUP($B25,CPPE!$A$2:$BR$177,7,FALSE)<0,VLOOKUP($B25,CPPE!$A$2:$BR$177,7,FALSE),\"\"))","v":""},{"$f":"IF($B25=\"\",\"\",IF(VLOOKUP($B25,CPPE!$A$2:$BR$177,8,FALSE)<0,VLOOKUP($B25,CPPE!$A$2:$BR$177,8,FALSE),\"\"))","v":""},{"$f":"IF($B25=\"\",\"\",IF(VLOOKUP($B25,CPPE!$A$2:$BR$177,9,FALSE)<0,VLOOKUP($B25,CPPE!$A$2:$BR$177,9,FALSE),\"\"))","v":""},{"$f":"IF($B25=\"\",\"\",IF(VLOOKUP($B25,CPPE!$A$2:$BR$177,10,FALSE)<0,VLOOKUP($B25,CPPE!$A$2:$BR$177,10,FALSE),\"\"))","v":""},{"$f":"IF($B25=\"\",\"\",IF(VLOOKUP($B25,CPPE!$A$2:$BR$177,11,FALSE)<0,VLOOKUP($B25,CPPE!$A$2:$BR$177,11,FALSE),\"\"))","v":""},{"$f":"IF($B25=\"\",\"\",IF(VLOOKUP($B25,CPPE!$A$2:$BR$177,12,FALSE)<0,VLOOKUP($B25,CPPE!$A$2:$BR$177,12,FALSE),\"\"))","v":""},{"$f":"IF($B25=\"\",\"\",IF(VLOOKUP($B25,CPPE!$A$2:$BR$177,13,FALSE)<0,VLOOKUP($B25,CPPE!$A$2:$BR$177,13,FALSE),\"\"))","v":""},{"$f":"IF($B25=\"\",\"\",IF(VLOOKUP($B25,CPPE!$A$2:$BR$177,14,FALSE)<0,VLOOKUP($B25,CPPE!$A$2:$BR$177,14,FALSE),\"\"))","v":""},{"$f":"IF($B25=\"\",\"\",IF(VLOOKUP($B25,CPPE!$A$2:$BR$177,15,FALSE)<0,VLOOKUP($B25,CPPE!$A$2:$BR$177,15,FALSE),\"\"))","v":""},{"$f":"IF($B25=\"\",\"\",IF(VLOOKUP($B25,CPPE!$A$2:$BR$177,16,FALSE)<0,VLOOKUP($B25,CPPE!$A$2:$BR$177,16,FALSE),\"\"))","v":""},{"$f":"IF($B25=\"\",\"\",IF(VLOOKUP($B25,CPPE!$A$2:$BR$177,17,FALSE)<0,VLOOKUP($B25,CPPE!$A$2:$BR$177,17,FALSE),\"\"))","v":""},{"$f":"IF($B25=\"\",\"\",IF(VLOOKUP($B25,CPPE!$A$2:$BR$177,18,FALSE)<0,VLOOKUP($B25,CPPE!$A$2:$BR$177,18,FALSE),\"\"))","v":""},{"$f":"IF($B25=\"\",\"\",IF(VLOOKUP($B25,CPPE!$A$2:$BR$177,19,FALSE)<0,VLOOKUP($B25,CPPE!$A$2:$BR$177,19,FALSE),\"\"))","v":""},{"$f":"IF($B25=\"\",\"\",IF(VLOOKUP($B25,CPPE!$A$2:$BR$177,20,FALSE)<0,VLOOKUP($B25,CPPE!$A$2:$BR$177,20,FALSE),\"\"))","v":""},{"$f":"IF($B25=\"\",\"\",IF(VLOOKUP($B25,CPPE!$A$2:$BR$177,21,FALSE)<0,VLOOKUP($B25,CPPE!$A$2:$BR$177,21,FALSE),\"\"))","v":""},{"$f":"IF($B25=\"\",\"\",IF(VLOOKUP($B25,CPPE!$A$2:$BR$177,22,FALSE)<0,VLOOKUP($B25,CPPE!$A$2:$BR$177,22,FALSE),\"\"))","v":""},{"$f":"IF($B25=\"\",\"\",IF(VLOOKUP($B25,CPPE!$A$2:$BR$177,23,FALSE)<0,VLOOKUP($B25,CPPE!$A$2:$BR$177,23,FALSE),\"\"))","v":""},{"$f":"IF($B25=\"\",\"\",IF(VLOOKUP($B25,CPPE!$A$2:$BR$177,24,FALSE)<0,VLOOKUP($B25,CPPE!$A$2:$BR$177,24,FALSE),\"\"))","v":""},{"$f":"IF($B25=\"\",\"\",IF(VLOOKUP($B25,CPPE!$A$2:$BR$177,25,FALSE)<0,VLOOKUP($B25,CPPE!$A$2:$BR$177,25,FALSE),\"\"))","v":""},{"$f":"IF($B25=\"\",\"\",IF(VLOOKUP($B25,CPPE!$A$2:$BR$177,26,FALSE)<0,VLOOKUP($B25,CPPE!$A$2:$BR$177,26,FALSE),\"\"))","v":""},{"$f":"IF($B25=\"\",\"\",IF(VLOOKUP($B25,CPPE!$A$2:$BR$177,27,FALSE)<0,VLOOKUP($B25,CPPE!$A$2:$BR$177,27,FALSE),\"\"))","v":""},{"$f":"IF($B25=\"\",\"\",IF(VLOOKUP($B25,CPPE!$A$2:$BR$177,28,FALSE)<0,VLOOKUP($B25,CPPE!$A$2:$BR$177,28,FALSE),\"\"))","v":""},{"$f":"IF($B25=\"\",\"\",IF(VLOOKUP($B25,CPPE!$A$2:$BR$177,29,FALSE)<0,VLOOKUP($B25,CPPE!$A$2:$BR$177,29,FALSE),\"\"))","v":""},{"$f":"IF($B25=\"\",\"\",IF(VLOOKUP($B25,CPPE!$A$2:$BR$177,30,FALSE)<0,VLOOKUP($B25,CPPE!$A$2:$BR$177,30,FALSE),\"\"))","v":""},{"$f":"IF($B25=\"\",\"\",IF(VLOOKUP($B25,CPPE!$A$2:$BR$177,31,FALSE)<0,VLOOKUP($B25,CPPE!$A$2:$BR$177,31,FALSE),\"\"))","v":""},{"$f":"IF($B25=\"\",\"\",IF(VLOOKUP($B25,CPPE!$A$2:$BR$177,32,FALSE)<0,VLOOKUP($B25,CPPE!$A$2:$BR$177,32,FALSE),\"\"))","v":""},{"$f":"IF($B25=\"\",\"\",IF(VLOOKUP($B25,CPPE!$A$2:$BR$177,33,FALSE)<0,VLOOKUP($B25,CPPE!$A$2:$BR$177,33,FALSE),\"\"))","v":""},{"$f":"IF($B25=\"\",\"\",IF(VLOOKUP($B25,CPPE!$A$2:$BR$177,34,FALSE)<0,VLOOKUP($B25,CPPE!$A$2:$BR$177,34,FALSE),\"\"))","v":""},{"$f":"IF($B25=\"\",\"\",IF(VLOOKUP($B25,CPPE!$A$2:$BR$177,35,FALSE)<0,VLOOKUP($B25,CPPE!$A$2:$BR$177,35,FALSE),\"\"))","v":""},{"$f":"IF($B25=\"\",\"\",IF(VLOOKUP($B25,CPPE!$A$2:$BR$177,36,FALSE)<0,VLOOKUP($B25,CPPE!$A$2:$BR$177,36,FALSE),\"\"))","v":""},{"$f":"IF($B25=\"\",\"\",IF(VLOOKUP($B25,CPPE!$A$2:$BR$177,37,FALSE)<0,VLOOKUP($B25,CPPE!$A$2:$BR$177,37,FALSE),\"\"))","v":""},{"$f":"IF($B25=\"\",\"\",IF(VLOOKUP($B25,CPPE!$A$2:$BR$177,38,FALSE)<0,VLOOKUP($B25,CPPE!$A$2:$BR$177,38,FALSE),\"\"))","v":""},{"$f":"IF($B25=\"\",\"\",IF(VLOOKUP($B25,CPPE!$A$2:$BR$177,39,FALSE)<0,VLOOKUP($B25,CPPE!$A$2:$BR$177,39,FALSE),\"\"))","v":""},{"$f":"IF($B25=\"\",\"\",IF(VLOOKUP($B25,CPPE!$A$2:$BR$177,40,FALSE)<0,VLOOKUP($B25,CPPE!$A$2:$BR$177,40,FALSE),\"\"))","v":""},{"$f":"IF($B25=\"\",\"\",IF(VLOOKUP($B25,CPPE!$A$2:$BR$177,41,FALSE)<0,VLOOKUP($B25,CPPE!$A$2:$BR$177,41,FALSE),\"\"))","v":""},{"$f":"IF($B25=\"\",\"\",IF(VLOOKUP($B25,CPPE!$A$2:$BR$177,42,FALSE)<0,VLOOKUP($B25,CPPE!$A$2:$BR$177,42,FALSE),\"\"))","v":""},{"$f":"IF($B25=\"\",\"\",IF(VLOOKUP($B25,CPPE!$A$2:$BR$177,43,FALSE)<0,VLOOKUP($B25,CPPE!$A$2:$BR$177,43,FALSE),\"\"))","v":""},{"$f":"IF($B25=\"\",\"\",IF(VLOOKUP($B25,CPPE!$A$2:$BR$177,44,FALSE)<0,VLOOKUP($B25,CPPE!$A$2:$BR$177,44,FALSE),\"\"))","v":""},{"$f":"IF($B25=\"\",\"\",IF(VLOOKUP($B25,CPPE!$A$2:$BR$177,45,FALSE)<0,VLOOKUP($B25,CPPE!$A$2:$BR$177,45,FALSE),\"\"))","v":""},{"$f":"IF($B25=\"\",\"\",IF(VLOOKUP($B25,CPPE!$A$2:$BR$177,46,FALSE)<0,VLOOKUP($B25,CPPE!$A$2:$BR$177,46,FALSE),\"\"))","v":""},{"$f":"IF($B25=\"\",\"\",IF(VLOOKUP($B25,CPPE!$A$2:$BR$177,47,FALSE)<0,VLOOKUP($B25,CPPE!$A$2:$BR$177,47,FALSE),\"\"))","v":""},{"$f":"IF($B25=\"\",\"\",IF(VLOOKUP($B25,CPPE!$A$2:$BR$177,48,FALSE)<0,VLOOKUP($B25,CPPE!$A$2:$BR$177,48,FALSE),\"\"))","v":""},{"$f":"IF($B25=\"\",\"\",IF(VLOOKUP($B25,CPPE!$A$2:$BR$177,49,FALSE)<0,VLOOKUP($B25,CPPE!$A$2:$BR$177,49,FALSE),\"\"))","v":""},{"$f":"IF($B25=\"\",\"\",IF(VLOOKUP($B25,CPPE!$A$2:$BR$177,50,FALSE)<0,VLOOKUP($B25,CPPE!$A$2:$BR$177,50,FALSE),\"\"))","v":""},{"$f":"IF($B25=\"\",\"\",IF(VLOOKUP($B25,CPPE!$A$2:$BR$177,51,FALSE)<0,VLOOKUP($B25,CPPE!$A$2:$BR$177,51,FALSE),\"\"))","v":""},{"$f":"IF($B25=\"\",\"\",IF(VLOOKUP($B25,CPPE!$A$2:$BR$177,52,FALSE)<0,VLOOKUP($B25,CPPE!$A$2:$BR$177,52,FALSE),\"\"))","v":""},{"$f":"IF($B25=\"\",\"\",IF(VLOOKUP($B25,CPPE!$A$2:$BR$177,53,FALSE)<0,VLOOKUP($B25,CPPE!$A$2:$BR$177,53,FALSE),\"\"))","v":""},{"$f":"IF($B25=\"\",\"\",IF(VLOOKUP($B25,CPPE!$A$2:$BR$177,54,FALSE)<0,VLOOKUP($B25,CPPE!$A$2:$BR$177,54,FALSE),\"\"))","v":""},{"$f":"IF($B25=\"\",\"\",IF(VLOOKUP($B25,CPPE!$A$2:$BR$177,55,FALSE)<0,VLOOKUP($B25,CPPE!$A$2:$BR$177,55,FALSE),\"\"))","v":""},{"$f":"IF($B25=\"\",\"\",IF(VLOOKUP($B25,CPPE!$A$2:$BR$177,56,FALSE)<0,VLOOKUP($B25,CPPE!$A$2:$BR$177,56,FALSE),\"\"))","v":""},{"$f":"IF($B25=\"\",\"\",IF(VLOOKUP($B25,CPPE!$A$2:$BR$177,57,FALSE)<0,VLOOKUP($B25,CPPE!$A$2:$BR$177,57,FALSE),\"\"))","v":""},{"$f":"IF($B25=\"\",\"\",IF(VLOOKUP($B25,CPPE!$A$2:$BR$177,58,FALSE)<0,VLOOKUP($B25,CPPE!$A$2:$BR$177,58,FALSE),\"\"))","v":""},{"$f":"IF($B25=\"\",\"\",IF(VLOOKUP($B25,CPPE!$A$2:$BR$177,59,FALSE)<0,VLOOKUP($B25,CPPE!$A$2:$BR$177,59,FALSE),\"\"))","v":""}]
[null,{"$f":"IF(Results!B26=\"\",\"\",Results!B26)","v":""},{"$f":"IF($B26=\"\",\"\",IF(VLOOKUP($B26,CPPE!$A$2:$BR$177,2,FALSE)<0,VLOOKUP($B26,CPPE!$A$2:$BR$177,2,FALSE),\"\"))","v":""},{"$f":"IF($B26=\"\",\"\",IF(VLOOKUP($B26,CPPE!$A$2:$BR$177,3,FALSE)<0,VLOOKUP($B26,CPPE!$A$2:$BR$177,3,FALSE),\"\"))","v":""},{"$f":"IF($B26=\"\",\"\",IF(VLOOKUP($B26,CPPE!$A$2:$BR$177,4,FALSE)<0,VLOOKUP($B26,CPPE!$A$2:$BR$177,4,FALSE),\"\"))","v":""},{"$f":"IF($B26=\"\",\"\",IF(VLOOKUP($B26,CPPE!$A$2:$BR$177,4,FALSE)<0,VLOOKUP($B26,CPPE!$A$2:$BR$177,5,FALSE),\"\"))","v":""},{"$f":"IF($B26=\"\",\"\",IF(VLOOKUP($B26,CPPE!$A$2:$BR$177,5,FALSE)<0,VLOOKUP($B26,CPPE!$A$2:$BR$177,6,FALSE),\"\"))","v":""},{"$f":"IF($B26=\"\",\"\",IF(VLOOKUP($B26,CPPE!$A$2:$BR$177,7,FALSE)<0,VLOOKUP($B26,CPPE!$A$2:$BR$177,7,FALSE),\"\"))","v":""},{"$f":"IF($B26=\"\",\"\",IF(VLOOKUP($B26,CPPE!$A$2:$BR$177,8,FALSE)<0,VLOOKUP($B26,CPPE!$A$2:$BR$177,8,FALSE),\"\"))","v":""},{"$f":"IF($B26=\"\",\"\",IF(VLOOKUP($B26,CPPE!$A$2:$BR$177,9,FALSE)<0,VLOOKUP($B26,CPPE!$A$2:$BR$177,9,FALSE),\"\"))","v":""},{"$f":"IF($B26=\"\",\"\",IF(VLOOKUP($B26,CPPE!$A$2:$BR$177,10,FALSE)<0,VLOOKUP($B26,CPPE!$A$2:$BR$177,10,FALSE),\"\"))","v":""},{"$f":"IF($B26=\"\",\"\",IF(VLOOKUP($B26,CPPE!$A$2:$BR$177,11,FALSE)<0,VLOOKUP($B26,CPPE!$A$2:$BR$177,11,FALSE),\"\"))","v":""},{"$f":"IF($B26=\"\",\"\",IF(VLOOKUP($B26,CPPE!$A$2:$BR$177,12,FALSE)<0,VLOOKUP($B26,CPPE!$A$2:$BR$177,12,FALSE),\"\"))","v":""},{"$f":"IF($B26=\"\",\"\",IF(VLOOKUP($B26,CPPE!$A$2:$BR$177,13,FALSE)<0,VLOOKUP($B26,CPPE!$A$2:$BR$177,13,FALSE),\"\"))","v":""},{"$f":"IF($B26=\"\",\"\",IF(VLOOKUP($B26,CPPE!$A$2:$BR$177,14,FALSE)<0,VLOOKUP($B26,CPPE!$A$2:$BR$177,14,FALSE),\"\"))","v":""},{"$f":"IF($B26=\"\",\"\",IF(VLOOKUP($B26,CPPE!$A$2:$BR$177,15,FALSE)<0,VLOOKUP($B26,CPPE!$A$2:$BR$177,15,FALSE),\"\"))","v":""},{"$f":"IF($B26=\"\",\"\",IF(VLOOKUP($B26,CPPE!$A$2:$BR$177,16,FALSE)<0,VLOOKUP($B26,CPPE!$A$2:$BR$177,16,FALSE),\"\"))","v":""},{"$f":"IF($B26=\"\",\"\",IF(VLOOKUP($B26,CPPE!$A$2:$BR$177,17,FALSE)<0,VLOOKUP($B26,CPPE!$A$2:$BR$177,17,FALSE),\"\"))","v":""},{"$f":"IF($B26=\"\",\"\",IF(VLOOKUP($B26,CPPE!$A$2:$BR$177,18,FALSE)<0,VLOOKUP($B26,CPPE!$A$2:$BR$177,18,FALSE),\"\"))","v":""},{"$f":"IF($B26=\"\",\"\",IF(VLOOKUP($B26,CPPE!$A$2:$BR$177,19,FALSE)<0,VLOOKUP($B26,CPPE!$A$2:$BR$177,19,FALSE),\"\"))","v":""},{"$f":"IF($B26=\"\",\"\",IF(VLOOKUP($B26,CPPE!$A$2:$BR$177,20,FALSE)<0,VLOOKUP($B26,CPPE!$A$2:$BR$177,20,FALSE),\"\"))","v":""},{"$f":"IF($B26=\"\",\"\",IF(VLOOKUP($B26,CPPE!$A$2:$BR$177,21,FALSE)<0,VLOOKUP($B26,CPPE!$A$2:$BR$177,21,FALSE),\"\"))","v":""},{"$f":"IF($B26=\"\",\"\",IF(VLOOKUP($B26,CPPE!$A$2:$BR$177,22,FALSE)<0,VLOOKUP($B26,CPPE!$A$2:$BR$177,22,FALSE),\"\"))","v":""},{"$f":"IF($B26=\"\",\"\",IF(VLOOKUP($B26,CPPE!$A$2:$BR$177,23,FALSE)<0,VLOOKUP($B26,CPPE!$A$2:$BR$177,23,FALSE),\"\"))","v":""},{"$f":"IF($B26=\"\",\"\",IF(VLOOKUP($B26,CPPE!$A$2:$BR$177,24,FALSE)<0,VLOOKUP($B26,CPPE!$A$2:$BR$177,24,FALSE),\"\"))","v":""},{"$f":"IF($B26=\"\",\"\",IF(VLOOKUP($B26,CPPE!$A$2:$BR$177,25,FALSE)<0,VLOOKUP($B26,CPPE!$A$2:$BR$177,25,FALSE),\"\"))","v":""},{"$f":"IF($B26=\"\",\"\",IF(VLOOKUP($B26,CPPE!$A$2:$BR$177,26,FALSE)<0,VLOOKUP($B26,CPPE!$A$2:$BR$177,26,FALSE),\"\"))","v":""},{"$f":"IF($B26=\"\",\"\",IF(VLOOKUP($B26,CPPE!$A$2:$BR$177,27,FALSE)<0,VLOOKUP($B26,CPPE!$A$2:$BR$177,27,FALSE),\"\"))","v":""},{"$f":"IF($B26=\"\",\"\",IF(VLOOKUP($B26,CPPE!$A$2:$BR$177,28,FALSE)<0,VLOOKUP($B26,CPPE!$A$2:$BR$177,28,FALSE),\"\"))","v":""},{"$f":"IF($B26=\"\",\"\",IF(VLOOKUP($B26,CPPE!$A$2:$BR$177,29,FALSE)<0,VLOOKUP($B26,CPPE!$A$2:$BR$177,29,FALSE),\"\"))","v":""},{"$f":"IF($B26=\"\",\"\",IF(VLOOKUP($B26,CPPE!$A$2:$BR$177,30,FALSE)<0,VLOOKUP($B26,CPPE!$A$2:$BR$177,30,FALSE),\"\"))","v":""},{"$f":"IF($B26=\"\",\"\",IF(VLOOKUP($B26,CPPE!$A$2:$BR$177,31,FALSE)<0,VLOOKUP($B26,CPPE!$A$2:$BR$177,31,FALSE),\"\"))","v":""},{"$f":"IF($B26=\"\",\"\",IF(VLOOKUP($B26,CPPE!$A$2:$BR$177,32,FALSE)<0,VLOOKUP($B26,CPPE!$A$2:$BR$177,32,FALSE),\"\"))","v":""},{"$f":"IF($B26=\"\",\"\",IF(VLOOKUP($B26,CPPE!$A$2:$BR$177,33,FALSE)<0,VLOOKUP($B26,CPPE!$A$2:$BR$177,33,FALSE),\"\"))","v":""},{"$f":"IF($B26=\"\",\"\",IF(VLOOKUP($B26,CPPE!$A$2:$BR$177,34,FALSE)<0,VLOOKUP($B26,CPPE!$A$2:$BR$177,34,FALSE),\"\"))","v":""},{"$f":"IF($B26=\"\",\"\",IF(VLOOKUP($B26,CPPE!$A$2:$BR$177,35,FALSE)<0,VLOOKUP($B26,CPPE!$A$2:$BR$177,35,FALSE),\"\"))","v":""},{"$f":"IF($B26=\"\",\"\",IF(VLOOKUP($B26,CPPE!$A$2:$BR$177,36,FALSE)<0,VLOOKUP($B26,CPPE!$A$2:$BR$177,36,FALSE),\"\"))","v":""},{"$f":"IF($B26=\"\",\"\",IF(VLOOKUP($B26,CPPE!$A$2:$BR$177,37,FALSE)<0,VLOOKUP($B26,CPPE!$A$2:$BR$177,37,FALSE),\"\"))","v":""},{"$f":"IF($B26=\"\",\"\",IF(VLOOKUP($B26,CPPE!$A$2:$BR$177,38,FALSE)<0,VLOOKUP($B26,CPPE!$A$2:$BR$177,38,FALSE),\"\"))","v":""},{"$f":"IF($B26=\"\",\"\",IF(VLOOKUP($B26,CPPE!$A$2:$BR$177,39,FALSE)<0,VLOOKUP($B26,CPPE!$A$2:$BR$177,39,FALSE),\"\"))","v":""},{"$f":"IF($B26=\"\",\"\",IF(VLOOKUP($B26,CPPE!$A$2:$BR$177,40,FALSE)<0,VLOOKUP($B26,CPPE!$A$2:$BR$177,40,FALSE),\"\"))","v":""},{"$f":"IF($B26=\"\",\"\",IF(VLOOKUP($B26,CPPE!$A$2:$BR$177,41,FALSE)<0,VLOOKUP($B26,CPPE!$A$2:$BR$177,41,FALSE),\"\"))","v":""},{"$f":"IF($B26=\"\",\"\",IF(VLOOKUP($B26,CPPE!$A$2:$BR$177,42,FALSE)<0,VLOOKUP($B26,CPPE!$A$2:$BR$177,42,FALSE),\"\"))","v":""},{"$f":"IF($B26=\"\",\"\",IF(VLOOKUP($B26,CPPE!$A$2:$BR$177,43,FALSE)<0,VLOOKUP($B26,CPPE!$A$2:$BR$177,43,FALSE),\"\"))","v":""},{"$f":"IF($B26=\"\",\"\",IF(VLOOKUP($B26,CPPE!$A$2:$BR$177,44,FALSE)<0,VLOOKUP($B26,CPPE!$A$2:$BR$177,44,FALSE),\"\"))","v":""},{"$f":"IF($B26=\"\",\"\",IF(VLOOKUP($B26,CPPE!$A$2:$BR$177,45,FALSE)<0,VLOOKUP($B26,CPPE!$A$2:$BR$177,45,FALSE),\"\"))","v":""},{"$f":"IF($B26=\"\",\"\",IF(VLOOKUP($B26,CPPE!$A$2:$BR$177,46,FALSE)<0,VLOOKUP($B26,CPPE!$A$2:$BR$177,46,FALSE),\"\"))","v":""},{"$f":"IF($B26=\"\",\"\",IF(VLOOKUP($B26,CPPE!$A$2:$BR$177,47,FALSE)<0,VLOOKUP($B26,CPPE!$A$2:$BR$177,47,FALSE),\"\"))","v":""},{"$f":"IF($B26=\"\",\"\",IF(VLOOKUP($B26,CPPE!$A$2:$BR$177,48,FALSE)<0,VLOOKUP($B26,CPPE!$A$2:$BR$177,48,FALSE),\"\"))","v":""},{"$f":"IF($B26=\"\",\"\",IF(VLOOKUP($B26,CPPE!$A$2:$BR$177,49,FALSE)<0,VLOOKUP($B26,CPPE!$A$2:$BR$177,49,FALSE),\"\"))","v":""},{"$f":"IF($B26=\"\",\"\",IF(VLOOKUP($B26,CPPE!$A$2:$BR$177,50,FALSE)<0,VLOOKUP($B26,CPPE!$A$2:$BR$177,50,FALSE),\"\"))","v":""},{"$f":"IF($B26=\"\",\"\",IF(VLOOKUP($B26,CPPE!$A$2:$BR$177,51,FALSE)<0,VLOOKUP($B26,CPPE!$A$2:$BR$177,51,FALSE),\"\"))","v":""},{"$f":"IF($B26=\"\",\"\",IF(VLOOKUP($B26,CPPE!$A$2:$BR$177,52,FALSE)<0,VLOOKUP($B26,CPPE!$A$2:$BR$177,52,FALSE),\"\"))","v":""},{"$f":"IF($B26=\"\",\"\",IF(VLOOKUP($B26,CPPE!$A$2:$BR$177,53,FALSE)<0,VLOOKUP($B26,CPPE!$A$2:$BR$177,53,FALSE),\"\"))","v":""},{"$f":"IF($B26=\"\",\"\",IF(VLOOKUP($B26,CPPE!$A$2:$BR$177,54,FALSE)<0,VLOOKUP($B26,CPPE!$A$2:$BR$177,54,FALSE),\"\"))","v":""},{"$f":"IF($B26=\"\",\"\",IF(VLOOKUP($B26,CPPE!$A$2:$BR$177,55,FALSE)<0,VLOOKUP($B26,CPPE!$A$2:$BR$177,55,FALSE),\"\"))","v":""},{"$f":"IF($B26=\"\",\"\",IF(VLOOKUP($B26,CPPE!$A$2:$BR$177,56,FALSE)<0,VLOOKUP($B26,CPPE!$A$2:$BR$177,56,FALSE),\"\"))","v":""},{"$f":"IF($B26=\"\",\"\",IF(VLOOKUP($B26,CPPE!$A$2:$BR$177,57,FALSE)<0,VLOOKUP($B26,CPPE!$A$2:$BR$177,57,FALSE),\"\"))","v":""},{"$f":"IF($B26=\"\",\"\",IF(VLOOKUP($B26,CPPE!$A$2:$BR$177,58,FALSE)<0,VLOOKUP($B26,CPPE!$A$2:$BR$177,58,FALSE),\"\"))","v":""},{"$f":"IF($B26=\"\",\"\",IF(VLOOKUP($B26,CPPE!$A$2:$BR$177,59,FALSE)<0,VLOOKUP($B26,CPPE!$A$2:$BR$177,59,FALSE),\"\"))","v":""}]
[null,{"$f":"IF(Results!B27=\"\",\"\",Results!B27)","v":""},{"$f":"IF($B27=\"\",\"\",IF(VLOOKUP($B27,CPPE!$A$2:$BR$177,2,FALSE)<0,VLOOKUP($B27,CPPE!$A$2:$BR$177,2,FALSE),\"\"))","v":""},{"$f":"IF($B27=\"\",\"\",IF(VLOOKUP($B27,CPPE!$A$2:$BR$177,3,FALSE)<0,VLOOKUP($B27,CPPE!$A$2:$BR$177,3,FALSE),\"\"))","v":""},{"$f":"IF($B27=\"\",\"\",IF(VLOOKUP($B27,CPPE!$A$2:$BR$177,4,FALSE)<0,VLOOKUP($B27,CPPE!$A$2:$BR$177,4,FALSE),\"\"))","v":""},{"$f":"IF($B27=\"\",\"\",IF(VLOOKUP($B27,CPPE!$A$2:$BR$177,4,FALSE)<0,VLOOKUP($B27,CPPE!$A$2:$BR$177,5,FALSE),\"\"))","v":""},{"$f":"IF($B27=\"\",\"\",IF(VLOOKUP($B27,CPPE!$A$2:$BR$177,5,FALSE)<0,VLOOKUP($B27,CPPE!$A$2:$BR$177,6,FALSE),\"\"))","v":""},{"$f":"IF($B27=\"\",\"\",IF(VLOOKUP($B27,CPPE!$A$2:$BR$177,7,FALSE)<0,VLOOKUP($B27,CPPE!$A$2:$BR$177,7,FALSE),\"\"))","v":""},{"$f":"IF($B27=\"\",\"\",IF(VLOOKUP($B27,CPPE!$A$2:$BR$177,8,FALSE)<0,VLOOKUP($B27,CPPE!$A$2:$BR$177,8,FALSE),\"\"))","v":""},{"$f":"IF($B27=\"\",\"\",IF(VLOOKUP($B27,CPPE!$A$2:$BR$177,9,FALSE)<0,VLOOKUP($B27,CPPE!$A$2:$BR$177,9,FALSE),\"\"))","v":""},{"$f":"IF($B27=\"\",\"\",IF(VLOOKUP($B27,CPPE!$A$2:$BR$177,10,FALSE)<0,VLOOKUP($B27,CPPE!$A$2:$BR$177,10,FALSE),\"\"))","v":""},{"$f":"IF($B27=\"\",\"\",IF(VLOOKUP($B27,CPPE!$A$2:$BR$177,11,FALSE)<0,VLOOKUP($B27,CPPE!$A$2:$BR$177,11,FALSE),\"\"))","v":""},{"$f":"IF($B27=\"\",\"\",IF(VLOOKUP($B27,CPPE!$A$2:$BR$177,12,FALSE)<0,VLOOKUP($B27,CPPE!$A$2:$BR$177,12,FALSE),\"\"))","v":""},{"$f":"IF($B27=\"\",\"\",IF(VLOOKUP($B27,CPPE!$A$2:$BR$177,13,FALSE)<0,VLOOKUP($B27,CPPE!$A$2:$BR$177,13,FALSE),\"\"))","v":""},{"$f":"IF($B27=\"\",\"\",IF(VLOOKUP($B27,CPPE!$A$2:$BR$177,14,FALSE)<0,VLOOKUP($B27,CPPE!$A$2:$BR$177,14,FALSE),\"\"))","v":""},{"$f":"IF($B27=\"\",\"\",IF(VLOOKUP($B27,CPPE!$A$2:$BR$177,15,FALSE)<0,VLOOKUP($B27,CPPE!$A$2:$BR$177,15,FALSE),\"\"))","v":""},{"$f":"IF($B27=\"\",\"\",IF(VLOOKUP($B27,CPPE!$A$2:$BR$177,16,FALSE)<0,VLOOKUP($B27,CPPE!$A$2:$BR$177,16,FALSE),\"\"))","v":""},{"$f":"IF($B27=\"\",\"\",IF(VLOOKUP($B27,CPPE!$A$2:$BR$177,17,FALSE)<0,VLOOKUP($B27,CPPE!$A$2:$BR$177,17,FALSE),\"\"))","v":""},{"$f":"IF($B27=\"\",\"\",IF(VLOOKUP($B27,CPPE!$A$2:$BR$177,18,FALSE)<0,VLOOKUP($B27,CPPE!$A$2:$BR$177,18,FALSE),\"\"))","v":""},{"$f":"IF($B27=\"\",\"\",IF(VLOOKUP($B27,CPPE!$A$2:$BR$177,19,FALSE)<0,VLOOKUP($B27,CPPE!$A$2:$BR$177,19,FALSE),\"\"))","v":""},{"$f":"IF($B27=\"\",\"\",IF(VLOOKUP($B27,CPPE!$A$2:$BR$177,20,FALSE)<0,VLOOKUP($B27,CPPE!$A$2:$BR$177,20,FALSE),\"\"))","v":""},{"$f":"IF($B27=\"\",\"\",IF(VLOOKUP($B27,CPPE!$A$2:$BR$177,21,FALSE)<0,VLOOKUP($B27,CPPE!$A$2:$BR$177,21,FALSE),\"\"))","v":""},{"$f":"IF($B27=\"\",\"\",IF(VLOOKUP($B27,CPPE!$A$2:$BR$177,22,FALSE)<0,VLOOKUP($B27,CPPE!$A$2:$BR$177,22,FALSE),\"\"))","v":""},{"$f":"IF($B27=\"\",\"\",IF(VLOOKUP($B27,CPPE!$A$2:$BR$177,23,FALSE)<0,VLOOKUP($B27,CPPE!$A$2:$BR$177,23,FALSE),\"\"))","v":""},{"$f":"IF($B27=\"\",\"\",IF(VLOOKUP($B27,CPPE!$A$2:$BR$177,24,FALSE)<0,VLOOKUP($B27,CPPE!$A$2:$BR$177,24,FALSE),\"\"))","v":""},{"$f":"IF($B27=\"\",\"\",IF(VLOOKUP($B27,CPPE!$A$2:$BR$177,25,FALSE)<0,VLOOKUP($B27,CPPE!$A$2:$BR$177,25,FALSE),\"\"))","v":""},{"$f":"IF($B27=\"\",\"\",IF(VLOOKUP($B27,CPPE!$A$2:$BR$177,26,FALSE)<0,VLOOKUP($B27,CPPE!$A$2:$BR$177,26,FALSE),\"\"))","v":""},{"$f":"IF($B27=\"\",\"\",IF(VLOOKUP($B27,CPPE!$A$2:$BR$177,27,FALSE)<0,VLOOKUP($B27,CPPE!$A$2:$BR$177,27,FALSE),\"\"))","v":""},{"$f":"IF($B27=\"\",\"\",IF(VLOOKUP($B27,CPPE!$A$2:$BR$177,28,FALSE)<0,VLOOKUP($B27,CPPE!$A$2:$BR$177,28,FALSE),\"\"))","v":""},{"$f":"IF($B27=\"\",\"\",IF(VLOOKUP($B27,CPPE!$A$2:$BR$177,29,FALSE)<0,VLOOKUP($B27,CPPE!$A$2:$BR$177,29,FALSE),\"\"))","v":""},{"$f":"IF($B27=\"\",\"\",IF(VLOOKUP($B27,CPPE!$A$2:$BR$177,30,FALSE)<0,VLOOKUP($B27,CPPE!$A$2:$BR$177,30,FALSE),\"\"))","v":""},{"$f":"IF($B27=\"\",\"\",IF(VLOOKUP($B27,CPPE!$A$2:$BR$177,31,FALSE)<0,VLOOKUP($B27,CPPE!$A$2:$BR$177,31,FALSE),\"\"))","v":""},{"$f":"IF($B27=\"\",\"\",IF(VLOOKUP($B27,CPPE!$A$2:$BR$177,32,FALSE)<0,VLOOKUP($B27,CPPE!$A$2:$BR$177,32,FALSE),\"\"))","v":""},{"$f":"IF($B27=\"\",\"\",IF(VLOOKUP($B27,CPPE!$A$2:$BR$177,33,FALSE)<0,VLOOKUP($B27,CPPE!$A$2:$BR$177,33,FALSE),\"\"))","v":""},{"$f":"IF($B27=\"\",\"\",IF(VLOOKUP($B27,CPPE!$A$2:$BR$177,34,FALSE)<0,VLOOKUP($B27,CPPE!$A$2:$BR$177,34,FALSE),\"\"))","v":""},{"$f":"IF($B27=\"\",\"\",IF(VLOOKUP($B27,CPPE!$A$2:$BR$177,35,FALSE)<0,VLOOKUP($B27,CPPE!$A$2:$BR$177,35,FALSE),\"\"))","v":""},{"$f":"IF($B27=\"\",\"\",IF(VLOOKUP($B27,CPPE!$A$2:$BR$177,36,FALSE)<0,VLOOKUP($B27,CPPE!$A$2:$BR$177,36,FALSE),\"\"))","v":""},{"$f":"IF($B27=\"\",\"\",IF(VLOOKUP($B27,CPPE!$A$2:$BR$177,37,FALSE)<0,VLOOKUP($B27,CPPE!$A$2:$BR$177,37,FALSE),\"\"))","v":""},{"$f":"IF($B27=\"\",\"\",IF(VLOOKUP($B27,CPPE!$A$2:$BR$177,38,FALSE)<0,VLOOKUP($B27,CPPE!$A$2:$BR$177,38,FALSE),\"\"))","v":""},{"$f":"IF($B27=\"\",\"\",IF(VLOOKUP($B27,CPPE!$A$2:$BR$177,39,FALSE)<0,VLOOKUP($B27,CPPE!$A$2:$BR$177,39,FALSE),\"\"))","v":""},{"$f":"IF($B27=\"\",\"\",IF(VLOOKUP($B27,CPPE!$A$2:$BR$177,40,FALSE)<0,VLOOKUP($B27,CPPE!$A$2:$BR$177,40,FALSE),\"\"))","v":""},{"$f":"IF($B27=\"\",\"\",IF(VLOOKUP($B27,CPPE!$A$2:$BR$177,41,FALSE)<0,VLOOKUP($B27,CPPE!$A$2:$BR$177,41,FALSE),\"\"))","v":""},{"$f":"IF($B27=\"\",\"\",IF(VLOOKUP($B27,CPPE!$A$2:$BR$177,42,FALSE)<0,VLOOKUP($B27,CPPE!$A$2:$BR$177,42,FALSE),\"\"))","v":""},{"$f":"IF($B27=\"\",\"\",IF(VLOOKUP($B27,CPPE!$A$2:$BR$177,43,FALSE)<0,VLOOKUP($B27,CPPE!$A$2:$BR$177,43,FALSE),\"\"))","v":""},{"$f":"IF($B27=\"\",\"\",IF(VLOOKUP($B27,CPPE!$A$2:$BR$177,44,FALSE)<0,VLOOKUP($B27,CPPE!$A$2:$BR$177,44,FALSE),\"\"))","v":""},{"$f":"IF($B27=\"\",\"\",IF(VLOOKUP($B27,CPPE!$A$2:$BR$177,45,FALSE)<0,VLOOKUP($B27,CPPE!$A$2:$BR$177,45,FALSE),\"\"))","v":""},{"$f":"IF($B27=\"\",\"\",IF(VLOOKUP($B27,CPPE!$A$2:$BR$177,46,FALSE)<0,VLOOKUP($B27,CPPE!$A$2:$BR$177,46,FALSE),\"\"))","v":""},{"$f":"IF($B27=\"\",\"\",IF(VLOOKUP($B27,CPPE!$A$2:$BR$177,47,FALSE)<0,VLOOKUP($B27,CPPE!$A$2:$BR$177,47,FALSE),\"\"))","v":""},{"$f":"IF($B27=\"\",\"\",IF(VLOOKUP($B27,CPPE!$A$2:$BR$177,48,FALSE)<0,VLOOKUP($B27,CPPE!$A$2:$BR$177,48,FALSE),\"\"))","v":""},{"$f":"IF($B27=\"\",\"\",IF(VLOOKUP($B27,CPPE!$A$2:$BR$177,49,FALSE)<0,VLOOKUP($B27,CPPE!$A$2:$BR$177,49,FALSE),\"\"))","v":""},{"$f":"IF($B27=\"\",\"\",IF(VLOOKUP($B27,CPPE!$A$2:$BR$177,50,FALSE)<0,VLOOKUP($B27,CPPE!$A$2:$BR$177,50,FALSE),\"\"))","v":""},{"$f":"IF($B27=\"\",\"\",IF(VLOOKUP($B27,CPPE!$A$2:$BR$177,51,FALSE)<0,VLOOKUP($B27,CPPE!$A$2:$BR$177,51,FALSE),\"\"))","v":""},{"$f":"IF($B27=\"\",\"\",IF(VLOOKUP($B27,CPPE!$A$2:$BR$177,52,FALSE)<0,VLOOKUP($B27,CPPE!$A$2:$BR$177,52,FALSE),\"\"))","v":""},{"$f":"IF($B27=\"\",\"\",IF(VLOOKUP($B27,CPPE!$A$2:$BR$177,53,FALSE)<0,VLOOKUP($B27,CPPE!$A$2:$BR$177,53,FALSE),\"\"))","v":""},{"$f":"IF($B27=\"\",\"\",IF(VLOOKUP($B27,CPPE!$A$2:$BR$177,54,FALSE)<0,VLOOKUP($B27,CPPE!$A$2:$BR$177,54,FALSE),\"\"))","v":""},{"$f":"IF($B27=\"\",\"\",IF(VLOOKUP($B27,CPPE!$A$2:$BR$177,55,FALSE)<0,VLOOKUP($B27,CPPE!$A$2:$BR$177,55,FALSE),\"\"))","v":""},{"$f":"IF($B27=\"\",\"\",IF(VLOOKUP($B27,CPPE!$A$2:$BR$177,56,FALSE)<0,VLOOKUP($B27,CPPE!$A$2:$BR$177,56,FALSE),\"\"))","v":""},{"$f":"IF($B27=\"\",\"\",IF(VLOOKUP($B27,CPPE!$A$2:$BR$177,57,FALSE)<0,VLOOKUP($B27,CPPE!$A$2:$BR$177,57,FALSE),\"\"))","v":""},{"$f":"IF($B27=\"\",\"\",IF(VLOOKUP($B27,CPPE!$A$2:$BR$177,58,FALSE)<0,VLOOKUP($B27,CPPE!$A$2:$BR$177,58,FALSE),\"\"))","v":""},{"$f":"IF($B27=\"\",\"\",IF(VLOOKUP($B27,CPPE!$A$2:$BR$177,59,FALSE)<0,VLOOKUP($B27,CPPE!$A$2:$BR$177,59,FALSE),\"\"))","v":""}]
[null,{"$f":"IF(Results!B28=\"\",\"\",Results!B28)","v":""},{"$f":"IF($B28=\"\",\"\",IF(VLOOKUP($B28,CPPE!$A$2:$BR$177,2,FALSE)<0,VLOOKUP($B28,CPPE!$A$2:$BR$177,2,FALSE),\"\"))","v":""},{"$f":"IF($B28=\"\",\"\",IF(VLOOKUP($B28,CPPE!$A$2:$BR$177,3,FALSE)<0,VLOOKUP($B28,CPPE!$A$2:$BR$177,3,FALSE),\"\"))","v":""},{"$f":"IF($B28=\"\",\"\",IF(VLOOKUP($B28,CPPE!$A$2:$BR$177,4,FALSE)<0,VLOOKUP($B28,CPPE!$A$2:$BR$177,4,FALSE),\"\"))","v":""},{"$f":"IF($B28=\"\",\"\",IF(VLOOKUP($B28,CPPE!$A$2:$BR$177,4,FALSE)<0,VLOOKUP($B28,CPPE!$A$2:$BR$177,5,FALSE),\"\"))","v":""},{"$f":"IF($B28=\"\",\"\",IF(VLOOKUP($B28,CPPE!$A$2:$BR$177,5,FALSE)<0,VLOOKUP($B28,CPPE!$A$2:$BR$177,6,FALSE),\"\"))","v":""},{"$f":"IF($B28=\"\",\"\",IF(VLOOKUP($B28,CPPE!$A$2:$BR$177,7,FALSE)<0,VLOOKUP($B28,CPPE!$A$2:$BR$177,7,FALSE),\"\"))","v":""},{"$f":"IF($B28=\"\",\"\",IF(VLOOKUP($B28,CPPE!$A$2:$BR$177,8,FALSE)<0,VLOOKUP($B28,CPPE!$A$2:$BR$177,8,FALSE),\"\"))","v":""},{"$f":"IF($B28=\"\",\"\",IF(VLOOKUP($B28,CPPE!$A$2:$BR$177,9,FALSE)<0,VLOOKUP($B28,CPPE!$A$2:$BR$177,9,FALSE),\"\"))","v":""},{"$f":"IF($B28=\"\",\"\",IF(VLOOKUP($B28,CPPE!$A$2:$BR$177,10,FALSE)<0,VLOOKUP($B28,CPPE!$A$2:$BR$177,10,FALSE),\"\"))","v":""},{"$f":"IF($B28=\"\",\"\",IF(VLOOKUP($B28,CPPE!$A$2:$BR$177,11,FALSE)<0,VLOOKUP($B28,CPPE!$A$2:$BR$177,11,FALSE),\"\"))","v":""},{"$f":"IF($B28=\"\",\"\",IF(VLOOKUP($B28,CPPE!$A$2:$BR$177,12,FALSE)<0,VLOOKUP($B28,CPPE!$A$2:$BR$177,12,FALSE),\"\"))","v":""},{"$f":"IF($B28=\"\",\"\",IF(VLOOKUP($B28,CPPE!$A$2:$BR$177,13,FALSE)<0,VLOOKUP($B28,CPPE!$A$2:$BR$177,13,FALSE),\"\"))","v":""},{"$f":"IF($B28=\"\",\"\",IF(VLOOKUP($B28,CPPE!$A$2:$BR$177,14,FALSE)<0,VLOOKUP($B28,CPPE!$A$2:$BR$177,14,FALSE),\"\"))","v":""},{"$f":"IF($B28=\"\",\"\",IF(VLOOKUP($B28,CPPE!$A$2:$BR$177,15,FALSE)<0,VLOOKUP($B28,CPPE!$A$2:$BR$177,15,FALSE),\"\"))","v":""},{"$f":"IF($B28=\"\",\"\",IF(VLOOKUP($B28,CPPE!$A$2:$BR$177,16,FALSE)<0,VLOOKUP($B28,CPPE!$A$2:$BR$177,16,FALSE),\"\"))","v":""},{"$f":"IF($B28=\"\",\"\",IF(VLOOKUP($B28,CPPE!$A$2:$BR$177,17,FALSE)<0,VLOOKUP($B28,CPPE!$A$2:$BR$177,17,FALSE),\"\"))","v":""},{"$f":"IF($B28=\"\",\"\",IF(VLOOKUP($B28,CPPE!$A$2:$BR$177,18,FALSE)<0,VLOOKUP($B28,CPPE!$A$2:$BR$177,18,FALSE),\"\"))","v":""},{"$f":"IF($B28=\"\",\"\",IF(VLOOKUP($B28,CPPE!$A$2:$BR$177,19,FALSE)<0,VLOOKUP($B28,CPPE!$A$2:$BR$177,19,FALSE),\"\"))","v":""},{"$f":"IF($B28=\"\",\"\",IF(VLOOKUP($B28,CPPE!$A$2:$BR$177,20,FALSE)<0,VLOOKUP($B28,CPPE!$A$2:$BR$177,20,FALSE),\"\"))","v":""},{"$f":"IF($B28=\"\",\"\",IF(VLOOKUP($B28,CPPE!$A$2:$BR$177,21,FALSE)<0,VLOOKUP($B28,CPPE!$A$2:$BR$177,21,FALSE),\"\"))","v":""},{"$f":"IF($B28=\"\",\"\",IF(VLOOKUP($B28,CPPE!$A$2:$BR$177,22,FALSE)<0,VLOOKUP($B28,CPPE!$A$2:$BR$177,22,FALSE),\"\"))","v":""},{"$f":"IF($B28=\"\",\"\",IF(VLOOKUP($B28,CPPE!$A$2:$BR$177,23,FALSE)<0,VLOOKUP($B28,CPPE!$A$2:$BR$177,23,FALSE),\"\"))","v":""},{"$f":"IF($B28=\"\",\"\",IF(VLOOKUP($B28,CPPE!$A$2:$BR$177,24,FALSE)<0,VLOOKUP($B28,CPPE!$A$2:$BR$177,24,FALSE),\"\"))","v":""},{"$f":"IF($B28=\"\",\"\",IF(VLOOKUP($B28,CPPE!$A$2:$BR$177,25,FALSE)<0,VLOOKUP($B28,CPPE!$A$2:$BR$177,25,FALSE),\"\"))","v":""},{"$f":"IF($B28=\"\",\"\",IF(VLOOKUP($B28,CPPE!$A$2:$BR$177,26,FALSE)<0,VLOOKUP($B28,CPPE!$A$2:$BR$177,26,FALSE),\"\"))","v":""},{"$f":"IF($B28=\"\",\"\",IF(VLOOKUP($B28,CPPE!$A$2:$BR$177,27,FALSE)<0,VLOOKUP($B28,CPPE!$A$2:$BR$177,27,FALSE),\"\"))","v":""},{"$f":"IF($B28=\"\",\"\",IF(VLOOKUP($B28,CPPE!$A$2:$BR$177,28,FALSE)<0,VLOOKUP($B28,CPPE!$A$2:$BR$177,28,FALSE),\"\"))","v":""},{"$f":"IF($B28=\"\",\"\",IF(VLOOKUP($B28,CPPE!$A$2:$BR$177,29,FALSE)<0,VLOOKUP($B28,CPPE!$A$2:$BR$177,29,FALSE),\"\"))","v":""},{"$f":"IF($B28=\"\",\"\",IF(VLOOKUP($B28,CPPE!$A$2:$BR$177,30,FALSE)<0,VLOOKUP($B28,CPPE!$A$2:$BR$177,30,FALSE),\"\"))","v":""},{"$f":"IF($B28=\"\",\"\",IF(VLOOKUP($B28,CPPE!$A$2:$BR$177,31,FALSE)<0,VLOOKUP($B28,CPPE!$A$2:$BR$177,31,FALSE),\"\"))","v":""},{"$f":"IF($B28=\"\",\"\",IF(VLOOKUP($B28,CPPE!$A$2:$BR$177,32,FALSE)<0,VLOOKUP($B28,CPPE!$A$2:$BR$177,32,FALSE),\"\"))","v":""},{"$f":"IF($B28=\"\",\"\",IF(VLOOKUP($B28,CPPE!$A$2:$BR$177,33,FALSE)<0,VLOOKUP($B28,CPPE!$A$2:$BR$177,33,FALSE),\"\"))","v":""},{"$f":"IF($B28=\"\",\"\",IF(VLOOKUP($B28,CPPE!$A$2:$BR$177,34,FALSE)<0,VLOOKUP($B28,CPPE!$A$2:$BR$177,34,FALSE),\"\"))","v":""},{"$f":"IF($B28=\"\",\"\",IF(VLOOKUP($B28,CPPE!$A$2:$BR$177,35,FALSE)<0,VLOOKUP($B28,CPPE!$A$2:$BR$177,35,FALSE),\"\"))","v":""},{"$f":"IF($B28=\"\",\"\",IF(VLOOKUP($B28,CPPE!$A$2:$BR$177,36,FALSE)<0,VLOOKUP($B28,CPPE!$A$2:$BR$177,36,FALSE),\"\"))","v":""},{"$f":"IF($B28=\"\",\"\",IF(VLOOKUP($B28,CPPE!$A$2:$BR$177,37,FALSE)<0,VLOOKUP($B28,CPPE!$A$2:$BR$177,37,FALSE),\"\"))","v":""},{"$f":"IF($B28=\"\",\"\",IF(VLOOKUP($B28,CPPE!$A$2:$BR$177,38,FALSE)<0,VLOOKUP($B28,CPPE!$A$2:$BR$177,38,FALSE),\"\"))","v":""},{"$f":"IF($B28=\"\",\"\",IF(VLOOKUP($B28,CPPE!$A$2:$BR$177,39,FALSE)<0,VLOOKUP($B28,CPPE!$A$2:$BR$177,39,FALSE),\"\"))","v":""},{"$f":"IF($B28=\"\",\"\",IF(VLOOKUP($B28,CPPE!$A$2:$BR$177,40,FALSE)<0,VLOOKUP($B28,CPPE!$A$2:$BR$177,40,FALSE),\"\"))","v":""},{"$f":"IF($B28=\"\",\"\",IF(VLOOKUP($B28,CPPE!$A$2:$BR$177,41,FALSE)<0,VLOOKUP($B28,CPPE!$A$2:$BR$177,41,FALSE),\"\"))","v":""},{"$f":"IF($B28=\"\",\"\",IF(VLOOKUP($B28,CPPE!$A$2:$BR$177,42,FALSE)<0,VLOOKUP($B28,CPPE!$A$2:$BR$177,42,FALSE),\"\"))","v":""},{"$f":"IF($B28=\"\",\"\",IF(VLOOKUP($B28,CPPE!$A$2:$BR$177,43,FALSE)<0,VLOOKUP($B28,CPPE!$A$2:$BR$177,43,FALSE),\"\"))","v":""},{"$f":"IF($B28=\"\",\"\",IF(VLOOKUP($B28,CPPE!$A$2:$BR$177,44,FALSE)<0,VLOOKUP($B28,CPPE!$A$2:$BR$177,44,FALSE),\"\"))","v":""},{"$f":"IF($B28=\"\",\"\",IF(VLOOKUP($B28,CPPE!$A$2:$BR$177,45,FALSE)<0,VLOOKUP($B28,CPPE!$A$2:$BR$177,45,FALSE),\"\"))","v":""},{"$f":"IF($B28=\"\",\"\",IF(VLOOKUP($B28,CPPE!$A$2:$BR$177,46,FALSE)<0,VLOOKUP($B28,CPPE!$A$2:$BR$177,46,FALSE),\"\"))","v":""},{"$f":"IF($B28=\"\",\"\",IF(VLOOKUP($B28,CPPE!$A$2:$BR$177,47,FALSE)<0,VLOOKUP($B28,CPPE!$A$2:$BR$177,47,FALSE),\"\"))","v":""},{"$f":"IF($B28=\"\",\"\",IF(VLOOKUP($B28,CPPE!$A$2:$BR$177,48,FALSE)<0,VLOOKUP($B28,CPPE!$A$2:$BR$177,48,FALSE),\"\"))","v":""},{"$f":"IF($B28=\"\",\"\",IF(VLOOKUP($B28,CPPE!$A$2:$BR$177,49,FALSE)<0,VLOOKUP($B28,CPPE!$A$2:$BR$177,49,FALSE),\"\"))","v":""},{"$f":"IF($B28=\"\",\"\",IF(VLOOKUP($B28,CPPE!$A$2:$BR$177,50,FALSE)<0,VLOOKUP($B28,CPPE!$A$2:$BR$177,50,FALSE),\"\"))","v":""},{"$f":"IF($B28=\"\",\"\",IF(VLOOKUP($B28,CPPE!$A$2:$BR$177,51,FALSE)<0,VLOOKUP($B28,CPPE!$A$2:$BR$177,51,FALSE),\"\"))","v":""},{"$f":"IF($B28=\"\",\"\",IF(VLOOKUP($B28,CPPE!$A$2:$BR$177,52,FALSE)<0,VLOOKUP($B28,CPPE!$A$2:$BR$177,52,FALSE),\"\"))","v":""},{"$f":"IF($B28=\"\",\"\",IF(VLOOKUP($B28,CPPE!$A$2:$BR$177,53,FALSE)<0,VLOOKUP($B28,CPPE!$A$2:$BR$177,53,FALSE),\"\"))","v":""},{"$f":"IF($B28=\"\",\"\",IF(VLOOKUP($B28,CPPE!$A$2:$BR$177,54,FALSE)<0,VLOOKUP($B28,CPPE!$A$2:$BR$177,54,FALSE),\"\"))","v":""},{"$f":"IF($B28=\"\",\"\",IF(VLOOKUP($B28,CPPE!$A$2:$BR$177,55,FALSE)<0,VLOOKUP($B28,CPPE!$A$2:$BR$177,55,FALSE),\"\"))","v":""},{"$f":"IF($B28=\"\",\"\",IF(VLOOKUP($B28,CPPE!$A$2:$BR$177,56,FALSE)<0,VLOOKUP($B28,CPPE!$A$2:$BR$177,56,FALSE),\"\"))","v":""},{"$f":"IF($B28=\"\",\"\",IF(VLOOKUP($B28,CPPE!$A$2:$BR$177,57,FALSE)<0,VLOOKUP($B28,CPPE!$A$2:$BR$177,57,FALSE),\"\"))","v":""},{"$f":"IF($B28=\"\",\"\",IF(VLOOKUP($B28,CPPE!$A$2:$BR$177,58,FALSE)<0,VLOOKUP($B28,CPPE!$A$2:$BR$177,58,FALSE),\"\"))","v":""},{"$f":"IF($B28=\"\",\"\",IF(VLOOKUP($B28,CPPE!$A$2:$BR$177,59,FALSE)<0,VLOOKUP($B28,CPPE!$A$2:$BR$177,59,FALSE),\"\"))","v":""}]
[null,{"$f":"IF(Results!B29=\"\",\"\",Results!B29)","v":""},{"$f":"IF($B29=\"\",\"\",IF(VLOOKUP($B29,CPPE!$A$2:$BR$177,2,FALSE)<0,VLOOKUP($B29,CPPE!$A$2:$BR$177,2,FALSE),\"\"))","v":""},{"$f":"IF($B29=\"\",\"\",IF(VLOOKUP($B29,CPPE!$A$2:$BR$177,3,FALSE)<0,VLOOKUP($B29,CPPE!$A$2:$BR$177,3,FALSE),\"\"))","v":""},{"$f":"IF($B29=\"\",\"\",IF(VLOOKUP($B29,CPPE!$A$2:$BR$177,4,FALSE)<0,VLOOKUP($B29,CPPE!$A$2:$BR$177,4,FALSE),\"\"))","v":""},{"$f":"IF($B29=\"\",\"\",IF(VLOOKUP($B29,CPPE!$A$2:$BR$177,4,FALSE)<0,VLOOKUP($B29,CPPE!$A$2:$BR$177,5,FALSE),\"\"))","v":""},{"$f":"IF($B29=\"\",\"\",IF(VLOOKUP($B29,CPPE!$A$2:$BR$177,5,FALSE)<0,VLOOKUP($B29,CPPE!$A$2:$BR$177,6,FALSE),\"\"))","v":""},{"$f":"IF($B29=\"\",\"\",IF(VLOOKUP($B29,CPPE!$A$2:$BR$177,7,FALSE)<0,VLOOKUP($B29,CPPE!$A$2:$BR$177,7,FALSE),\"\"))","v":""},{"$f":"IF($B29=\"\",\"\",IF(VLOOKUP($B29,CPPE!$A$2:$BR$177,8,FALSE)<0,VLOOKUP($B29,CPPE!$A$2:$BR$177,8,FALSE),\"\"))","v":""},{"$f":"IF($B29=\"\",\"\",IF(VLOOKUP($B29,CPPE!$A$2:$BR$177,9,FALSE)<0,VLOOKUP($B29,CPPE!$A$2:$BR$177,9,FALSE),\"\"))","v":""},{"$f":"IF($B29=\"\",\"\",IF(VLOOKUP($B29,CPPE!$A$2:$BR$177,10,FALSE)<0,VLOOKUP($B29,CPPE!$A$2:$BR$177,10,FALSE),\"\"))","v":""},{"$f":"IF($B29=\"\",\"\",IF(VLOOKUP($B29,CPPE!$A$2:$BR$177,11,FALSE)<0,VLOOKUP($B29,CPPE!$A$2:$BR$177,11,FALSE),\"\"))","v":""},{"$f":"IF($B29=\"\",\"\",IF(VLOOKUP($B29,CPPE!$A$2:$BR$177,12,FALSE)<0,VLOOKUP($B29,CPPE!$A$2:$BR$177,12,FALSE),\"\"))","v":""},{"$f":"IF($B29=\"\",\"\",IF(VLOOKUP($B29,CPPE!$A$2:$BR$177,13,FALSE)<0,VLOOKUP($B29,CPPE!$A$2:$BR$177,13,FALSE),\"\"))","v":""},{"$f":"IF($B29=\"\",\"\",IF(VLOOKUP($B29,CPPE!$A$2:$BR$177,14,FALSE)<0,VLOOKUP($B29,CPPE!$A$2:$BR$177,14,FALSE),\"\"))","v":""},{"$f":"IF($B29=\"\",\"\",IF(VLOOKUP($B29,CPPE!$A$2:$BR$177,15,FALSE)<0,VLOOKUP($B29,CPPE!$A$2:$BR$177,15,FALSE),\"\"))","v":""},{"$f":"IF($B29=\"\",\"\",IF(VLOOKUP($B29,CPPE!$A$2:$BR$177,16,FALSE)<0,VLOOKUP($B29,CPPE!$A$2:$BR$177,16,FALSE),\"\"))","v":""},{"$f":"IF($B29=\"\",\"\",IF(VLOOKUP($B29,CPPE!$A$2:$BR$177,17,FALSE)<0,VLOOKUP($B29,CPPE!$A$2:$BR$177,17,FALSE),\"\"))","v":""},{"$f":"IF($B29=\"\",\"\",IF(VLOOKUP($B29,CPPE!$A$2:$BR$177,18,FALSE)<0,VLOOKUP($B29,CPPE!$A$2:$BR$177,18,FALSE),\"\"))","v":""},{"$f":"IF($B29=\"\",\"\",IF(VLOOKUP($B29,CPPE!$A$2:$BR$177,19,FALSE)<0,VLOOKUP($B29,CPPE!$A$2:$BR$177,19,FALSE),\"\"))","v":""},{"$f":"IF($B29=\"\",\"\",IF(VLOOKUP($B29,CPPE!$A$2:$BR$177,20,FALSE)<0,VLOOKUP($B29,CPPE!$A$2:$BR$177,20,FALSE),\"\"))","v":""},{"$f":"IF($B29=\"\",\"\",IF(VLOOKUP($B29,CPPE!$A$2:$BR$177,21,FALSE)<0,VLOOKUP($B29,CPPE!$A$2:$BR$177,21,FALSE),\"\"))","v":""},{"$f":"IF($B29=\"\",\"\",IF(VLOOKUP($B29,CPPE!$A$2:$BR$177,22,FALSE)<0,VLOOKUP($B29,CPPE!$A$2:$BR$177,22,FALSE),\"\"))","v":""},{"$f":"IF($B29=\"\",\"\",IF(VLOOKUP($B29,CPPE!$A$2:$BR$177,23,FALSE)<0,VLOOKUP($B29,CPPE!$A$2:$BR$177,23,FALSE),\"\"))","v":""},{"$f":"IF($B29=\"\",\"\",IF(VLOOKUP($B29,CPPE!$A$2:$BR$177,24,FALSE)<0,VLOOKUP($B29,CPPE!$A$2:$BR$177,24,FALSE),\"\"))","v":""},{"$f":"IF($B29=\"\",\"\",IF(VLOOKUP($B29,CPPE!$A$2:$BR$177,25,FALSE)<0,VLOOKUP($B29,CPPE!$A$2:$BR$177,25,FALSE),\"\"))","v":""},{"$f":"IF($B29=\"\",\"\",IF(VLOOKUP($B29,CPPE!$A$2:$BR$177,26,FALSE)<0,VLOOKUP($B29,CPPE!$A$2:$BR$177,26,FALSE),\"\"))","v":""},{"$f":"IF($B29=\"\",\"\",IF(VLOOKUP($B29,CPPE!$A$2:$BR$177,27,FALSE)<0,VLOOKUP($B29,CPPE!$A$2:$BR$177,27,FALSE),\"\"))","v":""},{"$f":"IF($B29=\"\",\"\",IF(VLOOKUP($B29,CPPE!$A$2:$BR$177,28,FALSE)<0,VLOOKUP($B29,CPPE!$A$2:$BR$177,28,FALSE),\"\"))","v":""},{"$f":"IF($B29=\"\",\"\",IF(VLOOKUP($B29,CPPE!$A$2:$BR$177,29,FALSE)<0,VLOOKUP($B29,CPPE!$A$2:$BR$177,29,FALSE),\"\"))","v":""},{"$f":"IF($B29=\"\",\"\",IF(VLOOKUP($B29,CPPE!$A$2:$BR$177,30,FALSE)<0,VLOOKUP($B29,CPPE!$A$2:$BR$177,30,FALSE),\"\"))","v":""},{"$f":"IF($B29=\"\",\"\",IF(VLOOKUP($B29,CPPE!$A$2:$BR$177,31,FALSE)<0,VLOOKUP($B29,CPPE!$A$2:$BR$177,31,FALSE),\"\"))","v":""},{"$f":"IF($B29=\"\",\"\",IF(VLOOKUP($B29,CPPE!$A$2:$BR$177,32,FALSE)<0,VLOOKUP($B29,CPPE!$A$2:$BR$177,32,FALSE),\"\"))","v":""},{"$f":"IF($B29=\"\",\"\",IF(VLOOKUP($B29,CPPE!$A$2:$BR$177,33,FALSE)<0,VLOOKUP($B29,CPPE!$A$2:$BR$177,33,FALSE),\"\"))","v":""},{"$f":"IF($B29=\"\",\"\",IF(VLOOKUP($B29,CPPE!$A$2:$BR$177,34,FALSE)<0,VLOOKUP($B29,CPPE!$A$2:$BR$177,34,FALSE),\"\"))","v":""},{"$f":"IF($B29=\"\",\"\",IF(VLOOKUP($B29,CPPE!$A$2:$BR$177,35,FALSE)<0,VLOOKUP($B29,CPPE!$A$2:$BR$177,35,FALSE),\"\"))","v":""},{"$f":"IF($B29=\"\",\"\",IF(VLOOKUP($B29,CPPE!$A$2:$BR$177,36,FALSE)<0,VLOOKUP($B29,CPPE!$A$2:$BR$177,36,FALSE),\"\"))","v":""},{"$f":"IF($B29=\"\",\"\",IF(VLOOKUP($B29,CPPE!$A$2:$BR$177,37,FALSE)<0,VLOOKUP($B29,CPPE!$A$2:$BR$177,37,FALSE),\"\"))","v":""},{"$f":"IF($B29=\"\",\"\",IF(VLOOKUP($B29,CPPE!$A$2:$BR$177,38,FALSE)<0,VLOOKUP($B29,CPPE!$A$2:$BR$177,38,FALSE),\"\"))","v":""},{"$f":"IF($B29=\"\",\"\",IF(VLOOKUP($B29,CPPE!$A$2:$BR$177,39,FALSE)<0,VLOOKUP($B29,CPPE!$A$2:$BR$177,39,FALSE),\"\"))","v":""},{"$f":"IF($B29=\"\",\"\",IF(VLOOKUP($B29,CPPE!$A$2:$BR$177,40,FALSE)<0,VLOOKUP($B29,CPPE!$A$2:$BR$177,40,FALSE),\"\"))","v":""},{"$f":"IF($B29=\"\",\"\",IF(VLOOKUP($B29,CPPE!$A$2:$BR$177,41,FALSE)<0,VLOOKUP($B29,CPPE!$A$2:$BR$177,41,FALSE),\"\"))","v":""},{"$f":"IF($B29=\"\",\"\",IF(VLOOKUP($B29,CPPE!$A$2:$BR$177,42,FALSE)<0,VLOOKUP($B29,CPPE!$A$2:$BR$177,42,FALSE),\"\"))","v":""},{"$f":"IF($B29=\"\",\"\",IF(VLOOKUP($B29,CPPE!$A$2:$BR$177,43,FALSE)<0,VLOOKUP($B29,CPPE!$A$2:$BR$177,43,FALSE),\"\"))","v":""},{"$f":"IF($B29=\"\",\"\",IF(VLOOKUP($B29,CPPE!$A$2:$BR$177,44,FALSE)<0,VLOOKUP($B29,CPPE!$A$2:$BR$177,44,FALSE),\"\"))","v":""},{"$f":"IF($B29=\"\",\"\",IF(VLOOKUP($B29,CPPE!$A$2:$BR$177,45,FALSE)<0,VLOOKUP($B29,CPPE!$A$2:$BR$177,45,FALSE),\"\"))","v":""},{"$f":"IF($B29=\"\",\"\",IF(VLOOKUP($B29,CPPE!$A$2:$BR$177,46,FALSE)<0,VLOOKUP($B29,CPPE!$A$2:$BR$177,46,FALSE),\"\"))","v":""},{"$f":"IF($B29=\"\",\"\",IF(VLOOKUP($B29,CPPE!$A$2:$BR$177,47,FALSE)<0,VLOOKUP($B29,CPPE!$A$2:$BR$177,47,FALSE),\"\"))","v":""},{"$f":"IF($B29=\"\",\"\",IF(VLOOKUP($B29,CPPE!$A$2:$BR$177,48,FALSE)<0,VLOOKUP($B29,CPPE!$A$2:$BR$177,48,FALSE),\"\"))","v":""},{"$f":"IF($B29=\"\",\"\",IF(VLOOKUP($B29,CPPE!$A$2:$BR$177,49,FALSE)<0,VLOOKUP($B29,CPPE!$A$2:$BR$177,49,FALSE),\"\"))","v":""},{"$f":"IF($B29=\"\",\"\",IF(VLOOKUP($B29,CPPE!$A$2:$BR$177,50,FALSE)<0,VLOOKUP($B29,CPPE!$A$2:$BR$177,50,FALSE),\"\"))","v":""},{"$f":"IF($B29=\"\",\"\",IF(VLOOKUP($B29,CPPE!$A$2:$BR$177,51,FALSE)<0,VLOOKUP($B29,CPPE!$A$2:$BR$177,51,FALSE),\"\"))","v":""},{"$f":"IF($B29=\"\",\"\",IF(VLOOKUP($B29,CPPE!$A$2:$BR$177,52,FALSE)<0,VLOOKUP($B29,CPPE!$A$2:$BR$177,52,FALSE),\"\"))","v":""},{"$f":"IF($B29=\"\",\"\",IF(VLOOKUP($B29,CPPE!$A$2:$BR$177,53,FALSE)<0,VLOOKUP($B29,CPPE!$A$2:$BR$177,53,FALSE),\"\"))","v":""},{"$f":"IF($B29=\"\",\"\",IF(VLOOKUP($B29,CPPE!$A$2:$BR$177,54,FALSE)<0,VLOOKUP($B29,CPPE!$A$2:$BR$177,54,FALSE),\"\"))","v":""},{"$f":"IF($B29=\"\",\"\",IF(VLOOKUP($B29,CPPE!$A$2:$BR$177,55,FALSE)<0,VLOOKUP($B29,CPPE!$A$2:$BR$177,55,FALSE),\"\"))","v":""},{"$f":"IF($B29=\"\",\"\",IF(VLOOKUP($B29,CPPE!$A$2:$BR$177,56,FALSE)<0,VLOOKUP($B29,CPPE!$A$2:$BR$177,56,FALSE),\"\"))","v":""},{"$f":"IF($B29=\"\",\"\",IF(VLOOKUP($B29,CPPE!$A$2:$BR$177,57,FALSE)<0,VLOOKUP($B29,CPPE!$A$2:$BR$177,57,FALSE),\"\"))","v":""},{"$f":"IF($B29=\"\",\"\",IF(VLOOKUP($B29,CPPE!$A$2:$BR$177,58,FALSE)<0,VLOOKUP($B29,CPPE!$A$2:$BR$177,58,FALSE),\"\"))","v":""},{"$f":"IF($B29=\"\",\"\",IF(VLOOKUP($B29,CPPE!$A$2:$BR$177,59,FALSE)<0,VLOOKUP($B29,CPPE!$A$2:$BR$177,59,FALSE),\"\"))","v":""}]
[null,{"$f":"IF(Results!B30=\"\",\"\",Results!B30)","v":""},{"$f":"IF($B30=\"\",\"\",IF(VLOOKUP($B30,CPPE!$A$2:$BR$177,2,FALSE)<0,VLOOKUP($B30,CPPE!$A$2:$BR$177,2,FALSE),\"\"))","v":""},{"$f":"IF($B30=\"\",\"\",IF(VLOOKUP($B30,CPPE!$A$2:$BR$177,3,FALSE)<0,VLOOKUP($B30,CPPE!$A$2:$BR$177,3,FALSE),\"\"))","v":""},{"$f":"IF($B30=\"\",\"\",IF(VLOOKUP($B30,CPPE!$A$2:$BR$177,4,FALSE)<0,VLOOKUP($B30,CPPE!$A$2:$BR$177,4,FALSE),\"\"))","v":""},{"$f":"IF($B30=\"\",\"\",IF(VLOOKUP($B30,CPPE!$A$2:$BR$177,4,FALSE)<0,VLOOKUP($B30,CPPE!$A$2:$BR$177,5,FALSE),\"\"))","v":""},{"$f":"IF($B30=\"\",\"\",IF(VLOOKUP($B30,CPPE!$A$2:$BR$177,5,FALSE)<0,VLOOKUP($B30,CPPE!$A$2:$BR$177,6,FALSE),\"\"))","v":""},{"$f":"IF($B30=\"\",\"\",IF(VLOOKUP($B30,CPPE!$A$2:$BR$177,7,FALSE)<0,VLOOKUP($B30,CPPE!$A$2:$BR$177,7,FALSE),\"\"))","v":""},{"$f":"IF($B30=\"\",\"\",IF(VLOOKUP($B30,CPPE!$A$2:$BR$177,8,FALSE)<0,VLOOKUP($B30,CPPE!$A$2:$BR$177,8,FALSE),\"\"))","v":""},{"$f":"IF($B30=\"\",\"\",IF(VLOOKUP($B30,CPPE!$A$2:$BR$177,9,FALSE)<0,VLOOKUP($B30,CPPE!$A$2:$BR$177,9,FALSE),\"\"))","v":""},{"$f":"IF($B30=\"\",\"\",IF(VLOOKUP($B30,CPPE!$A$2:$BR$177,10,FALSE)<0,VLOOKUP($B30,CPPE!$A$2:$BR$177,10,FALSE),\"\"))","v":""},{"$f":"IF($B30=\"\",\"\",IF(VLOOKUP($B30,CPPE!$A$2:$BR$177,11,FALSE)<0,VLOOKUP($B30,CPPE!$A$2:$BR$177,11,FALSE),\"\"))","v":""},{"$f":"IF($B30=\"\",\"\",IF(VLOOKUP($B30,CPPE!$A$2:$BR$177,12,FALSE)<0,VLOOKUP($B30,CPPE!$A$2:$BR$177,12,FALSE),\"\"))","v":""},{"$f":"IF($B30=\"\",\"\",IF(VLOOKUP($B30,CPPE!$A$2:$BR$177,13,FALSE)<0,VLOOKUP($B30,CPPE!$A$2:$BR$177,13,FALSE),\"\"))","v":""},{"$f":"IF($B30=\"\",\"\",IF(VLOOKUP($B30,CPPE!$A$2:$BR$177,14,FALSE)<0,VLOOKUP($B30,CPPE!$A$2:$BR$177,14,FALSE),\"\"))","v":""},{"$f":"IF($B30=\"\",\"\",IF(VLOOKUP($B30,CPPE!$A$2:$BR$177,15,FALSE)<0,VLOOKUP($B30,CPPE!$A$2:$BR$177,15,FALSE),\"\"))","v":""},{"$f":"IF($B30=\"\",\"\",IF(VLOOKUP($B30,CPPE!$A$2:$BR$177,16,FALSE)<0,VLOOKUP($B30,CPPE!$A$2:$BR$177,16,FALSE),\"\"))","v":""},{"$f":"IF($B30=\"\",\"\",IF(VLOOKUP($B30,CPPE!$A$2:$BR$177,17,FALSE)<0,VLOOKUP($B30,CPPE!$A$2:$BR$177,17,FALSE),\"\"))","v":""},{"$f":"IF($B30=\"\",\"\",IF(VLOOKUP($B30,CPPE!$A$2:$BR$177,18,FALSE)<0,VLOOKUP($B30,CPPE!$A$2:$BR$177,18,FALSE),\"\"))","v":""},{"$f":"IF($B30=\"\",\"\",IF(VLOOKUP($B30,CPPE!$A$2:$BR$177,19,FALSE)<0,VLOOKUP($B30,CPPE!$A$2:$BR$177,19,FALSE),\"\"))","v":""},{"$f":"IF($B30=\"\",\"\",IF(VLOOKUP($B30,CPPE!$A$2:$BR$177,20,FALSE)<0,VLOOKUP($B30,CPPE!$A$2:$BR$177,20,FALSE),\"\"))","v":""},{"$f":"IF($B30=\"\",\"\",IF(VLOOKUP($B30,CPPE!$A$2:$BR$177,21,FALSE)<0,VLOOKUP($B30,CPPE!$A$2:$BR$177,21,FALSE),\"\"))","v":""},{"$f":"IF($B30=\"\",\"\",IF(VLOOKUP($B30,CPPE!$A$2:$BR$177,22,FALSE)<0,VLOOKUP($B30,CPPE!$A$2:$BR$177,22,FALSE),\"\"))","v":""},{"$f":"IF($B30=\"\",\"\",IF(VLOOKUP($B30,CPPE!$A$2:$BR$177,23,FALSE)<0,VLOOKUP($B30,CPPE!$A$2:$BR$177,23,FALSE),\"\"))","v":""},{"$f":"IF($B30=\"\",\"\",IF(VLOOKUP($B30,CPPE!$A$2:$BR$177,24,FALSE)<0,VLOOKUP($B30,CPPE!$A$2:$BR$177,24,FALSE),\"\"))","v":""},{"$f":"IF($B30=\"\",\"\",IF(VLOOKUP($B30,CPPE!$A$2:$BR$177,25,FALSE)<0,VLOOKUP($B30,CPPE!$A$2:$BR$177,25,FALSE),\"\"))","v":""},{"$f":"IF($B30=\"\",\"\",IF(VLOOKUP($B30,CPPE!$A$2:$BR$177,26,FALSE)<0,VLOOKUP($B30,CPPE!$A$2:$BR$177,26,FALSE),\"\"))","v":""},{"$f":"IF($B30=\"\",\"\",IF(VLOOKUP($B30,CPPE!$A$2:$BR$177,27,FALSE)<0,VLOOKUP($B30,CPPE!$A$2:$BR$177,27,FALSE),\"\"))","v":""},{"$f":"IF($B30=\"\",\"\",IF(VLOOKUP($B30,CPPE!$A$2:$BR$177,28,FALSE)<0,VLOOKUP($B30,CPPE!$A$2:$BR$177,28,FALSE),\"\"))","v":""},{"$f":"IF($B30=\"\",\"\",IF(VLOOKUP($B30,CPPE!$A$2:$BR$177,29,FALSE)<0,VLOOKUP($B30,CPPE!$A$2:$BR$177,29,FALSE),\"\"))","v":""},{"$f":"IF($B30=\"\",\"\",IF(VLOOKUP($B30,CPPE!$A$2:$BR$177,30,FALSE)<0,VLOOKUP($B30,CPPE!$A$2:$BR$177,30,FALSE),\"\"))","v":""},{"$f":"IF($B30=\"\",\"\",IF(VLOOKUP($B30,CPPE!$A$2:$BR$177,31,FALSE)<0,VLOOKUP($B30,CPPE!$A$2:$BR$177,31,FALSE),\"\"))","v":""},{"$f":"IF($B30=\"\",\"\",IF(VLOOKUP($B30,CPPE!$A$2:$BR$177,32,FALSE)<0,VLOOKUP($B30,CPPE!$A$2:$BR$177,32,FALSE),\"\"))","v":""},{"$f":"IF($B30=\"\",\"\",IF(VLOOKUP($B30,CPPE!$A$2:$BR$177,33,FALSE)<0,VLOOKUP($B30,CPPE!$A$2:$BR$177,33,FALSE),\"\"))","v":""},{"$f":"IF($B30=\"\",\"\",IF(VLOOKUP($B30,CPPE!$A$2:$BR$177,34,FALSE)<0,VLOOKUP($B30,CPPE!$A$2:$BR$177,34,FALSE),\"\"))","v":""},{"$f":"IF($B30=\"\",\"\",IF(VLOOKUP($B30,CPPE!$A$2:$BR$177,35,FALSE)<0,VLOOKUP($B30,CPPE!$A$2:$BR$177,35,FALSE),\"\"))","v":""},{"$f":"IF($B30=\"\",\"\",IF(VLOOKUP($B30,CPPE!$A$2:$BR$177,36,FALSE)<0,VLOOKUP($B30,CPPE!$A$2:$BR$177,36,FALSE),\"\"))","v":""},{"$f":"IF($B30=\"\",\"\",IF(VLOOKUP($B30,CPPE!$A$2:$BR$177,37,FALSE)<0,VLOOKUP($B30,CPPE!$A$2:$BR$177,37,FALSE),\"\"))","v":""},{"$f":"IF($B30=\"\",\"\",IF(VLOOKUP($B30,CPPE!$A$2:$BR$177,38,FALSE)<0,VLOOKUP($B30,CPPE!$A$2:$BR$177,38,FALSE),\"\"))","v":""},{"$f":"IF($B30=\"\",\"\",IF(VLOOKUP($B30,CPPE!$A$2:$BR$177,39,FALSE)<0,VLOOKUP($B30,CPPE!$A$2:$BR$177,39,FALSE),\"\"))","v":""},{"$f":"IF($B30=\"\",\"\",IF(VLOOKUP($B30,CPPE!$A$2:$BR$177,40,FALSE)<0,VLOOKUP($B30,CPPE!$A$2:$BR$177,40,FALSE),\"\"))","v":""},{"$f":"IF($B30=\"\",\"\",IF(VLOOKUP($B30,CPPE!$A$2:$BR$177,41,FALSE)<0,VLOOKUP($B30,CPPE!$A$2:$BR$177,41,FALSE),\"\"))","v":""},{"$f":"IF($B30=\"\",\"\",IF(VLOOKUP($B30,CPPE!$A$2:$BR$177,42,FALSE)<0,VLOOKUP($B30,CPPE!$A$2:$BR$177,42,FALSE),\"\"))","v":""},{"$f":"IF($B30=\"\",\"\",IF(VLOOKUP($B30,CPPE!$A$2:$BR$177,43,FALSE)<0,VLOOKUP($B30,CPPE!$A$2:$BR$177,43,FALSE),\"\"))","v":""},{"$f":"IF($B30=\"\",\"\",IF(VLOOKUP($B30,CPPE!$A$2:$BR$177,44,FALSE)<0,VLOOKUP($B30,CPPE!$A$2:$BR$177,44,FALSE),\"\"))","v":""},{"$f":"IF($B30=\"\",\"\",IF(VLOOKUP($B30,CPPE!$A$2:$BR$177,45,FALSE)<0,VLOOKUP($B30,CPPE!$A$2:$BR$177,45,FALSE),\"\"))","v":""},{"$f":"IF($B30=\"\",\"\",IF(VLOOKUP($B30,CPPE!$A$2:$BR$177,46,FALSE)<0,VLOOKUP($B30,CPPE!$A$2:$BR$177,46,FALSE),\"\"))","v":""},{"$f":"IF($B30=\"\",\"\",IF(VLOOKUP($B30,CPPE!$A$2:$BR$177,47,FALSE)<0,VLOOKUP($B30,CPPE!$A$2:$BR$177,47,FALSE),\"\"))","v":""},{"$f":"IF($B30=\"\",\"\",IF(VLOOKUP($B30,CPPE!$A$2:$BR$177,48,FALSE)<0,VLOOKUP($B30,CPPE!$A$2:$BR$177,48,FALSE),\"\"))","v":""},{"$f":"IF($B30=\"\",\"\",IF(VLOOKUP($B30,CPPE!$A$2:$BR$177,49,FALSE)<0,VLOOKUP($B30,CPPE!$A$2:$BR$177,49,FALSE),\"\"))","v":""},{"$f":"IF($B30=\"\",\"\",IF(VLOOKUP($B30,CPPE!$A$2:$BR$177,50,FALSE)<0,VLOOKUP($B30,CPPE!$A$2:$BR$177,50,FALSE),\"\"))","v":""},{"$f":"IF($B30=\"\",\"\",IF(VLOOKUP($B30,CPPE!$A$2:$BR$177,51,FALSE)<0,VLOOKUP($B30,CPPE!$A$2:$BR$177,51,FALSE),\"\"))","v":""},{"$f":"IF($B30=\"\",\"\",IF(VLOOKUP($B30,CPPE!$A$2:$BR$177,52,FALSE)<0,VLOOKUP($B30,CPPE!$A$2:$BR$177,52,FALSE),\"\"))","v":""},{"$f":"IF($B30=\"\",\"\",IF(VLOOKUP($B30,CPPE!$A$2:$BR$177,53,FALSE)<0,VLOOKUP($B30,CPPE!$A$2:$BR$177,53,FALSE),\"\"))","v":""},{"$f":"IF($B30=\"\",\"\",IF(VLOOKUP($B30,CPPE!$A$2:$BR$177,54,FALSE)<0,VLOOKUP($B30,CPPE!$A$2:$BR$177,54,FALSE),\"\"))","v":""},{"$f":"IF($B30=\"\",\"\",IF(VLOOKUP($B30,CPPE!$A$2:$BR$177,55,FALSE)<0,VLOOKUP($B30,CPPE!$A$2:$BR$177,55,FALSE),\"\"))","v":""},{"$f":"IF($B30=\"\",\"\",IF(VLOOKUP($B30,CPPE!$A$2:$BR$177,56,FALSE)<0,VLOOKUP($B30,CPPE!$A$2:$BR$177,56,FALSE),\"\"))","v":""},{"$f":"IF($B30=\"\",\"\",IF(VLOOKUP($B30,CPPE!$A$2:$BR$177,57,FALSE)<0,VLOOKUP($B30,CPPE!$A$2:$BR$177,57,FALSE),\"\"))","v":""},{"$f":"IF($B30=\"\",\"\",IF(VLOOKUP($B30,CPPE!$A$2:$BR$177,58,FALSE)<0,VLOOKUP($B30,CPPE!$A$2:$BR$177,58,FALSE),\"\"))","v":""},{"$f":"IF($B30=\"\",\"\",IF(VLOOKUP($B30,CPPE!$A$2:$BR$177,59,FALSE)<0,VLOOKUP($B30,CPPE!$A$2:$BR$177,59,FALSE),\"\"))","v":""}]
[null,{"$f":"IF(Results!B31=\"\",\"\",Results!B31)","v":""},{"$f":"IF($B31=\"\",\"\",IF(VLOOKUP($B31,CPPE!$A$2:$BR$177,2,FALSE)<0,VLOOKUP($B31,CPPE!$A$2:$BR$177,2,FALSE),\"\"))","v":""},{"$f":"IF($B31=\"\",\"\",IF(VLOOKUP($B31,CPPE!$A$2:$BR$177,3,FALSE)<0,VLOOKUP($B31,CPPE!$A$2:$BR$177,3,FALSE),\"\"))","v":""},{"$f":"IF($B31=\"\",\"\",IF(VLOOKUP($B31,CPPE!$A$2:$BR$177,4,FALSE)<0,VLOOKUP($B31,CPPE!$A$2:$BR$177,4,FALSE),\"\"))","v":""},{"$f":"IF($B31=\"\",\"\",IF(VLOOKUP($B31,CPPE!$A$2:$BR$177,4,FALSE)<0,VLOOKUP($B31,CPPE!$A$2:$BR$177,5,FALSE),\"\"))","v":""},{"$f":"IF($B31=\"\",\"\",IF(VLOOKUP($B31,CPPE!$A$2:$BR$177,5,FALSE)<0,VLOOKUP($B31,CPPE!$A$2:$BR$177,6,FALSE),\"\"))","v":""},{"$f":"IF($B31=\"\",\"\",IF(VLOOKUP($B31,CPPE!$A$2:$BR$177,7,FALSE)<0,VLOOKUP($B31,CPPE!$A$2:$BR$177,7,FALSE),\"\"))","v":""},{"$f":"IF($B31=\"\",\"\",IF(VLOOKUP($B31,CPPE!$A$2:$BR$177,8,FALSE)<0,VLOOKUP($B31,CPPE!$A$2:$BR$177,8,FALSE),\"\"))","v":""},{"$f":"IF($B31=\"\",\"\",IF(VLOOKUP($B31,CPPE!$A$2:$BR$177,9,FALSE)<0,VLOOKUP($B31,CPPE!$A$2:$BR$177,9,FALSE),\"\"))","v":""},{"$f":"IF($B31=\"\",\"\",IF(VLOOKUP($B31,CPPE!$A$2:$BR$177,10,FALSE)<0,VLOOKUP($B31,CPPE!$A$2:$BR$177,10,FALSE),\"\"))","v":""},{"$f":"IF($B31=\"\",\"\",IF(VLOOKUP($B31,CPPE!$A$2:$BR$177,11,FALSE)<0,VLOOKUP($B31,CPPE!$A$2:$BR$177,11,FALSE),\"\"))","v":""},{"$f":"IF($B31=\"\",\"\",IF(VLOOKUP($B31,CPPE!$A$2:$BR$177,12,FALSE)<0,VLOOKUP($B31,CPPE!$A$2:$BR$177,12,FALSE),\"\"))","v":""},{"$f":"IF($B31=\"\",\"\",IF(VLOOKUP($B31,CPPE!$A$2:$BR$177,13,FALSE)<0,VLOOKUP($B31,CPPE!$A$2:$BR$177,13,FALSE),\"\"))","v":""},{"$f":"IF($B31=\"\",\"\",IF(VLOOKUP($B31,CPPE!$A$2:$BR$177,14,FALSE)<0,VLOOKUP($B31,CPPE!$A$2:$BR$177,14,FALSE),\"\"))","v":""},{"$f":"IF($B31=\"\",\"\",IF(VLOOKUP($B31,CPPE!$A$2:$BR$177,15,FALSE)<0,VLOOKUP($B31,CPPE!$A$2:$BR$177,15,FALSE),\"\"))","v":""},{"$f":"IF($B31=\"\",\"\",IF(VLOOKUP($B31,CPPE!$A$2:$BR$177,16,FALSE)<0,VLOOKUP($B31,CPPE!$A$2:$BR$177,16,FALSE),\"\"))","v":""},{"$f":"IF($B31=\"\",\"\",IF(VLOOKUP($B31,CPPE!$A$2:$BR$177,17,FALSE)<0,VLOOKUP($B31,CPPE!$A$2:$BR$177,17,FALSE),\"\"))","v":""},{"$f":"IF($B31=\"\",\"\",IF(VLOOKUP($B31,CPPE!$A$2:$BR$177,18,FALSE)<0,VLOOKUP($B31,CPPE!$A$2:$BR$177,18,FALSE),\"\"))","v":""},{"$f":"IF($B31=\"\",\"\",IF(VLOOKUP($B31,CPPE!$A$2:$BR$177,19,FALSE)<0,VLOOKUP($B31,CPPE!$A$2:$BR$177,19,FALSE),\"\"))","v":""},{"$f":"IF($B31=\"\",\"\",IF(VLOOKUP($B31,CPPE!$A$2:$BR$177,20,FALSE)<0,VLOOKUP($B31,CPPE!$A$2:$BR$177,20,FALSE),\"\"))","v":""},{"$f":"IF($B31=\"\",\"\",IF(VLOOKUP($B31,CPPE!$A$2:$BR$177,21,FALSE)<0,VLOOKUP($B31,CPPE!$A$2:$BR$177,21,FALSE),\"\"))","v":""},{"$f":"IF($B31=\"\",\"\",IF(VLOOKUP($B31,CPPE!$A$2:$BR$177,22,FALSE)<0,VLOOKUP($B31,CPPE!$A$2:$BR$177,22,FALSE),\"\"))","v":""},{"$f":"IF($B31=\"\",\"\",IF(VLOOKUP($B31,CPPE!$A$2:$BR$177,23,FALSE)<0,VLOOKUP($B31,CPPE!$A$2:$BR$177,23,FALSE),\"\"))","v":""},{"$f":"IF($B31=\"\",\"\",IF(VLOOKUP($B31,CPPE!$A$2:$BR$177,24,FALSE)<0,VLOOKUP($B31,CPPE!$A$2:$BR$177,24,FALSE),\"\"))","v":""},{"$f":"IF($B31=\"\",\"\",IF(VLOOKUP($B31,CPPE!$A$2:$BR$177,25,FALSE)<0,VLOOKUP($B31,CPPE!$A$2:$BR$177,25,FALSE),\"\"))","v":""},{"$f":"IF($B31=\"\",\"\",IF(VLOOKUP($B31,CPPE!$A$2:$BR$177,26,FALSE)<0,VLOOKUP($B31,CPPE!$A$2:$BR$177,26,FALSE),\"\"))","v":""},{"$f":"IF($B31=\"\",\"\",IF(VLOOKUP($B31,CPPE!$A$2:$BR$177,27,FALSE)<0,VLOOKUP($B31,CPPE!$A$2:$BR$177,27,FALSE),\"\"))","v":""},{"$f":"IF($B31=\"\",\"\",IF(VLOOKUP($B31,CPPE!$A$2:$BR$177,28,FALSE)<0,VLOOKUP($B31,CPPE!$A$2:$BR$177,28,FALSE),\"\"))","v":""},{"$f":"IF($B31=\"\",\"\",IF(VLOOKUP($B31,CPPE!$A$2:$BR$177,29,FALSE)<0,VLOOKUP($B31,CPPE!$A$2:$BR$177,29,FALSE),\"\"))","v":""},{"$f":"IF($B31=\"\",\"\",IF(VLOOKUP($B31,CPPE!$A$2:$BR$177,30,FALSE)<0,VLOOKUP($B31,CPPE!$A$2:$BR$177,30,FALSE),\"\"))","v":""},{"$f":"IF($B31=\"\",\"\",IF(VLOOKUP($B31,CPPE!$A$2:$BR$177,31,FALSE)<0,VLOOKUP($B31,CPPE!$A$2:$BR$177,31,FALSE),\"\"))","v":""},{"$f":"IF($B31=\"\",\"\",IF(VLOOKUP($B31,CPPE!$A$2:$BR$177,32,FALSE)<0,VLOOKUP($B31,CPPE!$A$2:$BR$177,32,FALSE),\"\"))","v":""},{"$f":"IF($B31=\"\",\"\",IF(VLOOKUP($B31,CPPE!$A$2:$BR$177,33,FALSE)<0,VLOOKUP($B31,CPPE!$A$2:$BR$177,33,FALSE),\"\"))","v":""},{"$f":"IF($B31=\"\",\"\",IF(VLOOKUP($B31,CPPE!$A$2:$BR$177,34,FALSE)<0,VLOOKUP($B31,CPPE!$A$2:$BR$177,34,FALSE),\"\"))","v":""},{"$f":"IF($B31=\"\",\"\",IF(VLOOKUP($B31,CPPE!$A$2:$BR$177,35,FALSE)<0,VLOOKUP($B31,CPPE!$A$2:$BR$177,35,FALSE),\"\"))","v":""},{"$f":"IF($B31=\"\",\"\",IF(VLOOKUP($B31,CPPE!$A$2:$BR$177,36,FALSE)<0,VLOOKUP($B31,CPPE!$A$2:$BR$177,36,FALSE),\"\"))","v":""},{"$f":"IF($B31=\"\",\"\",IF(VLOOKUP($B31,CPPE!$A$2:$BR$177,37,FALSE)<0,VLOOKUP($B31,CPPE!$A$2:$BR$177,37,FALSE),\"\"))","v":""},{"$f":"IF($B31=\"\",\"\",IF(VLOOKUP($B31,CPPE!$A$2:$BR$177,38,FALSE)<0,VLOOKUP($B31,CPPE!$A$2:$BR$177,38,FALSE),\"\"))","v":""},{"$f":"IF($B31=\"\",\"\",IF(VLOOKUP($B31,CPPE!$A$2:$BR$177,39,FALSE)<0,VLOOKUP($B31,CPPE!$A$2:$BR$177,39,FALSE),\"\"))","v":""},{"$f":"IF($B31=\"\",\"\",IF(VLOOKUP($B31,CPPE!$A$2:$BR$177,40,FALSE)<0,VLOOKUP($B31,CPPE!$A$2:$BR$177,40,FALSE),\"\"))","v":""},{"$f":"IF($B31=\"\",\"\",IF(VLOOKUP($B31,CPPE!$A$2:$BR$177,41,FALSE)<0,VLOOKUP($B31,CPPE!$A$2:$BR$177,41,FALSE),\"\"))","v":""},{"$f":"IF($B31=\"\",\"\",IF(VLOOKUP($B31,CPPE!$A$2:$BR$177,42,FALSE)<0,VLOOKUP($B31,CPPE!$A$2:$BR$177,42,FALSE),\"\"))","v":""},{"$f":"IF($B31=\"\",\"\",IF(VLOOKUP($B31,CPPE!$A$2:$BR$177,43,FALSE)<0,VLOOKUP($B31,CPPE!$A$2:$BR$177,43,FALSE),\"\"))","v":""},{"$f":"IF($B31=\"\",\"\",IF(VLOOKUP($B31,CPPE!$A$2:$BR$177,44,FALSE)<0,VLOOKUP($B31,CPPE!$A$2:$BR$177,44,FALSE),\"\"))","v":""},{"$f":"IF($B31=\"\",\"\",IF(VLOOKUP($B31,CPPE!$A$2:$BR$177,45,FALSE)<0,VLOOKUP($B31,CPPE!$A$2:$BR$177,45,FALSE),\"\"))","v":""},{"$f":"IF($B31=\"\",\"\",IF(VLOOKUP($B31,CPPE!$A$2:$BR$177,46,FALSE)<0,VLOOKUP($B31,CPPE!$A$2:$BR$177,46,FALSE),\"\"))","v":""},{"$f":"IF($B31=\"\",\"\",IF(VLOOKUP($B31,CPPE!$A$2:$BR$177,47,FALSE)<0,VLOOKUP($B31,CPPE!$A$2:$BR$177,47,FALSE),\"\"))","v":""},{"$f":"IF($B31=\"\",\"\",IF(VLOOKUP($B31,CPPE!$A$2:$BR$177,48,FALSE)<0,VLOOKUP($B31,CPPE!$A$2:$BR$177,48,FALSE),\"\"))","v":""},{"$f":"IF($B31=\"\",\"\",IF(VLOOKUP($B31,CPPE!$A$2:$BR$177,49,FALSE)<0,VLOOKUP($B31,CPPE!$A$2:$BR$177,49,FALSE),\"\"))","v":""},{"$f":"IF($B31=\"\",\"\",IF(VLOOKUP($B31,CPPE!$A$2:$BR$177,50,FALSE)<0,VLOOKUP($B31,CPPE!$A$2:$BR$177,50,FALSE),\"\"))","v":""},{"$f":"IF($B31=\"\",\"\",IF(VLOOKUP($B31,CPPE!$A$2:$BR$177,51,FALSE)<0,VLOOKUP($B31,CPPE!$A$2:$BR$177,51,FALSE),\"\"))","v":""},{"$f":"IF($B31=\"\",\"\",IF(VLOOKUP($B31,CPPE!$A$2:$BR$177,52,FALSE)<0,VLOOKUP($B31,CPPE!$A$2:$BR$177,52,FALSE),\"\"))","v":""},{"$f":"IF($B31=\"\",\"\",IF(VLOOKUP($B31,CPPE!$A$2:$BR$177,53,FALSE)<0,VLOOKUP($B31,CPPE!$A$2:$BR$177,53,FALSE),\"\"))","v":""},{"$f":"IF($B31=\"\",\"\",IF(VLOOKUP($B31,CPPE!$A$2:$BR$177,54,FALSE)<0,VLOOKUP($B31,CPPE!$A$2:$BR$177,54,FALSE),\"\"))","v":""},{"$f":"IF($B31=\"\",\"\",IF(VLOOKUP($B31,CPPE!$A$2:$BR$177,55,FALSE)<0,VLOOKUP($B31,CPPE!$A$2:$BR$177,55,FALSE),\"\"))","v":""},{"$f":"IF($B31=\"\",\"\",IF(VLOOKUP($B31,CPPE!$A$2:$BR$177,56,FALSE)<0,VLOOKUP($B31,CPPE!$A$2:$BR$177,56,FALSE),\"\"))","v":""},{"$f":"IF($B31=\"\",\"\",IF(VLOOKUP($B31,CPPE!$A$2:$BR$177,57,FALSE)<0,VLOOKUP($B31,CPPE!$A$2:$BR$177,57,FALSE),\"\"))","v":""},{"$f":"IF($B31=\"\",\"\",IF(VLOOKUP($B31,CPPE!$A$2:$BR$177,58,FALSE)<0,VLOOKUP($B31,CPPE!$A$2:$BR$177,58,FALSE),\"\"))","v":""},{"$f":"IF($B31=\"\",\"\",IF(VLOOKUP($B31,CPPE!$A$2:$BR$177,59,FALSE)<0,VLOOKUP($B31,CPPE!$A$2:$BR$177,59,FALSE),\"\"))","v":""}]
[null,{"$f":"IF(Results!B32=\"\",\"\",Results!B32)","v":""},{"$f":"IF($B32=\"\",\"\",IF(VLOOKUP($B32,CPPE!$A$2:$BR$177,2,FALSE)<0,VLOOKUP($B32,CPPE!$A$2:$BR$177,2,FALSE),\"\"))","v":""},{"$f":"IF($B32=\"\",\"\",IF(VLOOKUP($B32,CPPE!$A$2:$BR$177,3,FALSE)<0,VLOOKUP($B32,CPPE!$A$2:$BR$177,3,FALSE),\"\"))","v":""},{"$f":"IF($B32=\"\",\"\",IF(VLOOKUP($B32,CPPE!$A$2:$BR$177,4,FALSE)<0,VLOOKUP($B32,CPPE!$A$2:$BR$177,4,FALSE),\"\"))","v":""},{"$f":"IF($B32=\"\",\"\",IF(VLOOKUP($B32,CPPE!$A$2:$BR$177,4,FALSE)<0,VLOOKUP($B32,CPPE!$A$2:$BR$177,5,FALSE),\"\"))","v":""},{"$f":"IF($B32=\"\",\"\",IF(VLOOKUP($B32,CPPE!$A$2:$BR$177,5,FALSE)<0,VLOOKUP($B32,CPPE!$A$2:$BR$177,6,FALSE),\"\"))","v":""},{"$f":"IF($B32=\"\",\"\",IF(VLOOKUP($B32,CPPE!$A$2:$BR$177,7,FALSE)<0,VLOOKUP($B32,CPPE!$A$2:$BR$177,7,FALSE),\"\"))","v":""},{"$f":"IF($B32=\"\",\"\",IF(VLOOKUP($B32,CPPE!$A$2:$BR$177,8,FALSE)<0,VLOOKUP($B32,CPPE!$A$2:$BR$177,8,FALSE),\"\"))","v":""},{"$f":"IF($B32=\"\",\"\",IF(VLOOKUP($B32,CPPE!$A$2:$BR$177,9,FALSE)<0,VLOOKUP($B32,CPPE!$A$2:$BR$177,9,FALSE),\"\"))","v":""},{"$f":"IF($B32=\"\",\"\",IF(VLOOKUP($B32,CPPE!$A$2:$BR$177,10,FALSE)<0,VLOOKUP($B32,CPPE!$A$2:$BR$177,10,FALSE),\"\"))","v":""},{"$f":"IF($B32=\"\",\"\",IF(VLOOKUP($B32,CPPE!$A$2:$BR$177,11,FALSE)<0,VLOOKUP($B32,CPPE!$A$2:$BR$177,11,FALSE),\"\"))","v":""},{"$f":"IF($B32=\"\",\"\",IF(VLOOKUP($B32,CPPE!$A$2:$BR$177,12,FALSE)<0,VLOOKUP($B32,CPPE!$A$2:$BR$177,12,FALSE),\"\"))","v":""},{"$f":"IF($B32=\"\",\"\",IF(VLOOKUP($B32,CPPE!$A$2:$BR$177,13,FALSE)<0,VLOOKUP($B32,CPPE!$A$2:$BR$177,13,FALSE),\"\"))","v":""},{"$f":"IF($B32=\"\",\"\",IF(VLOOKUP($B32,CPPE!$A$2:$BR$177,14,FALSE)<0,VLOOKUP($B32,CPPE!$A$2:$BR$177,14,FALSE),\"\"))","v":""},{"$f":"IF($B32=\"\",\"\",IF(VLOOKUP($B32,CPPE!$A$2:$BR$177,15,FALSE)<0,VLOOKUP($B32,CPPE!$A$2:$BR$177,15,FALSE),\"\"))","v":""},{"$f":"IF($B32=\"\",\"\",IF(VLOOKUP($B32,CPPE!$A$2:$BR$177,16,FALSE)<0,VLOOKUP($B32,CPPE!$A$2:$BR$177,16,FALSE),\"\"))","v":""},{"$f":"IF($B32=\"\",\"\",IF(VLOOKUP($B32,CPPE!$A$2:$BR$177,17,FALSE)<0,VLOOKUP($B32,CPPE!$A$2:$BR$177,17,FALSE),\"\"))","v":""},{"$f":"IF($B32=\"\",\"\",IF(VLOOKUP($B32,CPPE!$A$2:$BR$177,18,FALSE)<0,VLOOKUP($B32,CPPE!$A$2:$BR$177,18,FALSE),\"\"))","v":""},{"$f":"IF($B32=\"\",\"\",IF(VLOOKUP($B32,CPPE!$A$2:$BR$177,19,FALSE)<0,VLOOKUP($B32,CPPE!$A$2:$BR$177,19,FALSE),\"\"))","v":""},{"$f":"IF($B32=\"\",\"\",IF(VLOOKUP($B32,CPPE!$A$2:$BR$177,20,FALSE)<0,VLOOKUP($B32,CPPE!$A$2:$BR$177,20,FALSE),\"\"))","v":""},{"$f":"IF($B32=\"\",\"\",IF(VLOOKUP($B32,CPPE!$A$2:$BR$177,21,FALSE)<0,VLOOKUP($B32,CPPE!$A$2:$BR$177,21,FALSE),\"\"))","v":""},{"$f":"IF($B32=\"\",\"\",IF(VLOOKUP($B32,CPPE!$A$2:$BR$177,22,FALSE)<0,VLOOKUP($B32,CPPE!$A$2:$BR$177,22,FALSE),\"\"))","v":""},{"$f":"IF($B32=\"\",\"\",IF(VLOOKUP($B32,CPPE!$A$2:$BR$177,23,FALSE)<0,VLOOKUP($B32,CPPE!$A$2:$BR$177,23,FALSE),\"\"))","v":""},{"$f":"IF($B32=\"\",\"\",IF(VLOOKUP($B32,CPPE!$A$2:$BR$177,24,FALSE)<0,VLOOKUP($B32,CPPE!$A$2:$BR$177,24,FALSE),\"\"))","v":""},{"$f":"IF($B32=\"\",\"\",IF(VLOOKUP($B32,CPPE!$A$2:$BR$177,25,FALSE)<0,VLOOKUP($B32,CPPE!$A$2:$BR$177,25,FALSE),\"\"))","v":""},{"$f":"IF($B32=\"\",\"\",IF(VLOOKUP($B32,CPPE!$A$2:$BR$177,26,FALSE)<0,VLOOKUP($B32,CPPE!$A$2:$BR$177,26,FALSE),\"\"))","v":""},{"$f":"IF($B32=\"\",\"\",IF(VLOOKUP($B32,CPPE!$A$2:$BR$177,27,FALSE)<0,VLOOKUP($B32,CPPE!$A$2:$BR$177,27,FALSE),\"\"))","v":""},{"$f":"IF($B32=\"\",\"\",IF(VLOOKUP($B32,CPPE!$A$2:$BR$177,28,FALSE)<0,VLOOKUP($B32,CPPE!$A$2:$BR$177,28,FALSE),\"\"))","v":""},{"$f":"IF($B32=\"\",\"\",IF(VLOOKUP($B32,CPPE!$A$2:$BR$177,29,FALSE)<0,VLOOKUP($B32,CPPE!$A$2:$BR$177,29,FALSE),\"\"))","v":""},{"$f":"IF($B32=\"\",\"\",IF(VLOOKUP($B32,CPPE!$A$2:$BR$177,30,FALSE)<0,VLOOKUP($B32,CPPE!$A$2:$BR$177,30,FALSE),\"\"))","v":""},{"$f":"IF($B32=\"\",\"\",IF(VLOOKUP($B32,CPPE!$A$2:$BR$177,31,FALSE)<0,VLOOKUP($B32,CPPE!$A$2:$BR$177,31,FALSE),\"\"))","v":""},{"$f":"IF($B32=\"\",\"\",IF(VLOOKUP($B32,CPPE!$A$2:$BR$177,32,FALSE)<0,VLOOKUP($B32,CPPE!$A$2:$BR$177,32,FALSE),\"\"))","v":""},{"$f":"IF($B32=\"\",\"\",IF(VLOOKUP($B32,CPPE!$A$2:$BR$177,33,FALSE)<0,VLOOKUP($B32,CPPE!$A$2:$BR$177,33,FALSE),\"\"))","v":""},{"$f":"IF($B32=\"\",\"\",IF(VLOOKUP($B32,CPPE!$A$2:$BR$177,34,FALSE)<0,VLOOKUP($B32,CPPE!$A$2:$BR$177,34,FALSE),\"\"))","v":""},{"$f":"IF($B32=\"\",\"\",IF(VLOOKUP($B32,CPPE!$A$2:$BR$177,35,FALSE)<0,VLOOKUP($B32,CPPE!$A$2:$BR$177,35,FALSE),\"\"))","v":""},{"$f":"IF($B32=\"\",\"\",IF(VLOOKUP($B32,CPPE!$A$2:$BR$177,36,FALSE)<0,VLOOKUP($B32,CPPE!$A$2:$BR$177,36,FALSE),\"\"))","v":""},{"$f":"IF($B32=\"\",\"\",IF(VLOOKUP($B32,CPPE!$A$2:$BR$177,37,FALSE)<0,VLOOKUP($B32,CPPE!$A$2:$BR$177,37,FALSE),\"\"))","v":""},{"$f":"IF($B32=\"\",\"\",IF(VLOOKUP($B32,CPPE!$A$2:$BR$177,38,FALSE)<0,VLOOKUP($B32,CPPE!$A$2:$BR$177,38,FALSE),\"\"))","v":""},{"$f":"IF($B32=\"\",\"\",IF(VLOOKUP($B32,CPPE!$A$2:$BR$177,39,FALSE)<0,VLOOKUP($B32,CPPE!$A$2:$BR$177,39,FALSE),\"\"))","v":""},{"$f":"IF($B32=\"\",\"\",IF(VLOOKUP($B32,CPPE!$A$2:$BR$177,40,FALSE)<0,VLOOKUP($B32,CPPE!$A$2:$BR$177,40,FALSE),\"\"))","v":""},{"$f":"IF($B32=\"\",\"\",IF(VLOOKUP($B32,CPPE!$A$2:$BR$177,41,FALSE)<0,VLOOKUP($B32,CPPE!$A$2:$BR$177,41,FALSE),\"\"))","v":""},{"$f":"IF($B32=\"\",\"\",IF(VLOOKUP($B32,CPPE!$A$2:$BR$177,42,FALSE)<0,VLOOKUP($B32,CPPE!$A$2:$BR$177,42,FALSE),\"\"))","v":""},{"$f":"IF($B32=\"\",\"\",IF(VLOOKUP($B32,CPPE!$A$2:$BR$177,43,FALSE)<0,VLOOKUP($B32,CPPE!$A$2:$BR$177,43,FALSE),\"\"))","v":""},{"$f":"IF($B32=\"\",\"\",IF(VLOOKUP($B32,CPPE!$A$2:$BR$177,44,FALSE)<0,VLOOKUP($B32,CPPE!$A$2:$BR$177,44,FALSE),\"\"))","v":""},{"$f":"IF($B32=\"\",\"\",IF(VLOOKUP($B32,CPPE!$A$2:$BR$177,45,FALSE)<0,VLOOKUP($B32,CPPE!$A$2:$BR$177,45,FALSE),\"\"))","v":""},{"$f":"IF($B32=\"\",\"\",IF(VLOOKUP($B32,CPPE!$A$2:$BR$177,46,FALSE)<0,VLOOKUP($B32,CPPE!$A$2:$BR$177,46,FALSE),\"\"))","v":""},{"$f":"IF($B32=\"\",\"\",IF(VLOOKUP($B32,CPPE!$A$2:$BR$177,47,FALSE)<0,VLOOKUP($B32,CPPE!$A$2:$BR$177,47,FALSE),\"\"))","v":""},{"$f":"IF($B32=\"\",\"\",IF(VLOOKUP($B32,CPPE!$A$2:$BR$177,48,FALSE)<0,VLOOKUP($B32,CPPE!$A$2:$BR$177,48,FALSE),\"\"))","v":""},{"$f":"IF($B32=\"\",\"\",IF(VLOOKUP($B32,CPPE!$A$2:$BR$177,49,FALSE)<0,VLOOKUP($B32,CPPE!$A$2:$BR$177,49,FALSE),\"\"))","v":""},{"$f":"IF($B32=\"\",\"\",IF(VLOOKUP($B32,CPPE!$A$2:$BR$177,50,FALSE)<0,VLOOKUP($B32,CPPE!$A$2:$BR$177,50,FALSE),\"\"))","v":""},{"$f":"IF($B32=\"\",\"\",IF(VLOOKUP($B32,CPPE!$A$2:$BR$177,51,FALSE)<0,VLOOKUP($B32,CPPE!$A$2:$BR$177,51,FALSE),\"\"))","v":""},{"$f":"IF($B32=\"\",\"\",IF(VLOOKUP($B32,CPPE!$A$2:$BR$177,52,FALSE)<0,VLOOKUP($B32,CPPE!$A$2:$BR$177,52,FALSE),\"\"))","v":""},{"$f":"IF($B32=\"\",\"\",IF(VLOOKUP($B32,CPPE!$A$2:$BR$177,53,FALSE)<0,VLOOKUP($B32,CPPE!$A$2:$BR$177,53,FALSE),\"\"))","v":""},{"$f":"IF($B32=\"\",\"\",IF(VLOOKUP($B32,CPPE!$A$2:$BR$177,54,FALSE)<0,VLOOKUP($B32,CPPE!$A$2:$BR$177,54,FALSE),\"\"))","v":""},{"$f":"IF($B32=\"\",\"\",IF(VLOOKUP($B32,CPPE!$A$2:$BR$177,55,FALSE)<0,VLOOKUP($B32,CPPE!$A$2:$BR$177,55,FALSE),\"\"))","v":""},{"$f":"IF($B32=\"\",\"\",IF(VLOOKUP($B32,CPPE!$A$2:$BR$177,56,FALSE)<0,VLOOKUP($B32,CPPE!$A$2:$BR$177,56,FALSE),\"\"))","v":""},{"$f":"IF($B32=\"\",\"\",IF(VLOOKUP($B32,CPPE!$A$2:$BR$177,57,FALSE)<0,VLOOKUP($B32,CPPE!$A$2:$BR$177,57,FALSE),\"\"))","v":""},{"$f":"IF($B32=\"\",\"\",IF(VLOOKUP($B32,CPPE!$A$2:$BR$177,58,FALSE)<0,VLOOKUP($B32,CPPE!$A$2:$BR$177,58,FALSE),\"\"))","v":""},{"$f":"IF($B32=\"\",\"\",IF(VLOOKUP($B32,CPPE!$A$2:$BR$177,59,FALSE)<0,VLOOKUP($B32,CPPE!$A$2:$BR$177,59,FALSE),\"\"))","v":""}]
[null,{"$f":"IF(Results!B33=\"\",\"\",Results!B33)","v":""},{"$f":"IF($B33=\"\",\"\",IF(VLOOKUP($B33,CPPE!$A$2:$BR$177,2,FALSE)<0,VLOOKUP($B33,CPPE!$A$2:$BR$177,2,FALSE),\"\"))","v":""},{"$f":"IF($B33=\"\",\"\",IF(VLOOKUP($B33,CPPE!$A$2:$BR$177,3,FALSE)<0,VLOOKUP($B33,CPPE!$A$2:$BR$177,3,FALSE),\"\"))","v":""},{"$f":"IF($B33=\"\",\"\",IF(VLOOKUP($B33,CPPE!$A$2:$BR$177,4,FALSE)<0,VLOOKUP($B33,CPPE!$A$2:$BR$177,4,FALSE),\"\"))","v":""},{"$f":"IF($B33=\"\",\"\",IF(VLOOKUP($B33,CPPE!$A$2:$BR$177,4,FALSE)<0,VLOOKUP($B33,CPPE!$A$2:$BR$177,5,FALSE),\"\"))","v":""},{"$f":"IF($B33=\"\",\"\",IF(VLOOKUP($B33,CPPE!$A$2:$BR$177,5,FALSE)<0,VLOOKUP($B33,CPPE!$A$2:$BR$177,6,FALSE),\"\"))","v":""},{"$f":"IF($B33=\"\",\"\",IF(VLOOKUP($B33,CPPE!$A$2:$BR$177,7,FALSE)<0,VLOOKUP($B33,CPPE!$A$2:$BR$177,7,FALSE),\"\"))","v":""},{"$f":"IF($B33=\"\",\"\",IF(VLOOKUP($B33,CPPE!$A$2:$BR$177,8,FALSE)<0,VLOOKUP($B33,CPPE!$A$2:$BR$177,8,FALSE),\"\"))","v":""},{"$f":"IF($B33=\"\",\"\",IF(VLOOKUP($B33,CPPE!$A$2:$BR$177,9,FALSE)<0,VLOOKUP($B33,CPPE!$A$2:$BR$177,9,FALSE),\"\"))","v":""},{"$f":"IF($B33=\"\",\"\",IF(VLOOKUP($B33,CPPE!$A$2:$BR$177,10,FALSE)<0,VLOOKUP($B33,CPPE!$A$2:$BR$177,10,FALSE),\"\"))","v":""},{"$f":"IF($B33=\"\",\"\",IF(VLOOKUP($B33,CPPE!$A$2:$BR$177,11,FALSE)<0,VLOOKUP($B33,CPPE!$A$2:$BR$177,11,FALSE),\"\"))","v":""},{"$f":"IF($B33=\"\",\"\",IF(VLOOKUP($B33,CPPE!$A$2:$BR$177,12,FALSE)<0,VLOOKUP($B33,CPPE!$A$2:$BR$177,12,FALSE),\"\"))","v":""},{"$f":"IF($B33=\"\",\"\",IF(VLOOKUP($B33,CPPE!$A$2:$BR$177,13,FALSE)<0,VLOOKUP($B33,CPPE!$A$2:$BR$177,13,FALSE),\"\"))","v":""},{"$f":"IF($B33=\"\",\"\",IF(VLOOKUP($B33,CPPE!$A$2:$BR$177,14,FALSE)<0,VLOOKUP($B33,CPPE!$A$2:$BR$177,14,FALSE),\"\"))","v":""},{"$f":"IF($B33=\"\",\"\",IF(VLOOKUP($B33,CPPE!$A$2:$BR$177,15,FALSE)<0,VLOOKUP($B33,CPPE!$A$2:$BR$177,15,FALSE),\"\"))","v":""},{"$f":"IF($B33=\"\",\"\",IF(VLOOKUP($B33,CPPE!$A$2:$BR$177,16,FALSE)<0,VLOOKUP($B33,CPPE!$A$2:$BR$177,16,FALSE),\"\"))","v":""},{"$f":"IF($B33=\"\",\"\",IF(VLOOKUP($B33,CPPE!$A$2:$BR$177,17,FALSE)<0,VLOOKUP($B33,CPPE!$A$2:$BR$177,17,FALSE),\"\"))","v":""},{"$f":"IF($B33=\"\",\"\",IF(VLOOKUP($B33,CPPE!$A$2:$BR$177,18,FALSE)<0,VLOOKUP($B33,CPPE!$A$2:$BR$177,18,FALSE),\"\"))","v":""},{"$f":"IF($B33=\"\",\"\",IF(VLOOKUP($B33,CPPE!$A$2:$BR$177,19,FALSE)<0,VLOOKUP($B33,CPPE!$A$2:$BR$177,19,FALSE),\"\"))","v":""},{"$f":"IF($B33=\"\",\"\",IF(VLOOKUP($B33,CPPE!$A$2:$BR$177,20,FALSE)<0,VLOOKUP($B33,CPPE!$A$2:$BR$177,20,FALSE),\"\"))","v":""},{"$f":"IF($B33=\"\",\"\",IF(VLOOKUP($B33,CPPE!$A$2:$BR$177,21,FALSE)<0,VLOOKUP($B33,CPPE!$A$2:$BR$177,21,FALSE),\"\"))","v":""},{"$f":"IF($B33=\"\",\"\",IF(VLOOKUP($B33,CPPE!$A$2:$BR$177,22,FALSE)<0,VLOOKUP($B33,CPPE!$A$2:$BR$177,22,FALSE),\"\"))","v":""},{"$f":"IF($B33=\"\",\"\",IF(VLOOKUP($B33,CPPE!$A$2:$BR$177,23,FALSE)<0,VLOOKUP($B33,CPPE!$A$2:$BR$177,23,FALSE),\"\"))","v":""},{"$f":"IF($B33=\"\",\"\",IF(VLOOKUP($B33,CPPE!$A$2:$BR$177,24,FALSE)<0,VLOOKUP($B33,CPPE!$A$2:$BR$177,24,FALSE),\"\"))","v":""},{"$f":"IF($B33=\"\",\"\",IF(VLOOKUP($B33,CPPE!$A$2:$BR$177,25,FALSE)<0,VLOOKUP($B33,CPPE!$A$2:$BR$177,25,FALSE),\"\"))","v":""},{"$f":"IF($B33=\"\",\"\",IF(VLOOKUP($B33,CPPE!$A$2:$BR$177,26,FALSE)<0,VLOOKUP($B33,CPPE!$A$2:$BR$177,26,FALSE),\"\"))","v":""},{"$f":"IF($B33=\"\",\"\",IF(VLOOKUP($B33,CPPE!$A$2:$BR$177,27,FALSE)<0,VLOOKUP($B33,CPPE!$A$2:$BR$177,27,FALSE),\"\"))","v":""},{"$f":"IF($B33=\"\",\"\",IF(VLOOKUP($B33,CPPE!$A$2:$BR$177,28,FALSE)<0,VLOOKUP($B33,CPPE!$A$2:$BR$177,28,FALSE),\"\"))","v":""},{"$f":"IF($B33=\"\",\"\",IF(VLOOKUP($B33,CPPE!$A$2:$BR$177,29,FALSE)<0,VLOOKUP($B33,CPPE!$A$2:$BR$177,29,FALSE),\"\"))","v":""},{"$f":"IF($B33=\"\",\"\",IF(VLOOKUP($B33,CPPE!$A$2:$BR$177,30,FALSE)<0,VLOOKUP($B33,CPPE!$A$2:$BR$177,30,FALSE),\"\"))","v":""},{"$f":"IF($B33=\"\",\"\",IF(VLOOKUP($B33,CPPE!$A$2:$BR$177,31,FALSE)<0,VLOOKUP($B33,CPPE!$A$2:$BR$177,31,FALSE),\"\"))","v":""},{"$f":"IF($B33=\"\",\"\",IF(VLOOKUP($B33,CPPE!$A$2:$BR$177,32,FALSE)<0,VLOOKUP($B33,CPPE!$A$2:$BR$177,32,FALSE),\"\"))","v":""},{"$f":"IF($B33=\"\",\"\",IF(VLOOKUP($B33,CPPE!$A$2:$BR$177,33,FALSE)<0,VLOOKUP($B33,CPPE!$A$2:$BR$177,33,FALSE),\"\"))","v":""},{"$f":"IF($B33=\"\",\"\",IF(VLOOKUP($B33,CPPE!$A$2:$BR$177,34,FALSE)<0,VLOOKUP($B33,CPPE!$A$2:$BR$177,34,FALSE),\"\"))","v":""},{"$f":"IF($B33=\"\",\"\",IF(VLOOKUP($B33,CPPE!$A$2:$BR$177,35,FALSE)<0,VLOOKUP($B33,CPPE!$A$2:$BR$177,35,FALSE),\"\"))","v":""},{"$f":"IF($B33=\"\",\"\",IF(VLOOKUP($B33,CPPE!$A$2:$BR$177,36,FALSE)<0,VLOOKUP($B33,CPPE!$A$2:$BR$177,36,FALSE),\"\"))","v":""},{"$f":"IF($B33=\"\",\"\",IF(VLOOKUP($B33,CPPE!$A$2:$BR$177,37,FALSE)<0,VLOOKUP($B33,CPPE!$A$2:$BR$177,37,FALSE),\"\"))","v":""},{"$f":"IF($B33=\"\",\"\",IF(VLOOKUP($B33,CPPE!$A$2:$BR$177,38,FALSE)<0,VLOOKUP($B33,CPPE!$A$2:$BR$177,38,FALSE),\"\"))","v":""},{"$f":"IF($B33=\"\",\"\",IF(VLOOKUP($B33,CPPE!$A$2:$BR$177,39,FALSE)<0,VLOOKUP($B33,CPPE!$A$2:$BR$177,39,FALSE),\"\"))","v":""},{"$f":"IF($B33=\"\",\"\",IF(VLOOKUP($B33,CPPE!$A$2:$BR$177,40,FALSE)<0,VLOOKUP($B33,CPPE!$A$2:$BR$177,40,FALSE),\"\"))","v":""},{"$f":"IF($B33=\"\",\"\",IF(VLOOKUP($B33,CPPE!$A$2:$BR$177,41,FALSE)<0,VLOOKUP($B33,CPPE!$A$2:$BR$177,41,FALSE),\"\"))","v":""},{"$f":"IF($B33=\"\",\"\",IF(VLOOKUP($B33,CPPE!$A$2:$BR$177,42,FALSE)<0,VLOOKUP($B33,CPPE!$A$2:$BR$177,42,FALSE),\"\"))","v":""},{"$f":"IF($B33=\"\",\"\",IF(VLOOKUP($B33,CPPE!$A$2:$BR$177,43,FALSE)<0,VLOOKUP($B33,CPPE!$A$2:$BR$177,43,FALSE),\"\"))","v":""},{"$f":"IF($B33=\"\",\"\",IF(VLOOKUP($B33,CPPE!$A$2:$BR$177,44,FALSE)<0,VLOOKUP($B33,CPPE!$A$2:$BR$177,44,FALSE),\"\"))","v":""},{"$f":"IF($B33=\"\",\"\",IF(VLOOKUP($B33,CPPE!$A$2:$BR$177,45,FALSE)<0,VLOOKUP($B33,CPPE!$A$2:$BR$177,45,FALSE),\"\"))","v":""},{"$f":"IF($B33=\"\",\"\",IF(VLOOKUP($B33,CPPE!$A$2:$BR$177,46,FALSE)<0,VLOOKUP($B33,CPPE!$A$2:$BR$177,46,FALSE),\"\"))","v":""},{"$f":"IF($B33=\"\",\"\",IF(VLOOKUP($B33,CPPE!$A$2:$BR$177,47,FALSE)<0,VLOOKUP($B33,CPPE!$A$2:$BR$177,47,FALSE),\"\"))","v":""},{"$f":"IF($B33=\"\",\"\",IF(VLOOKUP($B33,CPPE!$A$2:$BR$177,48,FALSE)<0,VLOOKUP($B33,CPPE!$A$2:$BR$177,48,FALSE),\"\"))","v":""},{"$f":"IF($B33=\"\",\"\",IF(VLOOKUP($B33,CPPE!$A$2:$BR$177,49,FALSE)<0,VLOOKUP($B33,CPPE!$A$2:$BR$177,49,FALSE),\"\"))","v":""},{"$f":"IF($B33=\"\",\"\",IF(VLOOKUP($B33,CPPE!$A$2:$BR$177,50,FALSE)<0,VLOOKUP($B33,CPPE!$A$2:$BR$177,50,FALSE),\"\"))","v":""},{"$f":"IF($B33=\"\",\"\",IF(VLOOKUP($B33,CPPE!$A$2:$BR$177,51,FALSE)<0,VLOOKUP($B33,CPPE!$A$2:$BR$177,51,FALSE),\"\"))","v":""},{"$f":"IF($B33=\"\",\"\",IF(VLOOKUP($B33,CPPE!$A$2:$BR$177,52,FALSE)<0,VLOOKUP($B33,CPPE!$A$2:$BR$177,52,FALSE),\"\"))","v":""},{"$f":"IF($B33=\"\",\"\",IF(VLOOKUP($B33,CPPE!$A$2:$BR$177,53,FALSE)<0,VLOOKUP($B33,CPPE!$A$2:$BR$177,53,FALSE),\"\"))","v":""},{"$f":"IF($B33=\"\",\"\",IF(VLOOKUP($B33,CPPE!$A$2:$BR$177,54,FALSE)<0,VLOOKUP($B33,CPPE!$A$2:$BR$177,54,FALSE),\"\"))","v":""},{"$f":"IF($B33=\"\",\"\",IF(VLOOKUP($B33,CPPE!$A$2:$BR$177,55,FALSE)<0,VLOOKUP($B33,CPPE!$A$2:$BR$177,55,FALSE),\"\"))","v":""},{"$f":"IF($B33=\"\",\"\",IF(VLOOKUP($B33,CPPE!$A$2:$BR$177,56,FALSE)<0,VLOOKUP($B33,CPPE!$A$2:$BR$177,56,FALSE),\"\"))","v":""},{"$f":"IF($B33=\"\",\"\",IF(VLOOKUP($B33,CPPE!$A$2:$BR$177,57,FALSE)<0,VLOOKUP($B33,CPPE!$A$2:$BR$177,57,FALSE),\"\"))","v":""},{"$f":"IF($B33=\"\",\"\",IF(VLOOKUP($B33,CPPE!$A$2:$BR$177,58,FALSE)<0,VLOOKUP($B33,CPPE!$A$2:$BR$177,58,FALSE),\"\"))","v":""},{"$f":"IF($B33=\"\",\"\",IF(VLOOKUP($B33,CPPE!$A$2:$BR$177,59,FALSE)<0,VLOOKUP($B33,CPPE!$A$2:$BR$177,59,FALSE),\"\"))","v":""}]
[null,{"$f":"IF(Results!B34=\"\",\"\",Results!B34)","v":""},{"$f":"IF($B34=\"\",\"\",IF(VLOOKUP($B34,CPPE!$A$2:$BR$177,2,FALSE)<0,VLOOKUP($B34,CPPE!$A$2:$BR$177,2,FALSE),\"\"))","v":""},{"$f":"IF($B34=\"\",\"\",IF(VLOOKUP($B34,CPPE!$A$2:$BR$177,3,FALSE)<0,VLOOKUP($B34,CPPE!$A$2:$BR$177,3,FALSE),\"\"))","v":""},{"$f":"IF($B34=\"\",\"\",IF(VLOOKUP($B34,CPPE!$A$2:$BR$177,4,FALSE)<0,VLOOKUP($B34,CPPE!$A$2:$BR$177,4,FALSE),\"\"))","v":""},{"$f":"IF($B34=\"\",\"\",IF(VLOOKUP($B34,CPPE!$A$2:$BR$177,4,FALSE)<0,VLOOKUP($B34,CPPE!$A$2:$BR$177,5,FALSE),\"\"))","v":""},{"$f":"IF($B34=\"\",\"\",IF(VLOOKUP($B34,CPPE!$A$2:$BR$177,5,FALSE)<0,VLOOKUP($B34,CPPE!$A$2:$BR$177,6,FALSE),\"\"))","v":""},{"$f":"IF($B34=\"\",\"\",IF(VLOOKUP($B34,CPPE!$A$2:$BR$177,7,FALSE)<0,VLOOKUP($B34,CPPE!$A$2:$BR$177,7,FALSE),\"\"))","v":""},{"$f":"IF($B34=\"\",\"\",IF(VLOOKUP($B34,CPPE!$A$2:$BR$177,8,FALSE)<0,VLOOKUP($B34,CPPE!$A$2:$BR$177,8,FALSE),\"\"))","v":""},{"$f":"IF($B34=\"\",\"\",IF(VLOOKUP($B34,CPPE!$A$2:$BR$177,9,FALSE)<0,VLOOKUP($B34,CPPE!$A$2:$BR$177,9,FALSE),\"\"))","v":""},{"$f":"IF($B34=\"\",\"\",IF(VLOOKUP($B34,CPPE!$A$2:$BR$177,10,FALSE)<0,VLOOKUP($B34,CPPE!$A$2:$BR$177,10,FALSE),\"\"))","v":""},{"$f":"IF($B34=\"\",\"\",IF(VLOOKUP($B34,CPPE!$A$2:$BR$177,11,FALSE)<0,VLOOKUP($B34,CPPE!$A$2:$BR$177,11,FALSE),\"\"))","v":""},{"$f":"IF($B34=\"\",\"\",IF(VLOOKUP($B34,CPPE!$A$2:$BR$177,12,FALSE)<0,VLOOKUP($B34,CPPE!$A$2:$BR$177,12,FALSE),\"\"))","v":""},{"$f":"IF($B34=\"\",\"\",IF(VLOOKUP($B34,CPPE!$A$2:$BR$177,13,FALSE)<0,VLOOKUP($B34,CPPE!$A$2:$BR$177,13,FALSE),\"\"))","v":""},{"$f":"IF($B34=\"\",\"\",IF(VLOOKUP($B34,CPPE!$A$2:$BR$177,14,FALSE)<0,VLOOKUP($B34,CPPE!$A$2:$BR$177,14,FALSE),\"\"))","v":""},{"$f":"IF($B34=\"\",\"\",IF(VLOOKUP($B34,CPPE!$A$2:$BR$177,15,FALSE)<0,VLOOKUP($B34,CPPE!$A$2:$BR$177,15,FALSE),\"\"))","v":""},{"$f":"IF($B34=\"\",\"\",IF(VLOOKUP($B34,CPPE!$A$2:$BR$177,16,FALSE)<0,VLOOKUP($B34,CPPE!$A$2:$BR$177,16,FALSE),\"\"))","v":""},{"$f":"IF($B34=\"\",\"\",IF(VLOOKUP($B34,CPPE!$A$2:$BR$177,17,FALSE)<0,VLOOKUP($B34,CPPE!$A$2:$BR$177,17,FALSE),\"\"))","v":""},{"$f":"IF($B34=\"\",\"\",IF(VLOOKUP($B34,CPPE!$A$2:$BR$177,18,FALSE)<0,VLOOKUP($B34,CPPE!$A$2:$BR$177,18,FALSE),\"\"))","v":""},{"$f":"IF($B34=\"\",\"\",IF(VLOOKUP($B34,CPPE!$A$2:$BR$177,19,FALSE)<0,VLOOKUP($B34,CPPE!$A$2:$BR$177,19,FALSE),\"\"))","v":""},{"$f":"IF($B34=\"\",\"\",IF(VLOOKUP($B34,CPPE!$A$2:$BR$177,20,FALSE)<0,VLOOKUP($B34,CPPE!$A$2:$BR$177,20,FALSE),\"\"))","v":""},{"$f":"IF($B34=\"\",\"\",IF(VLOOKUP($B34,CPPE!$A$2:$BR$177,21,FALSE)<0,VLOOKUP($B34,CPPE!$A$2:$BR$177,21,FALSE),\"\"))","v":""},{"$f":"IF($B34=\"\",\"\",IF(VLOOKUP($B34,CPPE!$A$2:$BR$177,22,FALSE)<0,VLOOKUP($B34,CPPE!$A$2:$BR$177,22,FALSE),\"\"))","v":""},{"$f":"IF($B34=\"\",\"\",IF(VLOOKUP($B34,CPPE!$A$2:$BR$177,23,FALSE)<0,VLOOKUP($B34,CPPE!$A$2:$BR$177,23,FALSE),\"\"))","v":""},{"$f":"IF($B34=\"\",\"\",IF(VLOOKUP($B34,CPPE!$A$2:$BR$177,24,FALSE)<0,VLOOKUP($B34,CPPE!$A$2:$BR$177,24,FALSE),\"\"))","v":""},{"$f":"IF($B34=\"\",\"\",IF(VLOOKUP($B34,CPPE!$A$2:$BR$177,25,FALSE)<0,VLOOKUP($B34,CPPE!$A$2:$BR$177,25,FALSE),\"\"))","v":""},{"$f":"IF($B34=\"\",\"\",IF(VLOOKUP($B34,CPPE!$A$2:$BR$177,26,FALSE)<0,VLOOKUP($B34,CPPE!$A$2:$BR$177,26,FALSE),\"\"))","v":""},{"$f":"IF($B34=\"\",\"\",IF(VLOOKUP($B34,CPPE!$A$2:$BR$177,27,FALSE)<0,VLOOKUP($B34,CPPE!$A$2:$BR$177,27,FALSE),\"\"))","v":""},{"$f":"IF($B34=\"\",\"\",IF(VLOOKUP($B34,CPPE!$A$2:$BR$177,28,FALSE)<0,VLOOKUP($B34,CPPE!$A$2:$BR$177,28,FALSE),\"\"))","v":""},{"$f":"IF($B34=\"\",\"\",IF(VLOOKUP($B34,CPPE!$A$2:$BR$177,29,FALSE)<0,VLOOKUP($B34,CPPE!$A$2:$BR$177,29,FALSE),\"\"))","v":""},{"$f":"IF($B34=\"\",\"\",IF(VLOOKUP($B34,CPPE!$A$2:$BR$177,30,FALSE)<0,VLOOKUP($B34,CPPE!$A$2:$BR$177,30,FALSE),\"\"))","v":""},{"$f":"IF($B34=\"\",\"\",IF(VLOOKUP($B34,CPPE!$A$2:$BR$177,31,FALSE)<0,VLOOKUP($B34,CPPE!$A$2:$BR$177,31,FALSE),\"\"))","v":""},{"$f":"IF($B34=\"\",\"\",IF(VLOOKUP($B34,CPPE!$A$2:$BR$177,32,FALSE)<0,VLOOKUP($B34,CPPE!$A$2:$BR$177,32,FALSE),\"\"))","v":""},{"$f":"IF($B34=\"\",\"\",IF(VLOOKUP($B34,CPPE!$A$2:$BR$177,33,FALSE)<0,VLOOKUP($B34,CPPE!$A$2:$BR$177,33,FALSE),\"\"))","v":""},{"$f":"IF($B34=\"\",\"\",IF(VLOOKUP($B34,CPPE!$A$2:$BR$177,34,FALSE)<0,VLOOKUP($B34,CPPE!$A$2:$BR$177,34,FALSE),\"\"))","v":""},{"$f":"IF($B34=\"\",\"\",IF(VLOOKUP($B34,CPPE!$A$2:$BR$177,35,FALSE)<0,VLOOKUP($B34,CPPE!$A$2:$BR$177,35,FALSE),\"\"))","v":""},{"$f":"IF($B34=\"\",\"\",IF(VLOOKUP($B34,CPPE!$A$2:$BR$177,36,FALSE)<0,VLOOKUP($B34,CPPE!$A$2:$BR$177,36,FALSE),\"\"))","v":""},{"$f":"IF($B34=\"\",\"\",IF(VLOOKUP($B34,CPPE!$A$2:$BR$177,37,FALSE)<0,VLOOKUP($B34,CPPE!$A$2:$BR$177,37,FALSE),\"\"))","v":""},{"$f":"IF($B34=\"\",\"\",IF(VLOOKUP($B34,CPPE!$A$2:$BR$177,38,FALSE)<0,VLOOKUP($B34,CPPE!$A$2:$BR$177,38,FALSE),\"\"))","v":""},{"$f":"IF($B34=\"\",\"\",IF(VLOOKUP($B34,CPPE!$A$2:$BR$177,39,FALSE)<0,VLOOKUP($B34,CPPE!$A$2:$BR$177,39,FALSE),\"\"))","v":""},{"$f":"IF($B34=\"\",\"\",IF(VLOOKUP($B34,CPPE!$A$2:$BR$177,40,FALSE)<0,VLOOKUP($B34,CPPE!$A$2:$BR$177,40,FALSE),\"\"))","v":""},{"$f":"IF($B34=\"\",\"\",IF(VLOOKUP($B34,CPPE!$A$2:$BR$177,41,FALSE)<0,VLOOKUP($B34,CPPE!$A$2:$BR$177,41,FALSE),\"\"))","v":""},{"$f":"IF($B34=\"\",\"\",IF(VLOOKUP($B34,CPPE!$A$2:$BR$177,42,FALSE)<0,VLOOKUP($B34,CPPE!$A$2:$BR$177,42,FALSE),\"\"))","v":""},{"$f":"IF($B34=\"\",\"\",IF(VLOOKUP($B34,CPPE!$A$2:$BR$177,43,FALSE)<0,VLOOKUP($B34,CPPE!$A$2:$BR$177,43,FALSE),\"\"))","v":""},{"$f":"IF($B34=\"\",\"\",IF(VLOOKUP($B34,CPPE!$A$2:$BR$177,44,FALSE)<0,VLOOKUP($B34,CPPE!$A$2:$BR$177,44,FALSE),\"\"))","v":""},{"$f":"IF($B34=\"\",\"\",IF(VLOOKUP($B34,CPPE!$A$2:$BR$177,45,FALSE)<0,VLOOKUP($B34,CPPE!$A$2:$BR$177,45,FALSE),\"\"))","v":""},{"$f":"IF($B34=\"\",\"\",IF(VLOOKUP($B34,CPPE!$A$2:$BR$177,46,FALSE)<0,VLOOKUP($B34,CPPE!$A$2:$BR$177,46,FALSE),\"\"))","v":""},{"$f":"IF($B34=\"\",\"\",IF(VLOOKUP($B34,CPPE!$A$2:$BR$177,47,FALSE)<0,VLOOKUP($B34,CPPE!$A$2:$BR$177,47,FALSE),\"\"))","v":""},{"$f":"IF($B34=\"\",\"\",IF(VLOOKUP($B34,CPPE!$A$2:$BR$177,48,FALSE)<0,VLOOKUP($B34,CPPE!$A$2:$BR$177,48,FALSE),\"\"))","v":""},{"$f":"IF($B34=\"\",\"\",IF(VLOOKUP($B34,CPPE!$A$2:$BR$177,49,FALSE)<0,VLOOKUP($B34,CPPE!$A$2:$BR$177,49,FALSE),\"\"))","v":""},{"$f":"IF($B34=\"\",\"\",IF(VLOOKUP($B34,CPPE!$A$2:$BR$177,50,FALSE)<0,VLOOKUP($B34,CPPE!$A$2:$BR$177,50,FALSE),\"\"))","v":""},{"$f":"IF($B34=\"\",\"\",IF(VLOOKUP($B34,CPPE!$A$2:$BR$177,51,FALSE)<0,VLOOKUP($B34,CPPE!$A$2:$BR$177,51,FALSE),\"\"))","v":""},{"$f":"IF($B34=\"\",\"\",IF(VLOOKUP($B34,CPPE!$A$2:$BR$177,52,FALSE)<0,VLOOKUP($B34,CPPE!$A$2:$BR$177,52,FALSE),\"\"))","v":""},{"$f":"IF($B34=\"\",\"\",IF(VLOOKUP($B34,CPPE!$A$2:$BR$177,53,FALSE)<0,VLOOKUP($B34,CPPE!$A$2:$BR$177,53,FALSE),\"\"))","v":""},{"$f":"IF($B34=\"\",\"\",IF(VLOOKUP($B34,CPPE!$A$2:$BR$177,54,FALSE)<0,VLOOKUP($B34,CPPE!$A$2:$BR$177,54,FALSE),\"\"))","v":""},{"$f":"IF($B34=\"\",\"\",IF(VLOOKUP($B34,CPPE!$A$2:$BR$177,55,FALSE)<0,VLOOKUP($B34,CPPE!$A$2:$BR$177,55,FALSE),\"\"))","v":""},{"$f":"IF($B34=\"\",\"\",IF(VLOOKUP($B34,CPPE!$A$2:$BR$177,56,FALSE)<0,VLOOKUP($B34,CPPE!$A$2:$BR$177,56,FALSE),\"\"))","v":""},{"$f":"IF($B34=\"\",\"\",IF(VLOOKUP($B34,CPPE!$A$2:$BR$177,57,FALSE)<0,VLOOKUP($B34,CPPE!$A$2:$BR$177,57,FALSE),\"\"))","v":""},{"$f":"IF($B34=\"\",\"\",IF(VLOOKUP($B34,CPPE!$A$2:$BR$177,58,FALSE)<0,VLOOKUP($B34,CPPE!$A$2:$BR$177,58,FALSE),\"\"))","v":""},{"$f":"IF($B34=\"\",\"\",IF(VLOOKUP($B34,CPPE!$A$2:$BR$177,59,FALSE)<0,VLOOKUP($B34,CPPE!$A$2:$BR$177,59,FALSE),\"\"))","v":""}]
[null,{"$f":"IF(Results!B35=\"\",\"\",Results!B35)","v":""},{"$f":"IF($B35=\"\",\"\",IF(VLOOKUP($B35,CPPE!$A$2:$BR$177,2,FALSE)<0,VLOOKUP($B35,CPPE!$A$2:$BR$177,2,FALSE),\"\"))","v":""},{"$f":"IF($B35=\"\",\"\",IF(VLOOKUP($B35,CPPE!$A$2:$BR$177,3,FALSE)<0,VLOOKUP($B35,CPPE!$A$2:$BR$177,3,FALSE),\"\"))","v":""},{"$f":"IF($B35=\"\",\"\",IF(VLOOKUP($B35,CPPE!$A$2:$BR$177,4,FALSE)<0,VLOOKUP($B35,CPPE!$A$2:$BR$177,4,FALSE),\"\"))","v":""},{"$f":"IF($B35=\"\",\"\",IF(VLOOKUP($B35,CPPE!$A$2:$BR$177,4,FALSE)<0,VLOOKUP($B35,CPPE!$A$2:$BR$177,5,FALSE),\"\"))","v":""},{"$f":"IF($B35=\"\",\"\",IF(VLOOKUP($B35,CPPE!$A$2:$BR$177,5,FALSE)<0,VLOOKUP($B35,CPPE!$A$2:$BR$177,6,FALSE),\"\"))","v":""},{"$f":"IF($B35=\"\",\"\",IF(VLOOKUP($B35,CPPE!$A$2:$BR$177,7,FALSE)<0,VLOOKUP($B35,CPPE!$A$2:$BR$177,7,FALSE),\"\"))","v":""},{"$f":"IF($B35=\"\",\"\",IF(VLOOKUP($B35,CPPE!$A$2:$BR$177,8,FALSE)<0,VLOOKUP($B35,CPPE!$A$2:$BR$177,8,FALSE),\"\"))","v":""},{"$f":"IF($B35=\"\",\"\",IF(VLOOKUP($B35,CPPE!$A$2:$BR$177,9,FALSE)<0,VLOOKUP($B35,CPPE!$A$2:$BR$177,9,FALSE),\"\"))","v":""},{"$f":"IF($B35=\"\",\"\",IF(VLOOKUP($B35,CPPE!$A$2:$BR$177,10,FALSE)<0,VLOOKUP($B35,CPPE!$A$2:$BR$177,10,FALSE),\"\"))","v":""},{"$f":"IF($B35=\"\",\"\",IF(VLOOKUP($B35,CPPE!$A$2:$BR$177,11,FALSE)<0,VLOOKUP($B35,CPPE!$A$2:$BR$177,11,FALSE),\"\"))","v":""},{"$f":"IF($B35=\"\",\"\",IF(VLOOKUP($B35,CPPE!$A$2:$BR$177,12,FALSE)<0,VLOOKUP($B35,CPPE!$A$2:$BR$177,12,FALSE),\"\"))","v":""},{"$f":"IF($B35=\"\",\"\",IF(VLOOKUP($B35,CPPE!$A$2:$BR$177,13,FALSE)<0,VLOOKUP($B35,CPPE!$A$2:$BR$177,13,FALSE),\"\"))","v":""},{"$f":"IF($B35=\"\",\"\",IF(VLOOKUP($B35,CPPE!$A$2:$BR$177,14,FALSE)<0,VLOOKUP($B35,CPPE!$A$2:$BR$177,14,FALSE),\"\"))","v":""},{"$f":"IF($B35=\"\",\"\",IF(VLOOKUP($B35,CPPE!$A$2:$BR$177,15,FALSE)<0,VLOOKUP($B35,CPPE!$A$2:$BR$177,15,FALSE),\"\"))","v":""},{"$f":"IF($B35=\"\",\"\",IF(VLOOKUP($B35,CPPE!$A$2:$BR$177,16,FALSE)<0,VLOOKUP($B35,CPPE!$A$2:$BR$177,16,FALSE),\"\"))","v":""},{"$f":"IF($B35=\"\",\"\",IF(VLOOKUP($B35,CPPE!$A$2:$BR$177,17,FALSE)<0,VLOOKUP($B35,CPPE!$A$2:$BR$177,17,FALSE),\"\"))","v":""},{"$f":"IF($B35=\"\",\"\",IF(VLOOKUP($B35,CPPE!$A$2:$BR$177,18,FALSE)<0,VLOOKUP($B35,CPPE!$A$2:$BR$177,18,FALSE),\"\"))","v":""},{"$f":"IF($B35=\"\",\"\",IF(VLOOKUP($B35,CPPE!$A$2:$BR$177,19,FALSE)<0,VLOOKUP($B35,CPPE!$A$2:$BR$177,19,FALSE),\"\"))","v":""},{"$f":"IF($B35=\"\",\"\",IF(VLOOKUP($B35,CPPE!$A$2:$BR$177,20,FALSE)<0,VLOOKUP($B35,CPPE!$A$2:$BR$177,20,FALSE),\"\"))","v":""},{"$f":"IF($B35=\"\",\"\",IF(VLOOKUP($B35,CPPE!$A$2:$BR$177,21,FALSE)<0,VLOOKUP($B35,CPPE!$A$2:$BR$177,21,FALSE),\"\"))","v":""},{"$f":"IF($B35=\"\",\"\",IF(VLOOKUP($B35,CPPE!$A$2:$BR$177,22,FALSE)<0,VLOOKUP($B35,CPPE!$A$2:$BR$177,22,FALSE),\"\"))","v":""},{"$f":"IF($B35=\"\",\"\",IF(VLOOKUP($B35,CPPE!$A$2:$BR$177,23,FALSE)<0,VLOOKUP($B35,CPPE!$A$2:$BR$177,23,FALSE),\"\"))","v":""},{"$f":"IF($B35=\"\",\"\",IF(VLOOKUP($B35,CPPE!$A$2:$BR$177,24,FALSE)<0,VLOOKUP($B35,CPPE!$A$2:$BR$177,24,FALSE),\"\"))","v":""},{"$f":"IF($B35=\"\",\"\",IF(VLOOKUP($B35,CPPE!$A$2:$BR$177,25,FALSE)<0,VLOOKUP($B35,CPPE!$A$2:$BR$177,25,FALSE),\"\"))","v":""},{"$f":"IF($B35=\"\",\"\",IF(VLOOKUP($B35,CPPE!$A$2:$BR$177,26,FALSE)<0,VLOOKUP($B35,CPPE!$A$2:$BR$177,26,FALSE),\"\"))","v":""},{"$f":"IF($B35=\"\",\"\",IF(VLOOKUP($B35,CPPE!$A$2:$BR$177,27,FALSE)<0,VLOOKUP($B35,CPPE!$A$2:$BR$177,27,FALSE),\"\"))","v":""},{"$f":"IF($B35=\"\",\"\",IF(VLOOKUP($B35,CPPE!$A$2:$BR$177,28,FALSE)<0,VLOOKUP($B35,CPPE!$A$2:$BR$177,28,FALSE),\"\"))","v":""},{"$f":"IF($B35=\"\",\"\",IF(VLOOKUP($B35,CPPE!$A$2:$BR$177,29,FALSE)<0,VLOOKUP($B35,CPPE!$A$2:$BR$177,29,FALSE),\"\"))","v":""},{"$f":"IF($B35=\"\",\"\",IF(VLOOKUP($B35,CPPE!$A$2:$BR$177,30,FALSE)<0,VLOOKUP($B35,CPPE!$A$2:$BR$177,30,FALSE),\"\"))","v":""},{"$f":"IF($B35=\"\",\"\",IF(VLOOKUP($B35,CPPE!$A$2:$BR$177,31,FALSE)<0,VLOOKUP($B35,CPPE!$A$2:$BR$177,31,FALSE),\"\"))","v":""},{"$f":"IF($B35=\"\",\"\",IF(VLOOKUP($B35,CPPE!$A$2:$BR$177,32,FALSE)<0,VLOOKUP($B35,CPPE!$A$2:$BR$177,32,FALSE),\"\"))","v":""},{"$f":"IF($B35=\"\",\"\",IF(VLOOKUP($B35,CPPE!$A$2:$BR$177,33,FALSE)<0,VLOOKUP($B35,CPPE!$A$2:$BR$177,33,FALSE),\"\"))","v":""},{"$f":"IF($B35=\"\",\"\",IF(VLOOKUP($B35,CPPE!$A$2:$BR$177,34,FALSE)<0,VLOOKUP($B35,CPPE!$A$2:$BR$177,34,FALSE),\"\"))","v":""},{"$f":"IF($B35=\"\",\"\",IF(VLOOKUP($B35,CPPE!$A$2:$BR$177,35,FALSE)<0,VLOOKUP($B35,CPPE!$A$2:$BR$177,35,FALSE),\"\"))","v":""},{"$f":"IF($B35=\"\",\"\",IF(VLOOKUP($B35,CPPE!$A$2:$BR$177,36,FALSE)<0,VLOOKUP($B35,CPPE!$A$2:$BR$177,36,FALSE),\"\"))","v":""},{"$f":"IF($B35=\"\",\"\",IF(VLOOKUP($B35,CPPE!$A$2:$BR$177,37,FALSE)<0,VLOOKUP($B35,CPPE!$A$2:$BR$177,37,FALSE),\"\"))","v":""},{"$f":"IF($B35=\"\",\"\",IF(VLOOKUP($B35,CPPE!$A$2:$BR$177,38,FALSE)<0,VLOOKUP($B35,CPPE!$A$2:$BR$177,38,FALSE),\"\"))","v":""},{"$f":"IF($B35=\"\",\"\",IF(VLOOKUP($B35,CPPE!$A$2:$BR$177,39,FALSE)<0,VLOOKUP($B35,CPPE!$A$2:$BR$177,39,FALSE),\"\"))","v":""},{"$f":"IF($B35=\"\",\"\",IF(VLOOKUP($B35,CPPE!$A$2:$BR$177,40,FALSE)<0,VLOOKUP($B35,CPPE!$A$2:$BR$177,40,FALSE),\"\"))","v":""},{"$f":"IF($B35=\"\",\"\",IF(VLOOKUP($B35,CPPE!$A$2:$BR$177,41,FALSE)<0,VLOOKUP($B35,CPPE!$A$2:$BR$177,41,FALSE),\"\"))","v":""},{"$f":"IF($B35=\"\",\"\",IF(VLOOKUP($B35,CPPE!$A$2:$BR$177,42,FALSE)<0,VLOOKUP($B35,CPPE!$A$2:$BR$177,42,FALSE),\"\"))","v":""},{"$f":"IF($B35=\"\",\"\",IF(VLOOKUP($B35,CPPE!$A$2:$BR$177,43,FALSE)<0,VLOOKUP($B35,CPPE!$A$2:$BR$177,43,FALSE),\"\"))","v":""},{"$f":"IF($B35=\"\",\"\",IF(VLOOKUP($B35,CPPE!$A$2:$BR$177,44,FALSE)<0,VLOOKUP($B35,CPPE!$A$2:$BR$177,44,FALSE),\"\"))","v":""},{"$f":"IF($B35=\"\",\"\",IF(VLOOKUP($B35,CPPE!$A$2:$BR$177,45,FALSE)<0,VLOOKUP($B35,CPPE!$A$2:$BR$177,45,FALSE),\"\"))","v":""},{"$f":"IF($B35=\"\",\"\",IF(VLOOKUP($B35,CPPE!$A$2:$BR$177,46,FALSE)<0,VLOOKUP($B35,CPPE!$A$2:$BR$177,46,FALSE),\"\"))","v":""},{"$f":"IF($B35=\"\",\"\",IF(VLOOKUP($B35,CPPE!$A$2:$BR$177,47,FALSE)<0,VLOOKUP($B35,CPPE!$A$2:$BR$177,47,FALSE),\"\"))","v":""},{"$f":"IF($B35=\"\",\"\",IF(VLOOKUP($B35,CPPE!$A$2:$BR$177,48,FALSE)<0,VLOOKUP($B35,CPPE!$A$2:$BR$177,48,FALSE),\"\"))","v":""},{"$f":"IF($B35=\"\",\"\",IF(VLOOKUP($B35,CPPE!$A$2:$BR$177,49,FALSE)<0,VLOOKUP($B35,CPPE!$A$2:$BR$177,49,FALSE),\"\"))","v":""},{"$f":"IF($B35=\"\",\"\",IF(VLOOKUP($B35,CPPE!$A$2:$BR$177,50,FALSE)<0,VLOOKUP($B35,CPPE!$A$2:$BR$177,50,FALSE),\"\"))","v":""},{"$f":"IF($B35=\"\",\"\",IF(VLOOKUP($B35,CPPE!$A$2:$BR$177,51,FALSE)<0,VLOOKUP($B35,CPPE!$A$2:$BR$177,51,FALSE),\"\"))","v":""},{"$f":"IF($B35=\"\",\"\",IF(VLOOKUP($B35,CPPE!$A$2:$BR$177,52,FALSE)<0,VLOOKUP($B35,CPPE!$A$2:$BR$177,52,FALSE),\"\"))","v":""},{"$f":"IF($B35=\"\",\"\",IF(VLOOKUP($B35,CPPE!$A$2:$BR$177,53,FALSE)<0,VLOOKUP($B35,CPPE!$A$2:$BR$177,53,FALSE),\"\"))","v":""},{"$f":"IF($B35=\"\",\"\",IF(VLOOKUP($B35,CPPE!$A$2:$BR$177,54,FALSE)<0,VLOOKUP($B35,CPPE!$A$2:$BR$177,54,FALSE),\"\"))","v":""},{"$f":"IF($B35=\"\",\"\",IF(VLOOKUP($B35,CPPE!$A$2:$BR$177,55,FALSE)<0,VLOOKUP($B35,CPPE!$A$2:$BR$177,55,FALSE),\"\"))","v":""},{"$f":"IF($B35=\"\",\"\",IF(VLOOKUP($B35,CPPE!$A$2:$BR$177,56,FALSE)<0,VLOOKUP($B35,CPPE!$A$2:$BR$177,56,FALSE),\"\"))","v":""},{"$f":"IF($B35=\"\",\"\",IF(VLOOKUP($B35,CPPE!$A$2:$BR$177,57,FALSE)<0,VLOOKUP($B35,CPPE!$A$2:$BR$177,57,FALSE),\"\"))","v":""},{"$f":"IF($B35=\"\",\"\",IF(VLOOKUP($B35,CPPE!$A$2:$BR$177,58,FALSE)<0,VLOOKUP($B35,CPPE!$A$2:$BR$177,58,FALSE),\"\"))","v":""},{"$f":"IF($B35=\"\",\"\",IF(VLOOKUP($B35,CPPE!$A$2:$BR$177,59,FALSE)<0,VLOOKUP($B35,CPPE!$A$2:$BR$177,59,FALSE),\"\"))","v":""}]
[null,{"$f":"IF(Results!B36=\"\",\"\",Results!B36)","v":""},{"$f":"IF($B36=\"\",\"\",IF(VLOOKUP($B36,CPPE!$A$2:$BR$177,2,FALSE)<0,VLOOKUP($B36,CPPE!$A$2:$BR$177,2,FALSE),\"\"))","v":""},{"$f":"IF($B36=\"\",\"\",IF(VLOOKUP($B36,CPPE!$A$2:$BR$177,3,FALSE)<0,VLOOKUP($B36,CPPE!$A$2:$BR$177,3,FALSE),\"\"))","v":""},{"$f":"IF($B36=\"\",\"\",IF(VLOOKUP($B36,CPPE!$A$2:$BR$177,4,FALSE)<0,VLOOKUP($B36,CPPE!$A$2:$BR$177,4,FALSE),\"\"))","v":""},{"$f":"IF($B36=\"\",\"\",IF(VLOOKUP($B36,CPPE!$A$2:$BR$177,4,FALSE)<0,VLOOKUP($B36,CPPE!$A$2:$BR$177,5,FALSE),\"\"))","v":""},{"$f":"IF($B36=\"\",\"\",IF(VLOOKUP($B36,CPPE!$A$2:$BR$177,5,FALSE)<0,VLOOKUP($B36,CPPE!$A$2:$BR$177,6,FALSE),\"\"))","v":""},{"$f":"IF($B36=\"\",\"\",IF(VLOOKUP($B36,CPPE!$A$2:$BR$177,7,FALSE)<0,VLOOKUP($B36,CPPE!$A$2:$BR$177,7,FALSE),\"\"))","v":""},{"$f":"IF($B36=\"\",\"\",IF(VLOOKUP($B36,CPPE!$A$2:$BR$177,8,FALSE)<0,VLOOKUP($B36,CPPE!$A$2:$BR$177,8,FALSE),\"\"))","v":""},{"$f":"IF($B36=\"\",\"\",IF(VLOOKUP($B36,CPPE!$A$2:$BR$177,9,FALSE)<0,VLOOKUP($B36,CPPE!$A$2:$BR$177,9,FALSE),\"\"))","v":""},{"$f":"IF($B36=\"\",\"\",IF(VLOOKUP($B36,CPPE!$A$2:$BR$177,10,FALSE)<0,VLOOKUP($B36,CPPE!$A$2:$BR$177,10,FALSE),\"\"))","v":""},{"$f":"IF($B36=\"\",\"\",IF(VLOOKUP($B36,CPPE!$A$2:$BR$177,11,FALSE)<0,VLOOKUP($B36,CPPE!$A$2:$BR$177,11,FALSE),\"\"))","v":""},{"$f":"IF($B36=\"\",\"\",IF(VLOOKUP($B36,CPPE!$A$2:$BR$177,12,FALSE)<0,VLOOKUP($B36,CPPE!$A$2:$BR$177,12,FALSE),\"\"))","v":""},{"$f":"IF($B36=\"\",\"\",IF(VLOOKUP($B36,CPPE!$A$2:$BR$177,13,FALSE)<0,VLOOKUP($B36,CPPE!$A$2:$BR$177,13,FALSE),\"\"))","v":""},{"$f":"IF($B36=\"\",\"\",IF(VLOOKUP($B36,CPPE!$A$2:$BR$177,14,FALSE)<0,VLOOKUP($B36,CPPE!$A$2:$BR$177,14,FALSE),\"\"))","v":""},{"$f":"IF($B36=\"\",\"\",IF(VLOOKUP($B36,CPPE!$A$2:$BR$177,15,FALSE)<0,VLOOKUP($B36,CPPE!$A$2:$BR$177,15,FALSE),\"\"))","v":""},{"$f":"IF($B36=\"\",\"\",IF(VLOOKUP($B36,CPPE!$A$2:$BR$177,16,FALSE)<0,VLOOKUP($B36,CPPE!$A$2:$BR$177,16,FALSE),\"\"))","v":""},{"$f":"IF($B36=\"\",\"\",IF(VLOOKUP($B36,CPPE!$A$2:$BR$177,17,FALSE)<0,VLOOKUP($B36,CPPE!$A$2:$BR$177,17,FALSE),\"\"))","v":""},{"$f":"IF($B36=\"\",\"\",IF(VLOOKUP($B36,CPPE!$A$2:$BR$177,18,FALSE)<0,VLOOKUP($B36,CPPE!$A$2:$BR$177,18,FALSE),\"\"))","v":""},{"$f":"IF($B36=\"\",\"\",IF(VLOOKUP($B36,CPPE!$A$2:$BR$177,19,FALSE)<0,VLOOKUP($B36,CPPE!$A$2:$BR$177,19,FALSE),\"\"))","v":""},{"$f":"IF($B36=\"\",\"\",IF(VLOOKUP($B36,CPPE!$A$2:$BR$177,20,FALSE)<0,VLOOKUP($B36,CPPE!$A$2:$BR$177,20,FALSE),\"\"))","v":""},{"$f":"IF($B36=\"\",\"\",IF(VLOOKUP($B36,CPPE!$A$2:$BR$177,21,FALSE)<0,VLOOKUP($B36,CPPE!$A$2:$BR$177,21,FALSE),\"\"))","v":""},{"$f":"IF($B36=\"\",\"\",IF(VLOOKUP($B36,CPPE!$A$2:$BR$177,22,FALSE)<0,VLOOKUP($B36,CPPE!$A$2:$BR$177,22,FALSE),\"\"))","v":""},{"$f":"IF($B36=\"\",\"\",IF(VLOOKUP($B36,CPPE!$A$2:$BR$177,23,FALSE)<0,VLOOKUP($B36,CPPE!$A$2:$BR$177,23,FALSE),\"\"))","v":""},{"$f":"IF($B36=\"\",\"\",IF(VLOOKUP($B36,CPPE!$A$2:$BR$177,24,FALSE)<0,VLOOKUP($B36,CPPE!$A$2:$BR$177,24,FALSE),\"\"))","v":""},{"$f":"IF($B36=\"\",\"\",IF(VLOOKUP($B36,CPPE!$A$2:$BR$177,25,FALSE)<0,VLOOKUP($B36,CPPE!$A$2:$BR$177,25,FALSE),\"\"))","v":""},{"$f":"IF($B36=\"\",\"\",IF(VLOOKUP($B36,CPPE!$A$2:$BR$177,26,FALSE)<0,VLOOKUP($B36,CPPE!$A$2:$BR$177,26,FALSE),\"\"))","v":""},{"$f":"IF($B36=\"\",\"\",IF(VLOOKUP($B36,CPPE!$A$2:$BR$177,27,FALSE)<0,VLOOKUP($B36,CPPE!$A$2:$BR$177,27,FALSE),\"\"))","v":""},{"$f":"IF($B36=\"\",\"\",IF(VLOOKUP($B36,CPPE!$A$2:$BR$177,28,FALSE)<0,VLOOKUP($B36,CPPE!$A$2:$BR$177,28,FALSE),\"\"))","v":""},{"$f":"IF($B36=\"\",\"\",IF(VLOOKUP($B36,CPPE!$A$2:$BR$177,29,FALSE)<0,VLOOKUP($B36,CPPE!$A$2:$BR$177,29,FALSE),\"\"))","v":""},{"$f":"IF($B36=\"\",\"\",IF(VLOOKUP($B36,CPPE!$A$2:$BR$177,30,FALSE)<0,VLOOKUP($B36,CPPE!$A$2:$BR$177,30,FALSE),\"\"))","v":""},{"$f":"IF($B36=\"\",\"\",IF(VLOOKUP($B36,CPPE!$A$2:$BR$177,31,FALSE)<0,VLOOKUP($B36,CPPE!$A$2:$BR$177,31,FALSE),\"\"))","v":""},{"$f":"IF($B36=\"\",\"\",IF(VLOOKUP($B36,CPPE!$A$2:$BR$177,32,FALSE)<0,VLOOKUP($B36,CPPE!$A$2:$BR$177,32,FALSE),\"\"))","v":""},{"$f":"IF($B36=\"\",\"\",IF(VLOOKUP($B36,CPPE!$A$2:$BR$177,33,FALSE)<0,VLOOKUP($B36,CPPE!$A$2:$BR$177,33,FALSE),\"\"))","v":""},{"$f":"IF($B36=\"\",\"\",IF(VLOOKUP($B36,CPPE!$A$2:$BR$177,34,FALSE)<0,VLOOKUP($B36,CPPE!$A$2:$BR$177,34,FALSE),\"\"))","v":""},{"$f":"IF($B36=\"\",\"\",IF(VLOOKUP($B36,CPPE!$A$2:$BR$177,35,FALSE)<0,VLOOKUP($B36,CPPE!$A$2:$BR$177,35,FALSE),\"\"))","v":""},{"$f":"IF($B36=\"\",\"\",IF(VLOOKUP($B36,CPPE!$A$2:$BR$177,36,FALSE)<0,VLOOKUP($B36,CPPE!$A$2:$BR$177,36,FALSE),\"\"))","v":""},{"$f":"IF($B36=\"\",\"\",IF(VLOOKUP($B36,CPPE!$A$2:$BR$177,37,FALSE)<0,VLOOKUP($B36,CPPE!$A$2:$BR$177,37,FALSE),\"\"))","v":""},{"$f":"IF($B36=\"\",\"\",IF(VLOOKUP($B36,CPPE!$A$2:$BR$177,38,FALSE)<0,VLOOKUP($B36,CPPE!$A$2:$BR$177,38,FALSE),\"\"))","v":""},{"$f":"IF($B36=\"\",\"\",IF(VLOOKUP($B36,CPPE!$A$2:$BR$177,39,FALSE)<0,VLOOKUP($B36,CPPE!$A$2:$BR$177,39,FALSE),\"\"))","v":""},{"$f":"IF($B36=\"\",\"\",IF(VLOOKUP($B36,CPPE!$A$2:$BR$177,40,FALSE)<0,VLOOKUP($B36,CPPE!$A$2:$BR$177,40,FALSE),\"\"))","v":""},{"$f":"IF($B36=\"\",\"\",IF(VLOOKUP($B36,CPPE!$A$2:$BR$177,41,FALSE)<0,VLOOKUP($B36,CPPE!$A$2:$BR$177,41,FALSE),\"\"))","v":""},{"$f":"IF($B36=\"\",\"\",IF(VLOOKUP($B36,CPPE!$A$2:$BR$177,42,FALSE)<0,VLOOKUP($B36,CPPE!$A$2:$BR$177,42,FALSE),\"\"))","v":""},{"$f":"IF($B36=\"\",\"\",IF(VLOOKUP($B36,CPPE!$A$2:$BR$177,43,FALSE)<0,VLOOKUP($B36,CPPE!$A$2:$BR$177,43,FALSE),\"\"))","v":""},{"$f":"IF($B36=\"\",\"\",IF(VLOOKUP($B36,CPPE!$A$2:$BR$177,44,FALSE)<0,VLOOKUP($B36,CPPE!$A$2:$BR$177,44,FALSE),\"\"))","v":""},{"$f":"IF($B36=\"\",\"\",IF(VLOOKUP($B36,CPPE!$A$2:$BR$177,45,FALSE)<0,VLOOKUP($B36,CPPE!$A$2:$BR$177,45,FALSE),\"\"))","v":""},{"$f":"IF($B36=\"\",\"\",IF(VLOOKUP($B36,CPPE!$A$2:$BR$177,46,FALSE)<0,VLOOKUP($B36,CPPE!$A$2:$BR$177,46,FALSE),\"\"))","v":""},{"$f":"IF($B36=\"\",\"\",IF(VLOOKUP($B36,CPPE!$A$2:$BR$177,47,FALSE)<0,VLOOKUP($B36,CPPE!$A$2:$BR$177,47,FALSE),\"\"))","v":""},{"$f":"IF($B36=\"\",\"\",IF(VLOOKUP($B36,CPPE!$A$2:$BR$177,48,FALSE)<0,VLOOKUP($B36,CPPE!$A$2:$BR$177,48,FALSE),\"\"))","v":""},{"$f":"IF($B36=\"\",\"\",IF(VLOOKUP($B36,CPPE!$A$2:$BR$177,49,FALSE)<0,VLOOKUP($B36,CPPE!$A$2:$BR$177,49,FALSE),\"\"))","v":""},{"$f":"IF($B36=\"\",\"\",IF(VLOOKUP($B36,CPPE!$A$2:$BR$177,50,FALSE)<0,VLOOKUP($B36,CPPE!$A$2:$BR$177,50,FALSE),\"\"))","v":""},{"$f":"IF($B36=\"\",\"\",IF(VLOOKUP($B36,CPPE!$A$2:$BR$177,51,FALSE)<0,VLOOKUP($B36,CPPE!$A$2:$BR$177,51,FALSE),\"\"))","v":""},{"$f":"IF($B36=\"\",\"\",IF(VLOOKUP($B36,CPPE!$A$2:$BR$177,52,FALSE)<0,VLOOKUP($B36,CPPE!$A$2:$BR$177,52,FALSE),\"\"))","v":""},{"$f":"IF($B36=\"\",\"\",IF(VLOOKUP($B36,CPPE!$A$2:$BR$177,53,FALSE)<0,VLOOKUP($B36,CPPE!$A$2:$BR$177,53,FALSE),\"\"))","v":""},{"$f":"IF($B36=\"\",\"\",IF(VLOOKUP($B36,CPPE!$A$2:$BR$177,54,FALSE)<0,VLOOKUP($B36,CPPE!$A$2:$BR$177,54,FALSE),\"\"))","v":""},{"$f":"IF($B36=\"\",\"\",IF(VLOOKUP($B36,CPPE!$A$2:$BR$177,55,FALSE)<0,VLOOKUP($B36,CPPE!$A$2:$BR$177,55,FALSE),\"\"))","v":""},{"$f":"IF($B36=\"\",\"\",IF(VLOOKUP($B36,CPPE!$A$2:$BR$177,56,FALSE)<0,VLOOKUP($B36,CPPE!$A$2:$BR$177,56,FALSE),\"\"))","v":""},{"$f":"IF($B36=\"\",\"\",IF(VLOOKUP($B36,CPPE!$A$2:$BR$177,57,FALSE)<0,VLOOKUP($B36,CPPE!$A$2:$BR$177,57,FALSE),\"\"))","v":""},{"$f":"IF($B36=\"\",\"\",IF(VLOOKUP($B36,CPPE!$A$2:$BR$177,58,FALSE)<0,VLOOKUP($B36,CPPE!$A$2:$BR$177,58,FALSE),\"\"))","v":""},{"$f":"IF($B36=\"\",\"\",IF(VLOOKUP($B36,CPPE!$A$2:$BR$177,59,FALSE)<0,VLOOKUP($B36,CPPE!$A$2:$BR$177,59,FALSE),\"\"))","v":""}]
[null,{"$f":"IF(Results!B37=\"\",\"\",Results!B37)","v":""},{"$f":"IF($B37=\"\",\"\",IF(VLOOKUP($B37,CPPE!$A$2:$BR$177,2,FALSE)<0,VLOOKUP($B37,CPPE!$A$2:$BR$177,2,FALSE),\"\"))","v":""},{"$f":"IF($B37=\"\",\"\",IF(VLOOKUP($B37,CPPE!$A$2:$BR$177,3,FALSE)<0,VLOOKUP($B37,CPPE!$A$2:$BR$177,3,FALSE),\"\"))","v":""},{"$f":"IF($B37=\"\",\"\",IF(VLOOKUP($B37,CPPE!$A$2:$BR$177,4,FALSE)<0,VLOOKUP($B37,CPPE!$A$2:$BR$177,4,FALSE),\"\"))","v":""},{"$f":"IF($B37=\"\",\"\",IF(VLOOKUP($B37,CPPE!$A$2:$BR$177,4,FALSE)<0,VLOOKUP($B37,CPPE!$A$2:$BR$177,5,FALSE),\"\"))","v":""},{"$f":"IF($B37=\"\",\"\",IF(VLOOKUP($B37,CPPE!$A$2:$BR$177,5,FALSE)<0,VLOOKUP($B37,CPPE!$A$2:$BR$177,6,FALSE),\"\"))","v":""},{"$f":"IF($B37=\"\",\"\",IF(VLOOKUP($B37,CPPE!$A$2:$BR$177,7,FALSE)<0,VLOOKUP($B37,CPPE!$A$2:$BR$177,7,FALSE),\"\"))","v":""},{"$f":"IF($B37=\"\",\"\",IF(VLOOKUP($B37,CPPE!$A$2:$BR$177,8,FALSE)<0,VLOOKUP($B37,CPPE!$A$2:$BR$177,8,FALSE),\"\"))","v":""},{"$f":"IF($B37=\"\",\"\",IF(VLOOKUP($B37,CPPE!$A$2:$BR$177,9,FALSE)<0,VLOOKUP($B37,CPPE!$A$2:$BR$177,9,FALSE),\"\"))","v":""},{"$f":"IF($B37=\"\",\"\",IF(VLOOKUP($B37,CPPE!$A$2:$BR$177,10,FALSE)<0,VLOOKUP($B37,CPPE!$A$2:$BR$177,10,FALSE),\"\"))","v":""},{"$f":"IF($B37=\"\",\"\",IF(VLOOKUP($B37,CPPE!$A$2:$BR$177,11,FALSE)<0,VLOOKUP($B37,CPPE!$A$2:$BR$177,11,FALSE),\"\"))","v":""},{"$f":"IF($B37=\"\",\"\",IF(VLOOKUP($B37,CPPE!$A$2:$BR$177,12,FALSE)<0,VLOOKUP($B37,CPPE!$A$2:$BR$177,12,FALSE),\"\"))","v":""},{"$f":"IF($B37=\"\",\"\",IF(VLOOKUP($B37,CPPE!$A$2:$BR$177,13,FALSE)<0,VLOOKUP($B37,CPPE!$A$2:$BR$177,13,FALSE),\"\"))","v":""},{"$f":"IF($B37=\"\",\"\",IF(VLOOKUP($B37,CPPE!$A$2:$BR$177,14,FALSE)<0,VLOOKUP($B37,CPPE!$A$2:$BR$177,14,FALSE),\"\"))","v":""},{"$f":"IF($B37=\"\",\"\",IF(VLOOKUP($B37,CPPE!$A$2:$BR$177,15,FALSE)<0,VLOOKUP($B37,CPPE!$A$2:$BR$177,15,FALSE),\"\"))","v":""},{"$f":"IF($B37=\"\",\"\",IF(VLOOKUP($B37,CPPE!$A$2:$BR$177,16,FALSE)<0,VLOOKUP($B37,CPPE!$A$2:$BR$177,16,FALSE),\"\"))","v":""},{"$f":"IF($B37=\"\",\"\",IF(VLOOKUP($B37,CPPE!$A$2:$BR$177,17,FALSE)<0,VLOOKUP($B37,CPPE!$A$2:$BR$177,17,FALSE),\"\"))","v":""},{"$f":"IF($B37=\"\",\"\",IF(VLOOKUP($B37,CPPE!$A$2:$BR$177,18,FALSE)<0,VLOOKUP($B37,CPPE!$A$2:$BR$177,18,FALSE),\"\"))","v":""},{"$f":"IF($B37=\"\",\"\",IF(VLOOKUP($B37,CPPE!$A$2:$BR$177,19,FALSE)<0,VLOOKUP($B37,CPPE!$A$2:$BR$177,19,FALSE),\"\"))","v":""},{"$f":"IF($B37=\"\",\"\",IF(VLOOKUP($B37,CPPE!$A$2:$BR$177,20,FALSE)<0,VLOOKUP($B37,CPPE!$A$2:$BR$177,20,FALSE),\"\"))","v":""},{"$f":"IF($B37=\"\",\"\",IF(VLOOKUP($B37,CPPE!$A$2:$BR$177,21,FALSE)<0,VLOOKUP($B37,CPPE!$A$2:$BR$177,21,FALSE),\"\"))","v":""},{"$f":"IF($B37=\"\",\"\",IF(VLOOKUP($B37,CPPE!$A$2:$BR$177,22,FALSE)<0,VLOOKUP($B37,CPPE!$A$2:$BR$177,22,FALSE),\"\"))","v":""},{"$f":"IF($B37=\"\",\"\",IF(VLOOKUP($B37,CPPE!$A$2:$BR$177,23,FALSE)<0,VLOOKUP($B37,CPPE!$A$2:$BR$177,23,FALSE),\"\"))","v":""},{"$f":"IF($B37=\"\",\"\",IF(VLOOKUP($B37,CPPE!$A$2:$BR$177,24,FALSE)<0,VLOOKUP($B37,CPPE!$A$2:$BR$177,24,FALSE),\"\"))","v":""},{"$f":"IF($B37=\"\",\"\",IF(VLOOKUP($B37,CPPE!$A$2:$BR$177,25,FALSE)<0,VLOOKUP($B37,CPPE!$A$2:$BR$177,25,FALSE),\"\"))","v":""},{"$f":"IF($B37=\"\",\"\",IF(VLOOKUP($B37,CPPE!$A$2:$BR$177,26,FALSE)<0,VLOOKUP($B37,CPPE!$A$2:$BR$177,26,FALSE),\"\"))","v":""},{"$f":"IF($B37=\"\",\"\",IF(VLOOKUP($B37,CPPE!$A$2:$BR$177,27,FALSE)<0,VLOOKUP($B37,CPPE!$A$2:$BR$177,27,FALSE),\"\"))","v":""},{"$f":"IF($B37=\"\",\"\",IF(VLOOKUP($B37,CPPE!$A$2:$BR$177,28,FALSE)<0,VLOOKUP($B37,CPPE!$A$2:$BR$177,28,FALSE),\"\"))","v":""},{"$f":"IF($B37=\"\",\"\",IF(VLOOKUP($B37,CPPE!$A$2:$BR$177,29,FALSE)<0,VLOOKUP($B37,CPPE!$A$2:$BR$177,29,FALSE),\"\"))","v":""},{"$f":"IF($B37=\"\",\"\",IF(VLOOKUP($B37,CPPE!$A$2:$BR$177,30,FALSE)<0,VLOOKUP($B37,CPPE!$A$2:$BR$177,30,FALSE),\"\"))","v":""},{"$f":"IF($B37=\"\",\"\",IF(VLOOKUP($B37,CPPE!$A$2:$BR$177,31,FALSE)<0,VLOOKUP($B37,CPPE!$A$2:$BR$177,31,FALSE),\"\"))","v":""},{"$f":"IF($B37=\"\",\"\",IF(VLOOKUP($B37,CPPE!$A$2:$BR$177,32,FALSE)<0,VLOOKUP($B37,CPPE!$A$2:$BR$177,32,FALSE),\"\"))","v":""},{"$f":"IF($B37=\"\",\"\",IF(VLOOKUP($B37,CPPE!$A$2:$BR$177,33,FALSE)<0,VLOOKUP($B37,CPPE!$A$2:$BR$177,33,FALSE),\"\"))","v":""},{"$f":"IF($B37=\"\",\"\",IF(VLOOKUP($B37,CPPE!$A$2:$BR$177,34,FALSE)<0,VLOOKUP($B37,CPPE!$A$2:$BR$177,34,FALSE),\"\"))","v":""},{"$f":"IF($B37=\"\",\"\",IF(VLOOKUP($B37,CPPE!$A$2:$BR$177,35,FALSE)<0,VLOOKUP($B37,CPPE!$A$2:$BR$177,35,FALSE),\"\"))","v":""},{"$f":"IF($B37=\"\",\"\",IF(VLOOKUP($B37,CPPE!$A$2:$BR$177,36,FALSE)<0,VLOOKUP($B37,CPPE!$A$2:$BR$177,36,FALSE),\"\"))","v":""},{"$f":"IF($B37=\"\",\"\",IF(VLOOKUP($B37,CPPE!$A$2:$BR$177,37,FALSE)<0,VLOOKUP($B37,CPPE!$A$2:$BR$177,37,FALSE),\"\"))","v":""},{"$f":"IF($B37=\"\",\"\",IF(VLOOKUP($B37,CPPE!$A$2:$BR$177,38,FALSE)<0,VLOOKUP($B37,CPPE!$A$2:$BR$177,38,FALSE),\"\"))","v":""},{"$f":"IF($B37=\"\",\"\",IF(VLOOKUP($B37,CPPE!$A$2:$BR$177,39,FALSE)<0,VLOOKUP($B37,CPPE!$A$2:$BR$177,39,FALSE),\"\"))","v":""},{"$f":"IF($B37=\"\",\"\",IF(VLOOKUP($B37,CPPE!$A$2:$BR$177,40,FALSE)<0,VLOOKUP($B37,CPPE!$A$2:$BR$177,40,FALSE),\"\"))","v":""},{"$f":"IF($B37=\"\",\"\",IF(VLOOKUP($B37,CPPE!$A$2:$BR$177,41,FALSE)<0,VLOOKUP($B37,CPPE!$A$2:$BR$177,41,FALSE),\"\"))","v":""},{"$f":"IF($B37=\"\",\"\",IF(VLOOKUP($B37,CPPE!$A$2:$BR$177,42,FALSE)<0,VLOOKUP($B37,CPPE!$A$2:$BR$177,42,FALSE),\"\"))","v":""},{"$f":"IF($B37=\"\",\"\",IF(VLOOKUP($B37,CPPE!$A$2:$BR$177,43,FALSE)<0,VLOOKUP($B37,CPPE!$A$2:$BR$177,43,FALSE),\"\"))","v":""},{"$f":"IF($B37=\"\",\"\",IF(VLOOKUP($B37,CPPE!$A$2:$BR$177,44,FALSE)<0,VLOOKUP($B37,CPPE!$A$2:$BR$177,44,FALSE),\"\"))","v":""},{"$f":"IF($B37=\"\",\"\",IF(VLOOKUP($B37,CPPE!$A$2:$BR$177,45,FALSE)<0,VLOOKUP($B37,CPPE!$A$2:$BR$177,45,FALSE),\"\"))","v":""},{"$f":"IF($B37=\"\",\"\",IF(VLOOKUP($B37,CPPE!$A$2:$BR$177,46,FALSE)<0,VLOOKUP($B37,CPPE!$A$2:$BR$177,46,FALSE),\"\"))","v":""},{"$f":"IF($B37=\"\",\"\",IF(VLOOKUP($B37,CPPE!$A$2:$BR$177,47,FALSE)<0,VLOOKUP($B37,CPPE!$A$2:$BR$177,47,FALSE),\"\"))","v":""},{"$f":"IF($B37=\"\",\"\",IF(VLOOKUP($B37,CPPE!$A$2:$BR$177,48,FALSE)<0,VLOOKUP($B37,CPPE!$A$2:$BR$177,48,FALSE),\"\"))","v":""},{"$f":"IF($B37=\"\",\"\",IF(VLOOKUP($B37,CPPE!$A$2:$BR$177,49,FALSE)<0,VLOOKUP($B37,CPPE!$A$2:$BR$177,49,FALSE),\"\"))","v":""},{"$f":"IF($B37=\"\",\"\",IF(VLOOKUP($B37,CPPE!$A$2:$BR$177,50,FALSE)<0,VLOOKUP($B37,CPPE!$A$2:$BR$177,50,FALSE),\"\"))","v":""},{"$f":"IF($B37=\"\",\"\",IF(VLOOKUP($B37,CPPE!$A$2:$BR$177,51,FALSE)<0,VLOOKUP($B37,CPPE!$A$2:$BR$177,51,FALSE),\"\"))","v":""},{"$f":"IF($B37=\"\",\"\",IF(VLOOKUP($B37,CPPE!$A$2:$BR$177,52,FALSE)<0,VLOOKUP($B37,CPPE!$A$2:$BR$177,52,FALSE),\"\"))","v":""},{"$f":"IF($B37=\"\",\"\",IF(VLOOKUP($B37,CPPE!$A$2:$BR$177,53,FALSE)<0,VLOOKUP($B37,CPPE!$A$2:$BR$177,53,FALSE),\"\"))","v":""},{"$f":"IF($B37=\"\",\"\",IF(VLOOKUP($B37,CPPE!$A$2:$BR$177,54,FALSE)<0,VLOOKUP($B37,CPPE!$A$2:$BR$177,54,FALSE),\"\"))","v":""},{"$f":"IF($B37=\"\",\"\",IF(VLOOKUP($B37,CPPE!$A$2:$BR$177,55,FALSE)<0,VLOOKUP($B37,CPPE!$A$2:$BR$177,55,FALSE),\"\"))","v":""},{"$f":"IF($B37=\"\",\"\",IF(VLOOKUP($B37,CPPE!$A$2:$BR$177,56,FALSE)<0,VLOOKUP($B37,CPPE!$A$2:$BR$177,56,FALSE),\"\"))","v":""},{"$f":"IF($B37=\"\",\"\",IF(VLOOKUP($B37,CPPE!$A$2:$BR$177,57,FALSE)<0,VLOOKUP($B37,CPPE!$A$2:$BR$177,57,FALSE),\"\"))","v":""},{"$f":"IF($B37=\"\",\"\",IF(VLOOKUP($B37,CPPE!$A$2:$BR$177,58,FALSE)<0,VLOOKUP($B37,CPPE!$A$2:$BR$177,58,FALSE),\"\"))","v":""},{"$f":"IF($B37=\"\",\"\",IF(VLOOKUP($B37,CPPE!$A$2:$BR$177,59,FALSE)<0,VLOOKUP($B37,CPPE!$A$2:$BR$177,59,FALSE),\"\"))","v":""}]
[null,{"$f":"IF(Results!B38=\"\",\"\",Results!B38)","v":""},{"$f":"IF($B38=\"\",\"\",IF(VLOOKUP($B38,CPPE!$A$2:$BR$177,2,FALSE)<0,VLOOKUP($B38,CPPE!$A$2:$BR$177,2,FALSE),\"\"))","v":""},{"$f":"IF($B38=\"\",\"\",IF(VLOOKUP($B38,CPPE!$A$2:$BR$177,3,FALSE)<0,VLOOKUP($B38,CPPE!$A$2:$BR$177,3,FALSE),\"\"))","v":""},{"$f":"IF($B38=\"\",\"\",IF(VLOOKUP($B38,CPPE!$A$2:$BR$177,4,FALSE)<0,VLOOKUP($B38,CPPE!$A$2:$BR$177,4,FALSE),\"\"))","v":""},{"$f":"IF($B38=\"\",\"\",IF(VLOOKUP($B38,CPPE!$A$2:$BR$177,4,FALSE)<0,VLOOKUP($B38,CPPE!$A$2:$BR$177,5,FALSE),\"\"))","v":""},{"$f":"IF($B38=\"\",\"\",IF(VLOOKUP($B38,CPPE!$A$2:$BR$177,5,FALSE)<0,VLOOKUP($B38,CPPE!$A$2:$BR$177,6,FALSE),\"\"))","v":""},{"$f":"IF($B38=\"\",\"\",IF(VLOOKUP($B38,CPPE!$A$2:$BR$177,7,FALSE)<0,VLOOKUP($B38,CPPE!$A$2:$BR$177,7,FALSE),\"\"))","v":""},{"$f":"IF($B38=\"\",\"\",IF(VLOOKUP($B38,CPPE!$A$2:$BR$177,8,FALSE)<0,VLOOKUP($B38,CPPE!$A$2:$BR$177,8,FALSE),\"\"))","v":""},{"$f":"IF($B38=\"\",\"\",IF(VLOOKUP($B38,CPPE!$A$2:$BR$177,9,FALSE)<0,VLOOKUP($B38,CPPE!$A$2:$BR$177,9,FALSE),\"\"))","v":""},{"$f":"IF($B38=\"\",\"\",IF(VLOOKUP($B38,CPPE!$A$2:$BR$177,10,FALSE)<0,VLOOKUP($B38,CPPE!$A$2:$BR$177,10,FALSE),\"\"))","v":""},{"$f":"IF($B38=\"\",\"\",IF(VLOOKUP($B38,CPPE!$A$2:$BR$177,11,FALSE)<0,VLOOKUP($B38,CPPE!$A$2:$BR$177,11,FALSE),\"\"))","v":""},{"$f":"IF($B38=\"\",\"\",IF(VLOOKUP($B38,CPPE!$A$2:$BR$177,12,FALSE)<0,VLOOKUP($B38,CPPE!$A$2:$BR$177,12,FALSE),\"\"))","v":""},{"$f":"IF($B38=\"\",\"\",IF(VLOOKUP($B38,CPPE!$A$2:$BR$177,13,FALSE)<0,VLOOKUP($B38,CPPE!$A$2:$BR$177,13,FALSE),\"\"))","v":""},{"$f":"IF($B38=\"\",\"\",IF(VLOOKUP($B38,CPPE!$A$2:$BR$177,14,FALSE)<0,VLOOKUP($B38,CPPE!$A$2:$BR$177,14,FALSE),\"\"))","v":""},{"$f":"IF($B38=\"\",\"\",IF(VLOOKUP($B38,CPPE!$A$2:$BR$177,15,FALSE)<0,VLOOKUP($B38,CPPE!$A$2:$BR$177,15,FALSE),\"\"))","v":""},{"$f":"IF($B38=\"\",\"\",IF(VLOOKUP($B38,CPPE!$A$2:$BR$177,16,FALSE)<0,VLOOKUP($B38,CPPE!$A$2:$BR$177,16,FALSE),\"\"))","v":""},{"$f":"IF($B38=\"\",\"\",IF(VLOOKUP($B38,CPPE!$A$2:$BR$177,17,FALSE)<0,VLOOKUP($B38,CPPE!$A$2:$BR$177,17,FALSE),\"\"))","v":""},{"$f":"IF($B38=\"\",\"\",IF(VLOOKUP($B38,CPPE!$A$2:$BR$177,18,FALSE)<0,VLOOKUP($B38,CPPE!$A$2:$BR$177,18,FALSE),\"\"))","v":""},{"$f":"IF($B38=\"\",\"\",IF(VLOOKUP($B38,CPPE!$A$2:$BR$177,19,FALSE)<0,VLOOKUP($B38,CPPE!$A$2:$BR$177,19,FALSE),\"\"))","v":""},{"$f":"IF($B38=\"\",\"\",IF(VLOOKUP($B38,CPPE!$A$2:$BR$177,20,FALSE)<0,VLOOKUP($B38,CPPE!$A$2:$BR$177,20,FALSE),\"\"))","v":""},{"$f":"IF($B38=\"\",\"\",IF(VLOOKUP($B38,CPPE!$A$2:$BR$177,21,FALSE)<0,VLOOKUP($B38,CPPE!$A$2:$BR$177,21,FALSE),\"\"))","v":""},{"$f":"IF($B38=\"\",\"\",IF(VLOOKUP($B38,CPPE!$A$2:$BR$177,22,FALSE)<0,VLOOKUP($B38,CPPE!$A$2:$BR$177,22,FALSE),\"\"))","v":""},{"$f":"IF($B38=\"\",\"\",IF(VLOOKUP($B38,CPPE!$A$2:$BR$177,23,FALSE)<0,VLOOKUP($B38,CPPE!$A$2:$BR$177,23,FALSE),\"\"))","v":""},{"$f":"IF($B38=\"\",\"\",IF(VLOOKUP($B38,CPPE!$A$2:$BR$177,24,FALSE)<0,VLOOKUP($B38,CPPE!$A$2:$BR$177,24,FALSE),\"\"))","v":""},{"$f":"IF($B38=\"\",\"\",IF(VLOOKUP($B38,CPPE!$A$2:$BR$177,25,FALSE)<0,VLOOKUP($B38,CPPE!$A$2:$BR$177,25,FALSE),\"\"))","v":""},{"$f":"IF($B38=\"\",\"\",IF(VLOOKUP($B38,CPPE!$A$2:$BR$177,26,FALSE)<0,VLOOKUP($B38,CPPE!$A$2:$BR$177,26,FALSE),\"\"))","v":""},{"$f":"IF($B38=\"\",\"\",IF(VLOOKUP($B38,CPPE!$A$2:$BR$177,27,FALSE)<0,VLOOKUP($B38,CPPE!$A$2:$BR$177,27,FALSE),\"\"))","v":""},{"$f":"IF($B38=\"\",\"\",IF(VLOOKUP($B38,CPPE!$A$2:$BR$177,28,FALSE)<0,VLOOKUP($B38,CPPE!$A$2:$BR$177,28,FALSE),\"\"))","v":""},{"$f":"IF($B38=\"\",\"\",IF(VLOOKUP($B38,CPPE!$A$2:$BR$177,29,FALSE)<0,VLOOKUP($B38,CPPE!$A$2:$BR$177,29,FALSE),\"\"))","v":""},{"$f":"IF($B38=\"\",\"\",IF(VLOOKUP($B38,CPPE!$A$2:$BR$177,30,FALSE)<0,VLOOKUP($B38,CPPE!$A$2:$BR$177,30,FALSE),\"\"))","v":""},{"$f":"IF($B38=\"\",\"\",IF(VLOOKUP($B38,CPPE!$A$2:$BR$177,31,FALSE)<0,VLOOKUP($B38,CPPE!$A$2:$BR$177,31,FALSE),\"\"))","v":""},{"$f":"IF($B38=\"\",\"\",IF(VLOOKUP($B38,CPPE!$A$2:$BR$177,32,FALSE)<0,VLOOKUP($B38,CPPE!$A$2:$BR$177,32,FALSE),\"\"))","v":""},{"$f":"IF($B38=\"\",\"\",IF(VLOOKUP($B38,CPPE!$A$2:$BR$177,33,FALSE)<0,VLOOKUP($B38,CPPE!$A$2:$BR$177,33,FALSE),\"\"))","v":""},{"$f":"IF($B38=\"\",\"\",IF(VLOOKUP($B38,CPPE!$A$2:$BR$177,34,FALSE)<0,VLOOKUP($B38,CPPE!$A$2:$BR$177,34,FALSE),\"\"))","v":""},{"$f":"IF($B38=\"\",\"\",IF(VLOOKUP($B38,CPPE!$A$2:$BR$177,35,FALSE)<0,VLOOKUP($B38,CPPE!$A$2:$BR$177,35,FALSE),\"\"))","v":""},{"$f":"IF($B38=\"\",\"\",IF(VLOOKUP($B38,CPPE!$A$2:$BR$177,36,FALSE)<0,VLOOKUP($B38,CPPE!$A$2:$BR$177,36,FALSE),\"\"))","v":""},{"$f":"IF($B38=\"\",\"\",IF(VLOOKUP($B38,CPPE!$A$2:$BR$177,37,FALSE)<0,VLOOKUP($B38,CPPE!$A$2:$BR$177,37,FALSE),\"\"))","v":""},{"$f":"IF($B38=\"\",\"\",IF(VLOOKUP($B38,CPPE!$A$2:$BR$177,38,FALSE)<0,VLOOKUP($B38,CPPE!$A$2:$BR$177,38,FALSE),\"\"))","v":""},{"$f":"IF($B38=\"\",\"\",IF(VLOOKUP($B38,CPPE!$A$2:$BR$177,39,FALSE)<0,VLOOKUP($B38,CPPE!$A$2:$BR$177,39,FALSE),\"\"))","v":""},{"$f":"IF($B38=\"\",\"\",IF(VLOOKUP($B38,CPPE!$A$2:$BR$177,40,FALSE)<0,VLOOKUP($B38,CPPE!$A$2:$BR$177,40,FALSE),\"\"))","v":""},{"$f":"IF($B38=\"\",\"\",IF(VLOOKUP($B38,CPPE!$A$2:$BR$177,41,FALSE)<0,VLOOKUP($B38,CPPE!$A$2:$BR$177,41,FALSE),\"\"))","v":""},{"$f":"IF($B38=\"\",\"\",IF(VLOOKUP($B38,CPPE!$A$2:$BR$177,42,FALSE)<0,VLOOKUP($B38,CPPE!$A$2:$BR$177,42,FALSE),\"\"))","v":""},{"$f":"IF($B38=\"\",\"\",IF(VLOOKUP($B38,CPPE!$A$2:$BR$177,43,FALSE)<0,VLOOKUP($B38,CPPE!$A$2:$BR$177,43,FALSE),\"\"))","v":""},{"$f":"IF($B38=\"\",\"\",IF(VLOOKUP($B38,CPPE!$A$2:$BR$177,44,FALSE)<0,VLOOKUP($B38,CPPE!$A$2:$BR$177,44,FALSE),\"\"))","v":""},{"$f":"IF($B38=\"\",\"\",IF(VLOOKUP($B38,CPPE!$A$2:$BR$177,45,FALSE)<0,VLOOKUP($B38,CPPE!$A$2:$BR$177,45,FALSE),\"\"))","v":""},{"$f":"IF($B38=\"\",\"\",IF(VLOOKUP($B38,CPPE!$A$2:$BR$177,46,FALSE)<0,VLOOKUP($B38,CPPE!$A$2:$BR$177,46,FALSE),\"\"))","v":""},{"$f":"IF($B38=\"\",\"\",IF(VLOOKUP($B38,CPPE!$A$2:$BR$177,47,FALSE)<0,VLOOKUP($B38,CPPE!$A$2:$BR$177,47,FALSE),\"\"))","v":""},{"$f":"IF($B38=\"\",\"\",IF(VLOOKUP($B38,CPPE!$A$2:$BR$177,48,FALSE)<0,VLOOKUP($B38,CPPE!$A$2:$BR$177,48,FALSE),\"\"))","v":""},{"$f":"IF($B38=\"\",\"\",IF(VLOOKUP($B38,CPPE!$A$2:$BR$177,49,FALSE)<0,VLOOKUP($B38,CPPE!$A$2:$BR$177,49,FALSE),\"\"))","v":""},{"$f":"IF($B38=\"\",\"\",IF(VLOOKUP($B38,CPPE!$A$2:$BR$177,50,FALSE)<0,VLOOKUP($B38,CPPE!$A$2:$BR$177,50,FALSE),\"\"))","v":""},{"$f":"IF($B38=\"\",\"\",IF(VLOOKUP($B38,CPPE!$A$2:$BR$177,51,FALSE)<0,VLOOKUP($B38,CPPE!$A$2:$BR$177,51,FALSE),\"\"))","v":""},{"$f":"IF($B38=\"\",\"\",IF(VLOOKUP($B38,CPPE!$A$2:$BR$177,52,FALSE)<0,VLOOKUP($B38,CPPE!$A$2:$BR$177,52,FALSE),\"\"))","v":""},{"$f":"IF($B38=\"\",\"\",IF(VLOOKUP($B38,CPPE!$A$2:$BR$177,53,FALSE)<0,VLOOKUP($B38,CPPE!$A$2:$BR$177,53,FALSE),\"\"))","v":""},{"$f":"IF($B38=\"\",\"\",IF(VLOOKUP($B38,CPPE!$A$2:$BR$177,54,FALSE)<0,VLOOKUP($B38,CPPE!$A$2:$BR$177,54,FALSE),\"\"))","v":""},{"$f":"IF($B38=\"\",\"\",IF(VLOOKUP($B38,CPPE!$A$2:$BR$177,55,FALSE)<0,VLOOKUP($B38,CPPE!$A$2:$BR$177,55,FALSE),\"\"))","v":""},{"$f":"IF($B38=\"\",\"\",IF(VLOOKUP($B38,CPPE!$A$2:$BR$177,56,FALSE)<0,VLOOKUP($B38,CPPE!$A$2:$BR$177,56,FALSE),\"\"))","v":""},{"$f":"IF($B38=\"\",\"\",IF(VLOOKUP($B38,CPPE!$A$2:$BR$177,57,FALSE)<0,VLOOKUP($B38,CPPE!$A$2:$BR$177,57,FALSE),\"\"))","v":""},{"$f":"IF($B38=\"\",\"\",IF(VLOOKUP($B38,CPPE!$A$2:$BR$177,58,FALSE)<0,VLOOKUP($B38,CPPE!$A$2:$BR$177,58,FALSE),\"\"))","v":""},{"$f":"IF($B38=\"\",\"\",IF(VLOOKUP($B38,CPPE!$A$2:$BR$177,59,FALSE)<0,VLOOKUP($B38,CPPE!$A$2:$BR$177,59,FALSE),\"\"))","v":""}]
[null,{"$f":"IF(Results!B39=\"\",\"\",Results!B39)","v":""},{"$f":"IF($B39=\"\",\"\",IF(VLOOKUP($B39,CPPE!$A$2:$BR$177,2,FALSE)<0,VLOOKUP($B39,CPPE!$A$2:$BR$177,2,FALSE),\"\"))","v":""},{"$f":"IF($B39=\"\",\"\",IF(VLOOKUP($B39,CPPE!$A$2:$BR$177,3,FALSE)<0,VLOOKUP($B39,CPPE!$A$2:$BR$177,3,FALSE),\"\"))","v":""},{"$f":"IF($B39=\"\",\"\",IF(VLOOKUP($B39,CPPE!$A$2:$BR$177,4,FALSE)<0,VLOOKUP($B39,CPPE!$A$2:$BR$177,4,FALSE),\"\"))","v":""},{"$f":"IF($B39=\"\",\"\",IF(VLOOKUP($B39,CPPE!$A$2:$BR$177,4,FALSE)<0,VLOOKUP($B39,CPPE!$A$2:$BR$177,5,FALSE),\"\"))","v":""},{"$f":"IF($B39=\"\",\"\",IF(VLOOKUP($B39,CPPE!$A$2:$BR$177,5,FALSE)<0,VLOOKUP($B39,CPPE!$A$2:$BR$177,6,FALSE),\"\"))","v":""},{"$f":"IF($B39=\"\",\"\",IF(VLOOKUP($B39,CPPE!$A$2:$BR$177,7,FALSE)<0,VLOOKUP($B39,CPPE!$A$2:$BR$177,7,FALSE),\"\"))","v":""},{"$f":"IF($B39=\"\",\"\",IF(VLOOKUP($B39,CPPE!$A$2:$BR$177,8,FALSE)<0,VLOOKUP($B39,CPPE!$A$2:$BR$177,8,FALSE),\"\"))","v":""},{"$f":"IF($B39=\"\",\"\",IF(VLOOKUP($B39,CPPE!$A$2:$BR$177,9,FALSE)<0,VLOOKUP($B39,CPPE!$A$2:$BR$177,9,FALSE),\"\"))","v":""},{"$f":"IF($B39=\"\",\"\",IF(VLOOKUP($B39,CPPE!$A$2:$BR$177,10,FALSE)<0,VLOOKUP($B39,CPPE!$A$2:$BR$177,10,FALSE),\"\"))","v":""},{"$f":"IF($B39=\"\",\"\",IF(VLOOKUP($B39,CPPE!$A$2:$BR$177,11,FALSE)<0,VLOOKUP($B39,CPPE!$A$2:$BR$177,11,FALSE),\"\"))","v":""},{"$f":"IF($B39=\"\",\"\",IF(VLOOKUP($B39,CPPE!$A$2:$BR$177,12,FALSE)<0,VLOOKUP($B39,CPPE!$A$2:$BR$177,12,FALSE),\"\"))","v":""},{"$f":"IF($B39=\"\",\"\",IF(VLOOKUP($B39,CPPE!$A$2:$BR$177,13,FALSE)<0,VLOOKUP($B39,CPPE!$A$2:$BR$177,13,FALSE),\"\"))","v":""},{"$f":"IF($B39=\"\",\"\",IF(VLOOKUP($B39,CPPE!$A$2:$BR$177,14,FALSE)<0,VLOOKUP($B39,CPPE!$A$2:$BR$177,14,FALSE),\"\"))","v":""},{"$f":"IF($B39=\"\",\"\",IF(VLOOKUP($B39,CPPE!$A$2:$BR$177,15,FALSE)<0,VLOOKUP($B39,CPPE!$A$2:$BR$177,15,FALSE),\"\"))","v":""},{"$f":"IF($B39=\"\",\"\",IF(VLOOKUP($B39,CPPE!$A$2:$BR$177,16,FALSE)<0,VLOOKUP($B39,CPPE!$A$2:$BR$177,16,FALSE),\"\"))","v":""},{"$f":"IF($B39=\"\",\"\",IF(VLOOKUP($B39,CPPE!$A$2:$BR$177,17,FALSE)<0,VLOOKUP($B39,CPPE!$A$2:$BR$177,17,FALSE),\"\"))","v":""},{"$f":"IF($B39=\"\",\"\",IF(VLOOKUP($B39,CPPE!$A$2:$BR$177,18,FALSE)<0,VLOOKUP($B39,CPPE!$A$2:$BR$177,18,FALSE),\"\"))","v":""},{"$f":"IF($B39=\"\",\"\",IF(VLOOKUP($B39,CPPE!$A$2:$BR$177,19,FALSE)<0,VLOOKUP($B39,CPPE!$A$2:$BR$177,19,FALSE),\"\"))","v":""},{"$f":"IF($B39=\"\",\"\",IF(VLOOKUP($B39,CPPE!$A$2:$BR$177,20,FALSE)<0,VLOOKUP($B39,CPPE!$A$2:$BR$177,20,FALSE),\"\"))","v":""},{"$f":"IF($B39=\"\",\"\",IF(VLOOKUP($B39,CPPE!$A$2:$BR$177,21,FALSE)<0,VLOOKUP($B39,CPPE!$A$2:$BR$177,21,FALSE),\"\"))","v":""},{"$f":"IF($B39=\"\",\"\",IF(VLOOKUP($B39,CPPE!$A$2:$BR$177,22,FALSE)<0,VLOOKUP($B39,CPPE!$A$2:$BR$177,22,FALSE),\"\"))","v":""},{"$f":"IF($B39=\"\",\"\",IF(VLOOKUP($B39,CPPE!$A$2:$BR$177,23,FALSE)<0,VLOOKUP($B39,CPPE!$A$2:$BR$177,23,FALSE),\"\"))","v":""},{"$f":"IF($B39=\"\",\"\",IF(VLOOKUP($B39,CPPE!$A$2:$BR$177,24,FALSE)<0,VLOOKUP($B39,CPPE!$A$2:$BR$177,24,FALSE),\"\"))","v":""},{"$f":"IF($B39=\"\",\"\",IF(VLOOKUP($B39,CPPE!$A$2:$BR$177,25,FALSE)<0,VLOOKUP($B39,CPPE!$A$2:$BR$177,25,FALSE),\"\"))","v":""},{"$f":"IF($B39=\"\",\"\",IF(VLOOKUP($B39,CPPE!$A$2:$BR$177,26,FALSE)<0,VLOOKUP($B39,CPPE!$A$2:$BR$177,26,FALSE),\"\"))","v":""},{"$f":"IF($B39=\"\",\"\",IF(VLOOKUP($B39,CPPE!$A$2:$BR$177,27,FALSE)<0,VLOOKUP($B39,CPPE!$A$2:$BR$177,27,FALSE),\"\"))","v":""},{"$f":"IF($B39=\"\",\"\",IF(VLOOKUP($B39,CPPE!$A$2:$BR$177,28,FALSE)<0,VLOOKUP($B39,CPPE!$A$2:$BR$177,28,FALSE),\"\"))","v":""},{"$f":"IF($B39=\"\",\"\",IF(VLOOKUP($B39,CPPE!$A$2:$BR$177,29,FALSE)<0,VLOOKUP($B39,CPPE!$A$2:$BR$177,29,FALSE),\"\"))","v":""},{"$f":"IF($B39=\"\",\"\",IF(VLOOKUP($B39,CPPE!$A$2:$BR$177,30,FALSE)<0,VLOOKUP($B39,CPPE!$A$2:$BR$177,30,FALSE),\"\"))","v":""},{"$f":"IF($B39=\"\",\"\",IF(VLOOKUP($B39,CPPE!$A$2:$BR$177,31,FALSE)<0,VLOOKUP($B39,CPPE!$A$2:$BR$177,31,FALSE),\"\"))","v":""},{"$f":"IF($B39=\"\",\"\",IF(VLOOKUP($B39,CPPE!$A$2:$BR$177,32,FALSE)<0,VLOOKUP($B39,CPPE!$A$2:$BR$177,32,FALSE),\"\"))","v":""},{"$f":"IF($B39=\"\",\"\",IF(VLOOKUP($B39,CPPE!$A$2:$BR$177,33,FALSE)<0,VLOOKUP($B39,CPPE!$A$2:$BR$177,33,FALSE),\"\"))","v":""},{"$f":"IF($B39=\"\",\"\",IF(VLOOKUP($B39,CPPE!$A$2:$BR$177,34,FALSE)<0,VLOOKUP($B39,CPPE!$A$2:$BR$177,34,FALSE),\"\"))","v":""},{"$f":"IF($B39=\"\",\"\",IF(VLOOKUP($B39,CPPE!$A$2:$BR$177,35,FALSE)<0,VLOOKUP($B39,CPPE!$A$2:$BR$177,35,FALSE),\"\"))","v":""},{"$f":"IF($B39=\"\",\"\",IF(VLOOKUP($B39,CPPE!$A$2:$BR$177,36,FALSE)<0,VLOOKUP($B39,CPPE!$A$2:$BR$177,36,FALSE),\"\"))","v":""},{"$f":"IF($B39=\"\",\"\",IF(VLOOKUP($B39,CPPE!$A$2:$BR$177,37,FALSE)<0,VLOOKUP($B39,CPPE!$A$2:$BR$177,37,FALSE),\"\"))","v":""},{"$f":"IF($B39=\"\",\"\",IF(VLOOKUP($B39,CPPE!$A$2:$BR$177,38,FALSE)<0,VLOOKUP($B39,CPPE!$A$2:$BR$177,38,FALSE),\"\"))","v":""},{"$f":"IF($B39=\"\",\"\",IF(VLOOKUP($B39,CPPE!$A$2:$BR$177,39,FALSE)<0,VLOOKUP($B39,CPPE!$A$2:$BR$177,39,FALSE),\"\"))","v":""},{"$f":"IF($B39=\"\",\"\",IF(VLOOKUP($B39,CPPE!$A$2:$BR$177,40,FALSE)<0,VLOOKUP($B39,CPPE!$A$2:$BR$177,40,FALSE),\"\"))","v":""},{"$f":"IF($B39=\"\",\"\",IF(VLOOKUP($B39,CPPE!$A$2:$BR$177,41,FALSE)<0,VLOOKUP($B39,CPPE!$A$2:$BR$177,41,FALSE),\"\"))","v":""},{"$f":"IF($B39=\"\",\"\",IF(VLOOKUP($B39,CPPE!$A$2:$BR$177,42,FALSE)<0,VLOOKUP($B39,CPPE!$A$2:$BR$177,42,FALSE),\"\"))","v":""},{"$f":"IF($B39=\"\",\"\",IF(VLOOKUP($B39,CPPE!$A$2:$BR$177,43,FALSE)<0,VLOOKUP($B39,CPPE!$A$2:$BR$177,43,FALSE),\"\"))","v":""},{"$f":"IF($B39=\"\",\"\",IF(VLOOKUP($B39,CPPE!$A$2:$BR$177,44,FALSE)<0,VLOOKUP($B39,CPPE!$A$2:$BR$177,44,FALSE),\"\"))","v":""},{"$f":"IF($B39=\"\",\"\",IF(VLOOKUP($B39,CPPE!$A$2:$BR$177,45,FALSE)<0,VLOOKUP($B39,CPPE!$A$2:$BR$177,45,FALSE),\"\"))","v":""},{"$f":"IF($B39=\"\",\"\",IF(VLOOKUP($B39,CPPE!$A$2:$BR$177,46,FALSE)<0,VLOOKUP($B39,CPPE!$A$2:$BR$177,46,FALSE),\"\"))","v":""},{"$f":"IF($B39=\"\",\"\",IF(VLOOKUP($B39,CPPE!$A$2:$BR$177,47,FALSE)<0,VLOOKUP($B39,CPPE!$A$2:$BR$177,47,FALSE),\"\"))","v":""},{"$f":"IF($B39=\"\",\"\",IF(VLOOKUP($B39,CPPE!$A$2:$BR$177,48,FALSE)<0,VLOOKUP($B39,CPPE!$A$2:$BR$177,48,FALSE),\"\"))","v":""},{"$f":"IF($B39=\"\",\"\",IF(VLOOKUP($B39,CPPE!$A$2:$BR$177,49,FALSE)<0,VLOOKUP($B39,CPPE!$A$2:$BR$177,49,FALSE),\"\"))","v":""},{"$f":"IF($B39=\"\",\"\",IF(VLOOKUP($B39,CPPE!$A$2:$BR$177,50,FALSE)<0,VLOOKUP($B39,CPPE!$A$2:$BR$177,50,FALSE),\"\"))","v":""},{"$f":"IF($B39=\"\",\"\",IF(VLOOKUP($B39,CPPE!$A$2:$BR$177,51,FALSE)<0,VLOOKUP($B39,CPPE!$A$2:$BR$177,51,FALSE),\"\"))","v":""},{"$f":"IF($B39=\"\",\"\",IF(VLOOKUP($B39,CPPE!$A$2:$BR$177,52,FALSE)<0,VLOOKUP($B39,CPPE!$A$2:$BR$177,52,FALSE),\"\"))","v":""},{"$f":"IF($B39=\"\",\"\",IF(VLOOKUP($B39,CPPE!$A$2:$BR$177,53,FALSE)<0,VLOOKUP($B39,CPPE!$A$2:$BR$177,53,FALSE),\"\"))","v":""},{"$f":"IF($B39=\"\",\"\",IF(VLOOKUP($B39,CPPE!$A$2:$BR$177,54,FALSE)<0,VLOOKUP($B39,CPPE!$A$2:$BR$177,54,FALSE),\"\"))","v":""},{"$f":"IF($B39=\"\",\"\",IF(VLOOKUP($B39,CPPE!$A$2:$BR$177,55,FALSE)<0,VLOOKUP($B39,CPPE!$A$2:$BR$177,55,FALSE),\"\"))","v":""},{"$f":"IF($B39=\"\",\"\",IF(VLOOKUP($B39,CPPE!$A$2:$BR$177,56,FALSE)<0,VLOOKUP($B39,CPPE!$A$2:$BR$177,56,FALSE),\"\"))","v":""},{"$f":"IF($B39=\"\",\"\",IF(VLOOKUP($B39,CPPE!$A$2:$BR$177,57,FALSE)<0,VLOOKUP($B39,CPPE!$A$2:$BR$177,57,FALSE),\"\"))","v":""},{"$f":"IF($B39=\"\",\"\",IF(VLOOKUP($B39,CPPE!$A$2:$BR$177,58,FALSE)<0,VLOOKUP($B39,CPPE!$A$2:$BR$177,58,FALSE),\"\"))","v":""},{"$f":"IF($B39=\"\",\"\",IF(VLOOKUP($B39,CPPE!$A$2:$BR$177,59,FALSE)<0,VLOOKUP($B39,CPPE!$A$2:$BR$177,59,FALSE),\"\"))","v":""}]
[null,{"$f":"IF(Results!B40=\"\",\"\",Results!B40)","v":""},{"$f":"IF($B40=\"\",\"\",IF(VLOOKUP($B40,CPPE!$A$2:$BR$177,2,FALSE)<0,VLOOKUP($B40,CPPE!$A$2:$BR$177,2,FALSE),\"\"))","v":""},{"$f":"IF($B40=\"\",\"\",IF(VLOOKUP($B40,CPPE!$A$2:$BR$177,3,FALSE)<0,VLOOKUP($B40,CPPE!$A$2:$BR$177,3,FALSE),\"\"))","v":""},{"$f":"IF($B40=\"\",\"\",IF(VLOOKUP($B40,CPPE!$A$2:$BR$177,4,FALSE)<0,VLOOKUP($B40,CPPE!$A$2:$BR$177,4,FALSE),\"\"))","v":""},{"$f":"IF($B40=\"\",\"\",IF(VLOOKUP($B40,CPPE!$A$2:$BR$177,4,FALSE)<0,VLOOKUP($B40,CPPE!$A$2:$BR$177,5,FALSE),\"\"))","v":""},{"$f":"IF($B40=\"\",\"\",IF(VLOOKUP($B40,CPPE!$A$2:$BR$177,5,FALSE)<0,VLOOKUP($B40,CPPE!$A$2:$BR$177,6,FALSE),\"\"))","v":""},{"$f":"IF($B40=\"\",\"\",IF(VLOOKUP($B40,CPPE!$A$2:$BR$177,7,FALSE)<0,VLOOKUP($B40,CPPE!$A$2:$BR$177,7,FALSE),\"\"))","v":""},{"$f":"IF($B40=\"\",\"\",IF(VLOOKUP($B40,CPPE!$A$2:$BR$177,8,FALSE)<0,VLOOKUP($B40,CPPE!$A$2:$BR$177,8,FALSE),\"\"))","v":""},{"$f":"IF($B40=\"\",\"\",IF(VLOOKUP($B40,CPPE!$A$2:$BR$177,9,FALSE)<0,VLOOKUP($B40,CPPE!$A$2:$BR$177,9,FALSE),\"\"))","v":""},{"$f":"IF($B40=\"\",\"\",IF(VLOOKUP($B40,CPPE!$A$2:$BR$177,10,FALSE)<0,VLOOKUP($B40,CPPE!$A$2:$BR$177,10,FALSE),\"\"))","v":""},{"$f":"IF($B40=\"\",\"\",IF(VLOOKUP($B40,CPPE!$A$2:$BR$177,11,FALSE)<0,VLOOKUP($B40,CPPE!$A$2:$BR$177,11,FALSE),\"\"))","v":""},{"$f":"IF($B40=\"\",\"\",IF(VLOOKUP($B40,CPPE!$A$2:$BR$177,12,FALSE)<0,VLOOKUP($B40,CPPE!$A$2:$BR$177,12,FALSE),\"\"))","v":""},{"$f":"IF($B40=\"\",\"\",IF(VLOOKUP($B40,CPPE!$A$2:$BR$177,13,FALSE)<0,VLOOKUP($B40,CPPE!$A$2:$BR$177,13,FALSE),\"\"))","v":""},{"$f":"IF($B40=\"\",\"\",IF(VLOOKUP($B40,CPPE!$A$2:$BR$177,14,FALSE)<0,VLOOKUP($B40,CPPE!$A$2:$BR$177,14,FALSE),\"\"))","v":""},{"$f":"IF($B40=\"\",\"\",IF(VLOOKUP($B40,CPPE!$A$2:$BR$177,15,FALSE)<0,VLOOKUP($B40,CPPE!$A$2:$BR$177,15,FALSE),\"\"))","v":""},{"$f":"IF($B40=\"\",\"\",IF(VLOOKUP($B40,CPPE!$A$2:$BR$177,16,FALSE)<0,VLOOKUP($B40,CPPE!$A$2:$BR$177,16,FALSE),\"\"))","v":""},{"$f":"IF($B40=\"\",\"\",IF(VLOOKUP($B40,CPPE!$A$2:$BR$177,17,FALSE)<0,VLOOKUP($B40,CPPE!$A$2:$BR$177,17,FALSE),\"\"))","v":""},{"$f":"IF($B40=\"\",\"\",IF(VLOOKUP($B40,CPPE!$A$2:$BR$177,18,FALSE)<0,VLOOKUP($B40,CPPE!$A$2:$BR$177,18,FALSE),\"\"))","v":""},{"$f":"IF($B40=\"\",\"\",IF(VLOOKUP($B40,CPPE!$A$2:$BR$177,19,FALSE)<0,VLOOKUP($B40,CPPE!$A$2:$BR$177,19,FALSE),\"\"))","v":""},{"$f":"IF($B40=\"\",\"\",IF(VLOOKUP($B40,CPPE!$A$2:$BR$177,20,FALSE)<0,VLOOKUP($B40,CPPE!$A$2:$BR$177,20,FALSE),\"\"))","v":""},{"$f":"IF($B40=\"\",\"\",IF(VLOOKUP($B40,CPPE!$A$2:$BR$177,21,FALSE)<0,VLOOKUP($B40,CPPE!$A$2:$BR$177,21,FALSE),\"\"))","v":""},{"$f":"IF($B40=\"\",\"\",IF(VLOOKUP($B40,CPPE!$A$2:$BR$177,22,FALSE)<0,VLOOKUP($B40,CPPE!$A$2:$BR$177,22,FALSE),\"\"))","v":""},{"$f":"IF($B40=\"\",\"\",IF(VLOOKUP($B40,CPPE!$A$2:$BR$177,23,FALSE)<0,VLOOKUP($B40,CPPE!$A$2:$BR$177,23,FALSE),\"\"))","v":""},{"$f":"IF($B40=\"\",\"\",IF(VLOOKUP($B40,CPPE!$A$2:$BR$177,24,FALSE)<0,VLOOKUP($B40,CPPE!$A$2:$BR$177,24,FALSE),\"\"))","v":""},{"$f":"IF($B40=\"\",\"\",IF(VLOOKUP($B40,CPPE!$A$2:$BR$177,25,FALSE)<0,VLOOKUP($B40,CPPE!$A$2:$BR$177,25,FALSE),\"\"))","v":""},{"$f":"IF($B40=\"\",\"\",IF(VLOOKUP($B40,CPPE!$A$2:$BR$177,26,FALSE)<0,VLOOKUP($B40,CPPE!$A$2:$BR$177,26,FALSE),\"\"))","v":""},{"$f":"IF($B40=\"\",\"\",IF(VLOOKUP($B40,CPPE!$A$2:$BR$177,27,FALSE)<0,VLOOKUP($B40,CPPE!$A$2:$BR$177,27,FALSE),\"\"))","v":""},{"$f":"IF($B40=\"\",\"\",IF(VLOOKUP($B40,CPPE!$A$2:$BR$177,28,FALSE)<0,VLOOKUP($B40,CPPE!$A$2:$BR$177,28,FALSE),\"\"))","v":""},{"$f":"IF($B40=\"\",\"\",IF(VLOOKUP($B40,CPPE!$A$2:$BR$177,29,FALSE)<0,VLOOKUP($B40,CPPE!$A$2:$BR$177,29,FALSE),\"\"))","v":""},{"$f":"IF($B40=\"\",\"\",IF(VLOOKUP($B40,CPPE!$A$2:$BR$177,30,FALSE)<0,VLOOKUP($B40,CPPE!$A$2:$BR$177,30,FALSE),\"\"))","v":""},{"$f":"IF($B40=\"\",\"\",IF(VLOOKUP($B40,CPPE!$A$2:$BR$177,31,FALSE)<0,VLOOKUP($B40,CPPE!$A$2:$BR$177,31,FALSE),\"\"))","v":""},{"$f":"IF($B40=\"\",\"\",IF(VLOOKUP($B40,CPPE!$A$2:$BR$177,32,FALSE)<0,VLOOKUP($B40,CPPE!$A$2:$BR$177,32,FALSE),\"\"))","v":""},{"$f":"IF($B40=\"\",\"\",IF(VLOOKUP($B40,CPPE!$A$2:$BR$177,33,FALSE)<0,VLOOKUP($B40,CPPE!$A$2:$BR$177,33,FALSE),\"\"))","v":""},{"$f":"IF($B40=\"\",\"\",IF(VLOOKUP($B40,CPPE!$A$2:$BR$177,34,FALSE)<0,VLOOKUP($B40,CPPE!$A$2:$BR$177,34,FALSE),\"\"))","v":""},{"$f":"IF($B40=\"\",\"\",IF(VLOOKUP($B40,CPPE!$A$2:$BR$177,35,FALSE)<0,VLOOKUP($B40,CPPE!$A$2:$BR$177,35,FALSE),\"\"))","v":""},{"$f":"IF($B40=\"\",\"\",IF(VLOOKUP($B40,CPPE!$A$2:$BR$177,36,FALSE)<0,VLOOKUP($B40,CPPE!$A$2:$BR$177,36,FALSE),\"\"))","v":""},{"$f":"IF($B40=\"\",\"\",IF(VLOOKUP($B40,CPPE!$A$2:$BR$177,37,FALSE)<0,VLOOKUP($B40,CPPE!$A$2:$BR$177,37,FALSE),\"\"))","v":""},{"$f":"IF($B40=\"\",\"\",IF(VLOOKUP($B40,CPPE!$A$2:$BR$177,38,FALSE)<0,VLOOKUP($B40,CPPE!$A$2:$BR$177,38,FALSE),\"\"))","v":""},{"$f":"IF($B40=\"\",\"\",IF(VLOOKUP($B40,CPPE!$A$2:$BR$177,39,FALSE)<0,VLOOKUP($B40,CPPE!$A$2:$BR$177,39,FALSE),\"\"))","v":""},{"$f":"IF($B40=\"\",\"\",IF(VLOOKUP($B40,CPPE!$A$2:$BR$177,40,FALSE)<0,VLOOKUP($B40,CPPE!$A$2:$BR$177,40,FALSE),\"\"))","v":""},{"$f":"IF($B40=\"\",\"\",IF(VLOOKUP($B40,CPPE!$A$2:$BR$177,41,FALSE)<0,VLOOKUP($B40,CPPE!$A$2:$BR$177,41,FALSE),\"\"))","v":""},{"$f":"IF($B40=\"\",\"\",IF(VLOOKUP($B40,CPPE!$A$2:$BR$177,42,FALSE)<0,VLOOKUP($B40,CPPE!$A$2:$BR$177,42,FALSE),\"\"))","v":""},{"$f":"IF($B40=\"\",\"\",IF(VLOOKUP($B40,CPPE!$A$2:$BR$177,43,FALSE)<0,VLOOKUP($B40,CPPE!$A$2:$BR$177,43,FALSE),\"\"))","v":""},{"$f":"IF($B40=\"\",\"\",IF(VLOOKUP($B40,CPPE!$A$2:$BR$177,44,FALSE)<0,VLOOKUP($B40,CPPE!$A$2:$BR$177,44,FALSE),\"\"))","v":""},{"$f":"IF($B40=\"\",\"\",IF(VLOOKUP($B40,CPPE!$A$2:$BR$177,45,FALSE)<0,VLOOKUP($B40,CPPE!$A$2:$BR$177,45,FALSE),\"\"))","v":""},{"$f":"IF($B40=\"\",\"\",IF(VLOOKUP($B40,CPPE!$A$2:$BR$177,46,FALSE)<0,VLOOKUP($B40,CPPE!$A$2:$BR$177,46,FALSE),\"\"))","v":""},{"$f":"IF($B40=\"\",\"\",IF(VLOOKUP($B40,CPPE!$A$2:$BR$177,47,FALSE)<0,VLOOKUP($B40,CPPE!$A$2:$BR$177,47,FALSE),\"\"))","v":""},{"$f":"IF($B40=\"\",\"\",IF(VLOOKUP($B40,CPPE!$A$2:$BR$177,48,FALSE)<0,VLOOKUP($B40,CPPE!$A$2:$BR$177,48,FALSE),\"\"))","v":""},{"$f":"IF($B40=\"\",\"\",IF(VLOOKUP($B40,CPPE!$A$2:$BR$177,49,FALSE)<0,VLOOKUP($B40,CPPE!$A$2:$BR$177,49,FALSE),\"\"))","v":""},{"$f":"IF($B40=\"\",\"\",IF(VLOOKUP($B40,CPPE!$A$2:$BR$177,50,FALSE)<0,VLOOKUP($B40,CPPE!$A$2:$BR$177,50,FALSE),\"\"))","v":""},{"$f":"IF($B40=\"\",\"\",IF(VLOOKUP($B40,CPPE!$A$2:$BR$177,51,FALSE)<0,VLOOKUP($B40,CPPE!$A$2:$BR$177,51,FALSE),\"\"))","v":""},{"$f":"IF($B40=\"\",\"\",IF(VLOOKUP($B40,CPPE!$A$2:$BR$177,52,FALSE)<0,VLOOKUP($B40,CPPE!$A$2:$BR$177,52,FALSE),\"\"))","v":""},{"$f":"IF($B40=\"\",\"\",IF(VLOOKUP($B40,CPPE!$A$2:$BR$177,53,FALSE)<0,VLOOKUP($B40,CPPE!$A$2:$BR$177,53,FALSE),\"\"))","v":""},{"$f":"IF($B40=\"\",\"\",IF(VLOOKUP($B40,CPPE!$A$2:$BR$177,54,FALSE)<0,VLOOKUP($B40,CPPE!$A$2:$BR$177,54,FALSE),\"\"))","v":""},{"$f":"IF($B40=\"\",\"\",IF(VLOOKUP($B40,CPPE!$A$2:$BR$177,55,FALSE)<0,VLOOKUP($B40,CPPE!$A$2:$BR$177,55,FALSE),\"\"))","v":""},{"$f":"IF($B40=\"\",\"\",IF(VLOOKUP($B40,CPPE!$A$2:$BR$177,56,FALSE)<0,VLOOKUP($B40,CPPE!$A$2:$BR$177,56,FALSE),\"\"))","v":""},{"$f":"IF($B40=\"\",\"\",IF(VLOOKUP($B40,CPPE!$A$2:$BR$177,57,FALSE)<0,VLOOKUP($B40,CPPE!$A$2:$BR$177,57,FALSE),\"\"))","v":""},{"$f":"IF($B40=\"\",\"\",IF(VLOOKUP($B40,CPPE!$A$2:$BR$177,58,FALSE)<0,VLOOKUP($B40,CPPE!$A$2:$BR$177,58,FALSE),\"\"))","v":""},{"$f":"IF($B40=\"\",\"\",IF(VLOOKUP($B40,CPPE!$A$2:$BR$177,59,FALSE)<0,VLOOKUP($B40,CPPE!$A$2:$BR$177,59,FALSE),\"\"))","v":""}]
[null,{"$f":"IF(Results!B41=\"\",\"\",Results!B41)","v":""},{"$f":"IF($B41=\"\",\"\",IF(VLOOKUP($B41,CPPE!$A$2:$BR$177,2,FALSE)<0,VLOOKUP($B41,CPPE!$A$2:$BR$177,2,FALSE),\"\"))","v":""},{"$f":"IF($B41=\"\",\"\",IF(VLOOKUP($B41,CPPE!$A$2:$BR$177,3,FALSE)<0,VLOOKUP($B41,CPPE!$A$2:$BR$177,3,FALSE),\"\"))","v":""},{"$f":"IF($B41=\"\",\"\",IF(VLOOKUP($B41,CPPE!$A$2:$BR$177,4,FALSE)<0,VLOOKUP($B41,CPPE!$A$2:$BR$177,4,FALSE),\"\"))","v":""},{"$f":"IF($B41=\"\",\"\",IF(VLOOKUP($B41,CPPE!$A$2:$BR$177,4,FALSE)<0,VLOOKUP($B41,CPPE!$A$2:$BR$177,5,FALSE),\"\"))","v":""},{"$f":"IF($B41=\"\",\"\",IF(VLOOKUP($B41,CPPE!$A$2:$BR$177,5,FALSE)<0,VLOOKUP($B41,CPPE!$A$2:$BR$177,6,FALSE),\"\"))","v":""},{"$f":"IF($B41=\"\",\"\",IF(VLOOKUP($B41,CPPE!$A$2:$BR$177,7,FALSE)<0,VLOOKUP($B41,CPPE!$A$2:$BR$177,7,FALSE),\"\"))","v":""},{"$f":"IF($B41=\"\",\"\",IF(VLOOKUP($B41,CPPE!$A$2:$BR$177,8,FALSE)<0,VLOOKUP($B41,CPPE!$A$2:$BR$177,8,FALSE),\"\"))","v":""},{"$f":"IF($B41=\"\",\"\",IF(VLOOKUP($B41,CPPE!$A$2:$BR$177,9,FALSE)<0,VLOOKUP($B41,CPPE!$A$2:$BR$177,9,FALSE),\"\"))","v":""},{"$f":"IF($B41=\"\",\"\",IF(VLOOKUP($B41,CPPE!$A$2:$BR$177,10,FALSE)<0,VLOOKUP($B41,CPPE!$A$2:$BR$177,10,FALSE),\"\"))","v":""},{"$f":"IF($B41=\"\",\"\",IF(VLOOKUP($B41,CPPE!$A$2:$BR$177,11,FALSE)<0,VLOOKUP($B41,CPPE!$A$2:$BR$177,11,FALSE),\"\"))","v":""},{"$f":"IF($B41=\"\",\"\",IF(VLOOKUP($B41,CPPE!$A$2:$BR$177,12,FALSE)<0,VLOOKUP($B41,CPPE!$A$2:$BR$177,12,FALSE),\"\"))","v":""},{"$f":"IF($B41=\"\",\"\",IF(VLOOKUP($B41,CPPE!$A$2:$BR$177,13,FALSE)<0,VLOOKUP($B41,CPPE!$A$2:$BR$177,13,FALSE),\"\"))","v":""},{"$f":"IF($B41=\"\",\"\",IF(VLOOKUP($B41,CPPE!$A$2:$BR$177,14,FALSE)<0,VLOOKUP($B41,CPPE!$A$2:$BR$177,14,FALSE),\"\"))","v":""},{"$f":"IF($B41=\"\",\"\",IF(VLOOKUP($B41,CPPE!$A$2:$BR$177,15,FALSE)<0,VLOOKUP($B41,CPPE!$A$2:$BR$177,15,FALSE),\"\"))","v":""},{"$f":"IF($B41=\"\",\"\",IF(VLOOKUP($B41,CPPE!$A$2:$BR$177,16,FALSE)<0,VLOOKUP($B41,CPPE!$A$2:$BR$177,16,FALSE),\"\"))","v":""},{"$f":"IF($B41=\"\",\"\",IF(VLOOKUP($B41,CPPE!$A$2:$BR$177,17,FALSE)<0,VLOOKUP($B41,CPPE!$A$2:$BR$177,17,FALSE),\"\"))","v":""},{"$f":"IF($B41=\"\",\"\",IF(VLOOKUP($B41,CPPE!$A$2:$BR$177,18,FALSE)<0,VLOOKUP($B41,CPPE!$A$2:$BR$177,18,FALSE),\"\"))","v":""},{"$f":"IF($B41=\"\",\"\",IF(VLOOKUP($B41,CPPE!$A$2:$BR$177,19,FALSE)<0,VLOOKUP($B41,CPPE!$A$2:$BR$177,19,FALSE),\"\"))","v":""},{"$f":"IF($B41=\"\",\"\",IF(VLOOKUP($B41,CPPE!$A$2:$BR$177,20,FALSE)<0,VLOOKUP($B41,CPPE!$A$2:$BR$177,20,FALSE),\"\"))","v":""},{"$f":"IF($B41=\"\",\"\",IF(VLOOKUP($B41,CPPE!$A$2:$BR$177,21,FALSE)<0,VLOOKUP($B41,CPPE!$A$2:$BR$177,21,FALSE),\"\"))","v":""},{"$f":"IF($B41=\"\",\"\",IF(VLOOKUP($B41,CPPE!$A$2:$BR$177,22,FALSE)<0,VLOOKUP($B41,CPPE!$A$2:$BR$177,22,FALSE),\"\"))","v":""},{"$f":"IF($B41=\"\",\"\",IF(VLOOKUP($B41,CPPE!$A$2:$BR$177,23,FALSE)<0,VLOOKUP($B41,CPPE!$A$2:$BR$177,23,FALSE),\"\"))","v":""},{"$f":"IF($B41=\"\",\"\",IF(VLOOKUP($B41,CPPE!$A$2:$BR$177,24,FALSE)<0,VLOOKUP($B41,CPPE!$A$2:$BR$177,24,FALSE),\"\"))","v":""},{"$f":"IF($B41=\"\",\"\",IF(VLOOKUP($B41,CPPE!$A$2:$BR$177,25,FALSE)<0,VLOOKUP($B41,CPPE!$A$2:$BR$177,25,FALSE),\"\"))","v":""},{"$f":"IF($B41=\"\",\"\",IF(VLOOKUP($B41,CPPE!$A$2:$BR$177,26,FALSE)<0,VLOOKUP($B41,CPPE!$A$2:$BR$177,26,FALSE),\"\"))","v":""},{"$f":"IF($B41=\"\",\"\",IF(VLOOKUP($B41,CPPE!$A$2:$BR$177,27,FALSE)<0,VLOOKUP($B41,CPPE!$A$2:$BR$177,27,FALSE),\"\"))","v":""},{"$f":"IF($B41=\"\",\"\",IF(VLOOKUP($B41,CPPE!$A$2:$BR$177,28,FALSE)<0,VLOOKUP($B41,CPPE!$A$2:$BR$177,28,FALSE),\"\"))","v":""},{"$f":"IF($B41=\"\",\"\",IF(VLOOKUP($B41,CPPE!$A$2:$BR$177,29,FALSE)<0,VLOOKUP($B41,CPPE!$A$2:$BR$177,29,FALSE),\"\"))","v":""},{"$f":"IF($B41=\"\",\"\",IF(VLOOKUP($B41,CPPE!$A$2:$BR$177,30,FALSE)<0,VLOOKUP($B41,CPPE!$A$2:$BR$177,30,FALSE),\"\"))","v":""},{"$f":"IF($B41=\"\",\"\",IF(VLOOKUP($B41,CPPE!$A$2:$BR$177,31,FALSE)<0,VLOOKUP($B41,CPPE!$A$2:$BR$177,31,FALSE),\"\"))","v":""},{"$f":"IF($B41=\"\",\"\",IF(VLOOKUP($B41,CPPE!$A$2:$BR$177,32,FALSE)<0,VLOOKUP($B41,CPPE!$A$2:$BR$177,32,FALSE),\"\"))","v":""},{"$f":"IF($B41=\"\",\"\",IF(VLOOKUP($B41,CPPE!$A$2:$BR$177,33,FALSE)<0,VLOOKUP($B41,CPPE!$A$2:$BR$177,33,FALSE),\"\"))","v":""},{"$f":"IF($B41=\"\",\"\",IF(VLOOKUP($B41,CPPE!$A$2:$BR$177,34,FALSE)<0,VLOOKUP($B41,CPPE!$A$2:$BR$177,34,FALSE),\"\"))","v":""},{"$f":"IF($B41=\"\",\"\",IF(VLOOKUP($B41,CPPE!$A$2:$BR$177,35,FALSE)<0,VLOOKUP($B41,CPPE!$A$2:$BR$177,35,FALSE),\"\"))","v":""},{"$f":"IF($B41=\"\",\"\",IF(VLOOKUP($B41,CPPE!$A$2:$BR$177,36,FALSE)<0,VLOOKUP($B41,CPPE!$A$2:$BR$177,36,FALSE),\"\"))","v":""},{"$f":"IF($B41=\"\",\"\",IF(VLOOKUP($B41,CPPE!$A$2:$BR$177,37,FALSE)<0,VLOOKUP($B41,CPPE!$A$2:$BR$177,37,FALSE),\"\"))","v":""},{"$f":"IF($B41=\"\",\"\",IF(VLOOKUP($B41,CPPE!$A$2:$BR$177,38,FALSE)<0,VLOOKUP($B41,CPPE!$A$2:$BR$177,38,FALSE),\"\"))","v":""},{"$f":"IF($B41=\"\",\"\",IF(VLOOKUP($B41,CPPE!$A$2:$BR$177,39,FALSE)<0,VLOOKUP($B41,CPPE!$A$2:$BR$177,39,FALSE),\"\"))","v":""},{"$f":"IF($B41=\"\",\"\",IF(VLOOKUP($B41,CPPE!$A$2:$BR$177,40,FALSE)<0,VLOOKUP($B41,CPPE!$A$2:$BR$177,40,FALSE),\"\"))","v":""},{"$f":"IF($B41=\"\",\"\",IF(VLOOKUP($B41,CPPE!$A$2:$BR$177,41,FALSE)<0,VLOOKUP($B41,CPPE!$A$2:$BR$177,41,FALSE),\"\"))","v":""},{"$f":"IF($B41=\"\",\"\",IF(VLOOKUP($B41,CPPE!$A$2:$BR$177,42,FALSE)<0,VLOOKUP($B41,CPPE!$A$2:$BR$177,42,FALSE),\"\"))","v":""},{"$f":"IF($B41=\"\",\"\",IF(VLOOKUP($B41,CPPE!$A$2:$BR$177,43,FALSE)<0,VLOOKUP($B41,CPPE!$A$2:$BR$177,43,FALSE),\"\"))","v":""},{"$f":"IF($B41=\"\",\"\",IF(VLOOKUP($B41,CPPE!$A$2:$BR$177,44,FALSE)<0,VLOOKUP($B41,CPPE!$A$2:$BR$177,44,FALSE),\"\"))","v":""},{"$f":"IF($B41=\"\",\"\",IF(VLOOKUP($B41,CPPE!$A$2:$BR$177,45,FALSE)<0,VLOOKUP($B41,CPPE!$A$2:$BR$177,45,FALSE),\"\"))","v":""},{"$f":"IF($B41=\"\",\"\",IF(VLOOKUP($B41,CPPE!$A$2:$BR$177,46,FALSE)<0,VLOOKUP($B41,CPPE!$A$2:$BR$177,46,FALSE),\"\"))","v":""},{"$f":"IF($B41=\"\",\"\",IF(VLOOKUP($B41,CPPE!$A$2:$BR$177,47,FALSE)<0,VLOOKUP($B41,CPPE!$A$2:$BR$177,47,FALSE),\"\"))","v":""},{"$f":"IF($B41=\"\",\"\",IF(VLOOKUP($B41,CPPE!$A$2:$BR$177,48,FALSE)<0,VLOOKUP($B41,CPPE!$A$2:$BR$177,48,FALSE),\"\"))","v":""},{"$f":"IF($B41=\"\",\"\",IF(VLOOKUP($B41,CPPE!$A$2:$BR$177,49,FALSE)<0,VLOOKUP($B41,CPPE!$A$2:$BR$177,49,FALSE),\"\"))","v":""},{"$f":"IF($B41=\"\",\"\",IF(VLOOKUP($B41,CPPE!$A$2:$BR$177,50,FALSE)<0,VLOOKUP($B41,CPPE!$A$2:$BR$177,50,FALSE),\"\"))","v":""},{"$f":"IF($B41=\"\",\"\",IF(VLOOKUP($B41,CPPE!$A$2:$BR$177,51,FALSE)<0,VLOOKUP($B41,CPPE!$A$2:$BR$177,51,FALSE),\"\"))","v":""},{"$f":"IF($B41=\"\",\"\",IF(VLOOKUP($B41,CPPE!$A$2:$BR$177,52,FALSE)<0,VLOOKUP($B41,CPPE!$A$2:$BR$177,52,FALSE),\"\"))","v":""},{"$f":"IF($B41=\"\",\"\",IF(VLOOKUP($B41,CPPE!$A$2:$BR$177,53,FALSE)<0,VLOOKUP($B41,CPPE!$A$2:$BR$177,53,FALSE),\"\"))","v":""},{"$f":"IF($B41=\"\",\"\",IF(VLOOKUP($B41,CPPE!$A$2:$BR$177,54,FALSE)<0,VLOOKUP($B41,CPPE!$A$2:$BR$177,54,FALSE),\"\"))","v":""},{"$f":"IF($B41=\"\",\"\",IF(VLOOKUP($B41,CPPE!$A$2:$BR$177,55,FALSE)<0,VLOOKUP($B41,CPPE!$A$2:$BR$177,55,FALSE),\"\"))","v":""},{"$f":"IF($B41=\"\",\"\",IF(VLOOKUP($B41,CPPE!$A$2:$BR$177,56,FALSE)<0,VLOOKUP($B41,CPPE!$A$2:$BR$177,56,FALSE),\"\"))","v":""},{"$f":"IF($B41=\"\",\"\",IF(VLOOKUP($B41,CPPE!$A$2:$BR$177,57,FALSE)<0,VLOOKUP($B41,CPPE!$A$2:$BR$177,57,FALSE),\"\"))","v":""},{"$f":"IF($B41=\"\",\"\",IF(VLOOKUP($B41,CPPE!$A$2:$BR$177,58,FALSE)<0,VLOOKUP($B41,CPPE!$A$2:$BR$177,58,FALSE),\"\"))","v":""},{"$f":"IF($B41=\"\",\"\",IF(VLOOKUP($B41,CPPE!$A$2:$BR$177,59,FALSE)<0,VLOOKUP($B41,CPPE!$A$2:$BR$177,59,FALSE),\"\"))","v":""}]
[null,{"$f":"IF(Results!B42=\"\",\"\",Results!B42)","v":""},{"$f":"IF($B42=\"\",\"\",IF(VLOOKUP($B42,CPPE!$A$2:$BR$177,2,FALSE)<0,VLOOKUP($B42,CPPE!$A$2:$BR$177,2,FALSE),\"\"))","v":""},{"$f":"IF($B42=\"\",\"\",IF(VLOOKUP($B42,CPPE!$A$2:$BR$177,3,FALSE)<0,VLOOKUP($B42,CPPE!$A$2:$BR$177,3,FALSE),\"\"))","v":""},{"$f":"IF($B42=\"\",\"\",IF(VLOOKUP($B42,CPPE!$A$2:$BR$177,4,FALSE)<0,VLOOKUP($B42,CPPE!$A$2:$BR$177,4,FALSE),\"\"))","v":""},{"$f":"IF($B42=\"\",\"\",IF(VLOOKUP($B42,CPPE!$A$2:$BR$177,4,FALSE)<0,VLOOKUP($B42,CPPE!$A$2:$BR$177,5,FALSE),\"\"))","v":""},{"$f":"IF($B42=\"\",\"\",IF(VLOOKUP($B42,CPPE!$A$2:$BR$177,5,FALSE)<0,VLOOKUP($B42,CPPE!$A$2:$BR$177,6,FALSE),\"\"))","v":""},{"$f":"IF($B42=\"\",\"\",IF(VLOOKUP($B42,CPPE!$A$2:$BR$177,7,FALSE)<0,VLOOKUP($B42,CPPE!$A$2:$BR$177,7,FALSE),\"\"))","v":""},{"$f":"IF($B42=\"\",\"\",IF(VLOOKUP($B42,CPPE!$A$2:$BR$177,8,FALSE)<0,VLOOKUP($B42,CPPE!$A$2:$BR$177,8,FALSE),\"\"))","v":""},{"$f":"IF($B42=\"\",\"\",IF(VLOOKUP($B42,CPPE!$A$2:$BR$177,9,FALSE)<0,VLOOKUP($B42,CPPE!$A$2:$BR$177,9,FALSE),\"\"))","v":""},{"$f":"IF($B42=\"\",\"\",IF(VLOOKUP($B42,CPPE!$A$2:$BR$177,10,FALSE)<0,VLOOKUP($B42,CPPE!$A$2:$BR$177,10,FALSE),\"\"))","v":""},{"$f":"IF($B42=\"\",\"\",IF(VLOOKUP($B42,CPPE!$A$2:$BR$177,11,FALSE)<0,VLOOKUP($B42,CPPE!$A$2:$BR$177,11,FALSE),\"\"))","v":""},{"$f":"IF($B42=\"\",\"\",IF(VLOOKUP($B42,CPPE!$A$2:$BR$177,12,FALSE)<0,VLOOKUP($B42,CPPE!$A$2:$BR$177,12,FALSE),\"\"))","v":""},{"$f":"IF($B42=\"\",\"\",IF(VLOOKUP($B42,CPPE!$A$2:$BR$177,13,FALSE)<0,VLOOKUP($B42,CPPE!$A$2:$BR$177,13,FALSE),\"\"))","v":""},{"$f":"IF($B42=\"\",\"\",IF(VLOOKUP($B42,CPPE!$A$2:$BR$177,14,FALSE)<0,VLOOKUP($B42,CPPE!$A$2:$BR$177,14,FALSE),\"\"))","v":""},{"$f":"IF($B42=\"\",\"\",IF(VLOOKUP($B42,CPPE!$A$2:$BR$177,15,FALSE)<0,VLOOKUP($B42,CPPE!$A$2:$BR$177,15,FALSE),\"\"))","v":""},{"$f":"IF($B42=\"\",\"\",IF(VLOOKUP($B42,CPPE!$A$2:$BR$177,16,FALSE)<0,VLOOKUP($B42,CPPE!$A$2:$BR$177,16,FALSE),\"\"))","v":""},{"$f":"IF($B42=\"\",\"\",IF(VLOOKUP($B42,CPPE!$A$2:$BR$177,17,FALSE)<0,VLOOKUP($B42,CPPE!$A$2:$BR$177,17,FALSE),\"\"))","v":""},{"$f":"IF($B42=\"\",\"\",IF(VLOOKUP($B42,CPPE!$A$2:$BR$177,18,FALSE)<0,VLOOKUP($B42,CPPE!$A$2:$BR$177,18,FALSE),\"\"))","v":""},{"$f":"IF($B42=\"\",\"\",IF(VLOOKUP($B42,CPPE!$A$2:$BR$177,19,FALSE)<0,VLOOKUP($B42,CPPE!$A$2:$BR$177,19,FALSE),\"\"))","v":""},{"$f":"IF($B42=\"\",\"\",IF(VLOOKUP($B42,CPPE!$A$2:$BR$177,20,FALSE)<0,VLOOKUP($B42,CPPE!$A$2:$BR$177,20,FALSE),\"\"))","v":""},{"$f":"IF($B42=\"\",\"\",IF(VLOOKUP($B42,CPPE!$A$2:$BR$177,21,FALSE)<0,VLOOKUP($B42,CPPE!$A$2:$BR$177,21,FALSE),\"\"))","v":""},{"$f":"IF($B42=\"\",\"\",IF(VLOOKUP($B42,CPPE!$A$2:$BR$177,22,FALSE)<0,VLOOKUP($B42,CPPE!$A$2:$BR$177,22,FALSE),\"\"))","v":""},{"$f":"IF($B42=\"\",\"\",IF(VLOOKUP($B42,CPPE!$A$2:$BR$177,23,FALSE)<0,VLOOKUP($B42,CPPE!$A$2:$BR$177,23,FALSE),\"\"))","v":""},{"$f":"IF($B42=\"\",\"\",IF(VLOOKUP($B42,CPPE!$A$2:$BR$177,24,FALSE)<0,VLOOKUP($B42,CPPE!$A$2:$BR$177,24,FALSE),\"\"))","v":""},{"$f":"IF($B42=\"\",\"\",IF(VLOOKUP($B42,CPPE!$A$2:$BR$177,25,FALSE)<0,VLOOKUP($B42,CPPE!$A$2:$BR$177,25,FALSE),\"\"))","v":""},{"$f":"IF($B42=\"\",\"\",IF(VLOOKUP($B42,CPPE!$A$2:$BR$177,26,FALSE)<0,VLOOKUP($B42,CPPE!$A$2:$BR$177,26,FALSE),\"\"))","v":""},{"$f":"IF($B42=\"\",\"\",IF(VLOOKUP($B42,CPPE!$A$2:$BR$177,27,FALSE)<0,VLOOKUP($B42,CPPE!$A$2:$BR$177,27,FALSE),\"\"))","v":""},{"$f":"IF($B42=\"\",\"\",IF(VLOOKUP($B42,CPPE!$A$2:$BR$177,28,FALSE)<0,VLOOKUP($B42,CPPE!$A$2:$BR$177,28,FALSE),\"\"))","v":""},{"$f":"IF($B42=\"\",\"\",IF(VLOOKUP($B42,CPPE!$A$2:$BR$177,29,FALSE)<0,VLOOKUP($B42,CPPE!$A$2:$BR$177,29,FALSE),\"\"))","v":""},{"$f":"IF($B42=\"\",\"\",IF(VLOOKUP($B42,CPPE!$A$2:$BR$177,30,FALSE)<0,VLOOKUP($B42,CPPE!$A$2:$BR$177,30,FALSE),\"\"))","v":""},{"$f":"IF($B42=\"\",\"\",IF(VLOOKUP($B42,CPPE!$A$2:$BR$177,31,FALSE)<0,VLOOKUP($B42,CPPE!$A$2:$BR$177,31,FALSE),\"\"))","v":""},{"$f":"IF($B42=\"\",\"\",IF(VLOOKUP($B42,CPPE!$A$2:$BR$177,32,FALSE)<0,VLOOKUP($B42,CPPE!$A$2:$BR$177,32,FALSE),\"\"))","v":""},{"$f":"IF($B42=\"\",\"\",IF(VLOOKUP($B42,CPPE!$A$2:$BR$177,33,FALSE)<0,VLOOKUP($B42,CPPE!$A$2:$BR$177,33,FALSE),\"\"))","v":""},{"$f":"IF($B42=\"\",\"\",IF(VLOOKUP($B42,CPPE!$A$2:$BR$177,34,FALSE)<0,VLOOKUP($B42,CPPE!$A$2:$BR$177,34,FALSE),\"\"))","v":""},{"$f":"IF($B42=\"\",\"\",IF(VLOOKUP($B42,CPPE!$A$2:$BR$177,35,FALSE)<0,VLOOKUP($B42,CPPE!$A$2:$BR$177,35,FALSE),\"\"))","v":""},{"$f":"IF($B42=\"\",\"\",IF(VLOOKUP($B42,CPPE!$A$2:$BR$177,36,FALSE)<0,VLOOKUP($B42,CPPE!$A$2:$BR$177,36,FALSE),\"\"))","v":""},{"$f":"IF($B42=\"\",\"\",IF(VLOOKUP($B42,CPPE!$A$2:$BR$177,37,FALSE)<0,VLOOKUP($B42,CPPE!$A$2:$BR$177,37,FALSE),\"\"))","v":""},{"$f":"IF($B42=\"\",\"\",IF(VLOOKUP($B42,CPPE!$A$2:$BR$177,38,FALSE)<0,VLOOKUP($B42,CPPE!$A$2:$BR$177,38,FALSE),\"\"))","v":""},{"$f":"IF($B42=\"\",\"\",IF(VLOOKUP($B42,CPPE!$A$2:$BR$177,39,FALSE)<0,VLOOKUP($B42,CPPE!$A$2:$BR$177,39,FALSE),\"\"))","v":""},{"$f":"IF($B42=\"\",\"\",IF(VLOOKUP($B42,CPPE!$A$2:$BR$177,40,FALSE)<0,VLOOKUP($B42,CPPE!$A$2:$BR$177,40,FALSE),\"\"))","v":""},{"$f":"IF($B42=\"\",\"\",IF(VLOOKUP($B42,CPPE!$A$2:$BR$177,41,FALSE)<0,VLOOKUP($B42,CPPE!$A$2:$BR$177,41,FALSE),\"\"))","v":""},{"$f":"IF($B42=\"\",\"\",IF(VLOOKUP($B42,CPPE!$A$2:$BR$177,42,FALSE)<0,VLOOKUP($B42,CPPE!$A$2:$BR$177,42,FALSE),\"\"))","v":""},{"$f":"IF($B42=\"\",\"\",IF(VLOOKUP($B42,CPPE!$A$2:$BR$177,43,FALSE)<0,VLOOKUP($B42,CPPE!$A$2:$BR$177,43,FALSE),\"\"))","v":""},{"$f":"IF($B42=\"\",\"\",IF(VLOOKUP($B42,CPPE!$A$2:$BR$177,44,FALSE)<0,VLOOKUP($B42,CPPE!$A$2:$BR$177,44,FALSE),\"\"))","v":""},{"$f":"IF($B42=\"\",\"\",IF(VLOOKUP($B42,CPPE!$A$2:$BR$177,45,FALSE)<0,VLOOKUP($B42,CPPE!$A$2:$BR$177,45,FALSE),\"\"))","v":""},{"$f":"IF($B42=\"\",\"\",IF(VLOOKUP($B42,CPPE!$A$2:$BR$177,46,FALSE)<0,VLOOKUP($B42,CPPE!$A$2:$BR$177,46,FALSE),\"\"))","v":""},{"$f":"IF($B42=\"\",\"\",IF(VLOOKUP($B42,CPPE!$A$2:$BR$177,47,FALSE)<0,VLOOKUP($B42,CPPE!$A$2:$BR$177,47,FALSE),\"\"))","v":""},{"$f":"IF($B42=\"\",\"\",IF(VLOOKUP($B42,CPPE!$A$2:$BR$177,48,FALSE)<0,VLOOKUP($B42,CPPE!$A$2:$BR$177,48,FALSE),\"\"))","v":""},{"$f":"IF($B42=\"\",\"\",IF(VLOOKUP($B42,CPPE!$A$2:$BR$177,49,FALSE)<0,VLOOKUP($B42,CPPE!$A$2:$BR$177,49,FALSE),\"\"))","v":""},{"$f":"IF($B42=\"\",\"\",IF(VLOOKUP($B42,CPPE!$A$2:$BR$177,50,FALSE)<0,VLOOKUP($B42,CPPE!$A$2:$BR$177,50,FALSE),\"\"))","v":""},{"$f":"IF($B42=\"\",\"\",IF(VLOOKUP($B42,CPPE!$A$2:$BR$177,51,FALSE)<0,VLOOKUP($B42,CPPE!$A$2:$BR$177,51,FALSE),\"\"))","v":""},{"$f":"IF($B42=\"\",\"\",IF(VLOOKUP($B42,CPPE!$A$2:$BR$177,52,FALSE)<0,VLOOKUP($B42,CPPE!$A$2:$BR$177,52,FALSE),\"\"))","v":""},{"$f":"IF($B42=\"\",\"\",IF(VLOOKUP($B42,CPPE!$A$2:$BR$177,53,FALSE)<0,VLOOKUP($B42,CPPE!$A$2:$BR$177,53,FALSE),\"\"))","v":""},{"$f":"IF($B42=\"\",\"\",IF(VLOOKUP($B42,CPPE!$A$2:$BR$177,54,FALSE)<0,VLOOKUP($B42,CPPE!$A$2:$BR$177,54,FALSE),\"\"))","v":""},{"$f":"IF($B42=\"\",\"\",IF(VLOOKUP($B42,CPPE!$A$2:$BR$177,55,FALSE)<0,VLOOKUP($B42,CPPE!$A$2:$BR$177,55,FALSE),\"\"))","v":""},{"$f":"IF($B42=\"\",\"\",IF(VLOOKUP($B42,CPPE!$A$2:$BR$177,56,FALSE)<0,VLOOKUP($B42,CPPE!$A$2:$BR$177,56,FALSE),\"\"))","v":""},{"$f":"IF($B42=\"\",\"\",IF(VLOOKUP($B42,CPPE!$A$2:$BR$177,57,FALSE)<0,VLOOKUP($B42,CPPE!$A$2:$BR$177,57,FALSE),\"\"))","v":""},{"$f":"IF($B42=\"\",\"\",IF(VLOOKUP($B42,CPPE!$A$2:$BR$177,58,FALSE)<0,VLOOKUP($B42,CPPE!$A$2:$BR$177,58,FALSE),\"\"))","v":""},{"$f":"IF($B42=\"\",\"\",IF(VLOOKUP($B42,CPPE!$A$2:$BR$177,59,FALSE)<0,VLOOKUP($B42,CPPE!$A$2:$BR$177,59,FALSE),\"\"))","v":""}]
[null,{"$f":"IF(Results!B43=\"\",\"\",Results!B43)","v":""},{"$f":"IF($B43=\"\",\"\",IF(VLOOKUP($B43,CPPE!$A$2:$BR$177,2,FALSE)<0,VLOOKUP($B43,CPPE!$A$2:$BR$177,2,FALSE),\"\"))","v":""},{"$f":"IF($B43=\"\",\"\",IF(VLOOKUP($B43,CPPE!$A$2:$BR$177,3,FALSE)<0,VLOOKUP($B43,CPPE!$A$2:$BR$177,3,FALSE),\"\"))","v":""},{"$f":"IF($B43=\"\",\"\",IF(VLOOKUP($B43,CPPE!$A$2:$BR$177,4,FALSE)<0,VLOOKUP($B43,CPPE!$A$2:$BR$177,4,FALSE),\"\"))","v":""},{"$f":"IF($B43=\"\",\"\",IF(VLOOKUP($B43,CPPE!$A$2:$BR$177,4,FALSE)<0,VLOOKUP($B43,CPPE!$A$2:$BR$177,5,FALSE),\"\"))","v":""},{"$f":"IF($B43=\"\",\"\",IF(VLOOKUP($B43,CPPE!$A$2:$BR$177,5,FALSE)<0,VLOOKUP($B43,CPPE!$A$2:$BR$177,6,FALSE),\"\"))","v":""},{"$f":"IF($B43=\"\",\"\",IF(VLOOKUP($B43,CPPE!$A$2:$BR$177,7,FALSE)<0,VLOOKUP($B43,CPPE!$A$2:$BR$177,7,FALSE),\"\"))","v":""},{"$f":"IF($B43=\"\",\"\",IF(VLOOKUP($B43,CPPE!$A$2:$BR$177,8,FALSE)<0,VLOOKUP($B43,CPPE!$A$2:$BR$177,8,FALSE),\"\"))","v":""},{"$f":"IF($B43=\"\",\"\",IF(VLOOKUP($B43,CPPE!$A$2:$BR$177,9,FALSE)<0,VLOOKUP($B43,CPPE!$A$2:$BR$177,9,FALSE),\"\"))","v":""},{"$f":"IF($B43=\"\",\"\",IF(VLOOKUP($B43,CPPE!$A$2:$BR$177,10,FALSE)<0,VLOOKUP($B43,CPPE!$A$2:$BR$177,10,FALSE),\"\"))","v":""},{"$f":"IF($B43=\"\",\"\",IF(VLOOKUP($B43,CPPE!$A$2:$BR$177,11,FALSE)<0,VLOOKUP($B43,CPPE!$A$2:$BR$177,11,FALSE),\"\"))","v":""},{"$f":"IF($B43=\"\",\"\",IF(VLOOKUP($B43,CPPE!$A$2:$BR$177,12,FALSE)<0,VLOOKUP($B43,CPPE!$A$2:$BR$177,12,FALSE),\"\"))","v":""},{"$f":"IF($B43=\"\",\"\",IF(VLOOKUP($B43,CPPE!$A$2:$BR$177,13,FALSE)<0,VLOOKUP($B43,CPPE!$A$2:$BR$177,13,FALSE),\"\"))","v":""},{"$f":"IF($B43=\"\",\"\",IF(VLOOKUP($B43,CPPE!$A$2:$BR$177,14,FALSE)<0,VLOOKUP($B43,CPPE!$A$2:$BR$177,14,FALSE),\"\"))","v":""},{"$f":"IF($B43=\"\",\"\",IF(VLOOKUP($B43,CPPE!$A$2:$BR$177,15,FALSE)<0,VLOOKUP($B43,CPPE!$A$2:$BR$177,15,FALSE),\"\"))","v":""},{"$f":"IF($B43=\"\",\"\",IF(VLOOKUP($B43,CPPE!$A$2:$BR$177,16,FALSE)<0,VLOOKUP($B43,CPPE!$A$2:$BR$177,16,FALSE),\"\"))","v":""},{"$f":"IF($B43=\"\",\"\",IF(VLOOKUP($B43,CPPE!$A$2:$BR$177,17,FALSE)<0,VLOOKUP($B43,CPPE!$A$2:$BR$177,17,FALSE),\"\"))","v":""},{"$f":"IF($B43=\"\",\"\",IF(VLOOKUP($B43,CPPE!$A$2:$BR$177,18,FALSE)<0,VLOOKUP($B43,CPPE!$A$2:$BR$177,18,FALSE),\"\"))","v":""},{"$f":"IF($B43=\"\",\"\",IF(VLOOKUP($B43,CPPE!$A$2:$BR$177,19,FALSE)<0,VLOOKUP($B43,CPPE!$A$2:$BR$177,19,FALSE),\"\"))","v":""},{"$f":"IF($B43=\"\",\"\",IF(VLOOKUP($B43,CPPE!$A$2:$BR$177,20,FALSE)<0,VLOOKUP($B43,CPPE!$A$2:$BR$177,20,FALSE),\"\"))","v":""},{"$f":"IF($B43=\"\",\"\",IF(VLOOKUP($B43,CPPE!$A$2:$BR$177,21,FALSE)<0,VLOOKUP($B43,CPPE!$A$2:$BR$177,21,FALSE),\"\"))","v":""},{"$f":"IF($B43=\"\",\"\",IF(VLOOKUP($B43,CPPE!$A$2:$BR$177,22,FALSE)<0,VLOOKUP($B43,CPPE!$A$2:$BR$177,22,FALSE),\"\"))","v":""},{"$f":"IF($B43=\"\",\"\",IF(VLOOKUP($B43,CPPE!$A$2:$BR$177,23,FALSE)<0,VLOOKUP($B43,CPPE!$A$2:$BR$177,23,FALSE),\"\"))","v":""},{"$f":"IF($B43=\"\",\"\",IF(VLOOKUP($B43,CPPE!$A$2:$BR$177,24,FALSE)<0,VLOOKUP($B43,CPPE!$A$2:$BR$177,24,FALSE),\"\"))","v":""},{"$f":"IF($B43=\"\",\"\",IF(VLOOKUP($B43,CPPE!$A$2:$BR$177,25,FALSE)<0,VLOOKUP($B43,CPPE!$A$2:$BR$177,25,FALSE),\"\"))","v":""},{"$f":"IF($B43=\"\",\"\",IF(VLOOKUP($B43,CPPE!$A$2:$BR$177,26,FALSE)<0,VLOOKUP($B43,CPPE!$A$2:$BR$177,26,FALSE),\"\"))","v":""},{"$f":"IF($B43=\"\",\"\",IF(VLOOKUP($B43,CPPE!$A$2:$BR$177,27,FALSE)<0,VLOOKUP($B43,CPPE!$A$2:$BR$177,27,FALSE),\"\"))","v":""},{"$f":"IF($B43=\"\",\"\",IF(VLOOKUP($B43,CPPE!$A$2:$BR$177,28,FALSE)<0,VLOOKUP($B43,CPPE!$A$2:$BR$177,28,FALSE),\"\"))","v":""},{"$f":"IF($B43=\"\",\"\",IF(VLOOKUP($B43,CPPE!$A$2:$BR$177,29,FALSE)<0,VLOOKUP($B43,CPPE!$A$2:$BR$177,29,FALSE),\"\"))","v":""},{"$f":"IF($B43=\"\",\"\",IF(VLOOKUP($B43,CPPE!$A$2:$BR$177,30,FALSE)<0,VLOOKUP($B43,CPPE!$A$2:$BR$177,30,FALSE),\"\"))","v":""},{"$f":"IF($B43=\"\",\"\",IF(VLOOKUP($B43,CPPE!$A$2:$BR$177,31,FALSE)<0,VLOOKUP($B43,CPPE!$A$2:$BR$177,31,FALSE),\"\"))","v":""},{"$f":"IF($B43=\"\",\"\",IF(VLOOKUP($B43,CPPE!$A$2:$BR$177,32,FALSE)<0,VLOOKUP($B43,CPPE!$A$2:$BR$177,32,FALSE),\"\"))","v":""},{"$f":"IF($B43=\"\",\"\",IF(VLOOKUP($B43,CPPE!$A$2:$BR$177,33,FALSE)<0,VLOOKUP($B43,CPPE!$A$2:$BR$177,33,FALSE),\"\"))","v":""},{"$f":"IF($B43=\"\",\"\",IF(VLOOKUP($B43,CPPE!$A$2:$BR$177,34,FALSE)<0,VLOOKUP($B43,CPPE!$A$2:$BR$177,34,FALSE),\"\"))","v":""},{"$f":"IF($B43=\"\",\"\",IF(VLOOKUP($B43,CPPE!$A$2:$BR$177,35,FALSE)<0,VLOOKUP($B43,CPPE!$A$2:$BR$177,35,FALSE),\"\"))","v":""},{"$f":"IF($B43=\"\",\"\",IF(VLOOKUP($B43,CPPE!$A$2:$BR$177,36,FALSE)<0,VLOOKUP($B43,CPPE!$A$2:$BR$177,36,FALSE),\"\"))","v":""},{"$f":"IF($B43=\"\",\"\",IF(VLOOKUP($B43,CPPE!$A$2:$BR$177,37,FALSE)<0,VLOOKUP($B43,CPPE!$A$2:$BR$177,37,FALSE),\"\"))","v":""},{"$f":"IF($B43=\"\",\"\",IF(VLOOKUP($B43,CPPE!$A$2:$BR$177,38,FALSE)<0,VLOOKUP($B43,CPPE!$A$2:$BR$177,38,FALSE),\"\"))","v":""},{"$f":"IF($B43=\"\",\"\",IF(VLOOKUP($B43,CPPE!$A$2:$BR$177,39,FALSE)<0,VLOOKUP($B43,CPPE!$A$2:$BR$177,39,FALSE),\"\"))","v":""},{"$f":"IF($B43=\"\",\"\",IF(VLOOKUP($B43,CPPE!$A$2:$BR$177,40,FALSE)<0,VLOOKUP($B43,CPPE!$A$2:$BR$177,40,FALSE),\"\"))","v":""},{"$f":"IF($B43=\"\",\"\",IF(VLOOKUP($B43,CPPE!$A$2:$BR$177,41,FALSE)<0,VLOOKUP($B43,CPPE!$A$2:$BR$177,41,FALSE),\"\"))","v":""},{"$f":"IF($B43=\"\",\"\",IF(VLOOKUP($B43,CPPE!$A$2:$BR$177,42,FALSE)<0,VLOOKUP($B43,CPPE!$A$2:$BR$177,42,FALSE),\"\"))","v":""},{"$f":"IF($B43=\"\",\"\",IF(VLOOKUP($B43,CPPE!$A$2:$BR$177,43,FALSE)<0,VLOOKUP($B43,CPPE!$A$2:$BR$177,43,FALSE),\"\"))","v":""},{"$f":"IF($B43=\"\",\"\",IF(VLOOKUP($B43,CPPE!$A$2:$BR$177,44,FALSE)<0,VLOOKUP($B43,CPPE!$A$2:$BR$177,44,FALSE),\"\"))","v":""},{"$f":"IF($B43=\"\",\"\",IF(VLOOKUP($B43,CPPE!$A$2:$BR$177,45,FALSE)<0,VLOOKUP($B43,CPPE!$A$2:$BR$177,45,FALSE),\"\"))","v":""},{"$f":"IF($B43=\"\",\"\",IF(VLOOKUP($B43,CPPE!$A$2:$BR$177,46,FALSE)<0,VLOOKUP($B43,CPPE!$A$2:$BR$177,46,FALSE),\"\"))","v":""},{"$f":"IF($B43=\"\",\"\",IF(VLOOKUP($B43,CPPE!$A$2:$BR$177,47,FALSE)<0,VLOOKUP($B43,CPPE!$A$2:$BR$177,47,FALSE),\"\"))","v":""},{"$f":"IF($B43=\"\",\"\",IF(VLOOKUP($B43,CPPE!$A$2:$BR$177,48,FALSE)<0,VLOOKUP($B43,CPPE!$A$2:$BR$177,48,FALSE),\"\"))","v":""},{"$f":"IF($B43=\"\",\"\",IF(VLOOKUP($B43,CPPE!$A$2:$BR$177,49,FALSE)<0,VLOOKUP($B43,CPPE!$A$2:$BR$177,49,FALSE),\"\"))","v":""},{"$f":"IF($B43=\"\",\"\",IF(VLOOKUP($B43,CPPE!$A$2:$BR$177,50,FALSE)<0,VLOOKUP($B43,CPPE!$A$2:$BR$177,50,FALSE),\"\"))","v":""},{"$f":"IF($B43=\"\",\"\",IF(VLOOKUP($B43,CPPE!$A$2:$BR$177,51,FALSE)<0,VLOOKUP($B43,CPPE!$A$2:$BR$177,51,FALSE),\"\"))","v":""},{"$f":"IF($B43=\"\",\"\",IF(VLOOKUP($B43,CPPE!$A$2:$BR$177,52,FALSE)<0,VLOOKUP($B43,CPPE!$A$2:$BR$177,52,FALSE),\"\"))","v":""},{"$f":"IF($B43=\"\",\"\",IF(VLOOKUP($B43,CPPE!$A$2:$BR$177,53,FALSE)<0,VLOOKUP($B43,CPPE!$A$2:$BR$177,53,FALSE),\"\"))","v":""},{"$f":"IF($B43=\"\",\"\",IF(VLOOKUP($B43,CPPE!$A$2:$BR$177,54,FALSE)<0,VLOOKUP($B43,CPPE!$A$2:$BR$177,54,FALSE),\"\"))","v":""},{"$f":"IF($B43=\"\",\"\",IF(VLOOKUP($B43,CPPE!$A$2:$BR$177,55,FALSE)<0,VLOOKUP($B43,CPPE!$A$2:$BR$177,55,FALSE),\"\"))","v":""},{"$f":"IF($B43=\"\",\"\",IF(VLOOKUP($B43,CPPE!$A$2:$BR$177,56,FALSE)<0,VLOOKUP($B43,CPPE!$A$2:$BR$177,56,FALSE),\"\"))","v":""},{"$f":"IF($B43=\"\",\"\",IF(VLOOKUP($B43,CPPE!$A$2:$BR$177,57,FALSE)<0,VLOOKUP($B43,CPPE!$A$2:$BR$177,57,FALSE),\"\"))","v":""},{"$f":"IF($B43=\"\",\"\",IF(VLOOKUP($B43,CPPE!$A$2:$BR$177,58,FALSE)<0,VLOOKUP($B43,CPPE!$A$2:$BR$177,58,FALSE),\"\"))","v":""},{"$f":"IF($B43=\"\",\"\",IF(VLOOKUP($B43,CPPE!$A$2:$BR$177,59,FALSE)<0,VLOOKUP($B43,CPPE!$A$2:$BR$177,59,FALSE),\"\"))","v":""}]
[null,{"$f":"IF(Results!B44=\"\",\"\",Results!B44)","v":""},{"$f":"IF($B44=\"\",\"\",IF(VLOOKUP($B44,CPPE!$A$2:$BR$177,2,FALSE)<0,VLOOKUP($B44,CPPE!$A$2:$BR$177,2,FALSE),\"\"))","v":""},{"$f":"IF($B44=\"\",\"\",IF(VLOOKUP($B44,CPPE!$A$2:$BR$177,3,FALSE)<0,VLOOKUP($B44,CPPE!$A$2:$BR$177,3,FALSE),\"\"))","v":""},{"$f":"IF($B44=\"\",\"\",IF(VLOOKUP($B44,CPPE!$A$2:$BR$177,4,FALSE)<0,VLOOKUP($B44,CPPE!$A$2:$BR$177,4,FALSE),\"\"))","v":""},{"$f":"IF($B44=\"\",\"\",IF(VLOOKUP($B44,CPPE!$A$2:$BR$177,4,FALSE)<0,VLOOKUP($B44,CPPE!$A$2:$BR$177,5,FALSE),\"\"))","v":""},{"$f":"IF($B44=\"\",\"\",IF(VLOOKUP($B44,CPPE!$A$2:$BR$177,5,FALSE)<0,VLOOKUP($B44,CPPE!$A$2:$BR$177,6,FALSE),\"\"))","v":""},{"$f":"IF($B44=\"\",\"\",IF(VLOOKUP($B44,CPPE!$A$2:$BR$177,7,FALSE)<0,VLOOKUP($B44,CPPE!$A$2:$BR$177,7,FALSE),\"\"))","v":""},{"$f":"IF($B44=\"\",\"\",IF(VLOOKUP($B44,CPPE!$A$2:$BR$177,8,FALSE)<0,VLOOKUP($B44,CPPE!$A$2:$BR$177,8,FALSE),\"\"))","v":""},{"$f":"IF($B44=\"\",\"\",IF(VLOOKUP($B44,CPPE!$A$2:$BR$177,9,FALSE)<0,VLOOKUP($B44,CPPE!$A$2:$BR$177,9,FALSE),\"\"))","v":""},{"$f":"IF($B44=\"\",\"\",IF(VLOOKUP($B44,CPPE!$A$2:$BR$177,10,FALSE)<0,VLOOKUP($B44,CPPE!$A$2:$BR$177,10,FALSE),\"\"))","v":""},{"$f":"IF($B44=\"\",\"\",IF(VLOOKUP($B44,CPPE!$A$2:$BR$177,11,FALSE)<0,VLOOKUP($B44,CPPE!$A$2:$BR$177,11,FALSE),\"\"))","v":""},{"$f":"IF($B44=\"\",\"\",IF(VLOOKUP($B44,CPPE!$A$2:$BR$177,12,FALSE)<0,VLOOKUP($B44,CPPE!$A$2:$BR$177,12,FALSE),\"\"))","v":""},{"$f":"IF($B44=\"\",\"\",IF(VLOOKUP($B44,CPPE!$A$2:$BR$177,13,FALSE)<0,VLOOKUP($B44,CPPE!$A$2:$BR$177,13,FALSE),\"\"))","v":""},{"$f":"IF($B44=\"\",\"\",IF(VLOOKUP($B44,CPPE!$A$2:$BR$177,14,FALSE)<0,VLOOKUP($B44,CPPE!$A$2:$BR$177,14,FALSE),\"\"))","v":""},{"$f":"IF($B44=\"\",\"\",IF(VLOOKUP($B44,CPPE!$A$2:$BR$177,15,FALSE)<0,VLOOKUP($B44,CPPE!$A$2:$BR$177,15,FALSE),\"\"))","v":""},{"$f":"IF($B44=\"\",\"\",IF(VLOOKUP($B44,CPPE!$A$2:$BR$177,16,FALSE)<0,VLOOKUP($B44,CPPE!$A$2:$BR$177,16,FALSE),\"\"))","v":""},{"$f":"IF($B44=\"\",\"\",IF(VLOOKUP($B44,CPPE!$A$2:$BR$177,17,FALSE)<0,VLOOKUP($B44,CPPE!$A$2:$BR$177,17,FALSE),\"\"))","v":""},{"$f":"IF($B44=\"\",\"\",IF(VLOOKUP($B44,CPPE!$A$2:$BR$177,18,FALSE)<0,VLOOKUP($B44,CPPE!$A$2:$BR$177,18,FALSE),\"\"))","v":""},{"$f":"IF($B44=\"\",\"\",IF(VLOOKUP($B44,CPPE!$A$2:$BR$177,19,FALSE)<0,VLOOKUP($B44,CPPE!$A$2:$BR$177,19,FALSE),\"\"))","v":""},{"$f":"IF($B44=\"\",\"\",IF(VLOOKUP($B44,CPPE!$A$2:$BR$177,20,FALSE)<0,VLOOKUP($B44,CPPE!$A$2:$BR$177,20,FALSE),\"\"))","v":""},{"$f":"IF($B44=\"\",\"\",IF(VLOOKUP($B44,CPPE!$A$2:$BR$177,21,FALSE)<0,VLOOKUP($B44,CPPE!$A$2:$BR$177,21,FALSE),\"\"))","v":""},{"$f":"IF($B44=\"\",\"\",IF(VLOOKUP($B44,CPPE!$A$2:$BR$177,22,FALSE)<0,VLOOKUP($B44,CPPE!$A$2:$BR$177,22,FALSE),\"\"))","v":""},{"$f":"IF($B44=\"\",\"\",IF(VLOOKUP($B44,CPPE!$A$2:$BR$177,23,FALSE)<0,VLOOKUP($B44,CPPE!$A$2:$BR$177,23,FALSE),\"\"))","v":""},{"$f":"IF($B44=\"\",\"\",IF(VLOOKUP($B44,CPPE!$A$2:$BR$177,24,FALSE)<0,VLOOKUP($B44,CPPE!$A$2:$BR$177,24,FALSE),\"\"))","v":""},{"$f":"IF($B44=\"\",\"\",IF(VLOOKUP($B44,CPPE!$A$2:$BR$177,25,FALSE)<0,VLOOKUP($B44,CPPE!$A$2:$BR$177,25,FALSE),\"\"))","v":""},{"$f":"IF($B44=\"\",\"\",IF(VLOOKUP($B44,CPPE!$A$2:$BR$177,26,FALSE)<0,VLOOKUP($B44,CPPE!$A$2:$BR$177,26,FALSE),\"\"))","v":""},{"$f":"IF($B44=\"\",\"\",IF(VLOOKUP($B44,CPPE!$A$2:$BR$177,27,FALSE)<0,VLOOKUP($B44,CPPE!$A$2:$BR$177,27,FALSE),\"\"))","v":""},{"$f":"IF($B44=\"\",\"\",IF(VLOOKUP($B44,CPPE!$A$2:$BR$177,28,FALSE)<0,VLOOKUP($B44,CPPE!$A$2:$BR$177,28,FALSE),\"\"))","v":""},{"$f":"IF($B44=\"\",\"\",IF(VLOOKUP($B44,CPPE!$A$2:$BR$177,29,FALSE)<0,VLOOKUP($B44,CPPE!$A$2:$BR$177,29,FALSE),\"\"))","v":""},{"$f":"IF($B44=\"\",\"\",IF(VLOOKUP($B44,CPPE!$A$2:$BR$177,30,FALSE)<0,VLOOKUP($B44,CPPE!$A$2:$BR$177,30,FALSE),\"\"))","v":""},{"$f":"IF($B44=\"\",\"\",IF(VLOOKUP($B44,CPPE!$A$2:$BR$177,31,FALSE)<0,VLOOKUP($B44,CPPE!$A$2:$BR$177,31,FALSE),\"\"))","v":""},{"$f":"IF($B44=\"\",\"\",IF(VLOOKUP($B44,CPPE!$A$2:$BR$177,32,FALSE)<0,VLOOKUP($B44,CPPE!$A$2:$BR$177,32,FALSE),\"\"))","v":""},{"$f":"IF($B44=\"\",\"\",IF(VLOOKUP($B44,CPPE!$A$2:$BR$177,33,FALSE)<0,VLOOKUP($B44,CPPE!$A$2:$BR$177,33,FALSE),\"\"))","v":""},{"$f":"IF($B44=\"\",\"\",IF(VLOOKUP($B44,CPPE!$A$2:$BR$177,34,FALSE)<0,VLOOKUP($B44,CPPE!$A$2:$BR$177,34,FALSE),\"\"))","v":""},{"$f":"IF($B44=\"\",\"\",IF(VLOOKUP($B44,CPPE!$A$2:$BR$177,35,FALSE)<0,VLOOKUP($B44,CPPE!$A$2:$BR$177,35,FALSE),\"\"))","v":""},{"$f":"IF($B44=\"\",\"\",IF(VLOOKUP($B44,CPPE!$A$2:$BR$177,36,FALSE)<0,VLOOKUP($B44,CPPE!$A$2:$BR$177,36,FALSE),\"\"))","v":""},{"$f":"IF($B44=\"\",\"\",IF(VLOOKUP($B44,CPPE!$A$2:$BR$177,37,FALSE)<0,VLOOKUP($B44,CPPE!$A$2:$BR$177,37,FALSE),\"\"))","v":""},{"$f":"IF($B44=\"\",\"\",IF(VLOOKUP($B44,CPPE!$A$2:$BR$177,38,FALSE)<0,VLOOKUP($B44,CPPE!$A$2:$BR$177,38,FALSE),\"\"))","v":""},{"$f":"IF($B44=\"\",\"\",IF(VLOOKUP($B44,CPPE!$A$2:$BR$177,39,FALSE)<0,VLOOKUP($B44,CPPE!$A$2:$BR$177,39,FALSE),\"\"))","v":""},{"$f":"IF($B44=\"\",\"\",IF(VLOOKUP($B44,CPPE!$A$2:$BR$177,40,FALSE)<0,VLOOKUP($B44,CPPE!$A$2:$BR$177,40,FALSE),\"\"))","v":""},{"$f":"IF($B44=\"\",\"\",IF(VLOOKUP($B44,CPPE!$A$2:$BR$177,41,FALSE)<0,VLOOKUP($B44,CPPE!$A$2:$BR$177,41,FALSE),\"\"))","v":""},{"$f":"IF($B44=\"\",\"\",IF(VLOOKUP($B44,CPPE!$A$2:$BR$177,42,FALSE)<0,VLOOKUP($B44,CPPE!$A$2:$BR$177,42,FALSE),\"\"))","v":""},{"$f":"IF($B44=\"\",\"\",IF(VLOOKUP($B44,CPPE!$A$2:$BR$177,43,FALSE)<0,VLOOKUP($B44,CPPE!$A$2:$BR$177,43,FALSE),\"\"))","v":""},{"$f":"IF($B44=\"\",\"\",IF(VLOOKUP($B44,CPPE!$A$2:$BR$177,44,FALSE)<0,VLOOKUP($B44,CPPE!$A$2:$BR$177,44,FALSE),\"\"))","v":""},{"$f":"IF($B44=\"\",\"\",IF(VLOOKUP($B44,CPPE!$A$2:$BR$177,45,FALSE)<0,VLOOKUP($B44,CPPE!$A$2:$BR$177,45,FALSE),\"\"))","v":""},{"$f":"IF($B44=\"\",\"\",IF(VLOOKUP($B44,CPPE!$A$2:$BR$177,46,FALSE)<0,VLOOKUP($B44,CPPE!$A$2:$BR$177,46,FALSE),\"\"))","v":""},{"$f":"IF($B44=\"\",\"\",IF(VLOOKUP($B44,CPPE!$A$2:$BR$177,47,FALSE)<0,VLOOKUP($B44,CPPE!$A$2:$BR$177,47,FALSE),\"\"))","v":""},{"$f":"IF($B44=\"\",\"\",IF(VLOOKUP($B44,CPPE!$A$2:$BR$177,48,FALSE)<0,VLOOKUP($B44,CPPE!$A$2:$BR$177,48,FALSE),\"\"))","v":""},{"$f":"IF($B44=\"\",\"\",IF(VLOOKUP($B44,CPPE!$A$2:$BR$177,49,FALSE)<0,VLOOKUP($B44,CPPE!$A$2:$BR$177,49,FALSE),\"\"))","v":""},{"$f":"IF($B44=\"\",\"\",IF(VLOOKUP($B44,CPPE!$A$2:$BR$177,50,FALSE)<0,VLOOKUP($B44,CPPE!$A$2:$BR$177,50,FALSE),\"\"))","v":""},{"$f":"IF($B44=\"\",\"\",IF(VLOOKUP($B44,CPPE!$A$2:$BR$177,51,FALSE)<0,VLOOKUP($B44,CPPE!$A$2:$BR$177,51,FALSE),\"\"))","v":""},{"$f":"IF($B44=\"\",\"\",IF(VLOOKUP($B44,CPPE!$A$2:$BR$177,52,FALSE)<0,VLOOKUP($B44,CPPE!$A$2:$BR$177,52,FALSE),\"\"))","v":""},{"$f":"IF($B44=\"\",\"\",IF(VLOOKUP($B44,CPPE!$A$2:$BR$177,53,FALSE)<0,VLOOKUP($B44,CPPE!$A$2:$BR$177,53,FALSE),\"\"))","v":""},{"$f":"IF($B44=\"\",\"\",IF(VLOOKUP($B44,CPPE!$A$2:$BR$177,54,FALSE)<0,VLOOKUP($B44,CPPE!$A$2:$BR$177,54,FALSE),\"\"))","v":""},{"$f":"IF($B44=\"\",\"\",IF(VLOOKUP($B44,CPPE!$A$2:$BR$177,55,FALSE)<0,VLOOKUP($B44,CPPE!$A$2:$BR$177,55,FALSE),\"\"))","v":""},{"$f":"IF($B44=\"\",\"\",IF(VLOOKUP($B44,CPPE!$A$2:$BR$177,56,FALSE)<0,VLOOKUP($B44,CPPE!$A$2:$BR$177,56,FALSE),\"\"))","v":""},{"$f":"IF($B44=\"\",\"\",IF(VLOOKUP($B44,CPPE!$A$2:$BR$177,57,FALSE)<0,VLOOKUP($B44,CPPE!$A$2:$BR$177,57,FALSE),\"\"))","v":""},{"$f":"IF($B44=\"\",\"\",IF(VLOOKUP($B44,CPPE!$A$2:$BR$177,58,FALSE)<0,VLOOKUP($B44,CPPE!$A$2:$BR$177,58,FALSE),\"\"))","v":""},{"$f":"IF($B44=\"\",\"\",IF(VLOOKUP($B44,CPPE!$A$2:$BR$177,59,FALSE)<0,VLOOKUP($B44,CPPE!$A$2:$BR$177,59,FALSE),\"\"))","v":""}]
[null,{"$f":"IF(Results!B45=\"\",\"\",Results!B45)","v":""},{"$f":"IF($B45=\"\",\"\",IF(VLOOKUP($B45,CPPE!$A$2:$BR$177,2,FALSE)<0,VLOOKUP($B45,CPPE!$A$2:$BR$177,2,FALSE),\"\"))","v":""},{"$f":"IF($B45=\"\",\"\",IF(VLOOKUP($B45,CPPE!$A$2:$BR$177,3,FALSE)<0,VLOOKUP($B45,CPPE!$A$2:$BR$177,3,FALSE),\"\"))","v":""},{"$f":"IF($B45=\"\",\"\",IF(VLOOKUP($B45,CPPE!$A$2:$BR$177,4,FALSE)<0,VLOOKUP($B45,CPPE!$A$2:$BR$177,4,FALSE),\"\"))","v":""},{"$f":"IF($B45=\"\",\"\",IF(VLOOKUP($B45,CPPE!$A$2:$BR$177,4,FALSE)<0,VLOOKUP($B45,CPPE!$A$2:$BR$177,5,FALSE),\"\"))","v":""},{"$f":"IF($B45=\"\",\"\",IF(VLOOKUP($B45,CPPE!$A$2:$BR$177,5,FALSE)<0,VLOOKUP($B45,CPPE!$A$2:$BR$177,6,FALSE),\"\"))","v":""},{"$f":"IF($B45=\"\",\"\",IF(VLOOKUP($B45,CPPE!$A$2:$BR$177,7,FALSE)<0,VLOOKUP($B45,CPPE!$A$2:$BR$177,7,FALSE),\"\"))","v":""},{"$f":"IF($B45=\"\",\"\",IF(VLOOKUP($B45,CPPE!$A$2:$BR$177,8,FALSE)<0,VLOOKUP($B45,CPPE!$A$2:$BR$177,8,FALSE),\"\"))","v":""},{"$f":"IF($B45=\"\",\"\",IF(VLOOKUP($B45,CPPE!$A$2:$BR$177,9,FALSE)<0,VLOOKUP($B45,CPPE!$A$2:$BR$177,9,FALSE),\"\"))","v":""},{"$f":"IF($B45=\"\",\"\",IF(VLOOKUP($B45,CPPE!$A$2:$BR$177,10,FALSE)<0,VLOOKUP($B45,CPPE!$A$2:$BR$177,10,FALSE),\"\"))","v":""},{"$f":"IF($B45=\"\",\"\",IF(VLOOKUP($B45,CPPE!$A$2:$BR$177,11,FALSE)<0,VLOOKUP($B45,CPPE!$A$2:$BR$177,11,FALSE),\"\"))","v":""},{"$f":"IF($B45=\"\",\"\",IF(VLOOKUP($B45,CPPE!$A$2:$BR$177,12,FALSE)<0,VLOOKUP($B45,CPPE!$A$2:$BR$177,12,FALSE),\"\"))","v":""},{"$f":"IF($B45=\"\",\"\",IF(VLOOKUP($B45,CPPE!$A$2:$BR$177,13,FALSE)<0,VLOOKUP($B45,CPPE!$A$2:$BR$177,13,FALSE),\"\"))","v":""},{"$f":"IF($B45=\"\",\"\",IF(VLOOKUP($B45,CPPE!$A$2:$BR$177,14,FALSE)<0,VLOOKUP($B45,CPPE!$A$2:$BR$177,14,FALSE),\"\"))","v":""},{"$f":"IF($B45=\"\",\"\",IF(VLOOKUP($B45,CPPE!$A$2:$BR$177,15,FALSE)<0,VLOOKUP($B45,CPPE!$A$2:$BR$177,15,FALSE),\"\"))","v":""},{"$f":"IF($B45=\"\",\"\",IF(VLOOKUP($B45,CPPE!$A$2:$BR$177,16,FALSE)<0,VLOOKUP($B45,CPPE!$A$2:$BR$177,16,FALSE),\"\"))","v":""},{"$f":"IF($B45=\"\",\"\",IF(VLOOKUP($B45,CPPE!$A$2:$BR$177,17,FALSE)<0,VLOOKUP($B45,CPPE!$A$2:$BR$177,17,FALSE),\"\"))","v":""},{"$f":"IF($B45=\"\",\"\",IF(VLOOKUP($B45,CPPE!$A$2:$BR$177,18,FALSE)<0,VLOOKUP($B45,CPPE!$A$2:$BR$177,18,FALSE),\"\"))","v":""},{"$f":"IF($B45=\"\",\"\",IF(VLOOKUP($B45,CPPE!$A$2:$BR$177,19,FALSE)<0,VLOOKUP($B45,CPPE!$A$2:$BR$177,19,FALSE),\"\"))","v":""},{"$f":"IF($B45=\"\",\"\",IF(VLOOKUP($B45,CPPE!$A$2:$BR$177,20,FALSE)<0,VLOOKUP($B45,CPPE!$A$2:$BR$177,20,FALSE),\"\"))","v":""},{"$f":"IF($B45=\"\",\"\",IF(VLOOKUP($B45,CPPE!$A$2:$BR$177,21,FALSE)<0,VLOOKUP($B45,CPPE!$A$2:$BR$177,21,FALSE),\"\"))","v":""},{"$f":"IF($B45=\"\",\"\",IF(VLOOKUP($B45,CPPE!$A$2:$BR$177,22,FALSE)<0,VLOOKUP($B45,CPPE!$A$2:$BR$177,22,FALSE),\"\"))","v":""},{"$f":"IF($B45=\"\",\"\",IF(VLOOKUP($B45,CPPE!$A$2:$BR$177,23,FALSE)<0,VLOOKUP($B45,CPPE!$A$2:$BR$177,23,FALSE),\"\"))","v":""},{"$f":"IF($B45=\"\",\"\",IF(VLOOKUP($B45,CPPE!$A$2:$BR$177,24,FALSE)<0,VLOOKUP($B45,CPPE!$A$2:$BR$177,24,FALSE),\"\"))","v":""},{"$f":"IF($B45=\"\",\"\",IF(VLOOKUP($B45,CPPE!$A$2:$BR$177,25,FALSE)<0,VLOOKUP($B45,CPPE!$A$2:$BR$177,25,FALSE),\"\"))","v":""},{"$f":"IF($B45=\"\",\"\",IF(VLOOKUP($B45,CPPE!$A$2:$BR$177,26,FALSE)<0,VLOOKUP($B45,CPPE!$A$2:$BR$177,26,FALSE),\"\"))","v":""},{"$f":"IF($B45=\"\",\"\",IF(VLOOKUP($B45,CPPE!$A$2:$BR$177,27,FALSE)<0,VLOOKUP($B45,CPPE!$A$2:$BR$177,27,FALSE),\"\"))","v":""},{"$f":"IF($B45=\"\",\"\",IF(VLOOKUP($B45,CPPE!$A$2:$BR$177,28,FALSE)<0,VLOOKUP($B45,CPPE!$A$2:$BR$177,28,FALSE),\"\"))","v":""},{"$f":"IF($B45=\"\",\"\",IF(VLOOKUP($B45,CPPE!$A$2:$BR$177,29,FALSE)<0,VLOOKUP($B45,CPPE!$A$2:$BR$177,29,FALSE),\"\"))","v":""},{"$f":"IF($B45=\"\",\"\",IF(VLOOKUP($B45,CPPE!$A$2:$BR$177,30,FALSE)<0,VLOOKUP($B45,CPPE!$A$2:$BR$177,30,FALSE),\"\"))","v":""},{"$f":"IF($B45=\"\",\"\",IF(VLOOKUP($B45,CPPE!$A$2:$BR$177,31,FALSE)<0,VLOOKUP($B45,CPPE!$A$2:$BR$177,31,FALSE),\"\"))","v":""},{"$f":"IF($B45=\"\",\"\",IF(VLOOKUP($B45,CPPE!$A$2:$BR$177,32,FALSE)<0,VLOOKUP($B45,CPPE!$A$2:$BR$177,32,FALSE),\"\"))","v":""},{"$f":"IF($B45=\"\",\"\",IF(VLOOKUP($B45,CPPE!$A$2:$BR$177,33,FALSE)<0,VLOOKUP($B45,CPPE!$A$2:$BR$177,33,FALSE),\"\"))","v":""},{"$f":"IF($B45=\"\",\"\",IF(VLOOKUP($B45,CPPE!$A$2:$BR$177,34,FALSE)<0,VLOOKUP($B45,CPPE!$A$2:$BR$177,34,FALSE),\"\"))","v":""},{"$f":"IF($B45=\"\",\"\",IF(VLOOKUP($B45,CPPE!$A$2:$BR$177,35,FALSE)<0,VLOOKUP($B45,CPPE!$A$2:$BR$177,35,FALSE),\"\"))","v":""},{"$f":"IF($B45=\"\",\"\",IF(VLOOKUP($B45,CPPE!$A$2:$BR$177,36,FALSE)<0,VLOOKUP($B45,CPPE!$A$2:$BR$177,36,FALSE),\"\"))","v":""},{"$f":"IF($B45=\"\",\"\",IF(VLOOKUP($B45,CPPE!$A$2:$BR$177,37,FALSE)<0,VLOOKUP($B45,CPPE!$A$2:$BR$177,37,FALSE),\"\"))","v":""},{"$f":"IF($B45=\"\",\"\",IF(VLOOKUP($B45,CPPE!$A$2:$BR$177,38,FALSE)<0,VLOOKUP($B45,CPPE!$A$2:$BR$177,38,FALSE),\"\"))","v":""},{"$f":"IF($B45=\"\",\"\",IF(VLOOKUP($B45,CPPE!$A$2:$BR$177,39,FALSE)<0,VLOOKUP($B45,CPPE!$A$2:$BR$177,39,FALSE),\"\"))","v":""},{"$f":"IF($B45=\"\",\"\",IF(VLOOKUP($B45,CPPE!$A$2:$BR$177,40,FALSE)<0,VLOOKUP($B45,CPPE!$A$2:$BR$177,40,FALSE),\"\"))","v":""},{"$f":"IF($B45=\"\",\"\",IF(VLOOKUP($B45,CPPE!$A$2:$BR$177,41,FALSE)<0,VLOOKUP($B45,CPPE!$A$2:$BR$177,41,FALSE),\"\"))","v":""},{"$f":"IF($B45=\"\",\"\",IF(VLOOKUP($B45,CPPE!$A$2:$BR$177,42,FALSE)<0,VLOOKUP($B45,CPPE!$A$2:$BR$177,42,FALSE),\"\"))","v":""},{"$f":"IF($B45=\"\",\"\",IF(VLOOKUP($B45,CPPE!$A$2:$BR$177,43,FALSE)<0,VLOOKUP($B45,CPPE!$A$2:$BR$177,43,FALSE),\"\"))","v":""},{"$f":"IF($B45=\"\",\"\",IF(VLOOKUP($B45,CPPE!$A$2:$BR$177,44,FALSE)<0,VLOOKUP($B45,CPPE!$A$2:$BR$177,44,FALSE),\"\"))","v":""},{"$f":"IF($B45=\"\",\"\",IF(VLOOKUP($B45,CPPE!$A$2:$BR$177,45,FALSE)<0,VLOOKUP($B45,CPPE!$A$2:$BR$177,45,FALSE),\"\"))","v":""},{"$f":"IF($B45=\"\",\"\",IF(VLOOKUP($B45,CPPE!$A$2:$BR$177,46,FALSE)<0,VLOOKUP($B45,CPPE!$A$2:$BR$177,46,FALSE),\"\"))","v":""},{"$f":"IF($B45=\"\",\"\",IF(VLOOKUP($B45,CPPE!$A$2:$BR$177,47,FALSE)<0,VLOOKUP($B45,CPPE!$A$2:$BR$177,47,FALSE),\"\"))","v":""},{"$f":"IF($B45=\"\",\"\",IF(VLOOKUP($B45,CPPE!$A$2:$BR$177,48,FALSE)<0,VLOOKUP($B45,CPPE!$A$2:$BR$177,48,FALSE),\"\"))","v":""},{"$f":"IF($B45=\"\",\"\",IF(VLOOKUP($B45,CPPE!$A$2:$BR$177,49,FALSE)<0,VLOOKUP($B45,CPPE!$A$2:$BR$177,49,FALSE),\"\"))","v":""},{"$f":"IF($B45=\"\",\"\",IF(VLOOKUP($B45,CPPE!$A$2:$BR$177,50,FALSE)<0,VLOOKUP($B45,CPPE!$A$2:$BR$177,50,FALSE),\"\"))","v":""},{"$f":"IF($B45=\"\",\"\",IF(VLOOKUP($B45,CPPE!$A$2:$BR$177,51,FALSE)<0,VLOOKUP($B45,CPPE!$A$2:$BR$177,51,FALSE),\"\"))","v":""},{"$f":"IF($B45=\"\",\"\",IF(VLOOKUP($B45,CPPE!$A$2:$BR$177,52,FALSE)<0,VLOOKUP($B45,CPPE!$A$2:$BR$177,52,FALSE),\"\"))","v":""},{"$f":"IF($B45=\"\",\"\",IF(VLOOKUP($B45,CPPE!$A$2:$BR$177,53,FALSE)<0,VLOOKUP($B45,CPPE!$A$2:$BR$177,53,FALSE),\"\"))","v":""},{"$f":"IF($B45=\"\",\"\",IF(VLOOKUP($B45,CPPE!$A$2:$BR$177,54,FALSE)<0,VLOOKUP($B45,CPPE!$A$2:$BR$177,54,FALSE),\"\"))","v":""},{"$f":"IF($B45=\"\",\"\",IF(VLOOKUP($B45,CPPE!$A$2:$BR$177,55,FALSE)<0,VLOOKUP($B45,CPPE!$A$2:$BR$177,55,FALSE),\"\"))","v":""},{"$f":"IF($B45=\"\",\"\",IF(VLOOKUP($B45,CPPE!$A$2:$BR$177,56,FALSE)<0,VLOOKUP($B45,CPPE!$A$2:$BR$177,56,FALSE),\"\"))","v":""},{"$f":"IF($B45=\"\",\"\",IF(VLOOKUP($B45,CPPE!$A$2:$BR$177,57,FALSE)<0,VLOOKUP($B45,CPPE!$A$2:$BR$177,57,FALSE),\"\"))","v":""},{"$f":"IF($B45=\"\",\"\",IF(VLOOKUP($B45,CPPE!$A$2:$BR$177,58,FALSE)<0,VLOOKUP($B45,CPPE!$A$2:$BR$177,58,FALSE),\"\"))","v":""},{"$f":"IF($B45=\"\",\"\",IF(VLOOKUP($B45,CPPE!$A$2:$BR$177,59,FALSE)<0,VLOOKUP($B45,CPPE!$A$2:$BR$177,59,FALSE),\"\"))","v":""}]
[null,{"$f":"IF(Results!B46=\"\",\"\",Results!B46)","v":""},{"$f":"IF($B46=\"\",\"\",IF(VLOOKUP($B46,CPPE!$A$2:$BR$177,2,FALSE)<0,VLOOKUP($B46,CPPE!$A$2:$BR$177,2,FALSE),\"\"))","v":""},{"$f":"IF($B46=\"\",\"\",IF(VLOOKUP($B46,CPPE!$A$2:$BR$177,3,FALSE)<0,VLOOKUP($B46,CPPE!$A$2:$BR$177,3,FALSE),\"\"))","v":""},{"$f":"IF($B46=\"\",\"\",IF(VLOOKUP($B46,CPPE!$A$2:$BR$177,4,FALSE)<0,VLOOKUP($B46,CPPE!$A$2:$BR$177,4,FALSE),\"\"))","v":""},{"$f":"IF($B46=\"\",\"\",IF(VLOOKUP($B46,CPPE!$A$2:$BR$177,4,FALSE)<0,VLOOKUP($B46,CPPE!$A$2:$BR$177,5,FALSE),\"\"))","v":""},{"$f":"IF($B46=\"\",\"\",IF(VLOOKUP($B46,CPPE!$A$2:$BR$177,5,FALSE)<0,VLOOKUP($B46,CPPE!$A$2:$BR$177,6,FALSE),\"\"))","v":""},{"$f":"IF($B46=\"\",\"\",IF(VLOOKUP($B46,CPPE!$A$2:$BR$177,7,FALSE)<0,VLOOKUP($B46,CPPE!$A$2:$BR$177,7,FALSE),\"\"))","v":""},{"$f":"IF($B46=\"\",\"\",IF(VLOOKUP($B46,CPPE!$A$2:$BR$177,8,FALSE)<0,VLOOKUP($B46,CPPE!$A$2:$BR$177,8,FALSE),\"\"))","v":""},{"$f":"IF($B46=\"\",\"\",IF(VLOOKUP($B46,CPPE!$A$2:$BR$177,9,FALSE)<0,VLOOKUP($B46,CPPE!$A$2:$BR$177,9,FALSE),\"\"))","v":""},{"$f":"IF($B46=\"\",\"\",IF(VLOOKUP($B46,CPPE!$A$2:$BR$177,10,FALSE)<0,VLOOKUP($B46,CPPE!$A$2:$BR$177,10,FALSE),\"\"))","v":""},{"$f":"IF($B46=\"\",\"\",IF(VLOOKUP($B46,CPPE!$A$2:$BR$177,11,FALSE)<0,VLOOKUP($B46,CPPE!$A$2:$BR$177,11,FALSE),\"\"))","v":""},{"$f":"IF($B46=\"\",\"\",IF(VLOOKUP($B46,CPPE!$A$2:$BR$177,12,FALSE)<0,VLOOKUP($B46,CPPE!$A$2:$BR$177,12,FALSE),\"\"))","v":""},{"$f":"IF($B46=\"\",\"\",IF(VLOOKUP($B46,CPPE!$A$2:$BR$177,13,FALSE)<0,VLOOKUP($B46,CPPE!$A$2:$BR$177,13,FALSE),\"\"))","v":""},{"$f":"IF($B46=\"\",\"\",IF(VLOOKUP($B46,CPPE!$A$2:$BR$177,14,FALSE)<0,VLOOKUP($B46,CPPE!$A$2:$BR$177,14,FALSE),\"\"))","v":""},{"$f":"IF($B46=\"\",\"\",IF(VLOOKUP($B46,CPPE!$A$2:$BR$177,15,FALSE)<0,VLOOKUP($B46,CPPE!$A$2:$BR$177,15,FALSE),\"\"))","v":""},{"$f":"IF($B46=\"\",\"\",IF(VLOOKUP($B46,CPPE!$A$2:$BR$177,16,FALSE)<0,VLOOKUP($B46,CPPE!$A$2:$BR$177,16,FALSE),\"\"))","v":""},{"$f":"IF($B46=\"\",\"\",IF(VLOOKUP($B46,CPPE!$A$2:$BR$177,17,FALSE)<0,VLOOKUP($B46,CPPE!$A$2:$BR$177,17,FALSE),\"\"))","v":""},{"$f":"IF($B46=\"\",\"\",IF(VLOOKUP($B46,CPPE!$A$2:$BR$177,18,FALSE)<0,VLOOKUP($B46,CPPE!$A$2:$BR$177,18,FALSE),\"\"))","v":""},{"$f":"IF($B46=\"\",\"\",IF(VLOOKUP($B46,CPPE!$A$2:$BR$177,19,FALSE)<0,VLOOKUP($B46,CPPE!$A$2:$BR$177,19,FALSE),\"\"))","v":""},{"$f":"IF($B46=\"\",\"\",IF(VLOOKUP($B46,CPPE!$A$2:$BR$177,20,FALSE)<0,VLOOKUP($B46,CPPE!$A$2:$BR$177,20,FALSE),\"\"))","v":""},{"$f":"IF($B46=\"\",\"\",IF(VLOOKUP($B46,CPPE!$A$2:$BR$177,21,FALSE)<0,VLOOKUP($B46,CPPE!$A$2:$BR$177,21,FALSE),\"\"))","v":""},{"$f":"IF($B46=\"\",\"\",IF(VLOOKUP($B46,CPPE!$A$2:$BR$177,22,FALSE)<0,VLOOKUP($B46,CPPE!$A$2:$BR$177,22,FALSE),\"\"))","v":""},{"$f":"IF($B46=\"\",\"\",IF(VLOOKUP($B46,CPPE!$A$2:$BR$177,23,FALSE)<0,VLOOKUP($B46,CPPE!$A$2:$BR$177,23,FALSE),\"\"))","v":""},{"$f":"IF($B46=\"\",\"\",IF(VLOOKUP($B46,CPPE!$A$2:$BR$177,24,FALSE)<0,VLOOKUP($B46,CPPE!$A$2:$BR$177,24,FALSE),\"\"))","v":""},{"$f":"IF($B46=\"\",\"\",IF(VLOOKUP($B46,CPPE!$A$2:$BR$177,25,FALSE)<0,VLOOKUP($B46,CPPE!$A$2:$BR$177,25,FALSE),\"\"))","v":""},{"$f":"IF($B46=\"\",\"\",IF(VLOOKUP($B46,CPPE!$A$2:$BR$177,26,FALSE)<0,VLOOKUP($B46,CPPE!$A$2:$BR$177,26,FALSE),\"\"))","v":""},{"$f":"IF($B46=\"\",\"\",IF(VLOOKUP($B46,CPPE!$A$2:$BR$177,27,FALSE)<0,VLOOKUP($B46,CPPE!$A$2:$BR$177,27,FALSE),\"\"))","v":""},{"$f":"IF($B46=\"\",\"\",IF(VLOOKUP($B46,CPPE!$A$2:$BR$177,28,FALSE)<0,VLOOKUP($B46,CPPE!$A$2:$BR$177,28,FALSE),\"\"))","v":""},{"$f":"IF($B46=\"\",\"\",IF(VLOOKUP($B46,CPPE!$A$2:$BR$177,29,FALSE)<0,VLOOKUP($B46,CPPE!$A$2:$BR$177,29,FALSE),\"\"))","v":""},{"$f":"IF($B46=\"\",\"\",IF(VLOOKUP($B46,CPPE!$A$2:$BR$177,30,FALSE)<0,VLOOKUP($B46,CPPE!$A$2:$BR$177,30,FALSE),\"\"))","v":""},{"$f":"IF($B46=\"\",\"\",IF(VLOOKUP($B46,CPPE!$A$2:$BR$177,31,FALSE)<0,VLOOKUP($B46,CPPE!$A$2:$BR$177,31,FALSE),\"\"))","v":""},{"$f":"IF($B46=\"\",\"\",IF(VLOOKUP($B46,CPPE!$A$2:$BR$177,32,FALSE)<0,VLOOKUP($B46,CPPE!$A$2:$BR$177,32,FALSE),\"\"))","v":""},{"$f":"IF($B46=\"\",\"\",IF(VLOOKUP($B46,CPPE!$A$2:$BR$177,33,FALSE)<0,VLOOKUP($B46,CPPE!$A$2:$BR$177,33,FALSE),\"\"))","v":""},{"$f":"IF($B46=\"\",\"\",IF(VLOOKUP($B46,CPPE!$A$2:$BR$177,34,FALSE)<0,VLOOKUP($B46,CPPE!$A$2:$BR$177,34,FALSE),\"\"))","v":""},{"$f":"IF($B46=\"\",\"\",IF(VLOOKUP($B46,CPPE!$A$2:$BR$177,35,FALSE)<0,VLOOKUP($B46,CPPE!$A$2:$BR$177,35,FALSE),\"\"))","v":""},{"$f":"IF($B46=\"\",\"\",IF(VLOOKUP($B46,CPPE!$A$2:$BR$177,36,FALSE)<0,VLOOKUP($B46,CPPE!$A$2:$BR$177,36,FALSE),\"\"))","v":""},{"$f":"IF($B46=\"\",\"\",IF(VLOOKUP($B46,CPPE!$A$2:$BR$177,37,FALSE)<0,VLOOKUP($B46,CPPE!$A$2:$BR$177,37,FALSE),\"\"))","v":""},{"$f":"IF($B46=\"\",\"\",IF(VLOOKUP($B46,CPPE!$A$2:$BR$177,38,FALSE)<0,VLOOKUP($B46,CPPE!$A$2:$BR$177,38,FALSE),\"\"))","v":""},{"$f":"IF($B46=\"\",\"\",IF(VLOOKUP($B46,CPPE!$A$2:$BR$177,39,FALSE)<0,VLOOKUP($B46,CPPE!$A$2:$BR$177,39,FALSE),\"\"))","v":""},{"$f":"IF($B46=\"\",\"\",IF(VLOOKUP($B46,CPPE!$A$2:$BR$177,40,FALSE)<0,VLOOKUP($B46,CPPE!$A$2:$BR$177,40,FALSE),\"\"))","v":""},{"$f":"IF($B46=\"\",\"\",IF(VLOOKUP($B46,CPPE!$A$2:$BR$177,41,FALSE)<0,VLOOKUP($B46,CPPE!$A$2:$BR$177,41,FALSE),\"\"))","v":""},{"$f":"IF($B46=\"\",\"\",IF(VLOOKUP($B46,CPPE!$A$2:$BR$177,42,FALSE)<0,VLOOKUP($B46,CPPE!$A$2:$BR$177,42,FALSE),\"\"))","v":""},{"$f":"IF($B46=\"\",\"\",IF(VLOOKUP($B46,CPPE!$A$2:$BR$177,43,FALSE)<0,VLOOKUP($B46,CPPE!$A$2:$BR$177,43,FALSE),\"\"))","v":""},{"$f":"IF($B46=\"\",\"\",IF(VLOOKUP($B46,CPPE!$A$2:$BR$177,44,FALSE)<0,VLOOKUP($B46,CPPE!$A$2:$BR$177,44,FALSE),\"\"))","v":""},{"$f":"IF($B46=\"\",\"\",IF(VLOOKUP($B46,CPPE!$A$2:$BR$177,45,FALSE)<0,VLOOKUP($B46,CPPE!$A$2:$BR$177,45,FALSE),\"\"))","v":""},{"$f":"IF($B46=\"\",\"\",IF(VLOOKUP($B46,CPPE!$A$2:$BR$177,46,FALSE)<0,VLOOKUP($B46,CPPE!$A$2:$BR$177,46,FALSE),\"\"))","v":""},{"$f":"IF($B46=\"\",\"\",IF(VLOOKUP($B46,CPPE!$A$2:$BR$177,47,FALSE)<0,VLOOKUP($B46,CPPE!$A$2:$BR$177,47,FALSE),\"\"))","v":""},{"$f":"IF($B46=\"\",\"\",IF(VLOOKUP($B46,CPPE!$A$2:$BR$177,48,FALSE)<0,VLOOKUP($B46,CPPE!$A$2:$BR$177,48,FALSE),\"\"))","v":""},{"$f":"IF($B46=\"\",\"\",IF(VLOOKUP($B46,CPPE!$A$2:$BR$177,49,FALSE)<0,VLOOKUP($B46,CPPE!$A$2:$BR$177,49,FALSE),\"\"))","v":""},{"$f":"IF($B46=\"\",\"\",IF(VLOOKUP($B46,CPPE!$A$2:$BR$177,50,FALSE)<0,VLOOKUP($B46,CPPE!$A$2:$BR$177,50,FALSE),\"\"))","v":""},{"$f":"IF($B46=\"\",\"\",IF(VLOOKUP($B46,CPPE!$A$2:$BR$177,51,FALSE)<0,VLOOKUP($B46,CPPE!$A$2:$BR$177,51,FALSE),\"\"))","v":""},{"$f":"IF($B46=\"\",\"\",IF(VLOOKUP($B46,CPPE!$A$2:$BR$177,52,FALSE)<0,VLOOKUP($B46,CPPE!$A$2:$BR$177,52,FALSE),\"\"))","v":""},{"$f":"IF($B46=\"\",\"\",IF(VLOOKUP($B46,CPPE!$A$2:$BR$177,53,FALSE)<0,VLOOKUP($B46,CPPE!$A$2:$BR$177,53,FALSE),\"\"))","v":""},{"$f":"IF($B46=\"\",\"\",IF(VLOOKUP($B46,CPPE!$A$2:$BR$177,54,FALSE)<0,VLOOKUP($B46,CPPE!$A$2:$BR$177,54,FALSE),\"\"))","v":""},{"$f":"IF($B46=\"\",\"\",IF(VLOOKUP($B46,CPPE!$A$2:$BR$177,55,FALSE)<0,VLOOKUP($B46,CPPE!$A$2:$BR$177,55,FALSE),\"\"))","v":""},{"$f":"IF($B46=\"\",\"\",IF(VLOOKUP($B46,CPPE!$A$2:$BR$177,56,FALSE)<0,VLOOKUP($B46,CPPE!$A$2:$BR$177,56,FALSE),\"\"))","v":""},{"$f":"IF($B46=\"\",\"\",IF(VLOOKUP($B46,CPPE!$A$2:$BR$177,57,FALSE)<0,VLOOKUP($B46,CPPE!$A$2:$BR$177,57,FALSE),\"\"))","v":""},{"$f":"IF($B46=\"\",\"\",IF(VLOOKUP($B46,CPPE!$A$2:$BR$177,58,FALSE)<0,VLOOKUP($B46,CPPE!$A$2:$BR$177,58,FALSE),\"\"))","v":""},{"$f":"IF($B46=\"\",\"\",IF(VLOOKUP($B46,CPPE!$A$2:$BR$177,59,FALSE)<0,VLOOKUP($B46,CPPE!$A$2:$BR$177,59,FALSE),\"\"))","v":""}]
[null,{"$f":"IF(Results!B47=\"\",\"\",Results!B47)","v":""},{"$f":"IF($B47=\"\",\"\",IF(VLOOKUP($B47,CPPE!$A$2:$BR$177,2,FALSE)<0,VLOOKUP($B47,CPPE!$A$2:$BR$177,2,FALSE),\"\"))","v":""},{"$f":"IF($B47=\"\",\"\",IF(VLOOKUP($B47,CPPE!$A$2:$BR$177,3,FALSE)<0,VLOOKUP($B47,CPPE!$A$2:$BR$177,3,FALSE),\"\"))","v":""},{"$f":"IF($B47=\"\",\"\",IF(VLOOKUP($B47,CPPE!$A$2:$BR$177,4,FALSE)<0,VLOOKUP($B47,CPPE!$A$2:$BR$177,4,FALSE),\"\"))","v":""},{"$f":"IF($B47=\"\",\"\",IF(VLOOKUP($B47,CPPE!$A$2:$BR$177,4,FALSE)<0,VLOOKUP($B47,CPPE!$A$2:$BR$177,5,FALSE),\"\"))","v":""},{"$f":"IF($B47=\"\",\"\",IF(VLOOKUP($B47,CPPE!$A$2:$BR$177,5,FALSE)<0,VLOOKUP($B47,CPPE!$A$2:$BR$177,6,FALSE),\"\"))","v":""},{"$f":"IF($B47=\"\",\"\",IF(VLOOKUP($B47,CPPE!$A$2:$BR$177,7,FALSE)<0,VLOOKUP($B47,CPPE!$A$2:$BR$177,7,FALSE),\"\"))","v":""},{"$f":"IF($B47=\"\",\"\",IF(VLOOKUP($B47,CPPE!$A$2:$BR$177,8,FALSE)<0,VLOOKUP($B47,CPPE!$A$2:$BR$177,8,FALSE),\"\"))","v":""},{"$f":"IF($B47=\"\",\"\",IF(VLOOKUP($B47,CPPE!$A$2:$BR$177,9,FALSE)<0,VLOOKUP($B47,CPPE!$A$2:$BR$177,9,FALSE),\"\"))","v":""},{"$f":"IF($B47=\"\",\"\",IF(VLOOKUP($B47,CPPE!$A$2:$BR$177,10,FALSE)<0,VLOOKUP($B47,CPPE!$A$2:$BR$177,10,FALSE),\"\"))","v":""},{"$f":"IF($B47=\"\",\"\",IF(VLOOKUP($B47,CPPE!$A$2:$BR$177,11,FALSE)<0,VLOOKUP($B47,CPPE!$A$2:$BR$177,11,FALSE),\"\"))","v":""},{"$f":"IF($B47=\"\",\"\",IF(VLOOKUP($B47,CPPE!$A$2:$BR$177,12,FALSE)<0,VLOOKUP($B47,CPPE!$A$2:$BR$177,12,FALSE),\"\"))","v":""},{"$f":"IF($B47=\"\",\"\",IF(VLOOKUP($B47,CPPE!$A$2:$BR$177,13,FALSE)<0,VLOOKUP($B47,CPPE!$A$2:$BR$177,13,FALSE),\"\"))","v":""},{"$f":"IF($B47=\"\",\"\",IF(VLOOKUP($B47,CPPE!$A$2:$BR$177,14,FALSE)<0,VLOOKUP($B47,CPPE!$A$2:$BR$177,14,FALSE),\"\"))","v":""},{"$f":"IF($B47=\"\",\"\",IF(VLOOKUP($B47,CPPE!$A$2:$BR$177,15,FALSE)<0,VLOOKUP($B47,CPPE!$A$2:$BR$177,15,FALSE),\"\"))","v":""},{"$f":"IF($B47=\"\",\"\",IF(VLOOKUP($B47,CPPE!$A$2:$BR$177,16,FALSE)<0,VLOOKUP($B47,CPPE!$A$2:$BR$177,16,FALSE),\"\"))","v":""},{"$f":"IF($B47=\"\",\"\",IF(VLOOKUP($B47,CPPE!$A$2:$BR$177,17,FALSE)<0,VLOOKUP($B47,CPPE!$A$2:$BR$177,17,FALSE),\"\"))","v":""},{"$f":"IF($B47=\"\",\"\",IF(VLOOKUP($B47,CPPE!$A$2:$BR$177,18,FALSE)<0,VLOOKUP($B47,CPPE!$A$2:$BR$177,18,FALSE),\"\"))","v":""},{"$f":"IF($B47=\"\",\"\",IF(VLOOKUP($B47,CPPE!$A$2:$BR$177,19,FALSE)<0,VLOOKUP($B47,CPPE!$A$2:$BR$177,19,FALSE),\"\"))","v":""},{"$f":"IF($B47=\"\",\"\",IF(VLOOKUP($B47,CPPE!$A$2:$BR$177,20,FALSE)<0,VLOOKUP($B47,CPPE!$A$2:$BR$177,20,FALSE),\"\"))","v":""},{"$f":"IF($B47=\"\",\"\",IF(VLOOKUP($B47,CPPE!$A$2:$BR$177,21,FALSE)<0,VLOOKUP($B47,CPPE!$A$2:$BR$177,21,FALSE),\"\"))","v":""},{"$f":"IF($B47=\"\",\"\",IF(VLOOKUP($B47,CPPE!$A$2:$BR$177,22,FALSE)<0,VLOOKUP($B47,CPPE!$A$2:$BR$177,22,FALSE),\"\"))","v":""},{"$f":"IF($B47=\"\",\"\",IF(VLOOKUP($B47,CPPE!$A$2:$BR$177,23,FALSE)<0,VLOOKUP($B47,CPPE!$A$2:$BR$177,23,FALSE),\"\"))","v":""},{"$f":"IF($B47=\"\",\"\",IF(VLOOKUP($B47,CPPE!$A$2:$BR$177,24,FALSE)<0,VLOOKUP($B47,CPPE!$A$2:$BR$177,24,FALSE),\"\"))","v":""},{"$f":"IF($B47=\"\",\"\",IF(VLOOKUP($B47,CPPE!$A$2:$BR$177,25,FALSE)<0,VLOOKUP($B47,CPPE!$A$2:$BR$177,25,FALSE),\"\"))","v":""},{"$f":"IF($B47=\"\",\"\",IF(VLOOKUP($B47,CPPE!$A$2:$BR$177,26,FALSE)<0,VLOOKUP($B47,CPPE!$A$2:$BR$177,26,FALSE),\"\"))","v":""},{"$f":"IF($B47=\"\",\"\",IF(VLOOKUP($B47,CPPE!$A$2:$BR$177,27,FALSE)<0,VLOOKUP($B47,CPPE!$A$2:$BR$177,27,FALSE),\"\"))","v":""},{"$f":"IF($B47=\"\",\"\",IF(VLOOKUP($B47,CPPE!$A$2:$BR$177,28,FALSE)<0,VLOOKUP($B47,CPPE!$A$2:$BR$177,28,FALSE),\"\"))","v":""},{"$f":"IF($B47=\"\",\"\",IF(VLOOKUP($B47,CPPE!$A$2:$BR$177,29,FALSE)<0,VLOOKUP($B47,CPPE!$A$2:$BR$177,29,FALSE),\"\"))","v":""},{"$f":"IF($B47=\"\",\"\",IF(VLOOKUP($B47,CPPE!$A$2:$BR$177,30,FALSE)<0,VLOOKUP($B47,CPPE!$A$2:$BR$177,30,FALSE),\"\"))","v":""},{"$f":"IF($B47=\"\",\"\",IF(VLOOKUP($B47,CPPE!$A$2:$BR$177,31,FALSE)<0,VLOOKUP($B47,CPPE!$A$2:$BR$177,31,FALSE),\"\"))","v":""},{"$f":"IF($B47=\"\",\"\",IF(VLOOKUP($B47,CPPE!$A$2:$BR$177,32,FALSE)<0,VLOOKUP($B47,CPPE!$A$2:$BR$177,32,FALSE),\"\"))","v":""},{"$f":"IF($B47=\"\",\"\",IF(VLOOKUP($B47,CPPE!$A$2:$BR$177,33,FALSE)<0,VLOOKUP($B47,CPPE!$A$2:$BR$177,33,FALSE),\"\"))","v":""},{"$f":"IF($B47=\"\",\"\",IF(VLOOKUP($B47,CPPE!$A$2:$BR$177,34,FALSE)<0,VLOOKUP($B47,CPPE!$A$2:$BR$177,34,FALSE),\"\"))","v":""},{"$f":"IF($B47=\"\",\"\",IF(VLOOKUP($B47,CPPE!$A$2:$BR$177,35,FALSE)<0,VLOOKUP($B47,CPPE!$A$2:$BR$177,35,FALSE),\"\"))","v":""},{"$f":"IF($B47=\"\",\"\",IF(VLOOKUP($B47,CPPE!$A$2:$BR$177,36,FALSE)<0,VLOOKUP($B47,CPPE!$A$2:$BR$177,36,FALSE),\"\"))","v":""},{"$f":"IF($B47=\"\",\"\",IF(VLOOKUP($B47,CPPE!$A$2:$BR$177,37,FALSE)<0,VLOOKUP($B47,CPPE!$A$2:$BR$177,37,FALSE),\"\"))","v":""},{"$f":"IF($B47=\"\",\"\",IF(VLOOKUP($B47,CPPE!$A$2:$BR$177,38,FALSE)<0,VLOOKUP($B47,CPPE!$A$2:$BR$177,38,FALSE),\"\"))","v":""},{"$f":"IF($B47=\"\",\"\",IF(VLOOKUP($B47,CPPE!$A$2:$BR$177,39,FALSE)<0,VLOOKUP($B47,CPPE!$A$2:$BR$177,39,FALSE),\"\"))","v":""},{"$f":"IF($B47=\"\",\"\",IF(VLOOKUP($B47,CPPE!$A$2:$BR$177,40,FALSE)<0,VLOOKUP($B47,CPPE!$A$2:$BR$177,40,FALSE),\"\"))","v":""},{"$f":"IF($B47=\"\",\"\",IF(VLOOKUP($B47,CPPE!$A$2:$BR$177,41,FALSE)<0,VLOOKUP($B47,CPPE!$A$2:$BR$177,41,FALSE),\"\"))","v":""},{"$f":"IF($B47=\"\",\"\",IF(VLOOKUP($B47,CPPE!$A$2:$BR$177,42,FALSE)<0,VLOOKUP($B47,CPPE!$A$2:$BR$177,42,FALSE),\"\"))","v":""},{"$f":"IF($B47=\"\",\"\",IF(VLOOKUP($B47,CPPE!$A$2:$BR$177,43,FALSE)<0,VLOOKUP($B47,CPPE!$A$2:$BR$177,43,FALSE),\"\"))","v":""},{"$f":"IF($B47=\"\",\"\",IF(VLOOKUP($B47,CPPE!$A$2:$BR$177,44,FALSE)<0,VLOOKUP($B47,CPPE!$A$2:$BR$177,44,FALSE),\"\"))","v":""},{"$f":"IF($B47=\"\",\"\",IF(VLOOKUP($B47,CPPE!$A$2:$BR$177,45,FALSE)<0,VLOOKUP($B47,CPPE!$A$2:$BR$177,45,FALSE),\"\"))","v":""},{"$f":"IF($B47=\"\",\"\",IF(VLOOKUP($B47,CPPE!$A$2:$BR$177,46,FALSE)<0,VLOOKUP($B47,CPPE!$A$2:$BR$177,46,FALSE),\"\"))","v":""},{"$f":"IF($B47=\"\",\"\",IF(VLOOKUP($B47,CPPE!$A$2:$BR$177,47,FALSE)<0,VLOOKUP($B47,CPPE!$A$2:$BR$177,47,FALSE),\"\"))","v":""},{"$f":"IF($B47=\"\",\"\",IF(VLOOKUP($B47,CPPE!$A$2:$BR$177,48,FALSE)<0,VLOOKUP($B47,CPPE!$A$2:$BR$177,48,FALSE),\"\"))","v":""},{"$f":"IF($B47=\"\",\"\",IF(VLOOKUP($B47,CPPE!$A$2:$BR$177,49,FALSE)<0,VLOOKUP($B47,CPPE!$A$2:$BR$177,49,FALSE),\"\"))","v":""},{"$f":"IF($B47=\"\",\"\",IF(VLOOKUP($B47,CPPE!$A$2:$BR$177,50,FALSE)<0,VLOOKUP($B47,CPPE!$A$2:$BR$177,50,FALSE),\"\"))","v":""},{"$f":"IF($B47=\"\",\"\",IF(VLOOKUP($B47,CPPE!$A$2:$BR$177,51,FALSE)<0,VLOOKUP($B47,CPPE!$A$2:$BR$177,51,FALSE),\"\"))","v":""},{"$f":"IF($B47=\"\",\"\",IF(VLOOKUP($B47,CPPE!$A$2:$BR$177,52,FALSE)<0,VLOOKUP($B47,CPPE!$A$2:$BR$177,52,FALSE),\"\"))","v":""},{"$f":"IF($B47=\"\",\"\",IF(VLOOKUP($B47,CPPE!$A$2:$BR$177,53,FALSE)<0,VLOOKUP($B47,CPPE!$A$2:$BR$177,53,FALSE),\"\"))","v":""},{"$f":"IF($B47=\"\",\"\",IF(VLOOKUP($B47,CPPE!$A$2:$BR$177,54,FALSE)<0,VLOOKUP($B47,CPPE!$A$2:$BR$177,54,FALSE),\"\"))","v":""},{"$f":"IF($B47=\"\",\"\",IF(VLOOKUP($B47,CPPE!$A$2:$BR$177,55,FALSE)<0,VLOOKUP($B47,CPPE!$A$2:$BR$177,55,FALSE),\"\"))","v":""},{"$f":"IF($B47=\"\",\"\",IF(VLOOKUP($B47,CPPE!$A$2:$BR$177,56,FALSE)<0,VLOOKUP($B47,CPPE!$A$2:$BR$177,56,FALSE),\"\"))","v":""},{"$f":"IF($B47=\"\",\"\",IF(VLOOKUP($B47,CPPE!$A$2:$BR$177,57,FALSE)<0,VLOOKUP($B47,CPPE!$A$2:$BR$177,57,FALSE),\"\"))","v":""},{"$f":"IF($B47=\"\",\"\",IF(VLOOKUP($B47,CPPE!$A$2:$BR$177,58,FALSE)<0,VLOOKUP($B47,CPPE!$A$2:$BR$177,58,FALSE),\"\"))","v":""},{"$f":"IF($B47=\"\",\"\",IF(VLOOKUP($B47,CPPE!$A$2:$BR$177,59,FALSE)<0,VLOOKUP($B47,CPPE!$A$2:$BR$177,59,FALSE),\"\"))","v":""}]
[null,{"$f":"IF(Results!B48=\"\",\"\",Results!B48)","v":""},{"$f":"IF($B48=\"\",\"\",IF(VLOOKUP($B48,CPPE!$A$2:$BR$177,2,FALSE)<0,VLOOKUP($B48,CPPE!$A$2:$BR$177,2,FALSE),\"\"))","v":""},{"$f":"IF($B48=\"\",\"\",IF(VLOOKUP($B48,CPPE!$A$2:$BR$177,3,FALSE)<0,VLOOKUP($B48,CPPE!$A$2:$BR$177,3,FALSE),\"\"))","v":""},{"$f":"IF($B48=\"\",\"\",IF(VLOOKUP($B48,CPPE!$A$2:$BR$177,4,FALSE)<0,VLOOKUP($B48,CPPE!$A$2:$BR$177,4,FALSE),\"\"))","v":""},{"$f":"IF($B48=\"\",\"\",IF(VLOOKUP($B48,CPPE!$A$2:$BR$177,4,FALSE)<0,VLOOKUP($B48,CPPE!$A$2:$BR$177,5,FALSE),\"\"))","v":""},{"$f":"IF($B48=\"\",\"\",IF(VLOOKUP($B48,CPPE!$A$2:$BR$177,5,FALSE)<0,VLOOKUP($B48,CPPE!$A$2:$BR$177,6,FALSE),\"\"))","v":""},{"$f":"IF($B48=\"\",\"\",IF(VLOOKUP($B48,CPPE!$A$2:$BR$177,7,FALSE)<0,VLOOKUP($B48,CPPE!$A$2:$BR$177,7,FALSE),\"\"))","v":""},{"$f":"IF($B48=\"\",\"\",IF(VLOOKUP($B48,CPPE!$A$2:$BR$177,8,FALSE)<0,VLOOKUP($B48,CPPE!$A$2:$BR$177,8,FALSE),\"\"))","v":""},{"$f":"IF($B48=\"\",\"\",IF(VLOOKUP($B48,CPPE!$A$2:$BR$177,9,FALSE)<0,VLOOKUP($B48,CPPE!$A$2:$BR$177,9,FALSE),\"\"))","v":""},{"$f":"IF($B48=\"\",\"\",IF(VLOOKUP($B48,CPPE!$A$2:$BR$177,10,FALSE)<0,VLOOKUP($B48,CPPE!$A$2:$BR$177,10,FALSE),\"\"))","v":""},{"$f":"IF($B48=\"\",\"\",IF(VLOOKUP($B48,CPPE!$A$2:$BR$177,11,FALSE)<0,VLOOKUP($B48,CPPE!$A$2:$BR$177,11,FALSE),\"\"))","v":""},{"$f":"IF($B48=\"\",\"\",IF(VLOOKUP($B48,CPPE!$A$2:$BR$177,12,FALSE)<0,VLOOKUP($B48,CPPE!$A$2:$BR$177,12,FALSE),\"\"))","v":""},{"$f":"IF($B48=\"\",\"\",IF(VLOOKUP($B48,CPPE!$A$2:$BR$177,13,FALSE)<0,VLOOKUP($B48,CPPE!$A$2:$BR$177,13,FALSE),\"\"))","v":""},{"$f":"IF($B48=\"\",\"\",IF(VLOOKUP($B48,CPPE!$A$2:$BR$177,14,FALSE)<0,VLOOKUP($B48,CPPE!$A$2:$BR$177,14,FALSE),\"\"))","v":""},{"$f":"IF($B48=\"\",\"\",IF(VLOOKUP($B48,CPPE!$A$2:$BR$177,15,FALSE)<0,VLOOKUP($B48,CPPE!$A$2:$BR$177,15,FALSE),\"\"))","v":""},{"$f":"IF($B48=\"\",\"\",IF(VLOOKUP($B48,CPPE!$A$2:$BR$177,16,FALSE)<0,VLOOKUP($B48,CPPE!$A$2:$BR$177,16,FALSE),\"\"))","v":""},{"$f":"IF($B48=\"\",\"\",IF(VLOOKUP($B48,CPPE!$A$2:$BR$177,17,FALSE)<0,VLOOKUP($B48,CPPE!$A$2:$BR$177,17,FALSE),\"\"))","v":""},{"$f":"IF($B48=\"\",\"\",IF(VLOOKUP($B48,CPPE!$A$2:$BR$177,18,FALSE)<0,VLOOKUP($B48,CPPE!$A$2:$BR$177,18,FALSE),\"\"))","v":""},{"$f":"IF($B48=\"\",\"\",IF(VLOOKUP($B48,CPPE!$A$2:$BR$177,19,FALSE)<0,VLOOKUP($B48,CPPE!$A$2:$BR$177,19,FALSE),\"\"))","v":""},{"$f":"IF($B48=\"\",\"\",IF(VLOOKUP($B48,CPPE!$A$2:$BR$177,20,FALSE)<0,VLOOKUP($B48,CPPE!$A$2:$BR$177,20,FALSE),\"\"))","v":""},{"$f":"IF($B48=\"\",\"\",IF(VLOOKUP($B48,CPPE!$A$2:$BR$177,21,FALSE)<0,VLOOKUP($B48,CPPE!$A$2:$BR$177,21,FALSE),\"\"))","v":""},{"$f":"IF($B48=\"\",\"\",IF(VLOOKUP($B48,CPPE!$A$2:$BR$177,22,FALSE)<0,VLOOKUP($B48,CPPE!$A$2:$BR$177,22,FALSE),\"\"))","v":""},{"$f":"IF($B48=\"\",\"\",IF(VLOOKUP($B48,CPPE!$A$2:$BR$177,23,FALSE)<0,VLOOKUP($B48,CPPE!$A$2:$BR$177,23,FALSE),\"\"))","v":""},{"$f":"IF($B48=\"\",\"\",IF(VLOOKUP($B48,CPPE!$A$2:$BR$177,24,FALSE)<0,VLOOKUP($B48,CPPE!$A$2:$BR$177,24,FALSE),\"\"))","v":""},{"$f":"IF($B48=\"\",\"\",IF(VLOOKUP($B48,CPPE!$A$2:$BR$177,25,FALSE)<0,VLOOKUP($B48,CPPE!$A$2:$BR$177,25,FALSE),\"\"))","v":""},{"$f":"IF($B48=\"\",\"\",IF(VLOOKUP($B48,CPPE!$A$2:$BR$177,26,FALSE)<0,VLOOKUP($B48,CPPE!$A$2:$BR$177,26,FALSE),\"\"))","v":""},{"$f":"IF($B48=\"\",\"\",IF(VLOOKUP($B48,CPPE!$A$2:$BR$177,27,FALSE)<0,VLOOKUP($B48,CPPE!$A$2:$BR$177,27,FALSE),\"\"))","v":""},{"$f":"IF($B48=\"\",\"\",IF(VLOOKUP($B48,CPPE!$A$2:$BR$177,28,FALSE)<0,VLOOKUP($B48,CPPE!$A$2:$BR$177,28,FALSE),\"\"))","v":""},{"$f":"IF($B48=\"\",\"\",IF(VLOOKUP($B48,CPPE!$A$2:$BR$177,29,FALSE)<0,VLOOKUP($B48,CPPE!$A$2:$BR$177,29,FALSE),\"\"))","v":""},{"$f":"IF($B48=\"\",\"\",IF(VLOOKUP($B48,CPPE!$A$2:$BR$177,30,FALSE)<0,VLOOKUP($B48,CPPE!$A$2:$BR$177,30,FALSE),\"\"))","v":""},{"$f":"IF($B48=\"\",\"\",IF(VLOOKUP($B48,CPPE!$A$2:$BR$177,31,FALSE)<0,VLOOKUP($B48,CPPE!$A$2:$BR$177,31,FALSE),\"\"))","v":""},{"$f":"IF($B48=\"\",\"\",IF(VLOOKUP($B48,CPPE!$A$2:$BR$177,32,FALSE)<0,VLOOKUP($B48,CPPE!$A$2:$BR$177,32,FALSE),\"\"))","v":""},{"$f":"IF($B48=\"\",\"\",IF(VLOOKUP($B48,CPPE!$A$2:$BR$177,33,FALSE)<0,VLOOKUP($B48,CPPE!$A$2:$BR$177,33,FALSE),\"\"))","v":""},{"$f":"IF($B48=\"\",\"\",IF(VLOOKUP($B48,CPPE!$A$2:$BR$177,34,FALSE)<0,VLOOKUP($B48,CPPE!$A$2:$BR$177,34,FALSE),\"\"))","v":""},{"$f":"IF($B48=\"\",\"\",IF(VLOOKUP($B48,CPPE!$A$2:$BR$177,35,FALSE)<0,VLOOKUP($B48,CPPE!$A$2:$BR$177,35,FALSE),\"\"))","v":""},{"$f":"IF($B48=\"\",\"\",IF(VLOOKUP($B48,CPPE!$A$2:$BR$177,36,FALSE)<0,VLOOKUP($B48,CPPE!$A$2:$BR$177,36,FALSE),\"\"))","v":""},{"$f":"IF($B48=\"\",\"\",IF(VLOOKUP($B48,CPPE!$A$2:$BR$177,37,FALSE)<0,VLOOKUP($B48,CPPE!$A$2:$BR$177,37,FALSE),\"\"))","v":""},{"$f":"IF($B48=\"\",\"\",IF(VLOOKUP($B48,CPPE!$A$2:$BR$177,38,FALSE)<0,VLOOKUP($B48,CPPE!$A$2:$BR$177,38,FALSE),\"\"))","v":""},{"$f":"IF($B48=\"\",\"\",IF(VLOOKUP($B48,CPPE!$A$2:$BR$177,39,FALSE)<0,VLOOKUP($B48,CPPE!$A$2:$BR$177,39,FALSE),\"\"))","v":""},{"$f":"IF($B48=\"\",\"\",IF(VLOOKUP($B48,CPPE!$A$2:$BR$177,40,FALSE)<0,VLOOKUP($B48,CPPE!$A$2:$BR$177,40,FALSE),\"\"))","v":""},{"$f":"IF($B48=\"\",\"\",IF(VLOOKUP($B48,CPPE!$A$2:$BR$177,41,FALSE)<0,VLOOKUP($B48,CPPE!$A$2:$BR$177,41,FALSE),\"\"))","v":""},{"$f":"IF($B48=\"\",\"\",IF(VLOOKUP($B48,CPPE!$A$2:$BR$177,42,FALSE)<0,VLOOKUP($B48,CPPE!$A$2:$BR$177,42,FALSE),\"\"))","v":""},{"$f":"IF($B48=\"\",\"\",IF(VLOOKUP($B48,CPPE!$A$2:$BR$177,43,FALSE)<0,VLOOKUP($B48,CPPE!$A$2:$BR$177,43,FALSE),\"\"))","v":""},{"$f":"IF($B48=\"\",\"\",IF(VLOOKUP($B48,CPPE!$A$2:$BR$177,44,FALSE)<0,VLOOKUP($B48,CPPE!$A$2:$BR$177,44,FALSE),\"\"))","v":""},{"$f":"IF($B48=\"\",\"\",IF(VLOOKUP($B48,CPPE!$A$2:$BR$177,45,FALSE)<0,VLOOKUP($B48,CPPE!$A$2:$BR$177,45,FALSE),\"\"))","v":""},{"$f":"IF($B48=\"\",\"\",IF(VLOOKUP($B48,CPPE!$A$2:$BR$177,46,FALSE)<0,VLOOKUP($B48,CPPE!$A$2:$BR$177,46,FALSE),\"\"))","v":""},{"$f":"IF($B48=\"\",\"\",IF(VLOOKUP($B48,CPPE!$A$2:$BR$177,47,FALSE)<0,VLOOKUP($B48,CPPE!$A$2:$BR$177,47,FALSE),\"\"))","v":""},{"$f":"IF($B48=\"\",\"\",IF(VLOOKUP($B48,CPPE!$A$2:$BR$177,48,FALSE)<0,VLOOKUP($B48,CPPE!$A$2:$BR$177,48,FALSE),\"\"))","v":""},{"$f":"IF($B48=\"\",\"\",IF(VLOOKUP($B48,CPPE!$A$2:$BR$177,49,FALSE)<0,VLOOKUP($B48,CPPE!$A$2:$BR$177,49,FALSE),\"\"))","v":""},{"$f":"IF($B48=\"\",\"\",IF(VLOOKUP($B48,CPPE!$A$2:$BR$177,50,FALSE)<0,VLOOKUP($B48,CPPE!$A$2:$BR$177,50,FALSE),\"\"))","v":""},{"$f":"IF($B48=\"\",\"\",IF(VLOOKUP($B48,CPPE!$A$2:$BR$177,51,FALSE)<0,VLOOKUP($B48,CPPE!$A$2:$BR$177,51,FALSE),\"\"))","v":""},{"$f":"IF($B48=\"\",\"\",IF(VLOOKUP($B48,CPPE!$A$2:$BR$177,52,FALSE)<0,VLOOKUP($B48,CPPE!$A$2:$BR$177,52,FALSE),\"\"))","v":""},{"$f":"IF($B48=\"\",\"\",IF(VLOOKUP($B48,CPPE!$A$2:$BR$177,53,FALSE)<0,VLOOKUP($B48,CPPE!$A$2:$BR$177,53,FALSE),\"\"))","v":""},{"$f":"IF($B48=\"\",\"\",IF(VLOOKUP($B48,CPPE!$A$2:$BR$177,54,FALSE)<0,VLOOKUP($B48,CPPE!$A$2:$BR$177,54,FALSE),\"\"))","v":""},{"$f":"IF($B48=\"\",\"\",IF(VLOOKUP($B48,CPPE!$A$2:$BR$177,55,FALSE)<0,VLOOKUP($B48,CPPE!$A$2:$BR$177,55,FALSE),\"\"))","v":""},{"$f":"IF($B48=\"\",\"\",IF(VLOOKUP($B48,CPPE!$A$2:$BR$177,56,FALSE)<0,VLOOKUP($B48,CPPE!$A$2:$BR$177,56,FALSE),\"\"))","v":""},{"$f":"IF($B48=\"\",\"\",IF(VLOOKUP($B48,CPPE!$A$2:$BR$177,57,FALSE)<0,VLOOKUP($B48,CPPE!$A$2:$BR$177,57,FALSE),\"\"))","v":""},{"$f":"IF($B48=\"\",\"\",IF(VLOOKUP($B48,CPPE!$A$2:$BR$177,58,FALSE)<0,VLOOKUP($B48,CPPE!$A$2:$BR$177,58,FALSE),\"\"))","v":""},{"$f":"IF($B48=\"\",\"\",IF(VLOOKUP($B48,CPPE!$A$2:$BR$177,59,FALSE)<0,VLOOKUP($B48,CPPE!$A$2:$BR$177,59,FALSE),\"\"))","v":""}]
[null,{"$f":"IF(Results!B49=\"\",\"\",Results!B49)","v":""},{"$f":"IF($B49=\"\",\"\",IF(VLOOKUP($B49,CPPE!$A$2:$BR$177,2,FALSE)<0,VLOOKUP($B49,CPPE!$A$2:$BR$177,2,FALSE),\"\"))","v":""},{"$f":"IF($B49=\"\",\"\",IF(VLOOKUP($B49,CPPE!$A$2:$BR$177,3,FALSE)<0,VLOOKUP($B49,CPPE!$A$2:$BR$177,3,FALSE),\"\"))","v":""},{"$f":"IF($B49=\"\",\"\",IF(VLOOKUP($B49,CPPE!$A$2:$BR$177,4,FALSE)<0,VLOOKUP($B49,CPPE!$A$2:$BR$177,4,FALSE),\"\"))","v":""},{"$f":"IF($B49=\"\",\"\",IF(VLOOKUP($B49,CPPE!$A$2:$BR$177,4,FALSE)<0,VLOOKUP($B49,CPPE!$A$2:$BR$177,5,FALSE),\"\"))","v":""},{"$f":"IF($B49=\"\",\"\",IF(VLOOKUP($B49,CPPE!$A$2:$BR$177,5,FALSE)<0,VLOOKUP($B49,CPPE!$A$2:$BR$177,6,FALSE),\"\"))","v":""},{"$f":"IF($B49=\"\",\"\",IF(VLOOKUP($B49,CPPE!$A$2:$BR$177,7,FALSE)<0,VLOOKUP($B49,CPPE!$A$2:$BR$177,7,FALSE),\"\"))","v":""},{"$f":"IF($B49=\"\",\"\",IF(VLOOKUP($B49,CPPE!$A$2:$BR$177,8,FALSE)<0,VLOOKUP($B49,CPPE!$A$2:$BR$177,8,FALSE),\"\"))","v":""},{"$f":"IF($B49=\"\",\"\",IF(VLOOKUP($B49,CPPE!$A$2:$BR$177,9,FALSE)<0,VLOOKUP($B49,CPPE!$A$2:$BR$177,9,FALSE),\"\"))","v":""},{"$f":"IF($B49=\"\",\"\",IF(VLOOKUP($B49,CPPE!$A$2:$BR$177,10,FALSE)<0,VLOOKUP($B49,CPPE!$A$2:$BR$177,10,FALSE),\"\"))","v":""},{"$f":"IF($B49=\"\",\"\",IF(VLOOKUP($B49,CPPE!$A$2:$BR$177,11,FALSE)<0,VLOOKUP($B49,CPPE!$A$2:$BR$177,11,FALSE),\"\"))","v":""},{"$f":"IF($B49=\"\",\"\",IF(VLOOKUP($B49,CPPE!$A$2:$BR$177,12,FALSE)<0,VLOOKUP($B49,CPPE!$A$2:$BR$177,12,FALSE),\"\"))","v":""},{"$f":"IF($B49=\"\",\"\",IF(VLOOKUP($B49,CPPE!$A$2:$BR$177,13,FALSE)<0,VLOOKUP($B49,CPPE!$A$2:$BR$177,13,FALSE),\"\"))","v":""},{"$f":"IF($B49=\"\",\"\",IF(VLOOKUP($B49,CPPE!$A$2:$BR$177,14,FALSE)<0,VLOOKUP($B49,CPPE!$A$2:$BR$177,14,FALSE),\"\"))","v":""},{"$f":"IF($B49=\"\",\"\",IF(VLOOKUP($B49,CPPE!$A$2:$BR$177,15,FALSE)<0,VLOOKUP($B49,CPPE!$A$2:$BR$177,15,FALSE),\"\"))","v":""},{"$f":"IF($B49=\"\",\"\",IF(VLOOKUP($B49,CPPE!$A$2:$BR$177,16,FALSE)<0,VLOOKUP($B49,CPPE!$A$2:$BR$177,16,FALSE),\"\"))","v":""},{"$f":"IF($B49=\"\",\"\",IF(VLOOKUP($B49,CPPE!$A$2:$BR$177,17,FALSE)<0,VLOOKUP($B49,CPPE!$A$2:$BR$177,17,FALSE),\"\"))","v":""},{"$f":"IF($B49=\"\",\"\",IF(VLOOKUP($B49,CPPE!$A$2:$BR$177,18,FALSE)<0,VLOOKUP($B49,CPPE!$A$2:$BR$177,18,FALSE),\"\"))","v":""},{"$f":"IF($B49=\"\",\"\",IF(VLOOKUP($B49,CPPE!$A$2:$BR$177,19,FALSE)<0,VLOOKUP($B49,CPPE!$A$2:$BR$177,19,FALSE),\"\"))","v":""},{"$f":"IF($B49=\"\",\"\",IF(VLOOKUP($B49,CPPE!$A$2:$BR$177,20,FALSE)<0,VLOOKUP($B49,CPPE!$A$2:$BR$177,20,FALSE),\"\"))","v":""},{"$f":"IF($B49=\"\",\"\",IF(VLOOKUP($B49,CPPE!$A$2:$BR$177,21,FALSE)<0,VLOOKUP($B49,CPPE!$A$2:$BR$177,21,FALSE),\"\"))","v":""},{"$f":"IF($B49=\"\",\"\",IF(VLOOKUP($B49,CPPE!$A$2:$BR$177,22,FALSE)<0,VLOOKUP($B49,CPPE!$A$2:$BR$177,22,FALSE),\"\"))","v":""},{"$f":"IF($B49=\"\",\"\",IF(VLOOKUP($B49,CPPE!$A$2:$BR$177,23,FALSE)<0,VLOOKUP($B49,CPPE!$A$2:$BR$177,23,FALSE),\"\"))","v":""},{"$f":"IF($B49=\"\",\"\",IF(VLOOKUP($B49,CPPE!$A$2:$BR$177,24,FALSE)<0,VLOOKUP($B49,CPPE!$A$2:$BR$177,24,FALSE),\"\"))","v":""},{"$f":"IF($B49=\"\",\"\",IF(VLOOKUP($B49,CPPE!$A$2:$BR$177,25,FALSE)<0,VLOOKUP($B49,CPPE!$A$2:$BR$177,25,FALSE),\"\"))","v":""},{"$f":"IF($B49=\"\",\"\",IF(VLOOKUP($B49,CPPE!$A$2:$BR$177,26,FALSE)<0,VLOOKUP($B49,CPPE!$A$2:$BR$177,26,FALSE),\"\"))","v":""},{"$f":"IF($B49=\"\",\"\",IF(VLOOKUP($B49,CPPE!$A$2:$BR$177,27,FALSE)<0,VLOOKUP($B49,CPPE!$A$2:$BR$177,27,FALSE),\"\"))","v":""},{"$f":"IF($B49=\"\",\"\",IF(VLOOKUP($B49,CPPE!$A$2:$BR$177,28,FALSE)<0,VLOOKUP($B49,CPPE!$A$2:$BR$177,28,FALSE),\"\"))","v":""},{"$f":"IF($B49=\"\",\"\",IF(VLOOKUP($B49,CPPE!$A$2:$BR$177,29,FALSE)<0,VLOOKUP($B49,CPPE!$A$2:$BR$177,29,FALSE),\"\"))","v":""},{"$f":"IF($B49=\"\",\"\",IF(VLOOKUP($B49,CPPE!$A$2:$BR$177,30,FALSE)<0,VLOOKUP($B49,CPPE!$A$2:$BR$177,30,FALSE),\"\"))","v":""},{"$f":"IF($B49=\"\",\"\",IF(VLOOKUP($B49,CPPE!$A$2:$BR$177,31,FALSE)<0,VLOOKUP($B49,CPPE!$A$2:$BR$177,31,FALSE),\"\"))","v":""},{"$f":"IF($B49=\"\",\"\",IF(VLOOKUP($B49,CPPE!$A$2:$BR$177,32,FALSE)<0,VLOOKUP($B49,CPPE!$A$2:$BR$177,32,FALSE),\"\"))","v":""},{"$f":"IF($B49=\"\",\"\",IF(VLOOKUP($B49,CPPE!$A$2:$BR$177,33,FALSE)<0,VLOOKUP($B49,CPPE!$A$2:$BR$177,33,FALSE),\"\"))","v":""},{"$f":"IF($B49=\"\",\"\",IF(VLOOKUP($B49,CPPE!$A$2:$BR$177,34,FALSE)<0,VLOOKUP($B49,CPPE!$A$2:$BR$177,34,FALSE),\"\"))","v":""},{"$f":"IF($B49=\"\",\"\",IF(VLOOKUP($B49,CPPE!$A$2:$BR$177,35,FALSE)<0,VLOOKUP($B49,CPPE!$A$2:$BR$177,35,FALSE),\"\"))","v":""},{"$f":"IF($B49=\"\",\"\",IF(VLOOKUP($B49,CPPE!$A$2:$BR$177,36,FALSE)<0,VLOOKUP($B49,CPPE!$A$2:$BR$177,36,FALSE),\"\"))","v":""},{"$f":"IF($B49=\"\",\"\",IF(VLOOKUP($B49,CPPE!$A$2:$BR$177,37,FALSE)<0,VLOOKUP($B49,CPPE!$A$2:$BR$177,37,FALSE),\"\"))","v":""},{"$f":"IF($B49=\"\",\"\",IF(VLOOKUP($B49,CPPE!$A$2:$BR$177,38,FALSE)<0,VLOOKUP($B49,CPPE!$A$2:$BR$177,38,FALSE),\"\"))","v":""},{"$f":"IF($B49=\"\",\"\",IF(VLOOKUP($B49,CPPE!$A$2:$BR$177,39,FALSE)<0,VLOOKUP($B49,CPPE!$A$2:$BR$177,39,FALSE),\"\"))","v":""},{"$f":"IF($B49=\"\",\"\",IF(VLOOKUP($B49,CPPE!$A$2:$BR$177,40,FALSE)<0,VLOOKUP($B49,CPPE!$A$2:$BR$177,40,FALSE),\"\"))","v":""},{"$f":"IF($B49=\"\",\"\",IF(VLOOKUP($B49,CPPE!$A$2:$BR$177,41,FALSE)<0,VLOOKUP($B49,CPPE!$A$2:$BR$177,41,FALSE),\"\"))","v":""},{"$f":"IF($B49=\"\",\"\",IF(VLOOKUP($B49,CPPE!$A$2:$BR$177,42,FALSE)<0,VLOOKUP($B49,CPPE!$A$2:$BR$177,42,FALSE),\"\"))","v":""},{"$f":"IF($B49=\"\",\"\",IF(VLOOKUP($B49,CPPE!$A$2:$BR$177,43,FALSE)<0,VLOOKUP($B49,CPPE!$A$2:$BR$177,43,FALSE),\"\"))","v":""},{"$f":"IF($B49=\"\",\"\",IF(VLOOKUP($B49,CPPE!$A$2:$BR$177,44,FALSE)<0,VLOOKUP($B49,CPPE!$A$2:$BR$177,44,FALSE),\"\"))","v":""},{"$f":"IF($B49=\"\",\"\",IF(VLOOKUP($B49,CPPE!$A$2:$BR$177,45,FALSE)<0,VLOOKUP($B49,CPPE!$A$2:$BR$177,45,FALSE),\"\"))","v":""},{"$f":"IF($B49=\"\",\"\",IF(VLOOKUP($B49,CPPE!$A$2:$BR$177,46,FALSE)<0,VLOOKUP($B49,CPPE!$A$2:$BR$177,46,FALSE),\"\"))","v":""},{"$f":"IF($B49=\"\",\"\",IF(VLOOKUP($B49,CPPE!$A$2:$BR$177,47,FALSE)<0,VLOOKUP($B49,CPPE!$A$2:$BR$177,47,FALSE),\"\"))","v":""},{"$f":"IF($B49=\"\",\"\",IF(VLOOKUP($B49,CPPE!$A$2:$BR$177,48,FALSE)<0,VLOOKUP($B49,CPPE!$A$2:$BR$177,48,FALSE),\"\"))","v":""},{"$f":"IF($B49=\"\",\"\",IF(VLOOKUP($B49,CPPE!$A$2:$BR$177,49,FALSE)<0,VLOOKUP($B49,CPPE!$A$2:$BR$177,49,FALSE),\"\"))","v":""},{"$f":"IF($B49=\"\",\"\",IF(VLOOKUP($B49,CPPE!$A$2:$BR$177,50,FALSE)<0,VLOOKUP($B49,CPPE!$A$2:$BR$177,50,FALSE),\"\"))","v":""},{"$f":"IF($B49=\"\",\"\",IF(VLOOKUP($B49,CPPE!$A$2:$BR$177,51,FALSE)<0,VLOOKUP($B49,CPPE!$A$2:$BR$177,51,FALSE),\"\"))","v":""},{"$f":"IF($B49=\"\",\"\",IF(VLOOKUP($B49,CPPE!$A$2:$BR$177,52,FALSE)<0,VLOOKUP($B49,CPPE!$A$2:$BR$177,52,FALSE),\"\"))","v":""},{"$f":"IF($B49=\"\",\"\",IF(VLOOKUP($B49,CPPE!$A$2:$BR$177,53,FALSE)<0,VLOOKUP($B49,CPPE!$A$2:$BR$177,53,FALSE),\"\"))","v":""},{"$f":"IF($B49=\"\",\"\",IF(VLOOKUP($B49,CPPE!$A$2:$BR$177,54,FALSE)<0,VLOOKUP($B49,CPPE!$A$2:$BR$177,54,FALSE),\"\"))","v":""},{"$f":"IF($B49=\"\",\"\",IF(VLOOKUP($B49,CPPE!$A$2:$BR$177,55,FALSE)<0,VLOOKUP($B49,CPPE!$A$2:$BR$177,55,FALSE),\"\"))","v":""},{"$f":"IF($B49=\"\",\"\",IF(VLOOKUP($B49,CPPE!$A$2:$BR$177,56,FALSE)<0,VLOOKUP($B49,CPPE!$A$2:$BR$177,56,FALSE),\"\"))","v":""},{"$f":"IF($B49=\"\",\"\",IF(VLOOKUP($B49,CPPE!$A$2:$BR$177,57,FALSE)<0,VLOOKUP($B49,CPPE!$A$2:$BR$177,57,FALSE),\"\"))","v":""},{"$f":"IF($B49=\"\",\"\",IF(VLOOKUP($B49,CPPE!$A$2:$BR$177,58,FALSE)<0,VLOOKUP($B49,CPPE!$A$2:$BR$177,58,FALSE),\"\"))","v":""},{"$f":"IF($B49=\"\",\"\",IF(VLOOKUP($B49,CPPE!$A$2:$BR$177,59,FALSE)<0,VLOOKUP($B49,CPPE!$A$2:$BR$177,59,FALSE),\"\"))","v":""}]
[null,{"$f":"IF(Results!B50=\"\",\"\",Results!B50)","v":""},{"$f":"IF($B50=\"\",\"\",IF(VLOOKUP($B50,CPPE!$A$2:$BR$177,2,FALSE)<0,VLOOKUP($B50,CPPE!$A$2:$BR$177,2,FALSE),\"\"))","v":""},{"$f":"IF($B50=\"\",\"\",IF(VLOOKUP($B50,CPPE!$A$2:$BR$177,3,FALSE)<0,VLOOKUP($B50,CPPE!$A$2:$BR$177,3,FALSE),\"\"))","v":""},{"$f":"IF($B50=\"\",\"\",IF(VLOOKUP($B50,CPPE!$A$2:$BR$177,4,FALSE)<0,VLOOKUP($B50,CPPE!$A$2:$BR$177,4,FALSE),\"\"))","v":""},{"$f":"IF($B50=\"\",\"\",IF(VLOOKUP($B50,CPPE!$A$2:$BR$177,4,FALSE)<0,VLOOKUP($B50,CPPE!$A$2:$BR$177,5,FALSE),\"\"))","v":""},{"$f":"IF($B50=\"\",\"\",IF(VLOOKUP($B50,CPPE!$A$2:$BR$177,5,FALSE)<0,VLOOKUP($B50,CPPE!$A$2:$BR$177,6,FALSE),\"\"))","v":""},{"$f":"IF($B50=\"\",\"\",IF(VLOOKUP($B50,CPPE!$A$2:$BR$177,7,FALSE)<0,VLOOKUP($B50,CPPE!$A$2:$BR$177,7,FALSE),\"\"))","v":""},{"$f":"IF($B50=\"\",\"\",IF(VLOOKUP($B50,CPPE!$A$2:$BR$177,8,FALSE)<0,VLOOKUP($B50,CPPE!$A$2:$BR$177,8,FALSE),\"\"))","v":""},{"$f":"IF($B50=\"\",\"\",IF(VLOOKUP($B50,CPPE!$A$2:$BR$177,9,FALSE)<0,VLOOKUP($B50,CPPE!$A$2:$BR$177,9,FALSE),\"\"))","v":""},{"$f":"IF($B50=\"\",\"\",IF(VLOOKUP($B50,CPPE!$A$2:$BR$177,10,FALSE)<0,VLOOKUP($B50,CPPE!$A$2:$BR$177,10,FALSE),\"\"))","v":""},{"$f":"IF($B50=\"\",\"\",IF(VLOOKUP($B50,CPPE!$A$2:$BR$177,11,FALSE)<0,VLOOKUP($B50,CPPE!$A$2:$BR$177,11,FALSE),\"\"))","v":""},{"$f":"IF($B50=\"\",\"\",IF(VLOOKUP($B50,CPPE!$A$2:$BR$177,12,FALSE)<0,VLOOKUP($B50,CPPE!$A$2:$BR$177,12,FALSE),\"\"))","v":""},{"$f":"IF($B50=\"\",\"\",IF(VLOOKUP($B50,CPPE!$A$2:$BR$177,13,FALSE)<0,VLOOKUP($B50,CPPE!$A$2:$BR$177,13,FALSE),\"\"))","v":""},{"$f":"IF($B50=\"\",\"\",IF(VLOOKUP($B50,CPPE!$A$2:$BR$177,14,FALSE)<0,VLOOKUP($B50,CPPE!$A$2:$BR$177,14,FALSE),\"\"))","v":""},{"$f":"IF($B50=\"\",\"\",IF(VLOOKUP($B50,CPPE!$A$2:$BR$177,15,FALSE)<0,VLOOKUP($B50,CPPE!$A$2:$BR$177,15,FALSE),\"\"))","v":""},{"$f":"IF($B50=\"\",\"\",IF(VLOOKUP($B50,CPPE!$A$2:$BR$177,16,FALSE)<0,VLOOKUP($B50,CPPE!$A$2:$BR$177,16,FALSE),\"\"))","v":""},{"$f":"IF($B50=\"\",\"\",IF(VLOOKUP($B50,CPPE!$A$2:$BR$177,17,FALSE)<0,VLOOKUP($B50,CPPE!$A$2:$BR$177,17,FALSE),\"\"))","v":""},{"$f":"IF($B50=\"\",\"\",IF(VLOOKUP($B50,CPPE!$A$2:$BR$177,18,FALSE)<0,VLOOKUP($B50,CPPE!$A$2:$BR$177,18,FALSE),\"\"))","v":""},{"$f":"IF($B50=\"\",\"\",IF(VLOOKUP($B50,CPPE!$A$2:$BR$177,19,FALSE)<0,VLOOKUP($B50,CPPE!$A$2:$BR$177,19,FALSE),\"\"))","v":""},{"$f":"IF($B50=\"\",\"\",IF(VLOOKUP($B50,CPPE!$A$2:$BR$177,20,FALSE)<0,VLOOKUP($B50,CPPE!$A$2:$BR$177,20,FALSE),\"\"))","v":""},{"$f":"IF($B50=\"\",\"\",IF(VLOOKUP($B50,CPPE!$A$2:$BR$177,21,FALSE)<0,VLOOKUP($B50,CPPE!$A$2:$BR$177,21,FALSE),\"\"))","v":""},{"$f":"IF($B50=\"\",\"\",IF(VLOOKUP($B50,CPPE!$A$2:$BR$177,22,FALSE)<0,VLOOKUP($B50,CPPE!$A$2:$BR$177,22,FALSE),\"\"))","v":""},{"$f":"IF($B50=\"\",\"\",IF(VLOOKUP($B50,CPPE!$A$2:$BR$177,23,FALSE)<0,VLOOKUP($B50,CPPE!$A$2:$BR$177,23,FALSE),\"\"))","v":""},{"$f":"IF($B50=\"\",\"\",IF(VLOOKUP($B50,CPPE!$A$2:$BR$177,24,FALSE)<0,VLOOKUP($B50,CPPE!$A$2:$BR$177,24,FALSE),\"\"))","v":""},{"$f":"IF($B50=\"\",\"\",IF(VLOOKUP($B50,CPPE!$A$2:$BR$177,25,FALSE)<0,VLOOKUP($B50,CPPE!$A$2:$BR$177,25,FALSE),\"\"))","v":""},{"$f":"IF($B50=\"\",\"\",IF(VLOOKUP($B50,CPPE!$A$2:$BR$177,26,FALSE)<0,VLOOKUP($B50,CPPE!$A$2:$BR$177,26,FALSE),\"\"))","v":""},{"$f":"IF($B50=\"\",\"\",IF(VLOOKUP($B50,CPPE!$A$2:$BR$177,27,FALSE)<0,VLOOKUP($B50,CPPE!$A$2:$BR$177,27,FALSE),\"\"))","v":""},{"$f":"IF($B50=\"\",\"\",IF(VLOOKUP($B50,CPPE!$A$2:$BR$177,28,FALSE)<0,VLOOKUP($B50,CPPE!$A$2:$BR$177,28,FALSE),\"\"))","v":""},{"$f":"IF($B50=\"\",\"\",IF(VLOOKUP($B50,CPPE!$A$2:$BR$177,29,FALSE)<0,VLOOKUP($B50,CPPE!$A$2:$BR$177,29,FALSE),\"\"))","v":""},{"$f":"IF($B50=\"\",\"\",IF(VLOOKUP($B50,CPPE!$A$2:$BR$177,30,FALSE)<0,VLOOKUP($B50,CPPE!$A$2:$BR$177,30,FALSE),\"\"))","v":""},{"$f":"IF($B50=\"\",\"\",IF(VLOOKUP($B50,CPPE!$A$2:$BR$177,31,FALSE)<0,VLOOKUP($B50,CPPE!$A$2:$BR$177,31,FALSE),\"\"))","v":""},{"$f":"IF($B50=\"\",\"\",IF(VLOOKUP($B50,CPPE!$A$2:$BR$177,32,FALSE)<0,VLOOKUP($B50,CPPE!$A$2:$BR$177,32,FALSE),\"\"))","v":""},{"$f":"IF($B50=\"\",\"\",IF(VLOOKUP($B50,CPPE!$A$2:$BR$177,33,FALSE)<0,VLOOKUP($B50,CPPE!$A$2:$BR$177,33,FALSE),\"\"))","v":""},{"$f":"IF($B50=\"\",\"\",IF(VLOOKUP($B50,CPPE!$A$2:$BR$177,34,FALSE)<0,VLOOKUP($B50,CPPE!$A$2:$BR$177,34,FALSE),\"\"))","v":""},{"$f":"IF($B50=\"\",\"\",IF(VLOOKUP($B50,CPPE!$A$2:$BR$177,35,FALSE)<0,VLOOKUP($B50,CPPE!$A$2:$BR$177,35,FALSE),\"\"))","v":""},{"$f":"IF($B50=\"\",\"\",IF(VLOOKUP($B50,CPPE!$A$2:$BR$177,36,FALSE)<0,VLOOKUP($B50,CPPE!$A$2:$BR$177,36,FALSE),\"\"))","v":""},{"$f":"IF($B50=\"\",\"\",IF(VLOOKUP($B50,CPPE!$A$2:$BR$177,37,FALSE)<0,VLOOKUP($B50,CPPE!$A$2:$BR$177,37,FALSE),\"\"))","v":""},{"$f":"IF($B50=\"\",\"\",IF(VLOOKUP($B50,CPPE!$A$2:$BR$177,38,FALSE)<0,VLOOKUP($B50,CPPE!$A$2:$BR$177,38,FALSE),\"\"))","v":""},{"$f":"IF($B50=\"\",\"\",IF(VLOOKUP($B50,CPPE!$A$2:$BR$177,39,FALSE)<0,VLOOKUP($B50,CPPE!$A$2:$BR$177,39,FALSE),\"\"))","v":""},{"$f":"IF($B50=\"\",\"\",IF(VLOOKUP($B50,CPPE!$A$2:$BR$177,40,FALSE)<0,VLOOKUP($B50,CPPE!$A$2:$BR$177,40,FALSE),\"\"))","v":""},{"$f":"IF($B50=\"\",\"\",IF(VLOOKUP($B50,CPPE!$A$2:$BR$177,41,FALSE)<0,VLOOKUP($B50,CPPE!$A$2:$BR$177,41,FALSE),\"\"))","v":""},{"$f":"IF($B50=\"\",\"\",IF(VLOOKUP($B50,CPPE!$A$2:$BR$177,42,FALSE)<0,VLOOKUP($B50,CPPE!$A$2:$BR$177,42,FALSE),\"\"))","v":""},{"$f":"IF($B50=\"\",\"\",IF(VLOOKUP($B50,CPPE!$A$2:$BR$177,43,FALSE)<0,VLOOKUP($B50,CPPE!$A$2:$BR$177,43,FALSE),\"\"))","v":""},{"$f":"IF($B50=\"\",\"\",IF(VLOOKUP($B50,CPPE!$A$2:$BR$177,44,FALSE)<0,VLOOKUP($B50,CPPE!$A$2:$BR$177,44,FALSE),\"\"))","v":""},{"$f":"IF($B50=\"\",\"\",IF(VLOOKUP($B50,CPPE!$A$2:$BR$177,45,FALSE)<0,VLOOKUP($B50,CPPE!$A$2:$BR$177,45,FALSE),\"\"))","v":""},{"$f":"IF($B50=\"\",\"\",IF(VLOOKUP($B50,CPPE!$A$2:$BR$177,46,FALSE)<0,VLOOKUP($B50,CPPE!$A$2:$BR$177,46,FALSE),\"\"))","v":""},{"$f":"IF($B50=\"\",\"\",IF(VLOOKUP($B50,CPPE!$A$2:$BR$177,47,FALSE)<0,VLOOKUP($B50,CPPE!$A$2:$BR$177,47,FALSE),\"\"))","v":""},{"$f":"IF($B50=\"\",\"\",IF(VLOOKUP($B50,CPPE!$A$2:$BR$177,48,FALSE)<0,VLOOKUP($B50,CPPE!$A$2:$BR$177,48,FALSE),\"\"))","v":""},{"$f":"IF($B50=\"\",\"\",IF(VLOOKUP($B50,CPPE!$A$2:$BR$177,49,FALSE)<0,VLOOKUP($B50,CPPE!$A$2:$BR$177,49,FALSE),\"\"))","v":""},{"$f":"IF($B50=\"\",\"\",IF(VLOOKUP($B50,CPPE!$A$2:$BR$177,50,FALSE)<0,VLOOKUP($B50,CPPE!$A$2:$BR$177,50,FALSE),\"\"))","v":""},{"$f":"IF($B50=\"\",\"\",IF(VLOOKUP($B50,CPPE!$A$2:$BR$177,51,FALSE)<0,VLOOKUP($B50,CPPE!$A$2:$BR$177,51,FALSE),\"\"))","v":""},{"$f":"IF($B50=\"\",\"\",IF(VLOOKUP($B50,CPPE!$A$2:$BR$177,52,FALSE)<0,VLOOKUP($B50,CPPE!$A$2:$BR$177,52,FALSE),\"\"))","v":""},{"$f":"IF($B50=\"\",\"\",IF(VLOOKUP($B50,CPPE!$A$2:$BR$177,53,FALSE)<0,VLOOKUP($B50,CPPE!$A$2:$BR$177,53,FALSE),\"\"))","v":""},{"$f":"IF($B50=\"\",\"\",IF(VLOOKUP($B50,CPPE!$A$2:$BR$177,54,FALSE)<0,VLOOKUP($B50,CPPE!$A$2:$BR$177,54,FALSE),\"\"))","v":""},{"$f":"IF($B50=\"\",\"\",IF(VLOOKUP($B50,CPPE!$A$2:$BR$177,55,FALSE)<0,VLOOKUP($B50,CPPE!$A$2:$BR$177,55,FALSE),\"\"))","v":""},{"$f":"IF($B50=\"\",\"\",IF(VLOOKUP($B50,CPPE!$A$2:$BR$177,56,FALSE)<0,VLOOKUP($B50,CPPE!$A$2:$BR$177,56,FALSE),\"\"))","v":""},{"$f":"IF($B50=\"\",\"\",IF(VLOOKUP($B50,CPPE!$A$2:$BR$177,57,FALSE)<0,VLOOKUP($B50,CPPE!$A$2:$BR$177,57,FALSE),\"\"))","v":""},{"$f":"IF($B50=\"\",\"\",IF(VLOOKUP($B50,CPPE!$A$2:$BR$177,58,FALSE)<0,VLOOKUP($B50,CPPE!$A$2:$BR$177,58,FALSE),\"\"))","v":""},{"$f":"IF($B50=\"\",\"\",IF(VLOOKUP($B50,CPPE!$A$2:$BR$177,59,FALSE)<0,VLOOKUP($B50,CPPE!$A$2:$BR$177,59,FALSE),\"\"))","v":""}]

{"sheet":"Alternatives","index":5,"n_rows":173,"n_cols":12,"rows_kept":173,"cut":false,"hidden":false,"merged":[]}
[]
[null,"Conservation System Comparison"]
[]
[]
[null,"Practices","Sheet and Rill Erosion","Compaction ","Organic Matter Depletion","Aggregate Instability","","","","","",""]
[null,"Vegetated Treatment Area ",4,3,3,0,"","","","","",""]
[null,"Tree/Shrub Establishment",5,2,4,5,"","","","","",""]
[null,"Terrace",5,-1,2,1,"","","","","",""]
[null,"Riparian Herbaceous Cover",2,4,4,0,"","","","","",""]
[null,"Riparian Forest Buffer",3,2,4,4,"","","","","",""]
[null,"Residue and Tillage Management, No Till",5,2,3,4,"","","","","",""]
[null,"Controlled Traffic Farming",0,4,0,1,"","","","","",""]
[null,"","","","","","","","","","",""]
[null,null,"","","","","","","","","",""]
[null,null,"","","","","","","","","",""]
[null,null,"","","","","","","","","",""]
[null,null,"","","","","","","","","",""]
[null,null,"","","","","","","","","",""]
[null,null,"","","","","","","","","",""]
[null,null,"","","","","","","","","",""]
[null,null,"","","","","","","","","",""]
[null,null,"","","","","","","","","",""]
[null,null,"","","","","","","","","",""]
[null,null,"","","","","","","","","",""]
[null,null,"","","","","","","","","",""]
[null,null,"","","","","","","","","",""]
[null,null,"","","","","","","","","",""]
[null,null,"","","","","","","","","",""]
[null,null,"","","","","","","","","",""]
[null,null,"","","","","","","","","",""]
[null,null,"","","","","","","","","",""]
[null,null,"","","","","","","","","",""]
[null,null,"","","","","","","","","",""]
[null,null,"","","","","","","","","",""]
[null,null,"","","","","","","","","",""]
[null,null,"","","","","","","","","",""]
[null,null,"","","","","","","","","",""]
[null,null,"","","","","","","","","",""]
[null,null,"","","","","","","","","",""]
[null,null,"","","","","","","","","",""]
[null,null,"","","","","","","","","",""]
[null,null,"","","","","","","","","",""]
[null,null,"","","","","","","","","",""]
[null,null,"","","","","","","","","",""]
[null,null,"","","","","","","","","",""]
[null,null,"","","","","","","","","",""]
[null,null,"","","","","","","","","",""]
[null,null,"","","","","","","","","",""]
[null,null,"","","","","","","","","",""]
[null,null,"","","","","","","","","",""]
[null,null,"","","","","","","","","",""]
[null,null,"","","","","","","","","",""]
[null,null,"","","","","","","","","",""]
[null,null,"","","","","","","","","",""]
[null,null,"","","","","","","","","",""]
[null,null,"","","","","","","","","",""]
[null,null,"","","","","","","","","",""]
[null,null,"","","","","","","","","",""]
[null,null,"","","","","","","","","",""]
[null,null,"","","","","","","","","",""]
[null,null,"","","","","","","","","",""]
[null,null,"","","","","","","","","",""]
[null,null,"","","","","","","","","",""]
[null,null,"","","","","","","","","",""]
[null,null,"","","","","","","","","",""]
[null,null,"","","","","","","","","",""]
[null,null,"","","","","","","","","",""]
[null,null,"","","","","","","","","",""]
[null,null,"","","","","","","","","",""]
[null,null,"","","","","","","","","",""]
[null,null,"","","","","","","","","",""]
[null,null,"","","","","","","","","",""]
[null,null,"","","","","","","","","",""]
[null,null,"","","","","","","","","",""]
[null,null,"","","","","","","","","",""]
[null,null,"","","","","","","","","",""]
[null,null,"","","","","","","","","",""]
[null,null,"","","","","","","","","",""]
[null,null,"","","","","","","","","",""]
[null,null,"","","","","","","","","",""]
[null,null,"","","","","","","","","",""]
[null,null,"","","","","","","","","",""]
[null,null,"","","","","","","","","",""]
[null,null,"","","","","","","","","",""]
[null,null,"","","","","","","","","",""]
[null,null,"","","","","","","","","",""]
[null,null,"","","","","","","","","",""]
[null,null,"","","","","","","","","",""]
[null,null,"","","","","","","","","",""]
[null,null,"","","","","","","","","",""]
[null,null,"","","","","","","","","",""]
[null,null,"","","","","","","","","",""]
[null,null,"","","","","","","","","",""]
[null,null,"","","","","","","","","",""]
[null,null,"","","","","","","","","",""]
[null,null,"","","","","","","","","",""]
[null,null,"","","","","","","","","",""]
[null,null,"","","","","","","","","",""]
[null,null,"","","","","","","","","",""]
[null,null,"","","","","","","","","",""]
[null,null,"","","","","","","","","",""]
[null,null,"","","","","","","","","",""]
[null,null,"","","","","","","","","",""]
[null,null,"","","","","","","","","",""]
[null,null,"","","","","","","","","",""]
[null,null,"","","","","","","","","",""]
[null,null,"","","","","","","","","",""]
[null,null,"","","","","","","","","",""]
[null,null,"","","","","","","","","",""]
[null,null,"","","","","","","","","",""]
[null,null,"","","","","","","","","",""]
[null,null,"","","","","","","","","",""]
[null,null,"","","","","","","","","",""]
[null,null,"","","","","","","","","",""]
[null,null,"","","","","","","","","",""]
[null,null,"","","","","","","","","",""]
[null,null,"","","","","","","","","",""]
[null,null,"","","","","","","","","",""]
[null,null,"","","","","","","","","",""]
[null,null,"","","","","","","","","",""]
[null,null,"","","","","","","","","",""]
[null,null,"","","","","","","","","",""]
[null,null,"","","","","","","","","",""]
[null,null,"","","","","","","","","",""]
[null,null,"","","","","","","","","",""]
[null,null,"","","","","","","","","",""]
[null,null,"","","","","","","","","",""]
[null,null,"","","","","","","","","",""]
[null,null,"","","","","","","","","",""]
[null,null,"","","","","","","","","",""]
[null,null,"","","","","","","","","",""]
[null,null,"","","","","","","","","",""]
[null,null,"","","","","","","","","",""]
[null,null,"","","","","","","","","",""]
[null,null,"","","","","","","","","",""]
[null,null,"","","","","","","","","",""]
[null,null,"","","","","","","","","",""]
[null,null,"","","","","","","","","",""]
[null,null,"","","","","","","","","",""]
[null,null,"","","","","","","","","",""]
[null,null,"","","","","","","","","",""]
[null,null,"","","","","","","","","",""]
[null,null,"","","","","","","","","",""]
[null,null,"","","","","","","","","",""]
[null,null,"","","","","","","","","",""]
[null,null,"","","","","","","","","",""]
[null,null,"","","","","","","","","",""]
[null,null,"","","","","","","","","",""]
[null,null,"","","","","","","","","",""]
[null,null,"","","","","","","","","",""]
[null,null,"","","","","","","","","",""]
[null,null,"","","","","","","","","",""]
[null,null,"","","","","","","","","",""]
[null,null,"","","","","","","","","",""]
[null,null,"","","","","","","","","",""]
[null,null,"","","","","","","","","",""]
[null,null,"","","","","","","","","",""]
[null,null,"","","","","","","","","",""]
[null,null,"","","","","","","","","",""]
[null,null,"","","","","","","","","",""]
[null,null,"","","","","","","","","",""]
[null,null,"","","","","","","","","",""]
[null,null,"","","","","","","","","",""]
[null,null,"","","","","","","","","",""]
[null,null,"","","","","","","","","",""]
[null,null,"","","","","","","","","",""]
[null,null,"","","","","","","","","",""]
[null,null,"","","","","","","","","",""]
[null,null,"","","","","","","","","",""]
[null,null,"","","","","","","","","",""]
[null,null,"","","","","","","","","",""]
[null,null,"","","","","","","","","",""]
[null,null,"","","","","","","","","",""]

{"sheet":"CPPE","index":6,"n_rows":168,"n_cols":107,"rows_kept":168,"cut":false,"hidden":false,"merged":[]}
["National CPPE 10/2023","Sheet and Rill Erosion","Wind Erosion","Ephemeral Gully Erosion","Classic Gully Erosion","Bank Erosion from Streams, Shorelines or Water Conveyance Channels","Subsidence ","Compaction ","Organic Matter Depletion","Concentration of Salts or other Chemicals","Soil Organism Habitat Loss or Degradation","Aggregate Instability","Ponding and Flooding ","Seasonal High Water Table ","Seeps","Drifted Snow","Naturally Available Moisture Use ","Surface Water Depletion","Groundwater Depletion","Inefficient Irrigation Water Use","Nutrients Transported to Surface Water ","Nutrients Transported to Groundwater ","Pathogens and Chemicals from Manure, Bio-solids or Compost Applications Tranported to Surface Water ","Pathogens and Chemicals from Manure, Bio-solids or Compost Applications Tranported to Groundwater ","Sediment Transported to Surface Water","Pesticides Transported to Surface Water","Pesticides Transported to Groundwater","Petroleum, Heavy Metals and Other Pollutants Transported to Surface Water","Petroleum, Heavy Metals and Other Pollutants Transported to Groundwater","Salts Transported to Surface Water","Salts Transported to Groundwater","Elevated water temperature","Emissions of Particulate Matter (PM) and PM Precursors","Emissions of Greenhouse Gasses - GHGs ","Emissions of Ozone Precursors","Objectionable Odor","Emissions of Airborne Reactive Nitrogen","Plant Pest Pressure ","Plant Productivity and Health","Plant Structure and Composition","Wildfire Hazard from Biomass Accumulation","Feed and Forage Imbalance","Inadequate Livestock Shelter","Inadequate Livestock Water Quantity, Quality and Distribution","Terrestrial Habitat for Wildlife and Invertebrates","Aquatic Habitat for Fish and other Organisms","Energy Efficiency of Equipment and Facilities","Energy Efficiency of Farming/Ranching Practices and Field Operations",null,null,null,null,null,null,null,null,null,null,null,null,null,null,null,null,null,null,null,null,null,null,null,null,null,null,null,null,null,null,null,null,null,null,null,null,null,null,null,null,null,null,null,null,null,null,null,null,null,null,null,null,null,null,null,null,null," "," "]
["Access Control ",3,1,4,4,5,0,4,1,0,1,1,1,2,1,0,3,0,0,0,1,1,1,1,3,1,0,1,1,0,0,3,2,1,1,0,0,5,3,4,3,3,1,0,4,3,0,0]
["Access Road ",1,0,1,1,0,0,2,0,0,1,0,0,0,0,0,0,0,0,2,0,0,0,0,1,0,0,0,0,0,0,0,2,0,0,0,0,0,2,0,4,0,0,0,0,0,0,1]
["Agrichemical Handling Facility",0,0,0,0,0,0,0,0,0,0,0,0,0,0,0,0,0,0,0,0,0,0,0,0,0,0,0,0,0,0,0,1,0,1,0,1,0,0,0,0,0,0,0,0,0,0,0]
["Air Filtration and Scrubbing",0,0,0,0,0,0,0,0,0,0,0,0,0,0,0,0,0,0,0,0,0,0,0,0,0,0,0,0,0,0,0,4,2,4,4,4,0,0,0,0,0,0,0,0,0,-1,0]
["Alley Cropping",5,5,5,3,0,0,2,5,1,5,4,2,2,1,3,0,2,0,3,3,1,3,1,3,3,1,1,1,1,1,0,2,2,0,1,0,3,5,3,0,1,2,0,3,2,1,1]
["Amending Soil Properties with Gypsum Products",1,1,0,0,0,0,0,0,1,0,1,1,0,0,0,0,0,0,1,-2,1,1,0,0,1,0,0,0,0,0,0,0,0,0,0,0,0,1,0,0,0,0,0,0,0,0,0]
["Amendments for Treatment of Agricultural Waste",0,0,0,0,0,0,0,1,0,0,0,0,0,0,0,0,0,0,1,2,2,2,2,0,0,0,2,2,2,2,0,3,1,1,4,4,0,1,0,0,0,0,1,0,0,2,1]
["Anaerobic Digester",0,0,0,0,0,0,0,0,0,0,0,0,0,0,0,0,0,0,0,2,0,2,0,0,0,0,0,0,0,0,0,0,4,1,5,-1,0,0,0,0,0,0,0,0,0,0,0]
["Animal Mortality Facility",0,0,0,0,0,0,0,0,0,0,0,0,0,0,0,0,0,0,0,2,2,2,2,0,0,0,0,0,0,0,0,0,1,-1,3,0,0,0,0,0,0,0,0,0,0,0,0]
["Anionic Polyacrylamide (PAM) Erosion Control",2,2,2,0,0,0,2,0,0,0,0,1,0,0,0,1,0,0,1,2,-1,0,0,4,2,-1,1,0,0,0,0,2,0,0,0,0,0,0,0,0,0,0,0,0,0,1,1]
["Aquaculture Ponds",0,0,0,0,0,0,0,0,0,0,0,1,0,0,0,0,0,0,0,-2,-2,-2,0,0,0,0,0,0,0,0,-2,0,0,0,0,0,1,0,1,0,4,4,4,0,4,0,0]
["Aquatic Organism Passage ",0,0,0,0,1,0,0,0,0,0,0,1,0,0,0,0,0,0,0,0,0,0,0,0,0,0,0,0,0,0,3,0,0,0,0,0,0,0,0,0,0,0,0,2,5,0,0]
["Bivalve Aquaculture Gear and Biofouling Control",0,0,0,0,0,0,0,0,0,0,0,0,0,0,0,0,0,0,0,3,0,2,0,0,0,0,0,0,0,0,0,0,0,0,0,0,0,0,0,0,0,2,3,0,5,0,0]
["Brush Management",3,3,3,0,0,0,0,0,0,0,0,1,0,0,0,2,1,0,0,0,0,0,0,2,-1,0,0,0,0,0,0,0,1,0,0,0,5,5,5,4,4,0,0,3,0,0,0]
["Channel Bed Stabilization",0,0,0,2,2,0,0,0,0,0,0,2,0,2,0,0,0,0,0,0,0,0,0,1,0,0,0,0,0,0,1,0,0,0,0,0,4,2,4,0,0,0,0,0,1,0,0]
["Clearing & Snagging",0,0,0,0,2,0,0,0,0,0,0,3,0,0,0,0,0,0,0,0,0,0,0,-2,0,0,0,0,0,0,-1,0,0,0,0,0,1,0,0,1,0,0,0,-1,0,0,0]
["Combustion System Improvement",0,0,0,0,0,0,0,0,0,0,0,0,0,0,0,0,0,0,0,0,0,0,0,0,0,0,0,0,0,0,0,4,2,4,0,4,0,0,0,0,0,0,0,0,0,4,1]
["Composting Facility",0,0,0,0,0,0,0,0,0,0,0,0,0,0,0,0,0,0,0,2,2,2,2,0,0,0,0,0,0,0,0,1,1,1,3,1,1,0,0,0,0,0,0,0,0,0,2]
["Conservation Cover",4,4,1,1,2,0,3,5,2,2,4,1,0,1,1,0,0,0,0,4,4,2,2,4,2,2,0,0,2,2,0,4,4,1,0,1,4,4,4,0,0,0,0,3,1,0,0]
["Conservation Crop Rotation",4,4,0,0,0,0,1,4,2,1,3,1,0,1,0,3,0,0,2,3,3,1,0,3,2,2,0,0,1,1,0,1,1,0,0,0,3,4,1,0,2,0,0,1,0,0,2]
["Constructed Wetland",0,0,0,0,0,0,0,0,0,0,0,1,0,0,0,0,-1,0,0,4,1,4,3,5,2,1,4,1,1,1,0,0,1,0,-1,0,-2,0,4,0,0,0,0,0,0,0,0]
["Contour Buffer Strips",3,0,0,0,0,0,0,1,0,0,0,1,0,-1,0,0,0,0,0,2,-1,1,-1,3,2,0,0,0,1,-1,0,1,1,0,0,0,1,1,2,0,1,0,0,1,1,0,1]
["Contour Farming",2,0,0,0,0,0,0,1,0,0,0,1,0,-1,0,1,0,0,0,2,-1,1,0,2,1,0,0,0,1,-1,0,0,0,0,0,0,0,1,0,0,0,0,0,0,1,0,1]
["Contour Orchard and Other Perennial Crops",4,0,1,0,0,0,0,2,0,0,0,1,0,-1,0,2,0,0,2,2,-1,0,0,3,1,-1,0,0,1,-1,0,0,1,0,0,0,2,1,0,0,0,0,0,0,1,0,1]
["Controlled Traffic Farming",0,0,0,0,0,0,4,0,0,2,1,1,0,0,0,1,0,0,1,0,0,0,0,0,0,0,0,0,0,0,0,0,0,0,0,0,0,1,0,0,0,0,0,0,0,0,0]
["Cover Crop",4,4,3,0,0,0,2,2,0,2,2,1,1,1,1,2,0,0,1,2,1,1,1,2,2,1,0,0,0,0,0,3,2,0,0,1,4,2,1,0,1,0,0,1,0,0,1]
["Critical Area Planting",5,5,5,4,4,0,2,5,1,2,2,0,0,0,1,0,0,0,0,2,1,0,1,4,1,0,0,0,0,0,0,4,2,0,0,0,4,2,4,0,0,0,0,2,1,0,1]
["Cross Wind Ridges",0,4,0,0,0,0,0,1,0,0,0,0,0,0,0,0,0,0,0,1,0,0,0,1,1,0,0,0,1,0,0,3,0,0,0,0,0,3,0,0,0,0,0,0,0,0,0]
["Cross Wind Trap Strips",0,4,0,0,0,0,0,1,0,0,0,0,0,0,1,1,0,0,0,1,0,0,0,1,1,0,0,0,1,0,0,3,1,0,0,0,0,3,2,0,0,0,0,0,0,0,0]
["Dam",0,0,0,2,1,0,0,0,-1,1,2,4,-1,-2,0,0,2,1,2,0,-1,-2,0,2,0,0,0,0,0,0,0,0,0,0,0,0,0,0,0,0,0,0,4,1,-1,0,0]
["Dam, Diversion",0,0,0,0,-1,0,0,0,0,1,1,2,0,0,0,2,5,2,2,0,0,0,0,0,0,0,0,0,0,0,-2,0,0,0,0,0,0,0,0,0,0,0,4,-1,-1,0,0]
["Deep Tillage",1,0,0,0,0,-1,5,-3,1,0,1,1,0,0,0,1,0,0,1,0,0,0,0,0,0,0,0,0,1,0,0,-2,-4,0,0,0,0,1,0,0,2,0,0,0,0,0,0]
["Denitrifying Bioreactor",0,0,0,0,0,0,0,0,0,0,0,-1,0,0,0,0,0,0,0,3,1,0,0,0,0,0,0,0,0,0,0,0,0,0,0,0,0,0,0,0,0,0,0,0,0,0,0]
["Dike and Levee",0,0,0,2,-1,0,0,0,1,0,0,4,-1,-1,0,0,1,1,0,0,-1,1,0,0,2,1,0,0,1,-1,0,0,0,0,0,0,0,0,1,0,0,0,0,0,-1,0,0]
["Diversion",3,0,4,4,1,0,0,0,0,0,0,5,2,-1,0,2,-1,1,2,3,1,1,0,2,1,1,1,0,2,0,0,0,0,0,0,0,0,2,0,0,0,0,0,0,0,0,0]
["Drainage Water Management",0,2,0,0,0,2,-1,2,0,0,0,-2,2,1,0,0,0,0,0,1,-1,1,1,0,2,2,2,0,0,0,0,2,1,0,0,0,0,2,0,0,4,0,0,0,0,0,0]
["Dry Hydrant",0,0,0,0,0,0,0,0,0,0,0,1,0,0,0,4,-1,0,4,0,0,0,0,0,0,0,0,0,0,0,0,0,0,0,0,0,0,2,0,3,0,0,2,0,-1,0,0]
["Dust Control on Unpaved Roads and Surfaces",1,2,0,0,0,0,0,0,-1,0,0,0,0,0,0,0,0,0,0,-1,0,0,0,1,0,0,-1,0,-1,0,0,4,0,0,0,0,0,0,0,0,0,0,0,0,0,0,0]
["Dust Management for Pen Surfaces",0,2,0,0,0,0,0,0,0,0,0,0,0,0,0,0,0,0,0,1,0,1,0,0,0,0,0,0,1,0,0,4,0,0,1,0,0,0,0,0,0,0,0,0,0,0,0]
["Early Successional Habitat Development/Mgt.",0,0,0,0,0,0,0,0,0,0,0,0,0,0,0,0,0,0,0,0,0,0,0,0,0,0,0,0,0,0,-2,0,0,0,0,0,4,4,4,0,1,0,0,5,0,0,0]
["Emergency Animal Mortality Management",0,0,0,0,0,0,0,0,0,0,0,0,0,0,0,0,0,0,0,2,2,2,2,0,0,0,0,0,0,0,0,0,1,-1,3,-1,0,0,0,0,0,0,0,0,0,0,0]
["Energy Efficient Agricultural Operation",0,0,0,0,0,0,0,0,0,0,0,0,0,0,0,0,0,0,0,0,0,0,0,0,0,0,0,0,0,0,-2,2,2,2,0,2,0,0,0,0,0,0,0,0,0,5,0]
["Energy Efficient Building Envelope",0,0,0,0,0,0,0,0,0,0,0,0,0,0,0,0,0,0,0,0,0,0,0,0,0,0,0,0,0,0,0,2,2,2,0,2,0,0,0,0,0,0,0,0,0,5,0]
["Energy Efficient Lighting System",0,0,0,0,0,0,0,0,0,0,0,0,0,0,0,0,0,0,0,0,0,0,0,0,0,0,0,0,0,0,0,0,2,0,0,0,0,0,0,0,0,0,0,0,0,5,0]
["Feed Management",0,0,0,0,0,0,0,0,0,0,0,0,0,0,0,0,0,0,0,2,2,1,1,0,0,0,0,0,1,0,0,4,4,1,4,4,0,0,0,0,5,0,0,0,0,0,1]
["Fence",1,0,0,0,1,0,1,0,0,1,1,0,0,0,0,0,0,0,0,0,0,2,1,0,0,0,0,0,0,0,0,0,1,0,0,0,0,2,2,0,3,0,0,1,1,0,0]
["Field Border",4,4,1,0,1,0,1,4,0,1,1,1,0,0,0,0,0,0,0,1,1,1,0,3,2,0,0,0,0,0,0,1,1,0,0,1,0,2,5,0,0,0,0,1,2,0,0]
["Field Operations Emissions Reduction",1,3,0,0,0,0,0,0,0,0,0,0,0,0,0,0,0,0,0,0,0,0,0,0,0,0,0,0,0,0,0,5,1,3,0,3,0,0,0,0,0,0,0,0,0,0,0]
["Filter Strip",2,1,0,0,1,0,1,1,0,1,1,1,0,0,0,0,0,0,0,5,1,4,1,5,2,1,2,1,1,1,0,1,1,0,0,0,0,0,1,0,0,0,0,1,2,0,0]
["Firebreak",-1,-1,-1,-1,0,0,-2,-2,0,-2,-2,0,0,0,0,0,0,0,0,0,0,0,0,-1,0,0,0,0,0,0,0,1,1,1,0,1,-1,3,0,5,0,0,0,1,1,0,1]
["Fish Raceway or Tank",0,0,0,0,0,0,0,0,0,0,0,0,0,0,0,0,0,0,0,-1,-1,-1,-1,0,0,0,0,0,-1,0,-1,0,0,0,0,0,0,0,0,0,4,4,4,0,5,0,0]
["Fishpond Management",0,0,0,0,0,0,0,0,0,0,0,0,0,0,0,0,0,0,0,0,0,0,0,0,0,0,0,0,0,0,0,0,1,0,0,0,4,4,4,0,0,0,4,4,5,0,0]
["Forage Harvest Management",1,1,0,0,0,0,3,3,0,3,1,1,0,0,0,1,1,1,1,1,0,1,0,0,2,0,1,0,0,0,0,0,0,0,0,0,4,4,2,0,4,0,0,1,0,0,0]
["Forest Farming",4,1,4,2,2,1,1,1,1,3,3,1,1,1,0,0,1,0,0,1,1,3,1,4,1,1,1,1,1,0,0,1,1,0,1,0,3,5,5,1,0,0,0,3,4,0,0]
["Forest Stand Improvement",4,0,4,2,2,0,-1,1,0,1,1,0,0,0,0,3,1,2,0,1,2,1,1,0,0,0,1,1,1,0,1,1,3,1,0,0,3,5,5,5,2,0,0,2,1,0,1]
["Forest Trails and Landings",-1,0,-1,-1,0,0,1,-1,0,-1,-1,0,0,0,0,0,0,0,0,1,0,0,0,0,0,0,0,0,0,0,0,0,0,0,0,0,1,1,0,3,1,0,0,0,1,0,1]
["Fuel Break",-1,-1,-1,-1,0,0,-1,-3,0,0,0,0,-1,0,0,0,0,0,0,0,0,0,0,-1,-1,-1,0,0,0,0,0,1,1,1,0,1,-1,1,0,5,1,-1,0,0,-1,0,1]
["Grade Stabilization Structure",0,0,0,2,2,0,0,0,0,2,2,2,0,0,0,0,0,0,0,0,0,0,0,2,0,0,0,0,0,0,0,0,0,0,0,0,0,0,0,0,0,0,0,1,1,0,0]
["Grassed Waterway",0,0,5,4,1,0,0,3,-1,2,3,3,2,0,0,0,1,-1,0,2,0,1,0,5,2,0,1,0,0,0,0,0,1,0,0,0,4,5,4,0,1,0,0,1,1,0,-3]
["Grazing Land Mechanical Treatment",3,2,0,0,0,0,4,3,0,0,0,2,0,0,0,2,2,0,0,3,0,1,0,4,0,0,0,0,0,0,0,1,2,0,0,0,-1,4,4,0,4,0,0,1,0,0,0]
["Groundwater Testing",0,0,0,0,0,0,0,0,0,0,0,0,0,0,0,0,0,0,0,0,0,0,0,0,0,0,0,0,0,0,0,0,0,0,0,0,0,0,0,0,0,0,0,0,0,0,0]
["Heavy Use Area Protection",2,2,2,2,0,0,1,0,0,-2,1,-1,0,0,0,0,1,-1,0,1,0,2,0,2,0,0,0,0,0,0,0,2,0,0,0,0,0,0,0,0,0,0,0,0,0,0,1]
["Hedgerow Planting",0,1,0,0,0,0,1,2,0,0,0,0,0,0,2,0,0,0,0,2,0,0,0,0,1,0,0,0,0,0,1,2,1,0,2,2,4,2,5,0,0,1,0,2,0,0,0]
["Herbaceous Weed Treatment",4,4,2,1,4,0,0,0,0,1,1,0,0,0,0,0,2,1,2,1,0,0,0,1,-1,0,0,0,0,0,0,0,1,0,0,0,5,5,5,4,4,0,0,4,0,0,0]
["Herbaceous Wind Barriers",0,5,0,0,0,0,0,1,0,1,0,0,0,0,0,1,0,0,0,1,0,0,0,1,1,0,0,0,0,0,0,4,1,0,0,0,0,3,1,0,0,0,0,1,1,0,0]
["High Tunnel System",0,0,-1,0,0,0,0,0,0,0,0,-1,0,0,0,-1,0,0,0,0,0,0,0,-1,0,0,0,0,0,0,0,0,0,0,0,0,0,2,0,0,0,0,0,0,0,0,0]
["Hillside Ditch",2,0,2,2,1,0,0,0,0,0,0,2,0,0,0,1,-1,1,0,-1,-1,-2,0,2,1,0,-1,0,0,0,0,0,0,0,0,0,0,1,0,0,0,0,0,0,0,0,0]
["Irrigation and Drainage Tailwater Recovery",0,0,1,1,1,0,-1,0,-1,0,0,2,-1,-1,0,0,0,0,4,2,-1,1,0,1,2,2,4,-1,1,-1,0,0,1,0,0,0,0,2,0,0,0,0,0,0,0,3,0]
["Irrigation Canal or Lateral",0,0,0,0,0,0,0,0,0,0,0,1,-2,0,0,0,0,0,3,-2,0,-2,0,0,0,0,0,0,0,0,0,0,0,0,0,0,0,2,0,0,0,0,0,0,0,0,0]
["Irrigation Ditch Lining",0,0,0,0,0,0,0,0,0,0,0,1,-1,1,0,0,0,0,4,1,1,-1,1,1,0,0,-1,1,1,2,0,0,0,0,0,0,0,2,0,0,0,0,0,0,0,3,0]
["Irrigation Field Ditch",0,0,0,0,0,0,0,0,0,0,0,1,-1,0,0,0,0,0,3,0,0,-1,0,0,0,0,1,0,0,0,0,0,0,0,0,0,0,2,0,0,0,0,0,0,0,0,0]
["Irrigation Land Leveling",1,0,1,0,0,0,-2,-2,-1,0,0,1,2,0,0,0,0,0,4,2,2,2,2,1,2,2,1,1,0,2,0,0,0,0,0,0,1,2,0,0,0,0,0,0,0,1,0]
["Irrigation Pipeline",0,0,0,2,0,0,0,0,0,0,0,0,1,1,0,0,0,0,3,1,0,1,1,1,0,0,0,1,1,2,0,0,2,0,0,0,0,2,0,0,0,0,0,0,0,3,0]
["Irrigation Reservoir",0,0,0,2,1,0,0,0,0,0,0,2,-1,-1,0,0,0,0,2,0,-1,0,0,2,0,0,0,0,0,0,0,0,0,0,0,0,0,2,0,0,0,0,4,0,0,2,0]
["Irrigation System, Microirrigation",0,0,0,0,0,0,0,0,1,0,0,2,2,2,0,0,0,0,4,2,2,2,1,1,2,2,1,1,0,2,0,1,1,0,0,0,1,2,0,0,4,0,0,0,0,3,0]
["Irrigation System, Surface & Subsurface",0,1,0,-1,-1,0,-1,0,0,0,0,1,1,1,0,0,0,0,2,1,1,1,1,0,1,1,1,1,1,1,0,1,1,0,0,0,1,2,0,0,4,0,0,0,0,3,0]
["Irrigation Water Management",0,2,0,0,0,0,0,1,2,0,0,1,1,0,0,0,0,0,5,2,2,2,2,2,2,2,2,2,2,2,0,2,1,0,0,0,1,2,0,0,4,0,0,0,0,3,0]
["Land Clearing",0,0,0,0,0,0,-1,-3,0,-3,-4,-1,0,0,0,0,1,-2,0,-1,0,-1,0,-1,-1,0,-1,0,0,0,-2,-1,-1,0,0,0,-2,2,0,4,0,-2,0,-2,-1,0,1]
["Land Reclamation, Abandoned Mined Land",4,4,4,1,0,0,1,3,4,0,0,2,0,0,0,0,0,0,0,0,0,3,0,4,0,0,0,1,1,1,0,1,1,0,0,0,4,4,5,0,4,0,0,1,1,0,0]
["Land Reclamation, Currently Mined Land",4,4,4,1,0,0,1,3,4,0,0,3,0,0,0,0,0,0,0,0,0,3,0,4,0,0,0,1,1,1,0,1,1,0,0,0,4,4,5,0,4,0,0,0,0,0,0]
["Land Reclamation, Landslide Treatment",2,2,2,0,0,0,0,2,0,0,0,2,2,2,0,0,0,0,0,0,0,1,0,4,0,0,4,0,0,0,0,0,0,0,0,0,4,4,5,0,0,0,0,0,0,0,0]
["Land Reclamation, Toxic Discharge Control",2,2,2,0,0,0,0,0,2,0,0,1,2,2,0,0,0,0,0,0,0,0,0,0,0,0,4,2,0,2,0,0,0,0,0,0,4,4,5,0,0,0,0,0,0,0,0]
["Lined Waterway or Outlet",0,0,5,3,0,0,0,0,0,0,1,3,2,2,0,0,0,-1,0,0,2,0,0,5,0,0,1,0,0,0,0,0,0,0,0,0,0,0,0,0,0,0,0,-1,0,0,1]
["Livestock Pipeline",0,0,0,0,0,0,0,0,0,0,0,0,0,0,0,0,0,0,0,0,0,0,0,0,0,0,0,0,0,0,0,0,2,0,0,0,0,2,0,0,0,0,5,0,0,3,0]
["Livestock Shelter Structure",0,0,0,0,3,0,0,0,0,0,0,0,0,0,0,0,0,0,0,3,0,0,0,0,0,0,0,0,0,0,0,0,0,0,0,0,0,0,0,0,3,5,0,0,0,0,0]
["Mine Shaft & Adit Closing",0,0,0,0,0,2,0,0,0,0,0,0,2,0,0,0,0,0,0,0,0,0,0,0,0,0,2,1,0,2,0,0,1,0,1,0,0,0,0,0,0,0,0,0,0,0,0]
["Monitoring Well",0,0,0,0,0,0,0,0,0,0,0,0,0,0,0,0,0,0,0,0,0,0,0,0,0,0,0,0,0,0,0,0,0,0,0,0,0,0,0,0,0,0,0,0,0,0,0]
["Mulching",4,4,0,0,2,0,1,1,1,2,0,0,0,0,0,4,0,0,3,2,0,0,0,2,1,0,0,0,1,0,0,4,0,0,0,0,2,4,0,0,0,0,0,1,0,0,0]
["Nutrient Management",0,0,0,0,0,0,0,2,2,0,0,0,0,0,0,0,0,0,0,5,5,4,4,0,0,0,0,0,1,1,0,2,3,2,2,3,0,4,3,0,4,0,0,0,3,0,0]
["Obstruction Removal",0,0,0,0,0,0,-1,1,0,0,0,0,0,0,2,0,0,0,0,0,0,0,0,0,0,0,0,0,0,0,0,0,0,0,0,0,0,0,0,0,2,-1,0,0,0,0,0]
["On-Farm Secondary Containment Facility",0,0,0,0,0,0,0,0,0,0,0,0,0,0,0,0,0,0,0,0,0,0,0,0,0,0,5,5,0,0,0,0,0,0,0,0,0,0,0,0,0,0,0,0,0,0,0]
["Open Channel",0,0,0,0,2,0,0,0,0,0,2,5,2,1,0,0,0,2,0,-1,0,0,0,0,0,0,-1,0,0,0,0,0,0,0,0,0,0,0,0,0,0,0,0,0,0,0,0]
["Pasture and Hay Planting",4,4,3,1,0,0,2,4,0,4,4,1,0,0,0,0,3,3,0,1,0,1,0,1,1,0,1,0,0,0,0,3,4,0,0,0,0,4,4,0,5,0,0,4,0,0,0]
["Pest Management Conservation System",2,2,2,2,0,0,2,2,0,2,0,0,0,0,0,0,0,0,0,0,0,0,0,2,5,5,0,0,0,0,0,2,0,2,1,0,4,0,0,0,0,0,2,4,2,0,1]
["Pond",0,0,0,2,1,0,0,0,-1,0,0,2,-1,-2,0,2,2,1,2,2,-1,-1,0,2,0,0,0,0,0,0,-1,0,0,0,0,0,1,2,1,0,0,0,5,4,5,0,0]
["Pond Sealing or Lining - Geomembrane or Geosynthetic Clay Liner    ",0,0,0,0,0,0,0,0,1,0,0,1,2,1,0,2,0,0,2,2,2,0,2,0,0,0,0,1,0,3,0,0,0,0,0,0,0,1,0,0,0,0,4,0,0,0,0]
["Pond Sealing or Lining, Compacted Soil Treatment",0,0,0,0,0,0,0,0,1,0,0,1,2,1,0,2,0,0,2,2,2,0,2,0,0,0,0,1,0,3,0,0,0,0,0,0,0,1,0,0,0,0,4,0,0,0,0]
["Pond Sealing or Lining, Concrete",0,0,0,0,0,0,0,0,1,0,0,1,2,1,0,2,0,0,2,2,2,0,2,0,0,0,0,1,0,3,0,0,0,0,0,0,0,1,0,0,0,0,4,0,0,0,0]
["Precision Land Forming and Smoothing",0,0,2,4,0,0,-1,-2,1,-3,-3,4,2,2,0,2,0,0,0,1,2,0,1,1,1,1,1,1,0,1,0,0,-1,0,0,0,0,4,0,0,0,0,0,0,0,0,1]
["Prescribed Burning",2,2,1,1,1,-1,0,1,-1,0,0,1,0,0,0,0,0,0,0,2,1,0,0,1,0,0,1,0,0,0,0,0,2,0,-1,0,4,5,4,5,5,-1,0,4,0,0,1]
["Prescribed Grazing",4,4,3,1,3,0,2,4,2,2,2,2,0,0,0,2,1,1,0,1,1,1,1,2,2,1,0,0,2,1,1,2,2,0,1,0,2,5,4,3,5,2,2,2,1,0,2]
["Pumping Plant",0,0,0,0,0,2,0,0,0,0,0,3,2,2,0,2,0,0,2,0,0,0,0,0,0,0,0,0,0,0,0,1,1,1,0,1,0,2,0,0,0,0,5,0,0,4,0]
["Range Planting",4,4,4,2,2,0,4,4,1,3,3,2,0,0,1,2,0,0,0,1,1,1,1,2,2,2,2,1,1,1,1,3,3,0,0,0,4,5,5,0,5,0,0,2,1,0,0]
["Recreation Area Improvement",1,1,1,1,1,0,1,1,0,1,1,1,0,0,0,0,0,0,0,0,0,0,0,1,1,1,0,0,0,0,0,1,2,0,0,0,3,1,1,3,0,0,0,0,0,0,0]
["Recreation Land Improvement and Protection",0,0,0,4,2,0,0,1,0,-3,-3,2,0,0,0,0,0,0,0,0,0,0,0,2,0,0,0,0,0,0,0,0,-1,0,0,0,4,3,0,0,0,0,0,-2,0,0,0]
["Residue and Tillage Management, No Till",5,5,-1,0,0,1,2,3,0,4,4,1,0,0,0,2,0,0,2,2,-1,1,0,4,4,0,0,0,0,0,0,5,3,3,0,2,0,2,0,0,0,0,0,1,0,0,4]
["Residue and Tillage Management, Reduced Till",4,4,0,0,0,1,2,2,0,3,2,0,0,0,0,2,0,0,1,2,0,1,0,3,3,0,0,0,1,0,0,4,3,1,0,1,0,2,0,0,0,0,0,1,0,0,3]
["Restoration and Management of Rare or Declining Habitats",2,2,2,0,0,0,0,0,-1,0,0,0,0,0,0,0,0,0,0,0,0,0,0,2,0,0,0,0,0,0,2,0,1,0,0,0,4,4,4,0,2,0,0,5,5,0,0]
["Riparian Forest Buffer",3,2,1,3,4,0,2,4,1,5,4,-1,2,1,0,0,3,0,0,5,5,3,1,5,3,1,3,1,1,1,5,1,3,0,1,0,3,5,5,0,0,1,0,5,5,0,1]
["Riparian Herbaceous Cover",2,2,1,0,4,0,4,4,2,0,0,-2,2,2,0,0,0,0,0,5,5,3,2,4,2,2,2,1,1,1,2,1,2,0,0,0,4,5,4,0,4,0,0,2,2,0,1]
["Road/Trail/Landing Closure and Treatment",5,1,5,5,4,0,2,5,0,1,3,3,4,1,0,1,0,0,0,1,1,1,1,3,0,0,3,1,0,0,1,2,1,0,0,0,0,1,1,0,1,0,0,1,1,0,0]
["Rock Wall Terrace",5,0,5,1,1,0,0,0,0,0,1,0,1,1,2,0,0,0,0,0,0,1,0,2,0,0,1,0,1,-1,0,0,1,0,0,0,0,1,0,0,0,0,0,0,0,0,0]
["Roof Runoff Structure",1,0,3,1,1,0,0,0,0,0,0,-1,1,1,0,3,0,0,0,2,2,2,0,1,0,0,0,0,2,0,0,0,0,0,0,0,0,0,0,0,0,0,2,0,0,0,0]
["Roofs and Covers",0,0,0,0,0,0,0,0,0,0,0,-1,0,0,0,0,0,0,0,0,0,0,1,0,0,0,1,1,0,0,0,2,4,1,4,2,0,0,0,0,0,0,0,0,0,0,0]
["Row Arrangement",3,1,3,0,0,0,0,1,1,-3,-3,2,-1,-1,0,4,-1,2,4,-2,2,1,0,2,1,-1,0,0,0,0,0,0,0,0,0,0,0,1,0,0,0,0,0,0,0,0,-1]
["Salinity and Sodic Soil Management",0,1,0,0,0,0,0,0,3,0,3,0,0,2,0,2,0,0,2,0,0,0,-1,0,0,0,0,-1,1,-2,0,1,1,0,0,0,0,5,2,0,2,0,0,0,0,0,0]
["Saturated Buffer",0,0,0,0,0,0,0,0,0,0,0,-2,0,0,0,0,0,0,0,5,0,0,0,0,0,0,0,0,0,0,0,0,0,0,0,0,0,0,0,0,0,0,0,0,0,0,0]
["Sediment Basin",0,0,2,2,0,0,0,0,0,0,0,2,-2,-2,0,0,0,2,0,5,-1,2,-1,4,2,-1,2,-1,2,-1,0,0,0,0,0,0,0,0,0,0,0,0,0,-1,0,0,0]
["Shallow Water Development and Management",0,0,0,0,0,0,0,1,0,0,0,1,0,0,0,0,1,0,0,1,1,2,-1,2,0,0,2,1,0,-1,0,0,0,0,0,0,1,2,4,0,1,0,0,5,0,0,0]
["Short Term Storage of Animal Waste and Byproducts",0,0,0,0,0,0,1,1,0,0,0,0,0,0,0,0,0,0,0,4,2,2,2,0,0,0,0,1,2,1,0,-1,-1,-1,-2,-1,0,2,0,0,0,0,0,0,0,0,0]
["Silvopasture",4,3,3,2,2,0,0,3,0,3,2,2,1,1,2,2,3,0,0,3,2,1,1,3,2,1,1,1,1,1,1,1,2,0,1,0,2,5,-1,1,3,4,0,2,3,0,1]
["Sinkhole Treatment",0,0,4,4,0,0,0,0,2,0,0,-2,0,0,0,0,0,0,0,2,2,2,2,2,2,2,0,2,0,2,0,0,0,0,0,0,0,0,0,0,0,0,0,0,0,0,0]
["Soil Carbon Amendment",0,0,0,0,0,0,1,4,0,4,4,0,0,0,0,2,0,0,0,1,1,0,0,1,1,0,1,0,0,0,0,0,4,0,0,0,0,1,0,0,0,0,0,0,0,0,0]
["Spoil Disposal",0,0,0,0,0,0,-1,1,0,0,0,0,0,0,0,0,0,0,0,0,0,0,0,2,0,0,0,0,0,0,0,0,0,0,0,0,0,2,4,0,1,0,0,0,0,0,0]
["Spring Development",0,0,0,1,1,0,-1,0,0,0,0,1,2,2,0,2,0,0,2,0,0,1,0,1,0,0,2,0,1,0,0,0,0,0,0,0,0,2,0,0,2,0,5,0,0,0,0]
["Sprinkler System",0,2,0,0,0,0,-1,0,2,0,0,2,1,0,0,0,0,0,5,2,1,2,1,1,2,2,1,1,2,2,0,3,1,0,0,0,1,2,0,0,4,0,0,0,0,3,0]
["Stormwater Runoff Control",0,0,2,0,3,0,1,0,0,0,0,4,-1,-1,0,0,-1,2,0,2,0,0,0,4,0,0,2,0,0,0,0,0,0,0,0,0,0,0,0,0,0,0,0,0,0,0,0]
["Stream Crossing",0,0,0,0,5,0,0,0,0,0,0,0,0,0,0,0,0,0,0,1,0,-3,2,2,0,0,0,0,0,0,0,0,0,0,0,0,0,0,0,0,2,0,2,0,3,0,0]
["Stream Habitat Improvement and Management",0,0,0,0,5,0,0,0,0,0,0,0,0,0,0,0,0,0,0,2,0,0,0,2,0,0,0,0,0,0,4,0,1,0,0,0,4,4,4,0,0,0,0,3,5,0,0]
["Streambank and Shoreline Protection",0,0,0,0,4,0,0,0,0,0,2,3,0,0,0,0,0,0,0,1,0,1,0,2,0,0,0,0,0,0,1,0,1,0,0,0,4,4,4,0,1,0,0,2,2,0,0]
["Stripcropping",4,4,0,0,0,0,0,2,0,1,0,0,0,-1,1,0,0,0,0,2,0,1,0,3,2,0,0,0,1,0,0,2,0,0,0,0,0,3,0,0,0,0,0,1,1,0,0]
["Structure for Water Control",0,0,0,0,0,0,0,0,0,0,0,2,0,0,0,2,5,5,2,0,0,0,0,1,0,0,0,0,0,0,1,0,0,0,0,0,0,0,0,0,0,0,1,0,4,0,0]
["Structures for Wildlife",0,0,0,0,0,0,0,0,0,0,0,0,0,0,0,0,0,0,0,0,0,0,0,0,0,0,0,0,0,0,0,0,0,0,0,0,0,0,0,0,0,0,0,4,3,0,0]
["Subsurface Drain",4,-1,4,1,1,-2,2,-2,2,0,0,4,4,4,0,1,0,0,2,-2,1,0,1,2,2,2,0,1,-2,2,0,0,0,0,0,0,0,2,0,0,4,0,0,0,0,0,0]
["Surface Drainage, Field Ditch",1,-1,2,0,0,-1,1,-2,2,0,0,3,2,0,0,2,0,0,2,-2,1,-2,1,1,0,1,-2,1,-2,1,0,0,0,0,0,0,0,2,0,0,4,0,0,0,0,0,0]
["Surface Drainage, Main or Lateral",0,-1,2,0,0,0,0,0,0,0,0,3,2,0,0,2,0,0,2,-2,1,-2,2,-1,0,0,-2,2,-2,2,0,0,0,0,0,0,0,2,0,0,4,0,0,0,0,0,0]
["Surface Roughening",0,4,0,0,0,-1,0,0,0,0,0,0,0,0,0,0,0,0,0,0,0,0,0,3,0,0,0,0,0,0,0,3,-2,0,0,0,0,0,0,0,0,0,0,0,0,0,0]
["Terrace",5,1,4,2,1,0,-1,2,0,-1,1,3,-1,-1,-1,3,-1,2,0,2,-1,2,0,2,2,-1,2,-1,2,-2,0,0,0,0,0,0,0,2,0,0,0,0,0,0,0,0,2]
["Trails and Walkways",1,1,1,4,2,0,2,0,0,0,-1,0,0,0,0,0,0,0,0,0,0,1,0,2,0,0,0,0,0,0,0,1,0,0,0,0,0,0,0,2,1,0,1,0,4,0,0]
["Tree/Shrub Establishment",5,5,4,2,2,0,2,4,1,5,5,0,2,2,1,1,3,0,0,1,1,1,1,3,1,1,1,1,1,1,4,1,4,0,2,0,5,5,5,0,0,2,0,5,4,3,1]
["Tree/Shrub Pruning",1,1,1,1,0,0,0,1,0,2,1,0,0,0,3,2,0,0,1,1,1,0,0,0,1,1,0,0,0,0,0,0,0,0,1,1,2,5,4,3,2,0,0,2,1,0,0]
["Tree/Shrub Site Preparation",-1,-1,-2,-1,0,0,-1,-2,0,-1,-1,1,0,0,0,2,0,0,0,0,0,0,0,-1,-1,-1,0,0,0,0,0,0,0,0,0,0,5,5,5,3,0,0,0,0,0,0,0]
["Underground Outlet",0,0,5,4,-1,0,0,0,0,0,0,4,0,0,0,0,-1,0,0,-1,0,-1,0,0,-1,0,1,0,0,0,0,0,0,0,0,0,0,2,0,0,0,0,0,0,0,0,1]
["Upland Wildlife Habitat Management",3,3,3,2,1,0,0,0,0,0,0,0,2,0,0,0,0,0,0,0,0,0,0,2,0,0,0,0,0,0,0,2,0,0,0,0,4,4,4,0,2,0,0,5,0,0,0]
["Vegetated Treatment Area ",4,4,0,0,0,0,3,3,-2,0,0,0,-2,-1,0,0,0,0,0,4,-2,5,0,2,0,0,0,0,2,-2,0,0,1,0,2,0,0,2,0,0,1,0,0,0,0,0,0]
["Vegetative Barrier",5,1,5,0,0,0,0,0,0,1,0,1,0,0,0,0,0,0,0,1,0,1,0,4,1,0,0,0,1,0,0,2,1,1,2,2,0,1,1,0,0,0,0,1,1,0,0]
["Vertical Drain",0,0,0,1,0,0,0,0,0,0,0,4,-2,0,0,0,-2,0,0,1,-2,1,-1,1,0,-2,1,-1,1,-1,0,0,0,0,0,0,0,0,0,0,0,0,0,0,0,0,0]
["Waste Facility Closure",0,0,0,0,0,0,0,0,2,0,0,0,0,0,0,0,0,0,0,0,0,1,2,0,0,0,0,0,0,1,0,1,1,1,1,1,0,0,0,0,0,0,0,0,0,0,0]
["Waste Recycling",0,0,0,0,0,0,0,1,0,0,0,0,0,0,0,1,0,0,1,2,2,0,2,0,0,0,0,0,2,2,0,1,1,1,1,1,0,2,2,0,1,0,0,0,0,0,-1]
["Waste Separation Facility (no)",0,0,0,0,0,0,0,1,0,0,0,0,0,0,0,0,0,0,1,2,2,2,2,0,0,0,2,2,2,2,0,1,1,2,4,1,0,0,0,0,0,0,1,0,0,0,1]
["Waste Storage Facility",0,0,0,0,0,0,1,1,1,0,0,0,0,0,0,0,0,0,1,4,2,2,2,0,0,0,0,1,2,1,0,-1,-1,-1,-2,-1,0,2,0,0,0,0,0,0,0,0,0]
["Waste Transfer",-1,-1,-1,0,0,0,-1,0,0,0,0,0,0,0,0,1,0,0,0,2,2,2,2,0,0,0,0,0,2,2,0,-1,0,-1,-1,-1,-1,0,0,0,0,0,0,0,0,0,1]
["Waste Treatment",0,0,0,0,0,0,1,1,0,0,0,0,0,0,0,0,0,0,1,2,2,2,2,0,0,0,2,2,2,2,0,1,1,1,4,1,0,2,0,0,0,0,1,0,0,0,1]
["Waste Treatment Lagoon",0,0,0,0,0,0,1,1,0,0,0,0,0,0,0,0,0,0,1,4,2,4,2,0,0,0,0,1,2,1,0,-1,-3,1,1,-1,0,2,0,0,0,0,0,0,0,-1,0]
["Water and Sediment Control Basin",0,0,2,2,0,0,0,0,0,0,0,4,-2,-2,0,0,0,1,0,0,-1,0,-1,4,0,-1,0,-1,0,-1,-2,0,0,0,0,0,0,2,0,0,0,0,0,2,0,0,1]
["Water Harvesting Catchment",0,0,0,0,0,0,0,0,0,0,0,1,0,1,0,0,0,0,0,0,0,0,0,0,0,0,0,0,0,0,0,0,0,0,0,0,0,0,0,0,0,0,5,0,0,0,0]
["Water Well",2,2,2,0,0,0,0,0,1,0,0,0,2,0,0,0,0,-2,2,0,0,0,0,0,0,0,0,0,0,0,0,0,0,0,0,0,0,1,0,0,2,0,5,0,0,0,0]
["Watering Facility",2,2,2,1,4,0,0,0,0,0,0,0,0,0,0,0,0,0,0,4,0,2,1,2,0,0,1,0,1,0,1,0,0,0,0,0,0,2,0,0,2,0,5,2,0,1,1]
["Waterspreading",0,0,0,-1,0,0,0,1,1,0,0,4,-1,0,0,2,0,1,1,2,-1,0,-1,0,1,-1,1,-1,1,-1,0,0,0,0,0,0,1,2,0,0,4,0,0,0,0,0,0]
["Well Decommissioning",0,0,0,0,0,0,0,0,0,0,0,0,0,0,0,0,0,0,0,0,2,0,2,0,0,2,0,2,0,2,0,0,0,0,0,0,0,0,0,0,0,0,0,0,0,0,0]
["Wetland Creation",0,0,0,0,0,0,0,2,0,0,0,1,-1,0,0,0,2,0,0,3,1,1,0,2,1,1,2,0,1,0,0,0,3,0,-1,0,4,4,4,0,2,0,0,2,1,0,0]
["Wetland Enhancement",0,0,0,0,0,0,0,1,0,0,0,1,0,0,0,0,1,0,0,3,1,1,0,2,1,1,2,0,1,0,0,0,1,0,-1,0,4,4,4,0,2,0,0,2,1,0,0]
["Wetland Restoration",0,0,0,0,0,0,0,1,0,0,0,1,0,0,0,0,1,0,0,3,1,1,0,2,1,1,2,0,1,0,0,0,3,0,-1,0,4,4,4,0,2,0,0,2,1,0,0]
["Wetland Wildlife Habitat Management",0,0,0,0,0,0,0,0,0,0,0,2,0,0,0,0,0,0,0,0,0,1,0,3,0,0,0,0,0,0,0,0,0,0,-1,0,4,4,4,0,2,0,0,5,0,0,0]
["Wildlife Habitat Planting",2,0,0,0,0,0,0,0,0,0,0,0,0,0,0,0,0,0,0,1,0,0,0,1,1,1,0,0,1,0,4,0,3,0,0,0,0,1,2,0,0,0,0,5,2,0,0]
["Windbreak/Shelterbelt Establishment and Renovation",1,5,2,0,0,0,2,4,1,5,4,1,2,2,5,3,3,0,1,1,1,0,0,1,3,0,1,0,0,0,0,4,4,0,3,3,1,5,1,0,1,5,0,3,4,3,1]
["Woody Residue Treatment",1,1,1,1,0,0,-2,-1,0,1,1,0,0,0,0,1,1,0,0,0,0,0,0,1,0,0,0,0,0,0,0,2,1,2,0,2,3,5,1,3,3,1,0,0,0,0,0]

{"sheet":"LandUse","index":7,"n_rows":196,"n_cols":26,"rows_kept":196,"cut":false,"hidden":false,"merged":[[0,16,0,25],[188,1,188,15],[182,1,182,15],[183,1,183,15],[184,1,184,15],[185,1,185,15],[186,1,186,15],[179,1,179,15],[180,1,180,15],[0,0,1,0],[0,1,0,10],[181,1,181,15],[187,1,187,15],[0,15,1,15]]}
["State Conservation Practices Land Use (State approved practices in State CPPE) DO NOT EDIT","Landuses",null,null,null,null,null,null,null,null,null,null,null,null,null,"National Conservation Practices Land Use","Landuses"]
[null,"Crop","Forest","Range","Pasture","Protected","Farmstead","Developed Land","Water","Other","Associated Ag. Land",null,"Landuse:",{"$f":"IF('Select Concerns'!$G$6=\"x\",1,IF('Select Concerns'!$G$7=\"x\",2,IF('Select Concerns'!$G$8=\"x\",3,IF('Select Concerns'!$G$9=\"x\",4,IF('Select Concerns'!$G$10=\"x\",5,IF('Select Concerns'!$G$11=\"x\",6,IF('Select Concerns'!$G$12=\"x\",7,IF('Select Concerns'!$G$13=\"x\",8,IF('Select Concerns'!$G$14=\"x\",9,IF('Select Concerns'!$G$15=\"x\",10,\"\"))))))))))","v":""},null,null,"Crop","Forest","Range","Pasture","Protected","Farmstead","Developed Land","Water","Other","Associated Ag. Land"]
[{"$f":"+CPPE!A2","v":"Access Control "},{"$f":"IF(VLOOKUP($A3,$P$3:$Z$174,2)=\"\",\"\",VLOOKUP($A3,$P$3:$Z$174,2))","v":1},{"$f":"IF(VLOOKUP($A3,$P$3:$Z$174,3)=\"\",\"\",VLOOKUP($A3,$P$3:$Z$174,3))","v":2},{"$f":"IF(VLOOKUP($A3,$P$3:$Z$174,4)=\"\",\"\",VLOOKUP($A3,$P$3:$Z$174,4))","v":3},{"$f":"IF(VLOOKUP($A3,$P$3:$Z$174,5)=\"\",\"\",VLOOKUP($A3,$P$3:$Z$174,5))","v":4},{"$f":"IF(VLOOKUP($A3,$P$3:$Z$174,6)=\"\",\"\",VLOOKUP($A3,$P$3:$Z$174,6))","v":5},{"$f":"IF(VLOOKUP($A3,$P$3:$Z$174,7)=\"\",\"\",VLOOKUP($A3,$P$3:$Z$174,7))","v":6},{"$f":"IF(VLOOKUP($A3,$P$3:$Z$174,8)=\"\",\"\",VLOOKUP($A3,$P$3:$Z$174,8))","v":7},{"$f":"IF(VLOOKUP($A3,$P$3:$Z$174,9)=\"\",\"\",VLOOKUP($A3,$P$3:$Z$174,9))","v":8},{"$f":"IF(VLOOKUP($A3,$P$3:$Z$174,10)=\"\",\"\",VLOOKUP($A3,$P$3:$Z$174,10))","v":9},{"$f":"IF(VLOOKUP($A3,$P$3:$Z$174,11)=\"\",\"\",VLOOKUP($A3,$P$3:$Z$174,11))","v":10},null,null,{"$f":"IF(AND(NOT($N$2=\"\"),OR($N$2=$B3,$N$2=$C3,$N$2=$D3,$N$2=$E3,$N$2=$F3,$N$2=$G3,$N$2=$H3,$N$2=$I3,$N$2=$J3,$N$2=$K3)),1,2)","v":2},null,"Access Control ",1,2,3,4,5,6,7,8,9,10]
[{"$f":"+CPPE!A3","v":"Access Road "},1,2,3,4,5,6,7,"",9,10,null,null,2,null,"Access Road ",1,2,3,4,5,6,7,null,9,10]
[{"$f":"+CPPE!A4","v":"Agrichemical Handling Facility"},1,2,3,4,"",6,7,"",9,10,null,null,2,null,"Agrichemical Handling Facility",1,2,3,4,null,6,7,null,9,10]
[{"$f":"+CPPE!A5","v":"Air Filtration and Scrubbing"},"","","","","",6,7,"","","",null,null,2,null,"Air Filtration and Scrubbing",null,null,null,null,null,6,7]
[{"$f":"+CPPE!A6","v":"Alley Cropping"},1,"","","","","","","","","",null,null,2,null,"Alley Cropping",1]
[{"$f":"+CPPE!A7","v":"Amending Soil Properties with Gypsum Products"},1,"","",4,"","","","","","",null,null,2,null,"Amending Soil Properties with Gypsum Products",1,null,null,4]
[{"$f":"+CPPE!A8","v":"Amendments for Treatment of Agricultural Waste"},1,2,3,4,"",6,7,"",9,10,null,null,2,null,"Amendments for Treatment of Agricultural Waste",1,2,3,4,null,6,7,null,9,10]
[{"$f":"+CPPE!A9","v":"Anaerobic Digester"},"","","","","",6,"","","","",null,null,2,null,"Anaerobic Digester",null,null,null,null,null,6]
[{"$f":"+CPPE!A10","v":"Animal Mortality Facility"},"","","",4,"",6,"","","","",null,null,2,null,"Animal Mortality Facility",null,null,null,4,null,6]
[{"$f":"+CPPE!A11","v":"Anionic Polyacrylamide (PAM) Erosion Control"},1,2,3,4,5,6,7,8,9,10,null,null,2,null,"Anionic Polyacrylamide (PAM) Application",1,2,3,4,5,6,7,8,9,10]
[{"$f":"+CPPE!A12","v":"Aquaculture Ponds"},"","",3,4,"",6,"",8,9,"",null,null,2,null,"Aquaculture Ponds",null,null,3,4,null,6,null,8,9]
[{"$f":"+CPPE!A13","v":"Aquatic Organism Passage "},1,2,3,4,5,6,7,8,9,10,null,null,2,null,"Aquatic Organism Passage ",1,2,3,4,5,6,7,8,9,10]
[{"$f":"+CPPE!A14","v":"Bivalve Aquaculture Gear and Biofouling Control"},1,2,3,4,5,6,7,8,9,10,null,null,2,null,"Bivalve Aquaculture Gear and Biofouling Control ",null,null,null,null,null,null,null,8]
[{"$f":"+CPPE!A15","v":"Brush Management"},"",2,3,4,5,"","","",9,10,null,null,2,null,"Brush Management",null,2,3,4,5,null,null,null,9,10]
[{"$f":"+CPPE!A16","v":"Channel Bed Stabilization"},1,2,3,4,5,6,7,8,9,10,null,null,2,null,"Channel Bed Stabilization",1,2,3,4,5,6,7,8,9,10]
[{"$f":"+CPPE!A17","v":"Clearing & Snagging"},1,2,3,4,5,6,7,8,9,10,null,null,2,null,"Clearing & Snagging",1,2,3,4,5,6,7,8,9,10]
[{"$f":"+CPPE!A18","v":"Combustion System Improvement"},1,2,3,4,5,6,7,8,9,10,null,null,2,null,"Combustion System Improvement",1,2,3,4,5,6,7,8,9,10]
[{"$f":"+CPPE!A19","v":"Composting Facility"},"","","","","",6,"","","","",null,null,2,null,"Composting Facility",null,null,null,null,null,6]
[{"$f":"+CPPE!A20","v":"Conservation Cover"},1,2,3,"",5,6,7,"",9,10,null,null,2,null,"Conservation Cover",1,2,3,null,5,6,7,null,9,10]
[{"$f":"+CPPE!A21","v":"Conservation Crop Rotation"},1,"","","","","","","","","",null,null,2,null,"Conservation Crop Rotation",1]
[{"$f":"+CPPE!A22","v":"Constructed Wetland"},1,2,3,4,5,6,"","",9,10,null,null,2,null,"Constructed Wetland",1,2,3,4,5,6,null,null,9,10]
[{"$f":"+CPPE!A23","v":"Contour Buffer Strips"},1,"","","","","","","","","",null,null,2,null,"Contour Buffer Strips",1]
[{"$f":"+CPPE!A24","v":"Contour Farming"},1,"","","","","","","","","",null,null,2,null,"Contour Farming",1]
[{"$f":"+CPPE!A25","v":"Contour Orchard and Other Perennial Crops"},1,"","","","","","","","","",null,null,2,null,"Contour Orchard and Other Perennial Crops",1]
[{"$f":"+CPPE!A26","v":"Controlled Traffic Farming"},1,"","",4,"","","","","","",null,null,2,null,"Controlled Traffic Farming",1,null,null,4]
[{"$f":"+CPPE!A27","v":"Cover Crop"},1,2,3,4,5,"","","",9,10,null,null,2,null,"Cover Crop",1,2,3,4,5,null,null,null,9,10]
[{"$f":"+CPPE!A28","v":"Critical Area Planting"},1,2,3,4,5,6,7,"",9,10,null,null,2,null,"Critical Area Planting",1,2,3,4,5,6,7,null,9,10]
[{"$f":"+CPPE!A29","v":"Cross Wind Ridges"},1,"","","","","","","","","",null,null,2,null,"Cross Wind Ridges",1]
[{"$f":"+CPPE!A30","v":"Cross Wind Trap Strips"},1,"","","","","","","",9,"",null,null,2,null,"Cross Wind Trap Strips",1,null,null,null,null,null,null,null,9]
[{"$f":"+CPPE!A31","v":"Dam"},1,2,3,4,5,"",7,8,9,10,null,null,2,null,"Dam",1,2,3,4,5,null,7,8,9,10]
[{"$f":"+CPPE!A32","v":"Dam, Diversion"},1,2,3,4,5,6,7,8,9,10,null,null,2,null,"Dam, Diversion",1,2,3,4,5,6,7,8,9,10]
[{"$f":"+CPPE!A33","v":"Deep Tillage"},1,2,3,4,5,6,7,"",9,10,null,null,2,null,"Deep Tillage",1,2,3,4,5,6,7,null,9,10]
[{"$f":"+CPPE!A34","v":"Denitrifying Bioreactor"},"","","","","",6,"","","","",null,null,2,null,"Denitrifying Bioreactor",null,null,null,null,null,6]
[{"$f":"+CPPE!A35","v":"Dike and Levee"},1,2,3,4,5,6,7,8,9,10,null,null,2,null,"Dike",1,2,3,4,5,6,7,8,9,10]
[{"$f":"+CPPE!A36","v":"Diversion"},1,2,3,4,5,6,7,"",9,10,null,null,2,null,"Diversion",1,2,3,4,5,6,7,null,9,10]
[{"$f":"+CPPE!A37","v":"Drainage Water Management"},1,"","",4,"",6,"","",9,10,null,null,2,null,"Drainage Water Management",1,null,null,4,null,6,null,null,9,10]
[{"$f":"+CPPE!A38","v":"Dry Hydrant"},1,2,3,4,5,6,7,"",9,10,null,null,2,null,"Dry Hydrant",1,2,3,4,5,6,7,null,9,10]
[{"$f":"+CPPE!A39","v":"Dust Control on Unpaved Roads and Surfaces"},1,2,3,4,5,6,7,"",9,10,null,null,2,null,"Dust Control on Unpaved Roads and Surfaces",1,2,3,4,5,6,7,null,9,10]
[{"$f":"+CPPE!A40","v":"Dust Management for Pen Surfaces"},"","","","","",6,"","","","",null,null,2,null,"Dust Management for Pen Surfaces",null,null,null,null,null,6]
[{"$f":"+CPPE!A41","v":"Early Successional Habitat Development/Mgt."},1,2,3,4,5,6,7,8,9,10,null,null,2,null,"Early Successional Habitat Development/Management",1,2,3,4,5,6,7,8,9,10]
[{"$f":"+CPPE!A42","v":"Emergency Animal Mortality Management"},"","","","","",6,"","","","",null,null,2,null,"Emergency Animal Mortality Management",null,null,null,null,null,6]
[{"$f":"+CPPE!A43","v":"Energy Efficient Agricultural Operation"},1,2,3,4,5,"","","",9,"",null,null,2,null,"Energy Efficient Agricultural Operation",1,2,3,4,5,null,null,null,9]
[{"$f":"+CPPE!A44","v":"Energy Efficient Building Envelope"},"","","","","",6,7,"","","",null,null,2,null,"Energy Efficient Building Envelope",null,null,null,null,null,6,7]
[{"$f":"+CPPE!A45","v":"Energy Efficient Lighting System"},"","","","","",6,7,"","","",null,null,2,null,"Feed Management",null,null,null,null,null,6]
[{"$f":"+CPPE!A46","v":"Feed Management"},"","","","","",6,"","","","",null,null,2,null,"Fence",1,2,3,4,5,6,7,8,9,10]
[{"$f":"+CPPE!A47","v":"Fence"},1,2,3,4,5,6,7,8,9,10,null,null,2,null,"Field Border",1,null,null,4,null,null,null,null,9]
[{"$f":"+CPPE!A48","v":"Field Border"},1,"","",4,"","","","",9,"",null,null,2,null,"Field Operations Emissions Reduction",1,2,3,4,null,null,null,null,null,10]
[{"$f":"+CPPE!A49","v":"Field Operations Emissions Reduction"},1,2,3,4,"","","","","",10,null,null,2,null,"Filter Strip",1,2,3,4,5,6,7,null,9,10]
[{"$f":"+CPPE!A50","v":"Filter Strip"},1,2,3,4,5,6,7,"",9,10,null,null,2,null,"Firebreak",1,2,3,4,5,6,7,null,9,10]
[{"$f":"+CPPE!A51","v":"Firebreak"},1,2,3,4,5,6,7,"",9,10,null,null,2,null,"Fish Raceway or Tank",null,null,null,null,null,6,null,8]
[{"$f":"+CPPE!A52","v":"Fish Raceway or Tank"},"","","","","",6,"",8,"","",null,null,2,null,"Fishpond Management",1,2,3,4,null,6,null,8,null,10]
[{"$f":"+CPPE!A53","v":"Fishpond Management"},1,2,3,4,"",6,"",8,"",10,null,null,2,null,"Forage Harvest Management",1,null,null,4]
[{"$f":"+CPPE!A54","v":"Forage Harvest Management"},1,"","",4,"","","","","","",null,null,2,null,"Forest Farming",1,2,null,4]
[{"$f":"+CPPE!A55","v":"Forest Farming"},1,2,"",4,"","","","","","",null,null,2,null,"Forest Stand Improvement",null,2,null,4,5,null,null,null,9]
[{"$f":"+CPPE!A56","v":"Forest Stand Improvement"},"",2,"",4,5,"","","",9,"",null,null,2,null,"Forest Trails and Landings",null,2,null,null,5,null,null,null,9]
[{"$f":"+CPPE!A57","v":"Forest Trails and Landings"},"",2,"","",5,"","","",9,"",null,null,2,null,"Fuel Break",null,2,3,null,5,6,7,null,9]
[{"$f":"+CPPE!A58","v":"Fuel Break"},"",2,3,"",5,6,7,"",9,"",null,null,2,null,"Grade Stabilization Structure",1,2,3,4,5,6,7,8,9,10]
[{"$f":"+CPPE!A59","v":"Grade Stabilization Structure"},1,2,3,4,5,6,7,8,9,10,null,null,2,null,"Grassed Waterway",1,null,null,4,5,6,7,null,9,10]
[{"$f":"+CPPE!A60","v":"Grassed Waterway"},1,"","",4,5,6,7,"",9,10,null,null,2,null,"Grazing Land Mechanical Treatment",null,2,3,4]
[{"$f":"+CPPE!A61","v":"Grazing Land Mechanical Treatment"},"",2,3,4,"","","","","","",null,null,2,null,"Grounwater Testing",1,2,3,4,5,6,7,null,9,10]
[{"$f":"+CPPE!A62","v":"Groundwater Testing"},"",2,3,4,"","","","","","",null,null,2,null,"Heavy Use Area Protection",1,2,3,4,5,6,7,null,9,10]
[{"$f":"+CPPE!A63","v":"Heavy Use Area Protection"},1,2,3,4,5,6,7,"",9,10,null,null,2,null,"Hedgerow Planting",1,null,null,4,5,6,7,null,9,10]
[{"$f":"+CPPE!A64","v":"Hedgerow Planting"},1,"","",4,5,6,7,"",9,10,null,null,2,null,"Herbaceous Weed Treatment",null,2,3,4,5,6,7,null,9,10]
[{"$f":"+CPPE!A65","v":"Herbaceous Weed Treatment"},"",2,3,4,5,6,7,"",9,10,null,null,2,null,"Herbaceous Wind Barriers",1,null,null,null,5,null,null,null,9]
[{"$f":"+CPPE!A66","v":"Herbaceous Wind Barriers"},1,"","","",5,"","","",9,"",null,null,2,null,"High Tunnel System",1]
[{"$f":"+CPPE!A67","v":"High Tunnel System"},{"$f":"IF(VLOOKUP($A68,$P$3:$Z$174,2)=\"\",\"\",VLOOKUP($A68,$P$3:$Z$174,2))","v":1},{"$f":"IF(VLOOKUP($A68,$P$3:$Z$174,3)=\"\",\"\",VLOOKUP($A68,$P$3:$Z$174,3))","v":""},{"$f":"IF(VLOOKUP($A68,$P$3:$Z$174,4)=\"\",\"\",VLOOKUP($A68,$P$3:$Z$174,4))","v":""},{"$f":"IF(VLOOKUP($A68,$P$3:$Z$174,5)=\"\",\"\",VLOOKUP($A68,$P$3:$Z$174,5))","v":""},{"$f":"IF(VLOOKUP($A68,$P$3:$Z$174,6)=\"\",\"\",VLOOKUP($A68,$P$3:$Z$174,6))","v":""},{"$f":"IF(VLOOKUP($A68,$P$3:$Z$174,7)=\"\",\"\",VLOOKUP($A68,$P$3:$Z$174,7))","v":""},{"$f":"IF(VLOOKUP($A68,$P$3:$Z$174,8)=\"\",\"\",VLOOKUP($A68,$P$3:$Z$174,8))","v":""},{"$f":"IF(VLOOKUP($A68,$P$3:$Z$174,9)=\"\",\"\",VLOOKUP($A68,$P$3:$Z$174,9))","v":""},{"$f":"IF(VLOOKUP($A68,$P$3:$Z$174,10)=\"\",\"\",VLOOKUP($A68,$P$3:$Z$174,10))","v":""},{"$f":"IF(VLOOKUP($A68,$P$3:$Z$174,11)=\"\",\"\",VLOOKUP($A68,$P$3:$Z$174,11))","v":""},null,null,{"$f":"IF(AND(NOT($N$2=\"\"),OR($N$2=$B68,$N$2=$C68,$N$2=$D68,$N$2=$E68,$N$2=$F68,$N$2=$G68,$N$2=$H68,$N$2=$I68,$N$2=$J68,$N$2=$K68)),1,2)","v":2},null,"Hillside Ditch",1,2,3,4,5,6,null,null,9,10]
[{"$f":"+CPPE!A68","v":"Hillside Ditch"},1,2,3,4,5,6,"","",9,10,null,null,2,null,"Irrigation and Drainage Tailwater Recovery",1,2,3,4,5,6,7,8,9,10]
[{"$f":"+CPPE!A69","v":"Irrigation and Drainage Tailwater Recovery"},1,2,3,4,5,6,7,8,9,10,null,null,2,null,"Irrigation Canal or Lateral",1,2,3,4,5,6,7,null,9,10]
[{"$f":"+CPPE!A70","v":"Irrigation Canal or Lateral"},1,2,3,4,5,6,7,"",9,10,null,null,2,null,"Irrigation Ditch Lining",1,2,3,4,5,6,7,8,9,10]
[{"$f":"+CPPE!A71","v":"Irrigation Ditch Lining"},1,2,3,4,5,6,7,8,9,10,null,null,2,null,"Irrigation Field Ditch",1,2,3,4,5,6,7,8,9,10]
[{"$f":"+CPPE!A72","v":"Irrigation Field Ditch"},1,2,3,4,5,6,7,8,9,10,null,null,2,null,"Irrigation Land Leveling",1,2,3,4,5,6,7,8,9,10]
[{"$f":"+CPPE!A73","v":"Irrigation Land Leveling"},1,2,3,4,5,6,7,8,9,10,null,null,2,null,"Irrigation Pipeline",1,2,3,4,5,6,7,8,9,10]
[{"$f":"+CPPE!A74","v":"Irrigation Pipeline"},1,2,3,4,5,6,7,8,9,10,null,null,2,null,"Irrigation Reservoir",1,2,3,4,5,6,7,8,9,10]
[{"$f":"+CPPE!A75","v":"Irrigation Reservoir"},1,2,3,4,5,6,7,8,9,10,null,null,2,null,"Irrigation System, Microirrigation",1,2,3,4,5,6,7,8,9,10]
[{"$f":"+CPPE!A76","v":"Irrigation System, Microirrigation"},1,2,3,4,5,6,7,8,9,10,null,null,2,null,"Irrigation System, Surface & Subsurface",1,2,3,4,5,6,7,8,9,10]
[{"$f":"+CPPE!A77","v":"Irrigation System, Surface & Subsurface"},1,2,3,4,5,6,7,8,9,10,null,null,2,null,"Irrigation Water Management",1,2,3,4,5,6,7,8,9,10]
[{"$f":"+CPPE!A78","v":"Irrigation Water Management"},1,2,3,4,5,6,7,8,9,10,null,null,2,null,"Land Clearing",1,null,3,4,5,6,7,null,9,10]
[{"$f":"+CPPE!A79","v":"Land Clearing"},1,"",3,4,5,6,7,"",9,10,null,null,2,null,"Land Reclamation, Abandoned Mined Land",null,null,null,null,null,null,null,null,9]
[{"$f":"+CPPE!A80","v":"Land Reclamation, Abandoned Mined Land"},"","","","","","","","",9,"",null,null,2,null,"Land Reclamation, Landslide Treatment",1,2,3,4,5,6,7,null,9,10]
[{"$f":"+CPPE!A81","v":"Land Reclamation, Currently Mined Land"},"","","","","","","","",9,"",null,null,2,null,"Lighting System Improvement ",null,null,null,null,null,6,7]
[{"$f":"+CPPE!A82","v":"Land Reclamation, Landslide Treatment"},1,2,3,4,5,6,7,"",9,10,null,null,2,null,"Lined Waterway or Outlet",1,2,3,4,5,6,7,null,9,10]
[{"$f":"+CPPE!A83","v":"Land Reclamation, Toxic Discharge Control"},1,2,3,4,5,6,7,"",9,10,null,null,2,null,"Livestock Pipeline",1,2,3,4,5,6,7,null,9,10]
[{"$f":"+CPPE!A84","v":"Lined Waterway or Outlet"},1,2,3,4,5,6,7,"",9,10,null,null,2,null,"Livestock Shelter Structure",null,2,3,4,5,6]
[{"$f":"+CPPE!A85","v":"Livestock Pipeline"},1,2,3,4,5,6,7,"",9,10,null,null,2,null,"Mine Shaft & Adit Closing",null,null,null,null,null,null,null,8,9]
[{"$f":"+CPPE!A86","v":"Livestock Shelter Structure"},"",2,3,4,5,6,"","","","",null,null,2,null,"Monitoring Well",null,null,null,null,null,6]
[{"$f":"+CPPE!A87","v":"Mine Shaft & Adit Closing"},"","","","","","","",8,9,"",null,null,2,null,"Mulching",1,2,3,4,5,6,7,null,9,10]
[{"$f":"+CPPE!A88","v":"Monitoring Well"},"","","","","",6,"","","","",null,null,2,null,"Nutrient Management",1,2,3,4,5,6,7,null,9,10]
[{"$f":"+CPPE!A89","v":"Mulching"},1,2,3,4,5,6,7,"",9,10,null,null,2,null,"Obstruction Removal",1,2,3,4,5,6,7,null,9,10]
[{"$f":"+CPPE!A90","v":"Nutrient Management"},1,2,3,4,5,6,7,"",9,10,null,null,2,null,"On-Farm Secondary Containment Facility",null,null,null,null,null,6]
[{"$f":"+CPPE!A91","v":"Obstruction Removal"},1,2,3,4,5,6,7,"",9,10,null,null,2,null,"Open Channel",1,2,3,4,5,6,7,8,9,10]
[{"$f":"+CPPE!A92","v":"On-Farm Secondary Containment Facility"},"","","","","",6,"","","","",null,null,2,null,"Pasture and Hay Planting",1,null,null,4]
[{"$f":"+CPPE!A93","v":"Open Channel"},1,2,3,4,5,6,7,8,9,10,null,null,2,null,"Pest Management Conservation System",1,2,3,4,5,6,7,8,9,10]
[{"$f":"+CPPE!A94","v":"Pasture and Hay Planting"},1,"","",4,"","","","","","",null,null,2,null,"Pond",1,2,3,4,5,6,7,null,9,10]
[{"$f":"+CPPE!A95","v":"Pest Management Conservation System"},1,2,3,4,5,6,7,8,9,10,null,null,2,null,"Pond Sealing or Lining-Compacted Soil",1,2,3,4,5,6,7,null,9,10]
[{"$f":"+CPPE!A96","v":"Pond"},1,2,3,4,5,6,7,"",9,10,null,null,2,null,"Pond Sealing or Lining-Concrete",1,2,3,4,5,6,null,null,9,10]
[{"$f":"+CPPE!A97","v":"Pond Sealing or Lining - Geomembrane or Geosynthetic Clay Liner    "},1,2,3,4,5,6,7,"",9,10,null,null,2,null,"Pond Sealing or Lining-Geomembrane or Geosynthetic Clay Liner",1,2,3,4,5,6,7,null,9,10]
[{"$f":"+CPPE!A98","v":"Pond Sealing or Lining, Compacted Soil Treatment"},1,2,3,4,5,6,7,"",9,10,null,null,2,null,"Precision Land Forming and Smoothing",1,null,null,4,null,6,7,null,9]
[{"$f":"+CPPE!A99","v":"Pond Sealing or Lining, Concrete"},1,2,3,4,5,6,7,"",9,10,null,null,2,null,"Prescribed Burning",1,2,3,4,5,null,null,null,9,10]
[{"$f":"+CPPE!A100","v":"Precision Land Forming and Smoothing"},1,"","",4,"",6,7,"",9,"",null,null,2,null,"Prescribed Grazing",1,2,3,4,5,6,7,8,9,10]
[{"$f":"+CPPE!A101","v":"Prescribed Burning"},1,2,3,4,5,"","","",9,10,null,null,2,null,"Pumping Plant",1,2,3,4,5,6,null,null,9]
[{"$f":"+CPPE!A102","v":"Prescribed Grazing"},1,2,3,4,5,6,7,8,9,10,null,null,2,null,"Range Planting",null,2,3,4,5,null,null,null,null,10]
[{"$f":"+CPPE!A103","v":"Pumping Plant"},1,2,3,4,5,6,"","",9,"",null,null,2,null,"Recreation Land Improvement and Protection",null,2,3,null,5,6,7,null,9]
[{"$f":"+CPPE!A104","v":"Range Planting"},"",2,3,4,5,"","","","",10,null,null,2,null,"Residue and Tillage Management, No Till",1,null,null,4,null,null,null,null,9]
[{"$f":"+CPPE!A105","v":"Recreation Area Improvement"},"",2,3,4,5,"","","","",10,null,null,2,null,"Residue and Tillage Management, Reduced Till",1,null,null,4,null,null,null,null,9]
[{"$f":"+CPPE!A106","v":"Recreation Land Improvement and Protection"},"",2,3,"",5,6,7,"",9,"",null,null,2,null,"Restoration of Rare or Declining Natural Communities",1,2,3,4,5,6,7,8,9,10]
[{"$f":"+CPPE!A107","v":"Residue and Tillage Management, No Till"},1,"","",4,"","","","",9,"",null,null,2,null,"Riparian Forest Buffer",1,2,3,4,5,6,7,null,9,10]
[{"$f":"+CPPE!A108","v":"Residue and Tillage Management, Reduced Till"},1,"","",4,"","","","",9,"",null,null,2,null,"Riparian Herbaceous Cover",1,2,3,4,5,6,7,null,9,10]
[{"$f":"+CPPE!A109","v":"Restoration and Management of Rare or Declining Habitats"},1,"","",4,"","","","",9,"",null,null,2,null,"Road/Trail/Landing Closure and Treatment",null,2,3,null,5,null,null,null,9,10]
[{"$f":"+CPPE!A110","v":"Riparian Forest Buffer"},1,2,3,4,5,6,7,"",9,10,null,null,2,null,"Rock Wall Terrace",1,null,3,4,5,null,null,null,9,10]
[{"$f":"+CPPE!A111","v":"Riparian Herbaceous Cover"},1,2,3,4,5,6,7,"",9,10,null,null,2,null,"Roof Runoff Structure",null,null,null,null,null,6,7]
[{"$f":"+CPPE!A112","v":"Road/Trail/Landing Closure and Treatment"},"",2,3,"",5,"","","",9,10,null,null,2,null,"Roofs and Covers",null,null,null,null,null,6,7]
[{"$f":"+CPPE!A113","v":"Rock Wall Terrace"},1,"",3,4,5,"","","",9,10,null,null,2,null,"Row Arrangement",1,2]
[{"$f":"+CPPE!A114","v":"Roof Runoff Structure"},"","","","","",6,7,"","","",null,null,2,null,"Saline and Sodic Soil Management",1,2,3,4,5,6,7,null,9,10]
[{"$f":"+CPPE!A115","v":"Roofs and Covers"},"","","","","",6,7,"","","",null,null,2,null,"Saturated Buffer",1,null,null,4,null,6]
[{"$f":"+CPPE!A116","v":"Row Arrangement"},1,2,"","","","","","","","",null,null,2,null,"Sediment Basin",1,2,3,4,5,6,7,null,9,10]
[{"$f":"+CPPE!A117","v":"Salinity and Sodic Soil Management"},1,2,3,4,5,6,7,"",9,10,null,null,2,null,"Shallow Water Development and Management",1,2,3,4,5,6,7,8,9,10]
[{"$f":"+CPPE!A118","v":"Saturated Buffer"},1,"","",4,"",6,"","","","",null,null,2,null,"Short Term Storage of Animal Waste and Byproducts",null,null," ",null,null,6]
[{"$f":"+CPPE!A119","v":"Sediment Basin"},1,2,3,4,5,6,7,"",9,10,null,null,2,null,"Silvopasture",null,2,null,4]
[{"$f":"+CPPE!A120","v":"Shallow Water Development and Management"},1,2,3,4,5,6,7,8,9,10,null,null,2,null,"Sinkhole Treatment ",1,2,3,4,5,6,7,null,9,10]
[{"$f":"+CPPE!A121","v":"Short Term Storage of Animal Waste and Byproducts"},"",""," ","","",6,"","","","",null,null,2,null,"Soil Carbon Amendment",1,2,3,4,null,6,7,null,null,10]
[{"$f":"+CPPE!A122","v":"Silvopasture"},"",2,"",4,"","","","","","",null,null,2,null,"Spoil Disposal",1,2,3,4,5,6,7,null,9,10]
[{"$f":"+CPPE!A123","v":"Sinkhole Treatment"},"",2,"",4,"","","","","","",null,null,2,null,"Spring Development",1,2,3,4,5,6,7,null,9,10]
[{"$f":"+CPPE!A124","v":"Soil Carbon Amendment"},1,2,3,4,"",6,7,"","",10,null,null,2,null,"Sprinkler System",1,2,3,4,5,6,7,8,9,10]
[{"$f":"+CPPE!A125","v":"Spoil Disposal"},1,2,3,4,5,6,7,"",9,10,null,null,2,null,"Stormwater Runoff Control",1,2,3,4,5,6,7,null,9,10]
[{"$f":"+CPPE!A126","v":"Spring Development"},1,2,3,4,5,6,7,"",9,10,null,null,2,null,"Stream Crossing",1,2,3,4,5,6,7,null,9,10]
[{"$f":"+CPPE!A127","v":"Sprinkler System"},1,2,3,4,5,6,7,8,9,10,null,null,2,null,"Stream Habitat Improvement and Management",1,2,3,4,5,6,7,8,9,10]
[{"$f":"+CPPE!A128","v":"Stormwater Runoff Control"},1,2,3,4,5,6,7,"",9,10,null,null,2,null,"Streambank and Shoreline Protection",1,2,3,4,5,6,7,null,9,10]
[{"$f":"+CPPE!A129","v":"Stream Crossing"},1,2,3,4,5,6,7,"",9,10,null,null,2,null,"Stripcropping",1]
[{"$f":"+CPPE!A130","v":"Stream Habitat Improvement and Management"},1,2,3,4,5,6,7,8,9,10,null,null,{"$f":"IF(AND(NOT($N$2=\"\"),OR($N$2=$B131,$N$2=$C131,$N$2=$D131,$N$2=$E131,$N$2=$F131,$N$2=$G131,$N$2=$H131,$N$2=$I131,$N$2=$J131,$N$2=$K131)),1,2)","v":2},null,"Structure for Water Control",1,2,3,4,5,6,7,8,9,10]
[{"$f":"+CPPE!A131","v":"Streambank and Shoreline Protection"},{"$f":"IF(VLOOKUP($A132,$P$3:$Z$174,2)=\"\",\"\",VLOOKUP($A132,$P$3:$Z$174,2))","v":1},{"$f":"IF(VLOOKUP($A132,$P$3:$Z$174,3)=\"\",\"\",VLOOKUP($A132,$P$3:$Z$174,3))","v":2},{"$f":"IF(VLOOKUP($A132,$P$3:$Z$174,4)=\"\",\"\",VLOOKUP($A132,$P$3:$Z$174,4))","v":3},{"$f":"IF(VLOOKUP($A132,$P$3:$Z$174,5)=\"\",\"\",VLOOKUP($A132,$P$3:$Z$174,5))","v":4},{"$f":"IF(VLOOKUP($A132,$P$3:$Z$174,6)=\"\",\"\",VLOOKUP($A132,$P$3:$Z$174,6))","v":5},{"$f":"IF(VLOOKUP($A132,$P$3:$Z$174,7)=\"\",\"\",VLOOKUP($A132,$P$3:$Z$174,7))","v":6},{"$f":"IF(VLOOKUP($A132,$P$3:$Z$174,8)=\"\",\"\",VLOOKUP($A132,$P$3:$Z$174,8))","v":7},{"$f":"IF(VLOOKUP($A132,$P$3:$Z$174,9)=\"\",\"\",VLOOKUP($A132,$P$3:$Z$174,9))","v":""},{"$f":"IF(VLOOKUP($A132,$P$3:$Z$174,10)=\"\",\"\",VLOOKUP($A132,$P$3:$Z$174,10))","v":9},{"$f":"IF(VLOOKUP($A132,$P$3:$Z$174,11)=\"\",\"\",VLOOKUP($A132,$P$3:$Z$174,11))","v":10},null,null,2,null,"Structures for Wildlife",1,2,3,4,5,6,7,8,9,10]
[{"$f":"+CPPE!A132","v":"Stripcropping"},1,"","","","","","","","","",null,null,2,null,"Subsurface Drain",1,2,3,4,5,6,7,null,9,10]
[{"$f":"+CPPE!A133","v":"Structure for Water Control"},1,2,3,4,5,6,7,8,9,10,null,null,2,null,"Surface Drainage, Field Ditch",1,2,3,4,5,6,7,null,9,10]
[{"$f":"+CPPE!A134","v":"Structures for Wildlife"},1,2,3,4,5,6,7,8,9,10,null,null,2,null,"Surface Drainage, Main or Lateral",1,2,3,4,5,6,7,null,9,10]
[{"$f":"+CPPE!A135","v":"Subsurface Drain"},1,2,3,4,5,6,7,"",9,10,null,null,2,null,"Surface Roughening",1]
[{"$f":"+CPPE!A136","v":"Surface Drainage, Field Ditch"},1,2,3,4,5,6,7,"",9,10,null,null,2,null,"Terrace",1]
[{"$f":"+CPPE!A137","v":"Surface Drainage, Main or Lateral"},1,2,3,4,5,6,7,"",9,10,null,null,2,null,"Trails and Walkways",1,2,3,4,5,6,7,null,9,10]
[{"$f":"+CPPE!A138","v":"Surface Roughening"},1,"","","","","","","","","",null,null,2,null,"Tree/Shrub Establishment",1,2,3,4,5,6,7,null,9,10]
[{"$f":"+CPPE!A139","v":"Terrace"},1,"","","","","","","","","",null,null,2,null,"Tree/Shrub Pruning",1,2,3,4,5,6,7,null,9,10]
[{"$f":"+CPPE!A140","v":"Trails and Walkways"},1,2,3,4,5,6,7,"",9,10,null,null,2,null,"Tree/Shrub Site Preparation",1,2,3,4,5,6,7,null,9,10]
[{"$f":"+CPPE!A141","v":"Tree/Shrub Establishment"},1,2,3,4,5,6,7,"",9,10,null,null,2,null,"Underground Outlet",1,2,3,4,5,6,7,8,9,10]
[{"$f":"+CPPE!A142","v":"Tree/Shrub Pruning"},1,2,3,4,5,6,7,"",9,10,null,null,2,null,"Upland Wildlife Habitat Management",1,2,3,4,5,6,7,8,9,10]
[{"$f":"+CPPE!A143","v":"Tree/Shrub Site Preparation"},1,2,3,4,5,6,7,"",9,10,null,null,2,null,"Vegetated Treatment Area ",1,null,null,4,null,6]
[{"$f":"+CPPE!A144","v":"Underground Outlet"},1,2,3,4,5,6,7,8,9,10,null,null,2,null,"Vegetative Barrier",1,2,3,4,5,6,7,null,9,10]
[{"$f":"+CPPE!A145","v":"Upland Wildlife Habitat Management"},1,2,3,4,5,6,7,8,9,10,null,null,2,null,"Vertical Drain",1,2,3,4,5,6,7,null,9,10]
[{"$f":"+CPPE!A146","v":"Vegetated Treatment Area "},1,"","",4,"",6,"","","","",null,null,2,null,"Waste Facility Closure",null,null,null,null,null,6]
[{"$f":"+CPPE!A147","v":"Vegetative Barrier"},1,2,3,4,5,6,7,"",9,10,null,null,2,null,"Waste Recycling",1,2,3,4,5,null,null,null,9,10]
[{"$f":"+CPPE!A148","v":"Vertical Drain"},1,2,3,4,5,6,7,"",9,10,null,null,2,null,"Waste Separation Facility",null,null,null,null,null,6]
[{"$f":"+CPPE!A149","v":"Waste Facility Closure"},"","","","","",6,"","","","",null,null,2,null,"Waste Storage Facility",null,null,null,null,null,6]
[{"$f":"+CPPE!A150","v":"Waste Recycling"},1,2,3,4,5,"","","",9,10,null,null,2,null,"Waste Transfer",null,null,null,null,null,6]
[{"$f":"+CPPE!A151","v":"Waste Separation Facility (no)"},"","","","","",6,"","","","",null,null,2,null,"Waste Treatment",null,null,null,null,null,6]
[{"$f":"+CPPE!A152","v":"Waste Storage Facility"},"","","","","",6,"","","","",null,null,2,null,"Waste Treatment Lagoon",null,null,null,null,null,6]
[{"$f":"+CPPE!A153","v":"Waste Transfer"},"","","","","",6,"","","","",null,null,2,null,"Wastewater Treatment, Milk House"]
[{"$f":"+CPPE!A154","v":"Waste Treatment"},"","","","","",6,"","","","",null,null,2,null,"Water and Sediment Control Basin",1,2,3,4,5,6,7,8,9,10]
[{"$f":"+CPPE!A155","v":"Waste Treatment Lagoon"},"","","","","",6,"","","","",null,null,2,null,"Water Harvesting Catchment",1,2,3,4,5,6,7,8,9,10]
[{"$f":"+CPPE!A156","v":"Water and Sediment Control Basin"},1,2,3,4,5,6,7,8,9,10,null,null,2,null,"Water Well",1,2,3,4,5,6,7,null,9,10]
[{"$f":"+CPPE!A157","v":"Water Harvesting Catchment"},1,2,3,4,5,6,7,8,9,10,null,null,2,null,"Watering Facility",1,2,3,4,5,6,7,8,9,10]
[{"$f":"+CPPE!A158","v":"Water Well"},1,2,3,4,5,6,7,"",9,10,null,null,2,null,"Waterspreading",1,2,3,4,5,null,null,null,9]
[{"$f":"+CPPE!A159","v":"Watering Facility"},1,2,3,4,5,6,7,8,9,10,null,null,2,null,"Well Decommissioning",1,2,3,4,5,6,7,null,9,10]
[{"$f":"+CPPE!A160","v":"Waterspreading"},1,2,3,4,5,"","","",9,"",null,null,2,null,"Wetland Creation",1,2,3,4,5,null,null,8,9,10]
[{"$f":"+CPPE!A161","v":"Well Decommissioning"},1,2,3,4,5,6,7,"",9,10,null,null,2,null,"Wetland Enhancement",1,2,3,4,5,null,null,8,9,10]
[{"$f":"+CPPE!A162","v":"Wetland Creation"},1,2,3,4,5,"","",8,9,10,null,null,2,null,"Wetland Restoration",1,2,3,4,5,null,null,8,9,10]
[{"$f":"+CPPE!A163","v":"Wetland Enhancement"},1,2,3,4,5,"","",8,9,10,null,null,2,null,"Wetland Wildlife Habitat Management",1,2,3,4,5,6,7,8,9,10]
[{"$f":"+CPPE!A164","v":"Wetland Restoration"},1,2,3,4,5,"","",8,9,10,null,null,2,null,"Wildlife Habitat Planting",1,2,3,4,null,6,7,null,9,10]
[{"$f":"+CPPE!A165","v":"Wetland Wildlife Habitat Management"},1,2,3,4,5,6,7,8,9,10,null,null,2,null,"Windbreak/Shelterbelt Establishment and Renovation",1,null,null,4,null,6,7,null,9,10]
[{"$f":"+CPPE!A166","v":"Wildlife Habitat Planting"},1,2,3,4,"",6,7,"",9,10,null,null,2,null,"Woody Residue Treatment",1,2,3,4,5,6,7," ",9,10]
[{"$f":"+CPPE!A167","v":"Windbreak/Shelterbelt Establishment and Renovation"},1,"","",4,"",6,7,"",9,10,null,null,2]
[{"$f":"+CPPE!A168","v":"Woody Residue Treatment"},1,2,3,4,5,6,7," ",9,10,null,null,2]
[{"$f":"+CPPE!A169","v":0},{"$error":"#N/A"},{"$error":"#N/A"},{"$error":"#N/A"},{"$error":"#N/A"},{"$error":"#N/A"},{"$error":"#N/A"},{"$error":"#N/A"},{"$error":"#N/A"},{"$error":"#N/A"},{"$error":"#N/A"},null,null,{"$error":"#N/A"}]
[{"$f":"+CPPE!A170","v":0},{"$error":"#N/A"},{"$error":"#N/A"},{"$error":"#N/A"},{"$error":"#N/A"},{"$error":"#N/A"},{"$error":"#N/A"},{"$error":"#N/A"},{"$error":"#N/A"},{"$error":"#N/A"},{"$error":"#N/A"},null,null,{"$error":"#N/A"}]
[null,null,null,null,null,null,null,null,null,null,null,null,null,2]
[null,null,null,null,null,null,null,null,null,null,null,null,null,2]
[null,null,null,null,null,null,null,null,null,null,null,null,null,2]
[null,null,null,null,null,null,null,null,null,null,null,null,null,2]
[null,null,null,null,null,null,null,null,null,null,null,null,null,2]
[]
[]
["Land use","Land use definitions"]
["Crop","Land used primarily for the production and harvest of annual or perennial field, forage, food, fiber, horticultural, orchards, vineyards and/or energy crops."]
["Forest","Land on which the primary vegetation is tree cover (climax, natural or introduced plant community) and use is primarily for production of wood products and/or non-timber forest products."]
["Range","Land used primarily for the production of grazing animals. Includes native plant communities and those seeded to native or introduced species, or naturalized by introduced species, that are ecologically managed using range management principles."]
["Pasture","Lands composed of introduced or domesticated native forage species that is used primarily for the production of livestock. They receive periodic renovation and/or cultural treatments, such as tillage, fertilization, mowing, weed control, and may be irrigated. They are not in rotation with crops."]
["Farmstead","Land used for facilities and supporting infrastructure where farming, forestry, animal husbandry and ranching activities are often initiated.  This may include dwellings, equipment storage plus farm input and output storage and handling facilities. Also includes land dedicated to the facilitation and production of high intensity animal agriculture in a containment facility where daily nutritional requirements are obtained from other lands or feed sources.  Land used for dwellings, barns, pens, corrals, or other facilities used in connection with farm and ranch operations."]
["Water","Geographic area whose dominant characteristic is open water/permanent ice or snow. May include intermingled land, including tidal influenced coastal marsh lands."]
["Associated Agriculture Lands","Land associated with farms and ranches that are not purposefully managed for food, forage or fiber and are typically associated with nearby production and/or conservation lands.  This could include incidental areas such as: idle center pivot corners, odd areas, ditches and watercourses, riparian areas, field edges, seasonal and permanent wetlands, and other similar areas."]
["Designated Protected Areas","Land or water used for the preservation, protection, and observation of the existing resources, archaeological or historical interpretation, resource interpretation, or for aesthetic value. These areas are officially designated by legislation or other authorities. Examples: legislated natural or scenic areas and rural burial plots."]
["Developed Land","Land occupied by buildings and related facilities used for residences, commercial sites, public highways, airports, and open space associated with towns and cities."]
["Other","Land that is barren, sandy, rocky or that is impacted by the extraction of natural resources such as minerals, gravel/sand, coal, shale, rock, oil or natural gas."]
[]
[null,null,null,null,null,null,null," "]
[null,null,null,null,null,null,null," "]
[null,null,null,null,null,null,null," "]
[null,null,null,null,null,null,null," "]
[null,null,null,null,null,null,null," "]
[null,null,null,null,null,null,null," "]

{"sheet":"Problems","index":8,"n_rows":143,"n_cols":2,"rows_kept":143,"cut":false,"hidden":true,"merged":[]}
[]
[null,"Resource Concerns and Definitions"]
[]
[null,"Sheet and rill erosion"]
[null,"Detachment and transport of soil particles caused by rainfall, melting snow, or irrigation."]
[]
[null,"Wind Erosion"]
[null,"Detachment and transport of soil particles caused by wind."]
[]
[null,"Ephemeral Gully Erosion"]
[null,"Soil erosion that results in small gullies in the same flow area that can be obscured by tillage."]
[]
[null,"Classic gully erosion"]
[null,"Gullies created by runoff that can enlarge a channel progressively by head cutting and/or lateral widening."]
[]
[null,"Bank erosion from streams, shorelines or water conveyance channels"]
[null,"Erosion resulting from poor land management practices, storm events, wave action, rain, ice, wind, runoff, loss of vegetation, hydrologic dynamics, stream isolation from floodplains, and/or other disturbed/altered geomorphological processes."]
[]
[null,"Subsidence"]
[null,"Loss of volume and depth of organic soils due to oxidation caused by above normal microbial activity resulting from excessive water drainage, soil disturbance, or extended drought.  This excludes karst sinkholes and issues, or depressions caused by underground activities. This resource concern is only applicable when the soil is a histosol."]
[]
[null,"Compaction"]
[null,"Management-induced soil compaction at any level throughout the soil profile resulting in reduced plant productivity, biological activity, infiltration and aeration."]
[]
[null,"Organic matter depletion"]
[null,"Management-induced depletion of any or all pools of soil organic matter resulting in limited soil function and processes that support plant productivity, biological activity and water and nutrient cycling."]
[]
[null,"Concentration of salts or other chemicals"]
[null,"Concentration of salts leading to salinity and/or sodicity reducing productivity or limiting desired use, or concentrations of other chemicals impacting productivity, populations of beneficial organisms or limiting desired use."]
[]
[null,"Soil organism habitat loss or degradation"]
[null,"Quantity, quality, diversity or connectivity of food, cover, space, shelter and/or water is inadequate to meet requirements of beneficial soil organisms. "]
[]
[null,"Aggregate instability"]
[null,"Management-induced degradation of water stable soil aggregates resulting in destabilized soil carbon; surface crusting; reduced water infiltration, water holding capacity, and aeration; depressed resilience to extreme weather; increased ponding and flooding; increased soil erosion and plant stress; and reduced habitat and soil biological activity."]
[]
[null,"Ponding and flooding"]
[null,"Water covering the land surface, along with saturated conditions below the surface, degrades natural resources, or restricts capability of land to support its intended use."]
[]
[null,"Seasonal high water table"]
[null,"Groundwater or a perched water table causing saturated conditions near the surface degrades water resources or restricts capability of land to support its intended use."]
[]
[null,"Seeps"]
[null,"Sub-surface saturated flows that percolates slowly to the surface, degrades water resources, or restricts capability of land to support its intended use."]
[]
[null,"Drifted snow"]
[null,"Wind-blown snow accumulates around and over surface structures, which restricts access to humans or animals; or wind removes snow from desired location where it can be used to accumulate water."]
[]
[null,"Surface water depletion"]
[null,"Water from collected precipitation runoff, ponds, lakes, surface watercourses and reservoirs is used at a rate that is detrimental to ecological functions or other identified uses and threatens sustained availability of surface water."]
[]
[null,"Ground water depletion"]
[null,"Underground water is used at a rate greater than aquifer recharge."]
[]
[null,"Naturally available moisture use"]
[null,"Natural precipitation is not optimally managed to support desired land use goals or ecological processes."]
[]
[null,"Inefficient Irrigation water use"]
[null,"Irrigation water is not stored, delivered, scheduled and/or applied efficiently."]
[]
[null,"Nutrients transported to surface water"]
[null,"Nutrients (organic and inorganic) stored, concentrated, or applied are transported to receiving surface waters in quantities that degrade water quality and limit its use for intended purposes."]
[]
[null,"Nutrients transported to groundwater"]
[null,"Nutrients (organic and inorganic) stored, concentrated, or applied are transported to groundwaters in quantities that degrade water quality and limit its use for intended purposes."]
[]
[null,"Pesticides transported to surface water"]
[null,"Pesticides are lost from their application area and transported to surface water sources in quantities that degrade water quality and limit its use for intended purposes. "]
[]
[null,"Pesticides transported to groundwater"]
[null,"Pesticide loses from the application area are transported to groundwater sources in quantities that degrade water quality and limit its use for intended purposes."]
[]
[null,"Pathogens and chemicals from manure, bio-solids, or compost applications transported to surface water"]
[null,"Pathogens, pharmaceuticals, leachate and chemicals from manure, bio-solids or compost transported to receiving waters in quantities that degrade water quality and limit uses."]
[]
[null,"Pathogens and chemicals from manure, bio-solids, or compost applications transported to groundwater"]
[null,"Pathogens, pharmaceuticals, leachate and chemicals from manure, biosolids or compost transported to groundwaters in quantities that degrade water quality and limit uses."]
[]
[null,"Salts transported to surface water"]
[null,"Irrigation or rainfall runoff transports salts to receiving surface waters in quantities that degrade water quality and limit use for intended purposes"]
[]
[null,"Salts transported to groundwater"]
[null,"Irrigation or rainfall infiltration transport salts to groundwater in quantities that degrade aquifer water quality and limit intended uses.  "]
[]
[null,"Petroleum, heavy metals, and other pollutants transported to surface water"]
[null,"Petroleum, heavy metals, and other chemical pollutants for on-farm use are lost from areas of concentration (handling, storage, or processing facilities and areas) to receiving surface waters in quantities that degrade water quality and limits its use for intended purposes.  This resource concern does not cover pathogens/manure, sediment (although sediment contaminated with petroleum, heavy metals, or other chemical pollutants would be covered), nor naturally occurring salts."]
[]
[null,"Petroleum, heavy metals, and other pollutants transported to groundwater"]
[null,"Petroleum, heavy metals, and other chemical pollutants for on-farm use are lost from areas of concentration (handling, storage, or processing facilities and areas) to receiving groundwater in quantities that degrade water quality and limit its use for intended purposes.  This resource concern does not cover pathogens/manure, sediment (although sediment contaminated with petroleum, heavy metals, or other chemical pollutants would be covered), nor naturally occurring salts."]
[]
[null,"Sediment transported to surface water"]
[null,"Offsite transport of sediment to surface water degrades water quality and limits use for intended purposes."]
[]
[null,"Elevated water temperature"]
[null,"Surface water temperatures exceed State/Federal standards in downstream receiving waters which limits its use for intended purposes."]
[]
[null,"Emissions of particulate matter (PM) and PM precursors"]
[null,"Direct emissions of particulate matter – dust and smoke – as well as the formation of fine particulate matter in the atmosphere from other agricultural emissions – ammonia, oxides of nitrogen, and volatile organic compounds – can cause multiple negative environmental impacts."]
[]
[null,"Emissions of greenhouse gases (GHGs)"]
[null,"Emissions of methane, nitrous oxide, and carbon dioxide increase atmospheric concentrations of greenhouse gases."]
[]
[null,"Emissions of ozone precursors"]
[null,"Emissions of ozone precursors – oxides of nitrogen and volatile organic compounds – result in formation of ground-level ozone, which can have negative impacts to human, plant, and animal health."]
[]
[null,"Objectionable odors"]
[null,"Emissions of odorous compounds – volatile organic compounds, ammonia, and odorous sulfur compounds – can cause nuisance conditions."]
[]
[null,"Emissions of airborne reactive nitrogen"]
[null,"Emissions of airborne reactive nitrogen – ammonia and oxides of nitrogen – can negatively impact atmospheric chemistry, cause unwanted fertilization via deposition in sensitive ecosystems, and degrade regional visibility."]
[]
[null,"Plant productivity and health"]
[null,"Improper fertility, management or plants not adapted to site negatively impact plant productivity, vigor and/or quality"]
[]
[null,"Plant structure and composition"]
[null,"Plant communities have insufficient composition and structure to achieve ecological functions and management objectives.  This resource concern includes degradation of wetland habitat, targeted ecosystems, or unique plant communities."]
[]
[null,"Plant pest pressure"]
[null,"Excessive pest damage to plants including that from undesired plants, diseases, animals, soil borne pathogens, and nematodes.  This concern addresses invasive plant, animal and insect species."]
[]
[null,"Wildfire hazard from biomass accumulation"]
[null,"The kinds and amounts of plant biomass create wildfire hazards that pose risks to human safety, structures, plants, animals, and air resources."]
[]
[null,"Terrestrial habitat for wildlife and invertebrates"]
[null,"Quantity, quality or connectivity of food, cover, space, shelter and/or water is inadequate to meet requirements of identified terrestrial wildlife or invertebrate species."]
[]
[null,"Aquatic habitat for fish and other organisms"]
[null,"Habitat requirements of identified fish and other organisms are inadequate."]
[]
[null,"Feed and forage imbalance"]
[null," Feed and Forage quality or quantity is inadequate for nutritional needs and production goals of the kinds and classes of livestock."]
[]
[null,"Inadequate livestock shelter"]
[null,"Livestock lack adequate shelter from climatic conditions to meet basic needs."]
[]
[null,"Inadequate livestock water quantity, quality and distribution"]
[null,"Quantity and quality of drinking water are insufficient to meet basic needs for the kind and "]
[]
[null,"Energy efficiency of equipment and facilities"]
[null,"Stationary equipment or facilities are using energy inefficiently."]
[]
[null,"Energy efficiency of farming/ranching practices and field operations"]
[null,"Mobile on-farm, ranching, forestry or field operations are using energy inefficiently."]

{"sheet":"Practices","index":9,"n_rows":176,"n_cols":6,"rows_kept":176,"cut":false,"hidden":false,"merged":[]}
[]
[null,"Conservation Practice Descriptions"]
[]
[null,"Search the Database by Practice Name","Help"]
[]
[null,"Conservation Cover  (ac.)",{"$f":"VLOOKUP($B$6,$B$11:$D$180,2)","v":"327"}]
[null,{"$f":"VLOOKUP($B$6,$B$11:$D$180,3)","v":"Establishing and maintaining permanent vegetative cover"}]
[]
[]
[null,"Practice Name","Code","Practice Description","Units"]
[null,"Access Control",{"$f":"\"472\"","v":"472"},"The temporary or permanent exclusion of animals, people, vehicles, and equipment from an area.","Ac"]
[null,"Access Road",{"$f":"\"560\"","v":"560"},"An access road is an established route for equipment and vehicles.","Ft"]
[null,"Agrichemical Handling Facility",{"$f":"\"309\"","v":"309"},"A facility with an impervious surface to provide an environmentally safe area for the handling of on-farm agrichemicals.","No"]
[null,"Air Filtration and Scrubbing",{"$f":"\"371\"","v":"371"},"A device or system for reducing emissions of air contaminants from a structure via interception and/or collection.","No"]
[null,"Alley Cropping",{"$f":"\"311\"","v":"311"},"Trees or shrubs are planted in sets of single or multiple rows with agronomic, horticultural crops or forages produced in the alleys between the sets of woody plants that produce additional products.","Ac"]
[null,"Amending Soil Properties with Gypsum Products",{"$f":"\"333\"","v":"333"},"Using gypsum (calcium sulfate dihydrate) derived products to change the physical and/or chemical properties of soil. ","Ac"]
[null,"Amendments for Treatment of Agricultural Waste",{"$f":"\"591\"","v":"591"},"The addition of chemical or biological additives to manure, process wastewater, contaminated storm water runoff, or other wastes to reduce adverse effects on air and/or water.","AU"]
[null,"Anaerobic Digester",{"$f":"\"366\"","v":"366"},"A component of a waste management system that provides biological treatment in the absence of oxygen.","No"]
[null,"Animal Mortality Facility",{"$f":"\"316\"","v":"316"},"An on-farm facility for the treatment or disposal of animal carcasses due to routine mortality.","No"]
[null,"Anionic Polyacrylamide (PAM) Application",{"$f":"\"450\"","v":"450"},"Application of water-soluble anionic polyacrylamide (PAM) to the soil.","Ac"]
[null,"Aquaculture Pond",{"$f":"\"397\"","v":"397"},"A water impoundment for farming of freshwater and saltwater organisms including fish, mollusks, crustaceans, and aquatic plants.","Ac"]
[null,"Aquatic Organism Passage",{"$f":"\"396\"","v":"396"},"Modification or removal of barriers that restrict or impede movement of aquatic organisms.","Mi"," "]
[null,"Bivalve Aquaculture Gear and Biofouling Control",{"$f":"\"400\"","v":"400"},"Actions that reduce, clean, or remove biofouling organisms and other waste from bivalve production areas while minimizing environmental risk and risk to species of concern. ","Ac"," "]
[null,"Brush Management",{"$f":"\"314\"","v":"314"},"The management or removal of woody (nonherbaceous or succulent) plants including those that are invasive and noxious.","Ac"," "]
[null,"Channel Bed Stabilization",{"$f":"\"584\"","v":"584"},"Measure(s) used to stabilize the bed or bottom of a channel.","Ft"]
[null,"Clearing and Snagging",{"$f":"\"326\"","v":"326"},"Removal of specified vegetation along the bank (clearing) and selective removal of snags, drifts, or other obstructions (snagging) from natural or improved streams (includes channels). ","Ft"]
[null,"Combustion System Improvement",{"$f":"\"372\"","v":"372"},"Installing, replacing, or retrofitting agricultural combustion systems and/or related components or devices for air quality and energy efficiency improvement.","No"]
[null,"Composting Facility",{"$f":"\"317\"","v":"317"},"A structure or device to contain and facilitate an aerobic microbial ecosystem for the decomposition of manure, other organic material, or both, into a final product sufficiently stable for storage, onfarm use, and application to land as a soil amendment.","No"]
[null,"Conservation Cover",{"$f":"\"327\"","v":"327"},"Establishing and maintaining permanent vegetative cover","Ac"]
[null,"Conservation Crop Rotation",{"$f":"\"328\"","v":"328"},"A planned sequence of crops grown on the same ground over a period of time (i.e. the rotation cycle).","Ac"]
[null,"Constructed Wetland",{"$f":"\"656\"","v":"656"},"An artificial wetland ecosystem with hydrophytic vegetation for biological treatment of water.","Ac"]
[null,"Contour Buffer Strips",{"$f":"\"332\"","v":"332"},"Narrow strips of permanent, herbaceous vegetative cover established around the hill slope, and alternated down the slope with wider cropped strips that are farmed on the contour.","Ac"]
[null,"Contour Farming",{"$f":"\"330\"","v":"330"},"Aligning ridges, furrows, and roughness formed by tillage, planting and other operations at a grade near the contour to alter the velocity or the direction of water flow.","Ac"," "]
[null,"Contour Orchard and Other Perennial Crops",{"$f":"\"331\"","v":"331"},"Planting orchards, vineyards, or other perennial crops so that all cultural operations are done on or near the contour.","Ac"]
[null,"Controlled Traffic Farming",{"$f":"\"334\"","v":"334"},"Controlled traffic farming (CTF) is confining all high load wheel/track traffic from farm equipment to specific lanes or tramlines (traffic pattern) in crop fields year after year. ","Ac"]
[null,"Cover Crop",{"$f":"\"340\"","v":"340"},"Grasses, legumes, and forbs planted for seasonal vegetative cover.","Ac"]
[null,"Critical Area Planting",{"$f":"\"342\"","v":"342"},"Establishing permanent vegetation on sites that have, or are expected to have, high erosion rates, and on sites that have physical, chemical, or biological conditions that prevent the establishment of vegetation with normal seeding/planting methods.","Ac"]
[null,"Cross Wind Trap Strips",{"$f":"\"589\"","v":"589"},"Herbaceous cover established in one or more strips typically perpendicular to the most erosive wind events.","Ac"]
[null,"Cross Wind Ridges",{"$f":"\"588\"","v":"588"},"Ridges formed by tillage, planting, or other operations and aligned perpendicular to prevailing wind direction during critical wind erosion periods.","Ac"]
[null,"Dam",{"$f":"\"402\"","v":"402"},"An artificial barrier that can impound water for one or more beneficial purposes.","No"]
[null,"Dam, Diversion",{"$f":"\"348\"","v":"348"},"A structure built to divert all or part of the water from a waterway or a stream. ","No"]
[null,"Deep Tillage",{"$f":"\"324\"","v":"324"},"Performing tillage operations below the normal tillage depth to modify adverse physical or chemical properties of a soil.","Ac"]
[null,"Denitrifying Bioreactor",{"$f":"\"605\"","v":"605"},"A structure that uses a carbon source to reduce the concentration of nitrate nitrogen in subsurface agricultural drainage flow through enhanced denitrification.","No"]
[null,"Dike and Levee",{"$f":"\"356\"","v":"356"},"A barrier used to retain water on the landscape using a wetland dike; or, a barrier used to exclude water from the landscape and protect property and infrastructure from flooding using a flood control levee.","Ft"]
[null,"Diversion",{"$f":"\"362\"","v":"362"},"A channel usually constructed across the slope with a supporting ridge on the lower side.","Ft"]
[null,"Drainage Water Management",{"$f":"\"554\"","v":"554"},"The process of managing the drainage volume and water table elevation by regulating the flow from a surface or subsurface agricultural drainage system.","Ac"]
[null,"Dry Hydrant",{"$f":"\"432\"","v":"432"},"A nonpressurized permanent pipe assembly installed to permit withdrawal of water by suction from a water source.","No"]
[null,"Dust Control on Unpaved Roads and Surfaces",{"$f":"\"373\"","v":"373"},"Controlling direct particulate matter emissions produced by vehicle and machinery traffic or wind action from unpaved roads and other surfaces by applying a palliative on the surface.","SqFt"]
[null,"Dust Management for Pen Surfaces",{"$f":"\"375\"","v":"375"},"Reducing or preventing the emissions of particulate matter arising from animal activity on open lot surfaces at animal feeding operations.","Ac"]
[null,"Early Successional Habitat Development-Mgt",{"$f":"\"647\"","v":"647"},"Manage plant succession to develop and maintain early successional habitat to benefit desired wildlife and/or natural communities. ","Ac"]
[null,"Emergency Animal Mortality Management",{"$f":"\"368\"","v":"368"},"A means or method for the management of animal carcasses from catastrophic mortality events.","No"]
[null,"Energy Efficient Agricultural Operation",{"$f":"\"374\"","v":"374"},"Development and implementation of improvements to reduce, or improve the energy efficiency of on-farm energy use.","No"]
[null,"Energy Efficient Building Envelope",{"$f":"\"672\"","v":"672"},"A boundary between a conditioned space and an unconditioned space that meets or exceeds best practices for energy efficiency.","No"]
[null,"Energy Efficient Lighting System",{"$f":"\"670\"","v":"670"},"An agricultural lighting system with increased energy efficiency.  ","No"]
[null,"Feed Management",{"$f":"\"592\"","v":"592"},"Manipulating and controlling the quantity and quality of available nutrients, feedstuffs, ingredients, or additives fed to livestock and poultry.","AU"]
[null,"Fence",{"$f":"\"382\"","v":"382"}," A constructed barrier to animals or people.","Ft"]
[null,"Field Border",{"$f":"\"386\"","v":"386"},"\nA strip of permanent vegetation established at the edge or around the perimeter of a field.\n","Ac"]
[null,"Field Operations Emissions Reduction",{"$f":"\"376\"","v":"376"},"Adjusting field operations and technologies to reduce emissions of particulate matter (PM) and oxides of nitrogen from field operations.","Ac"]
[null,"Filter Strip",{"$f":"\"393\"","v":"393"},"A strip or area of herbaceous vegetation that removes contaminants from overland flow. ","Ac"]
[null,"Firebreak",{"$f":"\"394\"","v":"394"},"A permanent or temporary strip of bare or vegetated land planned to retard fire.","Ft"]
[null,"Fish Raceway or Tank",{"$f":"\"398\"","v":"398"},"A channel or tank with a continuous flow of water constructed or used for high-density fish production.","No"]
[null,"Fishpond Management",{"$f":"\"399\"","v":"399"},"Managing impounded aquatic habitat and water quality for the production of fish.","Ac"]
[null,"Forage Harvest Management",{"$f":"\"511\"","v":"511"},"The timely cutting and removal of forages as hay, green-chop, or ensilage.","Ac"]
[null,"Forest Farming",{"$f":"\"379\"","v":"379"},"Managing or establishing stands of trees or shrubs in coordination with the management and/or cultivation of understory plants or nontimber forest products.","Ac"]
[null,"Forest Stand Improvement",{"$f":"\"666\"","v":"666"},"The manipulation of species composition, stand structure, or stand density by cutting or killing selected trees or understory vegetation to achieve desired forest conditions or obtain ecosystem services. ","Ac"]
[null,"Forest Trails and Landings",{"$f":"\"655\"","v":"655"},"A temporary or infrequently used route, path, or cleared area.","Ft"]
[null,"Fuel Break",{"$f":"\"383\"","v":"383"},"A strip or block of land on which the vegetation, debris and detritus have been reduced and/or modified to control or diminish the risk of the spread of fire crossing the strip or block of land.","Ac"]
[null,"Grade Stabilization Structure",{"$f":"\"410\"","v":"410"},"A grade stabilization structure is a structure used to control the grade in natural or constructed channels.","No"]
[null,"Grassed Waterway",{"$f":"\"412\"","v":"412"},"A shaped or graded channel that is established with suitable vegetation to convey surface water at a nonerosive velocity using a broad and shallow cross section to a stable outlet.","Ac"]
[null,"Grazing Land Mechanical Treatment",{"$f":"\"548\"","v":"548"},"Modifying physical soil and/or plant conditions with mechanical treatments. ","Ac"]
[null,"Groundwater Testing",{"$f":"\"355\"","v":"355"},"Testing the physical, biological, and chemical quality of groundwater from a water well or spring.","No"]
[null,"Heavy Use Area Protection",{"$f":"\"561\"","v":"561"},"Stabilization or protection of an intensively used area. ","SqFt"]
[null,"Hedgerow Planting",{"$f":"\"422\"","v":"422"},"Establishment of dense vegetation in a linear design to achieve a natural resource conservation purpose. ","Ft"]
[null,"Herbaceous Weed Treatment",{"$f":"\"315\"","v":"315"},"The removal or control of herbaceous weeds including invasive, noxious, prohibited, or undesirable plants.","Ac"]
[null,"Herbaceous Wind Barriers",{"$f":"\"603\"","v":"603"},"Herbaceous vegetation established in narrow strips within the field to reduce wind speed and wind erosion.","Ft"]
[null,"High Tunnel System",{"$f":"\"325\"","v":"325"},"An enclosed polyethylene, polycarbonate, plastic, or fabric covered structure that is used to cover and protect crops from sun, wind, excessive rainfall, or cold, to extend the growing season in an environmentally safe manner. ","SqFt"]
[null,"Hillside Ditch",{"$f":"\"423\"","v":"423"},"A narrow channel with a supporting ridge on the lower side, constructed across the slope on steeply sloping land.","Ft"]
[null,"Irrigation and Drainage Tailwater Recovery",{"$f":"\"447\"","v":"447"},"A system designed to collect, store, and convey irrigation tailwater, rainfall runoff, field drain water, or combination thereof for reuse in water distribution to the crop.","No"]
[null,"Irrigation Canal or Lateral",{"$f":"\"320\"","v":"320"},"A permanent channel constructed to convey irrigation water from the source of supply to one or more irrigated areas.","Ft"]
[null,"Irrigation Ditch Lining",{"$f":"\"428\"","v":"428"},"A lining of impervious material or a chemical treatment, installed in an irrigation ditch, canal, or lateral.","Ft"]
[null,"Irrigation Field Ditch",{"$f":"\"388\"","v":"388"},"An irrigation ditch constructed in or with earth materials, to convey water from the source of supply to a field or fields in an irrigation system.","Ft"]
[null,"Irrigation Land Leveling",{"$f":"\"464\"","v":"464"},"Reshaping the surface of land to be irrigated, to planned lines and grades.","Ac"]
[null,"Irrigation Pipeline",{"$f":"\"430\"","v":"430"},"A pipeline and appurtenances installed to convey water for storage or application, as part of an irrigation water system.","Ft"]
[null,"Irrigation Reservoir",{"$f":"\"436\"","v":"436"},"A constructed dam, pit, or tank used to store water for irrigation.","No"]
[null,"Irrigation System, Microirrigation",{"$f":"\"441\"","v":"441"},"An irrigation system for frequent application of small quantities of water on or below the soil surface as drops, tiny streams, or miniature spray through emitters or applicators placed along a water delivery line.","Ac"]
[null,"Irrigation System, Surface and Subsurface",{"$f":"\"443\"","v":"443"},"A system that delivers irrigation water by surface means, such as furrows, borders, and contour levees, or by subsurface means through water table control.","Ac"]
[null,"Irrigation Water Management",{"$f":"\"449\"","v":"449"},"The process of determining and controlling the volume, frequency, and application rate of irrigation water.","Ac"]
[null,"Land Clearing",{"$f":"\"460\"","v":"460"},"Removal of trees, stumps, and other vegetation from wooded areas.","Ac"]
[null,"Land Reclamation, Abandoned Mined Land",{"$f":"\"543\"","v":"543"},"Reclamation of land and water areas adversely affected by past mining activities. ","Ac"]
[null,"Land Reclamation, Landslide Treatment",{"$f":"\"453\"","v":"453"},"Stabilize in-place natural materials, mine spoil, waste, or overburden to prevent downslope movement.","Ac"]
[null,"Lined Waterway or Outlet",{"$f":"\"468\"","v":"468"},"A waterway or protected outlet section having an erosion-resistant lining of concrete, stone, synthetic turf reinforcement fabrics, or other permanent material.","Ft"]
[null,"Livestock Pipeline",{"$f":"\"516\"","v":"516"},"A pipeline and appurtenances installed to convey water for livestock or wildlife.","Ft"]
[null,"Livestock Shelter Structure",{"$f":"\"576\"","v":"576"},"A permanent or portable structure to protect animals from negative environmental factors.","No"]
[null,"Mine Shaft and Adit Closing",{"$f":"\"457\"","v":"457"},"Closure of underground mine openings by filling, plugging, capping, and installing barriers, gates, or fencing.","No"]
[null,"Monitoring Well",{"$f":"\"353\"","v":"353"},"A well   designed and installed to obtain representative ground water samples and hydrogeologic information.","No"]
[null,"Mulching",{"$f":"\"484\"","v":"484"},"Applying plant residues or other suitable materials to the land surface.","Ac"]
[null,"Nutrient Management",{"$f":"\"590\"","v":"590"},"Managing the amount (rate), source, placement (method of application), and timing of plant nutrients and soil amendments.","Ac"]
[null,"Obstruction Removal",{"$f":"\"500\"","v":"500"},"Removal and disposal of buildings, structures, other works of improvement; vegetation, debris, or other materials.","No"]
[null,"On-Farm Secondary Containment Facility",{"$f":"\"319\"","v":"319"},"A permanent facility designed to provide secondary containment of oil and petroleum products used on-farm.","No"]
[null,"Open Channel",{"$f":"\"582\"","v":"582"},"An open channel is a natural or artificial channel in which water flows with a free surface.","Ft"]
[null,"Pasture and Hay Planting",{"$f":"\"512\"","v":"512"},"Establishing adapted and compatible species, varieties, or cultivars of perennial herbaceous plants suitable for pasture or hay production. ","Ac"]
[null,"Pest Management Conservation System",{"$f":"\"595\"","v":"595"},"A system that combines an integrated pest management (IPM) decision-making process with natural resource conservation to address pest and environmental impacts. ","Ac"]
[null,"Pond",{"$f":"\"378\"","v":"378"},"A water impoundment made by constructing an embankment, excavating a dugout, or a combination of both.In this standard, NRCS defines ponds constructed by the first method as embankment ponds and those constructed by the second method as excavated ponds. Ponds constructed using a combination of the excavation and embankment methods are classified as embankment ponds if the depth of water impounded against the embankment at the auxiliary spillway elevation is 3 feet or more above the lowest original ground along the centerline of the embankment.","No"]
[null,"Pond Sealing or Lining - Concrete",{"$f":"\"522\"","v":"522"},"A liner for an impoundment constructed using reinforced or nonreinforced concrete.","SqFt"]
[null,"Pond Sealing or Lining, Compacted Clay Treatment","521D","A liner for a pond or waste storage impoundment constructed using compacted soil without soil amendments.","No"]
[null,"Pond Sealing or Lining, Compacted Soil Treatment",{"$f":"\"520\"","v":"520"},"A liner for an impoundment constructed using compacted soil with or without soil amendments.","SqFt"]
[null,"Pond Sealing or Lining, Geomembrane or Geosynthetic Clay Liner",{"$f":"\"521\"","v":"521"},"A liner for an impoundment constructed using a geomembrane or a geosynthetic clay material.","SqFt"]
[null,"Precision Land Forming and Smoothing",{"$f":"\"462\"","v":"462"},"Precision land forming is reshaping the surface of land to planned grades.","Ac"]
[null,"Prescribed Burning",{"$f":"\"338\"","v":"338"},"Planned fire applied to a predetermined area.","Ac"]
[null,"Prescribed Grazing",{"$f":"\"528\"","v":"528"},"Managing the harvest of vegetation with grazing and/or browsing animals with the intent to achieve specific ecological, economic, and management objectives.","Ac"]
[null,"Pumping Plant",{"$f":"\"533\"","v":"533"},"A facility that delivers water or wastewater at a designed pressure and flow rate.","No"]
[null,"Range Planting",{"$f":"\"550\"","v":"550"},"The seeding and establishment of herbaceous and woody species for the improvement of vegetation composition and productivity of the plant community to meet management goals.","Ac"]
[null,"Recreation Land Improvement and Protection",{"$f":"\"566\"","v":"566"},"Recreation land grading and shaping is reshaping the surface of the land to support recreational land use.","Ac"]
[null,"Residue and Tillage Management, No Till",{"$f":"\"329\"","v":"329"},"Limiting soil disturbance to manage the amount, orientation, and distribution of crop and plant residue on the soil surface year around. ","Ac"]
[null,"Residue and Tillage Management, Reduced Till",{"$f":"\"345\"","v":"345"},"Managing the amount, orientation, and distribution of crop and other plant residue on the soil surface year-round while limiting soil-disturbing activities used to grow and harvest crops in systems where the field surface is tilled prior to planting. ","Ac"]
[null,"Restoration of Rare or Declining Natural Communities",{"$f":"\"643\"","v":"643"},"Re-establishment of abiotic (physical and chemical) and biotic (biological) conditions necessary to support rare or declining natural assemblages of native plants and animals.","Ac"]
[null,"Riparian Forest Buffer",{"$f":"\"391\"","v":"391"},"An area predominantly trees and/or shrubs located adjacent to and up-gradient from watercourses or water bodies.","Ac"]
[null,"Riparian Herbaceous Cover",{"$f":"\"390\"","v":"390"},"Grasses, sedges, rushes, ferns, legumes, and forbs tolerant of intermittent flooding or saturated soils, established or managed as the dominant vegetation in the transitional zone between upland and aquatic habitats. ","Ac"]
[null,"Road/Trail/Landing Closure and Treatment",{"$f":"\"654\"","v":"654"},"The closure, decommissioning, or abandonment of roads, trails, and/or landings and associated treatment to achieve conservation objectives.","Ft"]
[null,"Rock Wall Terrace",{"$f":"\"555\"","v":"555"},"A fitted rock wall constructed across the slope to create a farmable area.","Ft"]
[null,"Roof Runoff Structure",{"$f":"\"558\"","v":"558"},"A structure that will collect, control, and convey precipitation runoff from a roof.","No"]
[null,"Roofs and Covers",{"$f":"\"367\"","v":"367"},"A rigid, semirigid, or flexible manufactured membrane, composite material, or roof structure placed over a waste management facility,agrichemical handling facility, or an on-farm secondary containment facility.","No"]
[null,"Row Arrangement",{"$f":"\"557\"","v":"557"},"A system of crop rows on planned directions, grades, and lengths. ","Ac"]
[null,"Salinity and Sodic Soil Management",{"$f":"\"610\"","v":"610"},"Management of land, water and plants to reduce accumulations of salts and/or sodium on the soil surface and in the crop rooting zone. ","Ac"]
[null,"Saturated Buffer",{"$f":"\"604\"","v":"604"},"A subsurface, perforated distribution pipe used to distribute drainage system discharge beneath a vegetated buffer along its length and discharge channel.","Ft"]
[null,"Sediment Basin",{"$f":"\"350\"","v":"350"},"A basin constructed with an engineered outlet, formed by constructing an embankment, excavating a dugout, or a combination of both.","No"]
[null,"Shallow Water Development and Management",{"$f":"\"646\"","v":"646"},"The inundation of lands to provide habitat for fish and wildlife.","Ac"]
[null,"Short Term Storage of Animal Waste and By-Products",{"$f":"\"318\"","v":"318"},"Temporary, nonstructural measures used to store solid or semisolid organic agricultural waste or manure (stackable livestock and poultry manure, bedding, litter, spilled feed, or soil mixed with manure) on a short-term basis between collection and utilization.","Cu-Ft"]
[null,"Silvopasture",{"$f":"\"381\"","v":"381"},"Establishment and/or management of desired trees and forages on the same land unit.","Ac"]
[null,"Sinkhole Treatment",{"$f":"\"527\"","v":"527"},"The treatment of sinkholes in karst areas to reduce contamination of groundwater resources and to improve farm safety.","No"]
[null,"Soil Carbon Amendment",{"$f":"\"336\"","v":"336"},"Using amendments derived from plant or animal residues to improve the physical, chemical, and biological properties of the soil. ","Ac"]
[null,"Spoil Disposal",{"$f":"\"572\"","v":"572"},"Disposal of surplus excavated materials from construction activities.","Cu-Ft"]
[null,"Spring Development",{"$f":"\"574\"","v":"574"},"The collection and use of water from seeps or springs.","No"]
[null,"Sprinkler System",{"$f":"\"442\"","v":"442"},"A distribution system that applies water by means of nozzles operated under pressure. ","Ac"]
[null,"Stormwater Runoff Control",{"$f":"\"570\"","v":"570"},"Measures or systems to control the quantity and quality of stormwater runoff.","Ac"]
[null,"Stream Crossing",{"$f":"\"578\"","v":"578"},"A stabilized area or structure constructed across a stream to provide controlled access for people, livestock, equipment, or vehicles.","No"]
[null,"Stream Habitat Improvement and Management",{"$f":"\"395\"","v":"395"},"Improve, restore, or maintain the ecological functions of a stream and its adjacent floodplain and riparian area.","Ac"]
[null,"Streambank and Shoreline Protection",{"$f":"\"580\"","v":"580"},"Treatment(s) used to stabilize and protect banks of streams or constructed channels, and shorelines of lakes, reservoirs, or estuaries.","Ft"]
[null,"Stripcropping",{"$f":"\"585\"","v":"585"},"Growing planned rotations of erosion-resistant and erosion-susceptible crops or fallow in a systematic arrangement of strips across a field.","Ac"]
[null,"Structure for Water Control",{"$f":"\"587\"","v":"587"},"A structure in a water management system that conveys water, controls the direction or rate of flow, maintains a desired water surface elevation, or measures water.","No"]
[null,"Structures for Wildlife",{"$f":"\"649\"","v":"649"},"A structure installed to replace or modify a missing or deficient wildlife habitat component. ","No"]
[null,"Subsurface Drain",{"$f":"\"606\"","v":"606"},"A conduit, or system of conduits, installed beneath the ground surface to manage soil water conditions.","Ft"]
[null,"Surface Drain, Field Ditch",{"$f":"\"607\"","v":"607"},"A graded channel on the field surface for collecting and conveying excess water.","Ft"]
[null,"Surface Drain, Main or Lateral",{"$f":"\"608\"","v":"608"},"An open drainage ditch for moving the excess water collected by a field ditch or subsurface drain to a safe outlet","Ft"]
[null,"Surface Roughening",{"$f":"\"609\"","v":"609"},"Performing tillage operations that create random roughness of the soil surface","Ac"]
[null,"Terrace",{"$f":"\"600\"","v":"600"},"An earth embankment or a combination ridge and channel, constructed across the field slope.","Ft"]
[null,"Trails and Walkways",{"$f":"\"575\"","v":"575"},"A constructed path with a vegetated, earthen, gravel, paved, or other hard surface to facilitate the movement of animals, people, or off-road vehicles.","Ft"]
[null,"Tree/Shrub Establishment",{"$f":"\"612\"","v":"612"},"Establishing woody plants by planting seedlings or cuttings, by direct seeding, and/or through natural regeneration.","Ac"]
[null,"Tree/Shrub Site Preparation",{"$f":"\"490\"","v":"490"},"Treatment of areas to improve site conditions for establishing trees and/or shrubs. ","Ac"]
[null,"Tree-Shrub Pruning",{"$f":"\"660\"","v":"660"},"The removal of all or parts of selected branches, leaders, or roots from trees and shrubs.","Ac"]
[null,"Underground Outlet",{"$f":"\"620\"","v":"620"},"A conduit or system of conduits installed beneath the ground surface to convey surface water to a suitable outlet.","Ft"]
[null,"Upland Wildlife Habitat Management",{"$f":"\"645\"","v":"645"},"Provide and manage upland habitats and connectivity within the landscape for wildlife. ","Ac"]
[null,"Vegetated Treatment Area",{"$f":"\"635\"","v":"635"},"An area of permanent vegetation used for agricultural wastewater treatment.","Ac"]
[null,"Vegetative Barrier",{"$f":"\"601\"","v":"601"},"Permanent strips of stiff, dense vegetation established along the general contour of slopes or across concentrated flow areas.","Ft"]
[null,"Vertical Drain",{"$f":"\"630\"","v":"630"},"A well, pipe, pit, or bore in porous underground strata into which drainage water can be discharged without contaminating groundwater resources.","No"]
[null,"Waste Facility Closure",{"$f":"\"360\"","v":"360"},"The decommissioning of facilities, and/or the rehabilitation of contaminated soil, in an environmentally safe manner, where agricultural waste has been handled, treated, and stored or both and is no longer used for the intended purpose.","No"]
[null,"Waste Recycling",{"$f":"\"633\"","v":"633"},"The on-farm agricultural use of nonagricultural waste by-products, or the off-farm nonagricultural use of agricultural waste by-products.","No"]
[null,"Waste Separation Facility",{"$f":"\"632\"","v":"632"},"A filtration or screening device, settling tank, settling basin, or settling channel used to partition solids and/or nutrients from a waste stream.","No"]
[null,"Waste Storage Facility",{"$f":"\"313\"","v":"313"},"An agricultural waste storage impoundment or containment made by constructing an embankment, excavating a pit or dugout, or by fabricating a structure. ","No"]
[null,"Waste Transfer",{"$f":"\"634\"","v":"634"},"A system using structures, pipes or conduits installed to convey wastes or waste byproducts from the agricultural production site to storage/treatment or application.","No"]
[null,"Waste Treatment",{"$f":"\"629\"","v":"629"},"Use of  mechanical, chemical, or biological technologies to change the characteristics of manure and agricultural waste.","No"]
[null,"Waste Treatment Lagoon",{"$f":"\"359\"","v":"359"},"A waste treatment impoundment made by constructing an embankment and/or excavating a pit or dugout.","No","  "]
[null,"Wastewater Treatment â€“ Milk House",{"$f":"\"627\"","v":"627"},"The physical, mechanical, and biological treatment of dairy milk house wastewater.","No"]
[null,"Water and Sediment Control Basin",{"$f":"\"638\"","v":"638"},"An earth embankment or a combination ridge and channel constructed across the slope of a minor drainageway.","No"]
[null,"Water Harvesting Catchment",{"$f":"\"636\"","v":"636"},"A facility for collecting and storing water from an area that has been treated to increase precipitation runoff.","No"]
[null,"Water Well",{"$f":"\"642\"","v":"642"},"A hole drilled, dug, driven, bored, jetted, or otherwise constructed into an aquifer for agricultural water supply.","No"]
[null,"Watering Facility",{"$f":"\"614\"","v":"614"},"A watering facility stores or provides drinking water to livestock or wildlife. ","No"]
[null,"Waterspreading",{"$f":"\"640\"","v":"640"},"A system of diverting or collecting runoff from natural watercourses and spreading the runoff over relatively flat areas.","Ac"]
[null,"Well Decommissioning",{"$f":"\"351\"","v":"351"},"The sealing and permanent closure of an inactive, abandoned, or unusable water or monitoring well. ","No"]
[null,"Wetland Creation",{"$f":"\"658\"","v":"658"},"A wetland created on a site location that was historically not a wetland.","Ac"]
[null,"Wetland Enhancement",{"$f":"\"659\"","v":"659"},"The augmentation of wetland functions beyond the original natural conditions on a former, degraded, or naturally functioning wetland site; sometimes at the expense of other functions. ","Ac"]
[null,"Wetland Restoration",{"$f":"\"657\"","v":"657"},"The return of a wetland and its functions to a close approximation of its original condition as it existed prior to disturbance on a former or degraded wetland site. ","Ac"]
[null,"Wetland Wildlife Habitat Management",{"$f":"\"644\"","v":"644"},"Retaining, developing or managing wetland habitat for wetland wildlife. ","Ac"]
[null,"Wildlife Habitat Planting",{"$f":"\"420\"","v":"420"},"Establishing wildlife habitat by planting herbaceous vegetation or shrubs.","Ac"]
[null,"Windbreak/Shelterbelt Establishment and Renovation",{"$f":"\"380\"","v":"380"},"Windbreaks or shelterbelts are single or multiple rows of trees or shrubs in linear configurations.","Ft"]
[null,"Woody Residue Treatment",{"$f":"\"384\"","v":"384"},"The treatment of residual woody material that is created due to management activities or natural disturbances.","Ac"]